Workbook
Name Excel_BuiltIn__FilterDatabase: 'Аспирант ОФО АБиП'!$A$3:$J$22

Sheet Аспирант ОФО АБиП
B1: АКАДЕМИЯ БИОРЕСУРСОВ И ПРИРОДОПОЛЬЗОВАНИЯ КФУ
A2: Факультет/направление подготовки | B2: Аспирантура контингент очной формы обучения на 01.10.17
B3: 1 год обучения | E3: 2 год обучения | H3: 3 год обучения | K3: 4 год обучения | N3: ВСЕГО
B6: За счет бюджетных ассигнований | C6: На основе догов.о платных образов.услугах | D6: ВСЕГО | E6: За счет бюджетных ассигнований | F6: На основе догов.о платных образов.услугах | G6: ВСЕГО | H6: За счет бюджетных ассигнований | I6: На основе догов.о платных образов.услугах | J6: ВСЕГО | K6: За счет бюджетных ассигнований | L6: На основе догов.о платных образов.услугах | M6: ВСЕГО | N6: За счет бюджетных ассигнований | O6: На основе догов.о платных образов.услугах | P6: ВСЕГО
A7: Свод по направлениям подготовкии
A8: 35.06.04 Технологии, средства механизации и энергетическое оборудование в сельском, лесном и рыбном хозяйстве (05.20.01 Технологии и средства механизации сельского хозяйства) | B8: 4 | C8: =C20+C31 -> 0 | D8: 4 | E8: 3 | F8: =F20+F31 -> 0 | G8: =F8+E8 -> 3 | H8: 2 | I8: =I20+I31 -> 0 | J8: =I8+H8 -> 2 | K8: =K20+K31 -> 0 | L8: =L20+L31 -> 0 | M8: =L8+K8 -> 0 | N8: 9 | O8: =O20+O31 -> 0 | P8: =O8+N8 -> 9
A9: 35.06.01 Сельское хозяйство (06.01.01 Общее земледелие,растениводство) | B9: 1 | C9: =C21+C32 -> 0 | D9: 1 | E9: 2 | F9: =F21+F32 -> 0 | G9: =F9+E9 -> 2 | H9: 1 | I9: =I21+I32 -> 0 | J9: =I9+H9 -> 1 | K9: =K21+K32 -> 0 | L9: =L21+L32 -> 0 | M9: =L9+K9 -> 0 | N9: 4 | O9: =O21+O32 -> 0 | P9: =O9+N9 -> 4
A10: (06.01.05 Селекция и семеноводство сельскохозяйственных растений | B10: 1 | C10: =C22+C33 -> 0 | D10: 1 | E10: =E22+E33 -> 1 | F10: =F22+F33 -> 0 | G10: =F10+E10 -> 1 | H10: 1 | I10: =I22+I33 -> 0 | J10: =I10+H10 -> 1 | K10: =K22+K33 -> 0 | L10: =L22+L33 -> 0 | M10: =L10+K10 -> 0 | N10: =N22+N33 -> 3 | O10: =O22+O33 -> 0 | P10: =O10+N10 -> 3
A11: (06.01.08 Плодоводство и виноградарство) | B11: 1 | C11: =C23+C34 -> 0 | D11: 1 | E11: 1 | F11: =F23+F34 -> 0 | G11: =F11+E11 -> 1 | H11: 0 | I11: =I23+I34 -> 0 | J11: =I11+H11 -> 0 | K11: 1 | L11: =L23+L34 -> 0 | M11: =L11+K11 -> 1 | N11: 3 | O11: =O23+O34 -> 0 | P11: =O11+N11 -> 3
A12: 05.06.01 Науки о земле (25.00.26 Землеустройство,кадастр и мониторинг земель) | B12: 2 | C12: =C24+C35 -> 0 | D12: 2 | E12: 2 | F12: =F24+F35 -> 0 | G12: =F12+E12 -> 2 | H12: =H24+H35 -> 0 | I12: =I24+I35 -> 0 | J12: =I12+H12 -> 0 | K12: =K24+K35 -> 0 | L12: =L24+L35 -> 0 | M12: =L12+K12 -> 0 | N12: 4 | O12: =O24+O35 -> 0 | P12: 4
A13: 06.06.01 Биологические науки (03.02.13 Почвоведение) | B13: 0 | C13: =C25+C36 -> 0 | D13: =C13+B13 -> 0 | E13: 1 | F13: =F25+F36 -> 0 | G13: =F13+E13 -> 1 | H13: =H25+H36 -> 0 | I13: =I25+I36 -> 0 | J13: =I13+H13 -> 0 | K13: =K25+K36 -> 0 | L13: =L25+L36 -> 0 | M13: =L13+K13 -> 0 | N13: =N25+N36 -> 1 | O13: =O25+O36 -> 0 | P13: =O13+N13 -> 1
A14: 03.02.11 Паразитология) | B14: 0 | C14: =C26+C37 -> 0 | D14: =C14+B14 -> 0 | E14: 1 | F14: =F26+F37 -> 0 | G14: =F14+E14 -> 1 | H14: =H26+H37 -> 0 | I14: =I26+I37 -> 0 | J14: =I14+H14 -> 0 | K14: =K26+K37 -> 0 | L14: =L26+L37 -> 0 | M14: =L14+K14 -> 0 | N14: =N26+N37 -> 1 | O14: =O26+O37 -> 0 | P14: =O14+N14 -> 1
A15: 36.06.01 Ветеринария и зоотехния( 06.02.01 Диагностика болезней и терапия животных,патология,онкология и морфология животных) | B15: 1 | C15: =C27+C38 -> 0 | D15: 1 | E15: =E27+E38 -> 2 | F15: =F27+F38 -> 0 | G15: =F15+E15 -> 2 | H15: 1 | I15: =I27+I38 -> 0 | J15: =I15+H15 -> 1 | K15: =K27+K38 -> 0 | L15: =L27+L38 -> 0 | M15: =L15+K15 -> 0 | N15: 4 | O15: =O27+O38 -> 0 | P15: 4
A16: (06.02.02. Ветеринарная микробиология животных,вирусология,эпизитология,микология с микотокологией и иммунология) | B16: 1 | C16: 0 | D16: 1 | E16: 0 | F16: 0 | G16: 0 | H16: 0 | I16: 0 | J16: 0 | K16: 0 | L16: 0 | M16: 0 | N16: 1 | O16: 0 | P16: 1
A17: Итого по направлениям подготовки: | B17: =SUM(B8:B16) -> 11 | C17: =SUM(C8:C16) -> 0 | D17: =SUM(D8:D16) -> 11 | E17: =SUM(E8:E16) -> 13 | F17: =SUM(F8:F16) -> 0 | G17: =SUM(G8:G16) -> 13 | H17: =SUM(H8:H16) -> 5 | I17: =SUM(I8:I16) -> 0 | ... P17: =SUM(P8:P16) -> 30
A18: В том числе:
A19: Граждане России
A20: 35.06.04 Технологии, средства механизации и энергетическое оборудование в сельском, лесном и рыбном хозяйстве (05.20.01 Технологии и средства механизации сельского хозяйства) | B20: 4 | C20: 0 | D20: 4 | E20: 3 | F20: 0 | G20: =F20+E20 -> 3 | H20: 2 | I20: 0 | J20: =I20+H20 -> 2 | K20: 0 | L20: 0 | M20: =K20+L20 -> 0 | N20: =E20+H20+K20+B20 -> 9 | O20: =F20+I20+L20+C20 -> 0 | P20: =G20+J20+M20+D20 -> 9
A21: 35.06.01 Сельское хозяйство (06.01.01 Общее земледелие,растениводство) | B21: 1 | C21: 0 | D21: 1 | E21: 2 | F21: 0 | G21: =F21+E21 -> 2 | H21: 1 | I21: 0 | J21: =I21+H21 -> 1 | K21: 0 | L21: 0 | M21: =K21+L21 -> 0 | N21: =E21+H21+K21+B21 -> 4 | O21: =F21+I21+L21+C21 -> 0 | P21: =G21+J21+M21+D21 -> 4
A22: (06.01.05 Селекция и семеноводство сельскохозяйственных растений | B22: 1 | C22: 0 | D22: =C22+B22 -> 1 | E22: 1 | F22: 0 | G22: =F22+E22 -> 1 | H22: 1 | I22: 0 | J22: =I22+H22 -> 1 | K22: 0 | L22: 0 | M22: =K22+L22 -> 0 | N22: =E22+H22+K22+B22 -> 3 | O22: =F22+I22+L22+C22 -> 0 | P22: =G22+J22+M22+D22 -> 3
A23: (06.01.08 Плодоводство и виноградарство) | B23: 1 | C23: 0 | D23: =C23+B23 -> 1 | E23: 1 | F23: 0 | G23: =F23+E23 -> 1 | H23: 0 | I23: 0 | J23: =I23+H23 -> 0 | K23: 1 | L23: 0 | M23: =K23+L23 -> 1 | N23: =E23+H23+K23+B23 -> 3 | O23: =F23+I23+L23+C23 -> 0 | P23: =G23+J23+M23+D23 -> 3
A24: 05.06.01 Науки о земле (25.00.26 Землеустройство,кадастр и мониторинг земель) | B24: 2 | C24: 0 | D24: =C24+B24 -> 2 | E24: 2 | F24: 0 | G24: 2 | H24: 0 | I24: 0 | J24: =I24+H24 -> 0 | K24: 0 | L24: 0 | M24: =K24+L24 -> 0 | N24: 4 | O24: =F24+I24+L24+C24 -> 0 | P24: 4
A25: 06.06.01 Биологические науки (03.02.13 Почвоведение) | B25: 0 | C25: 0 | D25: =C25+B25 -> 0 | E25: 1 | F25: 0 | G25: =F25+E25 -> 1 | H25: 0 | I25: 0 | J25: =I25+H25 -> 0 | K25: 0 | L25: 0 | M25: =K25+L25 -> 0 | N25: =E25+H25+K25+B25 -> 1 | O25: =F25+I25+L25+C25 -> 0 | P25: =G25+J25+M25+D25 -> 1
A26: 03.02.11 Паразитология) | B26: 0 | C26: 0 | D26: =C26+B26 -> 0 | E26: 1 | F26: 0 | G26: =F26+E26 -> 1 | H26: 0 | I26: 0 | J26: =I26+H26 -> 0 | K26: 0 | L26: 0 | M26: =K26+L26 -> 0 | N26: =E26+H26+K26+B26 -> 1 | O26: =F26+I26+L26+C26 -> 0 | P26: =G26+J26+M26+D26 -> 1
A27: 36.06.01 Ветеринария и зоотехния( 06.02.01 Диагностика болезней и терапия животных,патология,онкология и морфология животных) | B27: 1 | C27: 0 | D27: 1 | E27: 2 | F27: 0 | G27: =F27+E27 -> 2 | H27: 1 | I27: 0 | J27: =I27+H27 -> 1 | K27: 0 | L27: 0 | M27: =K27+L27 -> 0 | N27: =E27+H27+K27+B27 -> 4 | O27: =F27+I27+L27+C27 -> 0 | P27: 4
A28: (06.02.02. Ветеринарная микробиология животных,вирусология,эпизитология,микология с микотокологией и иммунология) | B28: 1 | C28: 0 | D28: 1 | E28: 0 | F28: 0 | G28: 0 | H28: 0 | I28: 0 | J28: 0 | K28: 0 | L28: 0 | M28: 0 | N28: =E28+H28+K28+B28 -> 1 | O28: =F28+I28+L28+C28 -> 0 | P28: 1
A29: Итого граждане России | B29: =SUM(B20:B28) -> 11 | C29: =SUM(C20:C28) -> 0 | D29: 11 | E29: =SUM(E20:E28) -> 13 | F29: =SUM(F20:F28) -> 0 | G29: =SUM(G20:G28) -> 13 | H29: =SUM(H20:H28) -> 5 | I29: =SUM(I20:I28) -> 0 | J29: =SUM(J20:J28) -> 5 | K29: =SUM(K20:K28) -> 1 | L29: =SUM(L20:L28) -> 0 | ... O29: =SUM(O20:O28) -> 0 | P29: 31
A30: Граждане иностранных государст(вкл.Украину)
A31: 35.06.04 Технологии, средства механизации и энергетическое оборудование в сельском, лесном и рыбном хозяйстве (05.20.01 Технологии и средства механизации сельского хозяйства) | B31: 0 | C31: 0 | D31: =B31+C31 -> 0 | E31: 0 | F31: 0 | G31: =E31+F31 -> 0 | H31: 0 | I31: 0 | J31: =H31+I31 -> 0 | K31: 0 | L31: 0 | M31: =K31+L31 -> 0 | N31: =B31+E31+H31+K31 -> 0 | O31: =C31+F31+I31+L31 -> 0 | P31: =D31+G31+J31+M31 -> 0
A32: 35.06.01 Сельское хозяйство (06.01.01 Общее земледелие,растениводство) | B32: 0 | C32: 0 | D32: =B32+C32 -> 0 | E32: 0 | F32: 0 | G32: =E32+F32 -> 0 | H32: 0 | I32: 0 | J32: =H32+I32 -> 0 | K32: 0 | L32: 0 | M32: =K32+L32 -> 0 | N32: =B32+E32+H32+K32 -> 0 | O32: =C32+F32+I32+L32 -> 0 | P32: =D32+G32+J32+M32 -> 0
A33: (06.01.05 Селекция и семеноводство сельскохозяйственных растений | B33: 0 | C33: 0 | D33: =B33+C33 -> 0 | E33: 0 | F33: 0 | G33: =E33+F33 -> 0 | H33: 0 | I33: 0 | J33: =H33+I33 -> 0 | K33: 0 | L33: 0 | M33: =K33+L33 -> 0 | N33: =B33+E33+H33+K33 -> 0 | O33: =C33+F33+I33+L33 -> 0 | P33: =D33+G33+J33+M33 -> 0
A34: (06.01.08 Плодоводство и виноградарство) | B34: 0 | C34: 0 | D34: =B34+C34 -> 0 | E34: 0 | F34: 0 | G34: =E34+F34 -> 0 | H34: 0 | I34: 0 | J34: =H34+I34 -> 0 | K34: 0 | L34: 0 | M34: =K34+L34 -> 0 | N34: =B34+E34+H34+K34 -> 0 | O34: =C34+F34+I34+L34 -> 0 | P34: =D34+G34+J34+M34 -> 0
A35: 05.06.01 Науки о земле (25.00.26 Землеустройство,кадастр и мониторинг земель) | B35: 0 | C35: 0 | D35: =B35+C35 -> 0 | E35: 0 | F35: 0 | G35: =E35+F35 -> 0 | H35: 0 | I35: 0 | J35: =H35+I35 -> 0 | K35: 0 | L35: 0 | M35: =K35+L35 -> 0 | N35: =B35+E35+H35+K35 -> 0 | O35: =C35+F35+I35+L35 -> 0 | P35: =D35+G35+J35+M35 -> 0
A36: 06.06.01 Биологические науки (03.02.13 Почвоведение) | B36: 0 | C36: 0 | D36: =B36+C36 -> 0 | E36: 0 | F36: 0 | G36: =E36+F36 -> 0 | H36: 0 | I36: 0 | J36: =H36+I36 -> 0 | K36: 0 | L36: 0 | M36: =K36+L36 -> 0 | N36: =B36+E36+H36+K36 -> 0 | O36: =C36+F36+I36+L36 -> 0 | P36: =D36+G36+J36+M36 -> 0
A37: 03.02.11 Паразитология) | B37: 0 | C37: 0 | D37: =B37+C37 -> 0 | E37: 0 | F37: 0 | G37: =E37+F37 -> 0 | H37: 0 | I37: 0 | J37: =H37+I37 -> 0 | K37: 0 | L37: 0 | M37: =K37+L37 -> 0 | N37: =B37+E37+H37+K37 -> 0 | O37: =C37+F37+I37+L37 -> 0 | P37: =D37+G37+J37+M37 -> 0
A38: 36.06.01 Ветеринария и зоотехния( 06.02.01 Диагностика болезней и терапия животных,патология,онкология и морфология животных) | B38: 0 | C38: 0 | D38: =B38+C38 -> 0 | E38: 0 | F38: 0 | G38: =E38+F38 -> 0 | H38: 0 | I38: 0 | J38: =H38+I38 -> 0 | K38: 0 | L38: 0 | M38: =K38+L38 -> 0 | N38: =B38+E38+H38+K38 -> 0 | O38: =C38+F38+I38+L38 -> 0 | P38: =D38+G38+J38+M38 -> 0
A39: (06.02.02. Ветеринарная микробиология животных,вирусология,эпизитология,микология с микотокологией и иммунология) | B39: =SUM(B31:B36) -> 0 | C39: =SUM(C31:C36) -> 0 | D39: =SUM(D31:D36) -> 0 | E39: =SUM(E31:E36) -> 0 | F39: =SUM(F31:F36) -> 0 | G39: =SUM(G31:G36) -> 0 | H39: =SUM(H31:H36) -> 0 | I39: =SUM(I31:I36) -> 0 | J39: =SUM(J31:J36) -> 0 | K39: =SUM(K31:K38) -> 0 | L39: =SUM(L31:L38) -> 0 | M39: =SUM(M31:M38) -> 0 | N39: =SUM(N31:N38) -> 0 | O39: =SUM(O31:O38) -> 0 | P39: =M39+J39+G39+D39 -> 0
A40: Итого граждане иностранных государст(вкл.Украину) | B40: =B29 -> 11 | C40: =C29 -> 0 | D40: 11 | E40: =E29 -> 13 | F40: =F29 -> 0 | G40: =G29 -> 13 | H40: =H29 -> 5 | I40: =I29 -> 0 | J40: =J29 -> 5 | K40: =K29 -> 1 | L40: =L29 -> 0 | ... P40: =P29 -> 31
A41: Итого граждан России: | B41: =B39 -> 0 | C41: =C39 -> 0 | D41: =D39 -> 0 | E41: =E39 -> 0 | F41: =F39 -> 0 | G41: =G39 -> 0 | H41: =H39 -> 0 | I41: =I39 -> 0 | J41: =J39 -> 0 | K41: =K30 -> 0 | L41: =L30 -> 0 | M41: =M30 -> 0 | N41: =N39 -> 0 | O41: =O39 -> 0 | P41: =P39 -> 0
A42: Граждане иностранных государст(вкл.Украину) | B42: =SUM(B40:B41) -> 11 | C42: =SUM(C40:C41) -> 0 | D42: =SUM(D40:D41) -> 11 | E42: =SUM(E40:E41) -> 13 | F42: =SUM(F40:F41) -> 0 | G42: =SUM(G40:G41) -> 13 | H42: =SUM(H40:H41) -> 5 | I42: =SUM(I40:I41) -> 0 | ... M42: =SUM(M40:M41) -> 1 | N42: =B42+E42+H42+K42 -> 30 | O42: =C42+F42+I42+L42 -> 0 | P42: =D42+G42+J42+M42 -> 30
...

Sheet  АспОФО ГПА ЯЛТА
A2: Гуманитарно-педагогическая академия в г. Ялта
A3: Контингент очной формы обучения на 01.10.2015 г.(Аспирант)
A5: Факультет/направление подготовки | B5: 1 год обучения | E5: 2 год обучения | H5: 3 год обучения | K5: Всего аспиранты
B6: АСПИРАНТ | E6: АСПИРАНТ | H6: АСПИРАНТ
B7: За счет бюджетных ассигнований | C7: На основе догов. о платных образов. услугах | D7: ВСЕГО | E7: За счет бюджетных ассигнований | F7: На основе догов. о платных образов. услугах | G7: ВСЕГО | H7: За счет бюджетных ассигнований | I7: На основе догов. о платных образов. услугах | J7: ВСЕГО | K7: За счет бюджетных ассигнований | L7: На основе догов. о платных образов. услугах | M7: ВСЕГО
A8: Свод по направлениям подготовки
A9: 37.06.01 Психологические науки | B9: 1 | C9: 0 | D9: 1 | E9: 1 | F9: =F25+F17 -> 0 | G9: 1 | H9: =H25+H17 -> 0 | I9: =I25+I17 -> 0 | J9: =J25+J17 -> 0 | K9: =B9+E9+H9 -> 2 | L9: =C9+F9+I9 -> 0 | M9: =D9+G9+J9 -> 2
A10: 44.06.01 Образование и педагогические науки | B10: 10 | C10: =C26+C18 -> 0 | D10: 10 | E10: 13 | F10: =F26+F18 -> 0 | G10: 13 | H10: =H26+H18 -> 0 | I10: =I26+I18 -> 0 | J10: =J26+J18 -> 0 | K10: =B10+E10+H10 -> 23 | L10: =C10+F10+I10 -> 0 | M10: =D10+G10+J10 -> 23
A11: 45.06.01 Языкознание и литературоведение | B11: 2 | C11: =C27+C19 -> 0 | D11: 2 | E11: 1 | F11: =F27+F19 -> 0 | G11: 1 | H11: =H27+H19 -> 0 | I11: =I27+I19 -> 0 | J11: =J27+J19 -> 0 | K11: =B11+E11+H11 -> 3 | L11: =C11+F11+I11 -> 0 | M11: =D11+G11+J11 -> 3
A12: 46.06.01 История и археология | B12: 1 | C12: 1 | D12: 2 | E12: =E28+E20 -> 0 | F12: =F28+F20 -> 0 | G12: =G28+G20 -> 0 | H12: =H28+H20 -> 0 | I12: =I28+I20 -> 0 | J12: =J28+J20 -> 0 | K12: =B12+E12+H12 -> 1 | L12: =C12+F12+I12 -> 1 | M12: =D12+G12+J12 -> 2
A13: 47.06.01 Философия, этика и религиоведение | B13: 2 | C13: =C28+C20 -> 1 | D13: 2 | E13: 1 | F13: =F29+F21 -> 0 | G13: 1 | H13: =H29+H21 -> 0 | I13: =I29+I21 -> 0 | J13: =J29+J21 -> 0 | K13: =B13+E13+H13 -> 3 | L13: =C13+F13+I13 -> 1 | M13: =D13+G13+J13 -> 3
A14: Итого по направлениям подготовки: | B14: =SUM(B8:B13) -> 16 | C14: =SUM(C8:C13) -> 2 | D14: =SUM(D8:D13) -> 17 | E14: =SUM(E8:E13) -> 16 | F14: =SUM(F8:F13) -> 0 | G14: =SUM(G8:G13) -> 16 | H14: =SUM(H8:H13) -> 0 | I14: =SUM(I8:I13) -> 0 | ... M14: =SUM(M8:M13) -> 33
A15: В том числе:
A16: Граждане России
A17: 37.06.01 Психологические науки | B17: 1 | C17: 0 | D17: 1 | E17: 1 | F17: =F33+F25 -> 0 | G17: 1 | H17: 0 | I17: 0 | J17: =SUM(H17:I17) -> 0 | K17: =B17+E17+H17 -> 2 | L17: =C17+F17+I17 -> 0 | M17: =D17+G17+J17 -> 2
A18: 44.06.01 Образование и педагогические науки | B18: 10 | C18: =C34+C26 -> 0 | D18: 10 | E18: 13 | F18: =F34+F26 -> 0 | G18: 13 | H18: 0 | I18: 0 | J18: =SUM(H18:I18) -> 0 | K18: =B18+E18+H18 -> 23 | L18: =C18+F18+I18 -> 0 | M18: =D18+G18+J18 -> 23
A19: 45.06.01 Языкознание и литературоведение | B19: 2 | C19: =C35+C27 -> 0 | D19: 2 | E19: 1 | F19: =F35+F27 -> 0 | G19: 1 | H19: 0 | I19: 0 | J19: =SUM(H19:I19) -> 0 | K19: =B19+E19+H19 -> 3 | L19: =C19+F19+I19 -> 0 | M19: =D19+G19+J19 -> 3
A20: 46.06.01 История и археология | B20: 1 | C20: 1 | D20: 2 | E20: =E36+E28 -> 0 | F20: =F36+F28 -> 0 | G20: =G36+G28 -> 0 | H20: 0 | I20: 0 | J20: =SUM(H20:I20) -> 0 | K20: =B20+E20+H20 -> 1 | L20: =C20+F20+I20 -> 1 | M20: =D20+G20+J20 -> 2
A21: 47.06.01 Философия, этика и религиоведение | B21: 2 | C21: =C36+C28 -> 0 | D21: 2 | E21: 1 | F21: =F37+F29 -> 0 | G21: 1 | H21: 0 | I21: 0 | J21: =SUM(H21:I21) -> 0 | K21: =B21+E21+H21 -> 3 | L21: =C21+F21+I21 -> 0 | M21: =D21+G21+J21 -> 3
A22: Итого граждане России | B22: =SUM(B16:B21) -> 16 | C22: =SUM(C16:C21) -> 1 | D22: =SUM(D16:D21) -> 17 | E22: =SUM(E16:E21) -> 16 | F22: =SUM(F16:F21) -> 0 | G22: =SUM(G16:G21) -> 16 | H22: =SUM(H17:H21) -> 0 | I22: =SUM(I17:I21) -> 0 | J22: =SUM(J17:J21) -> 0 | K22: =SUM(K17:K21) -> 32 | L22: =SUM(L17:L21) -> 1 | M22: =SUM(M17:M21) -> 33
A23: Граждане иностранных государств (вкл. Украину)
A24: 37.06.01 Психологические науки | B24: 0 | C24: 0 | D24: =SUM(B24:C24) -> 0 | E24: 0 | F24: 0 | G24: =SUM(E24:F24) -> 0 | H24: 0 | I24: 0 | J24: =SUM(H24:I24) -> 0 | K24: =B24+E24+H24 -> 0 | L24: =C24+F24+I24 -> 0 | M24: =D24+G24+J24 -> 0
A25: 44.06.01 Образование и педагогические науки | B25: 0 | C25: 0 | D25: =SUM(B25:C25) -> 0 | E25: 0 | F25: 0 | G25: =SUM(E25:F25) -> 0 | H25: 0 | I25: 0 | J25: =SUM(H25:I25) -> 0 | K25: =B25+E25+H25 -> 0 | L25: =C25+F25+I25 -> 0 | M25: =D25+G25+J25 -> 0
A26: 45.06.01 Языкознание и литературоведение | B26: 0 | C26: 0 | D26: =SUM(B26:C26) -> 0 | E26: 0 | F26: 0 | G26: =SUM(E26:F26) -> 0 | H26: 0 | I26: 0 | J26: =SUM(H26:I26) -> 0 | K26: =B26+E26+H26 -> 0 | L26: =C26+F26+I26 -> 0 | M26: =D26+G26+J26 -> 0
A27: 46.06.01 История и археология | B27: 0 | C27: 0 | D27: =SUM(B27:C27) -> 0 | E27: 0 | F27: 0 | G27: =SUM(E27:F27) -> 0 | H27: 0 | I27: 0 | J27: =SUM(H27:I27) -> 0 | K27: =B27+E27+H27 -> 0 | L27: =C27+F27+I27 -> 0 | M27: =D27+G27+J27 -> 0
A28: 47.06.01 Философия, этика и религиоведение | B28: 0 | C28: 0 | D28: =SUM(B28:C28) -> 0 | E28: 0 | F28: 0 | G28: =SUM(E28:F28) -> 0 | H28: 0 | I28: 0 | J28: =SUM(H28:I28) -> 0 | K28: =B28+E28+H28 -> 0 | L28: =C28+F28+I28 -> 0 | M28: =D28+G28+J28 -> 0
A29: Итого граждане иностранных государств | B29: =SUM(B24:B28) -> 0 | C29: =SUM(C24:C28) -> 0 | D29: =SUM(D24:D28) -> 0 | E29: =SUM(E24:E28) -> 0 | F29: =SUM(F24:F28) -> 0 | G29: =SUM(G24:G28) -> 0 | H29: =SUM(H24:H28) -> 0 | I29: =SUM(I24:I28) -> 0 | ... M29: =SUM(M24:M28) -> 0
A30: ИТОГО по подразделению граждане России | B30: =B22 -> 16 | C30: =C22 -> 1 | D30: =D22 -> 17 | E30: =E22 -> 16 | F30: =F22 -> 0 | G30: =G22 -> 16 | H30: =H22 -> 0 | I30: =I22 -> 0 | ... M30: =M22 -> 33
A31: ИТОГО по подразделению иностранные граждане | B31: =B29 -> 0 | C31: =C29 -> 0 | D31: =D29 -> 0 | E31: =E29 -> 0 | F31: =F29 -> 0 | G31: =G29 -> 0 | H31: =H29 -> 0 | I31: =I29 -> 0 | ... M31: =M29 -> 0
A32: Итого | B32: =SUM(B30:B31) -> 16 | C32: =SUM(C30:C31) -> 1 | D32: =SUM(D30:D31) -> 17 | E32: =SUM(E30:E31) -> 16 | F32: =SUM(F30:F31) -> 0 | G32: =SUM(G30:G31) -> 16 | H32: =SUM(H30:H31) -> 0 | I32: =SUM(I30:I31) -> 0 | ... M32: =SUM(M30:M31) -> 33
A35: Заведующий сектором аспирантуры и докторантуры О.Г. Коник

Sheet Асп ОФО ГПА Ялта
A1: =[2]СПО!B1 -> Гуманитарно-педагогическая академия (филиал) ФГАОУ ВО «КФУ им. В. И. Вернадского» в г. Ялте
A3: Контингент очной формы обучения на | C3: =[2]СПО!F3 -> 01.10.2017 г. | F3: (Аспирант)
A5: Факультет/направление подготовки | B5: 1 год обучения | E5: 2 год обучения | H5: 3 год обучения | K5: Всего аспиранты
B6: АСПИРАНТ | E6: АСПИРАНТ | H6: АСПИРАНТ
B7: За счет бюджетных ассигнований | C7: На основе догов. о платных образов. услугах | D7: ВСЕГО | E7: За счет бюджетных ассигнований | F7: На основе догов. о платных образов. услугах | G7: ВСЕГО | H7: За счет бюджетных ассигнований | I7: На основе догов. о платных образов. услугах | J7: ВСЕГО | K7: За счет бюджетных ассигнований | L7: На основе догов. о платных образов. услугах | M7: ВСЕГО
A8: Свод по направлениям подготовки
A9: 37.06.01 Психологические науки | B9: 0 | C9: 0 | D9: 0 | E9: 1 | F9: 0 | G9: 1 | H9: 2 | I9: =I25+I17 -> 0 | J9: 2 | K9: =B9+E9+H9 -> 3 | L9: =C9+F9+I9 -> 0 | M9: =D9+G9+J9 -> 3
A10: 44.06.01 Образование и педагогические науки | B10: 4 | C10: 0 | D10: 4 | E10: 1 | F10: 0 | G10: 1 | H10: 21 | I10: =I26+I18 -> 0 | J10: 21 | K10: =B10+E10+H10 -> 26 | L10: =C10+F10+I10 -> 0 | M10: =D10+G10+J10 -> 26
A11: 45.06.01 Языкознание и литературоведение | B11: 4 | C11: 0 | D11: 4 | E11: 3 | F11: 0 | G11: 3 | H11: 2 | I11: =I27+I19 -> 0 | J11: 2 | K11: =B11+E11+H11 -> 9 | L11: =C11+F11+I11 -> 0 | M11: =D11+G11+J11 -> 9
A12: 46.06.01 История и археология | B12: 2 | C12: 1 | D12: 3 | E12: 1 | F12: 0 | G12: 1 | H12: 1 | I12: 1 | J12: 2 | K12: =B12+E12+H12 -> 4 | L12: =C12+F12+I12 -> 2 | M12: =D12+G12+J12 -> 6
A13: 47.06.01 Философия, этика и религиоведение | B13: 1 | C13: 0 | D13: 1 | E13: 1 | F13: 0 | G13: 1 | H13: 3 | I13: =I29+I21 -> 0 | J13: 3 | K13: =B13+E13+H13 -> 5 | L13: =C13+F13+I13 -> 0 | M13: =D13+G13+J13 -> 5
A14: Итого по направлениям подготовки: | B14: 11 | C14: 1 | D14: 12 | E14: 7 | F14: 0 | G14: 7 | H14: =SUM(H8:H13) -> 29 | I14: =SUM(I8:I13) -> 1 | J14: =SUM(J8:J13) -> 30 | K14: =SUM(K9:K13) -> 47 | L14: =SUM(L9:L13) -> 2 | M14: =SUM(M9:M13) -> 49
A15: В том числе:
A16: Граждане России
A17: 37.06.01 Психологические науки | B17: 0 | C17: 0 | D17: 0 | E17: 1 | F17: 0 | G17: 1 | H17: 2 | I17: =I33+I25 -> 0 | J17: 2 | K17: =B17+E17+H17 -> 3 | L17: =C17+F17+I17 -> 0 | M17: =D17+G17+J17 -> 3
A18: 44.06.01 Образование и педагогические науки | B18: 4 | C18: 0 | D18: 4 | E18: 1 | F18: 0 | G18: 1 | H18: 21 | I18: =I34+I26 -> 0 | J18: 21 | K18: =B18+E18+H18 -> 26 | L18: =C18+F18+I18 -> 0 | M18: =D18+G18+J18 -> 26
A19: 45.06.01 Языкознание и литературоведение | B19: 4 | C19: 0 | D19: 4 | E19: 3 | F19: 0 | G19: 3 | H19: 2 | I19: =I35+I27 -> 0 | J19: 2 | K19: =B19+E19+H19 -> 9 | L19: =C19+F19+I19 -> 0 | M19: =D19+G19+J19 -> 9
A20: 46.06.01 История и археология | B20: 2 | C20: 1 | D20: 3 | E20: 1 | F20: 0 | G20: 1 | H20: 1 | I20: 1 | J20: 2 | K20: =B20+E20+H20 -> 4 | L20: =C20+F20+I20 -> 2 | M20: =D20+G20+J20 -> 6
A21: 47.06.01 Философия, этика и религиоведение | B21: 1 | C21: 0 | D21: 1 | E21: 1 | F21: 0 | G21: 1 | H21: 3 | I21: =I37+I29 -> 0 | J21: 3 | K21: =B21+E21+H21 -> 5 | L21: =C21+F21+I21 -> 0 | M21: =D21+G21+J21 -> 5
A22: Итого граждане России | B22: 11 | C22: 1 | D22: 12 | E22: 7 | F22: 0 | G22: 7 | H22: =SUM(H16:H21) -> 29 | I22: =SUM(I16:I21) -> 1 | J22: =SUM(J16:J21) -> 30 | K22: =SUM(K17:K21) -> 47 | L22: =SUM(L17:L21) -> 2 | M22: =SUM(M17:M21) -> 49
A23: Граждане иностранных государств (вкл. Украину)
A24: 37.06.01 Психологические науки | B24: 0 | C24: 0 | D24: 0 | E24: 0 | F24: 0 | G24: =SUM(E24:F24) -> 0 | H24: 0 | I24: 0 | J24: =SUM(H24:I24) -> 0 | K24: =B24+E24+H24 -> 0 | L24: =C24+F24+I24 -> 0 | M24: =D24+G24+J24 -> 0
A25: 44.06.01 Образование и педагогические науки | B25: 0 | C25: 0 | D25: 0 | E25: 0 | F25: 0 | G25: =SUM(E25:F25) -> 0 | H25: 0 | I25: 0 | J25: =SUM(H25:I25) -> 0 | K25: =B25+E25+H25 -> 0 | L25: =C25+F25+I25 -> 0 | M25: =D25+G25+J25 -> 0
A26: 45.06.01 Языкознание и литературоведение | B26: 0 | C26: 0 | D26: 0 | E26: 0 | F26: 0 | G26: =SUM(E26:F26) -> 0 | H26: 0 | I26: 0 | J26: =SUM(H26:I26) -> 0 | K26: =B26+E26+H26 -> 0 | L26: =C26+F26+I26 -> 0 | M26: =D26+G26+J26 -> 0
A27: 46.06.01 История и археология | B27: 0 | C27: 0 | D27: 0 | E27: 0 | F27: 0 | G27: =SUM(E27:F27) -> 0 | H27: 0 | I27: 0 | J27: =SUM(H27:I27) -> 0 | K27: =B27+E27+H27 -> 0 | L27: =C27+F27+I27 -> 0 | M27: =D27+G27+J27 -> 0
A28: 47.06.01 Философия, этика и религиоведение | B28: 0 | C28: 0 | D28: 0 | E28: 0 | F28: 0 | G28: =SUM(E28:F28) -> 0 | H28: 0 | I28: 0 | J28: =SUM(H28:I28) -> 0 | K28: =B28+E28+H28 -> 0 | L28: =C28+F28+I28 -> 0 | M28: =D28+G28+J28 -> 0
A29: Итого граждане иностранных государств | B29: 0 | C29: 0 | D29: 0 | E29: =SUM(E24:E28) -> 0 | F29: =SUM(F24:F28) -> 0 | G29: =SUM(G24:G28) -> 0 | H29: =SUM(H24:H28) -> 0 | I29: =SUM(I24:I28) -> 0 | J29: =SUM(J24:J28) -> 0 | K29: =SUM(K24:K28) -> 0 | L29: =SUM(L24:L28) -> 0 | M29: =SUM(M24:M28) -> 0
A30: ИТОГО по подразделению граждане России | B30: 11 | C30: 1 | D30: 12 | E30: =E22 -> 7 | F30: =F22 -> 0 | G30: =G22 -> 7 | H30: =H22 -> 29 | I30: =I22 -> 1 | J30: =J22 -> 30 | K30: =K22 -> 47 | L30: =L22 -> 2 | M30: =M22 -> 49
A31: ИТОГО по подразделению иностранные граждане | B31: 0 | C31: 0 | D31: 0 | E31: =E29 -> 0 | F31: =F29 -> 0 | G31: =G29 -> 0 | H31: =H29 -> 0 | I31: =I29 -> 0 | J31: =J29 -> 0 | K31: =K29 -> 0 | L31: =L29 -> 0 | M31: =M29 -> 0
A32: Итого | B32: 11 | C32: 1 | D32: 12 | E32: =SUM(E30:E31) -> 7 | F32: =SUM(F30:F31) -> 0 | G32: =SUM(G30:G31) -> 7 | H32: =SUM(H30:H31) -> 29 | I32: =SUM(I30:I31) -> 1 | J32: =SUM(J30:J31) -> 30 | K32: =SUM(K30:K31) -> 47 | L32: =SUM(L30:L31) -> 2 | M32: =SUM(M30:M31) -> 49
A35: =[2]СПО!B42 -> Начальник УМО___________________И.И. Линник

Sheet Асп ЗФО ГПА ЯЛТА
A1: =[2]СПО!B1 -> Гуманитарно-педагогическая академия (филиал) ФГАОУ ВО «КФУ им. В. И. Вернадского» в г. Ялте
A3: Контингент заочной формы обучения на | C3: =[2]СПО!F3 -> 01.10.2017 г. | F3: (Аспирант)
A5: Факультет/направление подготовки | B5: 1 год обучения | E5: 2 год обучения | H5: 3 год обучения | K5: 4 год обучения | N5: Всего аспиранты
B6: АСПИРАНТ | E6: АСПИРАНТ | H6: АСПИРАНТ | K6: АСПИРАНТ
B7: За счет бюджетных ассигнований | C7: На основе догов. о платных образов. услугах | D7: ВСЕГО | E7: За счет бюджетных ассигнований | F7: На основе догов. о платных образов. услугах | G7: ВСЕГО | H7: За счет бюджетных ассигнований | I7: На основе догов. о платных образов. услугах | J7: ВСЕГО | K7: За счет бюджетных ассигнований | L7: На основе догов. о платных образов. услугах | M7: ВСЕГО | N7: За счет бюджетных ассигнований | O7: На основе догов. о платных образов. услугах | P7: ВСЕГО
A8: Свод по направлениям подготовки
A9: 37.06.01 Психологические науки | B9: 0 | C9: 0 | D9: 0 | E9: 0 | F9: 0 | G9: 0 | H9: =H25+H17 -> 0 | I9: =I25+I17 -> 0 | J9: =J25+J17 -> 0 | K9: =K25+K17 -> 0 | L9: =L25+L17 -> 0 | M9: =M25+M17 -> 0 | N9: =B9+E9+H9 -> 0 | O9: =C9+F9+I9 -> 0 | P9: =D9+G9+J9 -> 0
A10: 44.06.01 Образование и педагогические науки | B10: 0 | C10: 1 | D10: 1 | E10: =E26+E18 -> 0 | F10: 4 | G10: 4 | H10: =H26+H18 -> 0 | I10: 8 | J10: 8 | K10: =K26+K18 -> 0 | L10: 6 | M10: 6 | N10: =B10+E10+H10 -> 0 | O10: =C10+F10+I10+L10 -> 19 | P10: =D10+G10+J10+M10 -> 19
A11: 45.06.01 Языкознание и литературоведение | B11: 0 | C11: 0 | D11: 0 | E11: =E27+E19 -> 0 | F11: =F27+F19 -> 0 | G11: =G27+G19 -> 0 | H11: =H27+H19 -> 0 | I11: =I27+I19 -> 0 | J11: =J27+J19 -> 0 | K11: =K27+K19 -> 0 | L11: =L27+L19 -> 0 | M11: =M27+M19 -> 0 | N11: =B11+E11+H11 -> 0 | O11: =C11+F11+I11 -> 0 | P11: =D11+G11+J11 -> 0
A12: 46.06.01 История и археология | B12: 0 | C12: 0 | D12: 0 | E12: =E27+E19 -> 0 | F12: =F27+F19 -> 0 | G12: =G27+G19 -> 0 | H12: =H28+H20 -> 0 | I12: =I28+I20 -> 0 | J12: =J28+J20 -> 0 | K12: =K28+K20 -> 0 | L12: =L28+L20 -> 0 | M12: =M28+M20 -> 0 | N12: =B12+E12+H12 -> 0 | O12: =C12+F12+I12 -> 0 | P12: =D12+G12+J12 -> 0
A13: 47.06.01 Философия, этика и религиоведение | B13: 0 | C13: 0 | D13: 0 | E13: =E28+E20 -> 0 | F13: =F28+F20 -> 0 | G13: =G28+G20 -> 0 | H13: =H29+H21 -> 0 | I13: =I29+I21 -> 0 | J13: =J29+J21 -> 0 | K13: =K29+K21 -> 0 | L13: =L29+L21 -> 0 | M13: =M29+M21 -> 0 | N13: =B13+E13+H13 -> 0 | O13: =C13+F13+I13 -> 0 | P13: =D13+G13+J13 -> 0
A14: Итого по направлениям подготовки: | B14: =SUM(B8:B13) -> 0 | C14: =SUM(C9:C13) -> 1 | D14: =SUM(D9:D13) -> 1 | E14: =SUM(E9:E13) -> 0 | F14: =SUM(F9:F13) -> 4 | G14: =SUM(G9:G13) -> 4 | H14: =SUM(H9:H13) -> 0 | I14: =SUM(I9:I13) -> 8 | J14: =SUM(J9:J13) -> 8 | ... P14: =SUM(P9:P13) -> 19
A15: В том числе:
A16: Граждане России
A17: 37.06.01 Психологические науки | B17: 0 | C17: 0 | D17: 0 | E17: 0 | F17: 0 | G17: =SUM(E17:F17) -> 0 | H17: 0 | I17: 0 | J17: =SUM(H17:I17) -> 0 | K17: 0 | L17: 0 | M17: =SUM(K17:L17) -> 0 | N17: =B17+E17+H17 -> 0 | O17: =C17+F17+I17 -> 0 | P17: =D17+G17+J17 -> 0
A18: 44.06.01 Образование и педагогические науки | B18: 0 | C18: 1 | D18: 1 | E18: 0 | F18: 4 | G18: 4 | H18: 0 | I18: 8 | J18: 8 | K18: 0 | L18: 6 | M18: 6 | N18: =B18+E18+H18 -> 0 | O18: =C18+F18+I18+L18 -> 19 | P18: =D18+G18+J18+M18 -> 19
A19: 45.06.01 Языкознание и литературоведение | B19: 0 | C19: 0 | D19: 0 | E19: 0 | F19: 0 | G19: =SUM(E19:F19) -> 0 | H19: 0 | I19: 0 | J19: =SUM(H19:I19) -> 0 | K19: 0 | L19: 0 | M19: =SUM(K19:L19) -> 0 | N19: =B19+E19+H19 -> 0 | O19: =C19+F19+I19 -> 0 | P19: =D19+G19+J19 -> 0
A20: 46.06.01 История и археология | B20: 0 | C20: 0 | D20: 0 | E20: 0 | F20: 0 | G20: =SUM(E20:F20) -> 0 | H20: 0 | I20: 0 | J20: =SUM(H20:I20) -> 0 | K20: 0 | L20: 0 | M20: =SUM(K20:L20) -> 0 | N20: =B20+E20+H20 -> 0 | O20: =C20+F20+I20 -> 0 | P20: =D20+G20+J20 -> 0
A21: 47.06.01 Философия, этика и религиоведение | B21: 0 | C21: 0 | D21: 0 | E21: 0 | F21: 0 | G21: =SUM(E21:F21) -> 0 | H21: 0 | I21: 0 | J21: =SUM(H21:I21) -> 0 | K21: 0 | L21: 0 | M21: =SUM(K21:L21) -> 0 | N21: =B21+E21+H21 -> 0 | O21: =C21+F21+I21 -> 0 | P21: =D21+G21+J21 -> 0
A22: Итого граждане России | B22: =SUM(B17:B21) -> 0 | C22: =SUM(C17:C21) -> 1 | D22: =SUM(D17:D21) -> 1 | E22: =SUM(E17:E21) -> 0 | F22: =SUM(F17:F21) -> 4 | G22: =SUM(G17:G21) -> 4 | H22: =SUM(H17:H21) -> 0 | I22: =SUM(I17:I21) -> 8 | ... P22: =SUM(P17:P21) -> 19
A23: Граждане иностранных государств (вкл. Украину)
A24: 37.06.01 Психологические науки | B24: 0 | C24: 0 | D24: =SUM(B24:C24) -> 0 | E24: 0 | F24: 0 | G24: =SUM(E24:F24) -> 0 | H24: 0 | I24: 0 | J24: =SUM(H24:I24) -> 0 | K24: 0 | L24: 0 | M24: =SUM(K24:L24) -> 0 | N24: =B24+E24+H24+K24 -> 0 | O24: =C24+F24+I24+L24 -> 0 | P24: =D24+G24+J24+M24 -> 0
A25: 44.06.01 Образование и педагогические науки | B25: 0 | C25: 0 | D25: =SUM(B25:C25) -> 0 | E25: 0 | F25: 0 | G25: =SUM(E25:F25) -> 0 | H25: 0 | I25: 0 | J25: =SUM(H25:I25) -> 0 | K25: 0 | L25: 0 | M25: =SUM(K25:L25) -> 0 | N25: =B25+E25+H25+K25 -> 0 | O25: =C25+F25+I25+L25 -> 0 | P25: =D25+G25+J25+M25 -> 0
A26: 45.06.01 Языкознание и литературоведение | B26: 0 | C26: 0 | D26: =SUM(B26:C26) -> 0 | E26: 0 | F26: 0 | G26: =SUM(E26:F26) -> 0 | H26: 0 | I26: 0 | J26: =SUM(H26:I26) -> 0 | K26: 0 | L26: 0 | M26: =SUM(K26:L26) -> 0 | N26: =B26+E26+H26+K26 -> 0 | O26: =C26+F26+I26+L26 -> 0 | P26: =D26+G26+J26+M26 -> 0
A27: 46.06.01 История и археология | B27: 0 | C27: 0 | D27: =SUM(B27:C27) -> 0 | E27: 0 | F27: 0 | G27: =SUM(E27:F27) -> 0 | H27: 0 | I27: 0 | J27: =SUM(H27:I27) -> 0 | K27: 0 | L27: 0 | M27: =SUM(K27:L27) -> 0 | N27: =B27+E27+H27+K27 -> 0 | O27: =C27+F27+I27+L27 -> 0 | P27: =D27+G27+J27+M27 -> 0
A28: 47.06.01 Философия, этика и религиоведение | B28: 0 | C28: 0 | D28: =SUM(B28:C28) -> 0 | E28: 0 | F28: 0 | G28: =SUM(E28:F28) -> 0 | H28: 0 | I28: 0 | J28: =SUM(H28:I28) -> 0 | K28: 0 | L28: 0 | M28: =SUM(K28:L28) -> 0 | N28: =B28+E28+H28+K28 -> 0 | O28: =C28+F28+I28+L28 -> 0 | P28: =D28+G28+J28+M28 -> 0
A29: Итого граждане иностранных государств | B29: =SUM(B24:B28) -> 0 | C29: =SUM(C24:C28) -> 0 | D29: =SUM(D24:D28) -> 0 | E29: =SUM(E24:E28) -> 0 | F29: =SUM(F24:F28) -> 0 | G29: =SUM(G24:G28) -> 0 | H29: =SUM(H24:H28) -> 0 | I29: =SUM(I24:I28) -> 0 | ... P29: =SUM(P24:P28) -> 0
A30: ИТОГО по подразделению граждане России | B30: =B22 -> 0 | C30: =C22 -> 1 | D30: =D22 -> 1 | E30: =E22 -> 0 | F30: =F22 -> 4 | G30: =G22 -> 4 | H30: =H22 -> 0 | I30: =I22 -> 8 | ... P30: =P22 -> 19
A31: ИТОГО по подразделению иностранные граждане | B31: =B29 -> 0 | C31: =C29 -> 0 | D31: =D29 -> 0 | E31: =E29 -> 0 | F31: =F29 -> 0 | G31: =G29 -> 0 | H31: =H29 -> 0 | I31: =I29 -> 0 | ... P31: =P29 -> 0
A32: Итого | B32: =SUM(B30:B31) -> 0 | C32: =SUM(C30:C31) -> 1 | D32: =SUM(D30:D31) -> 1 | E32: =SUM(E30:E31) -> 0 | F32: =SUM(F30:F31) -> 4 | G32: =SUM(G30:G31) -> 4 | H32: =SUM(H30:H31) -> 0 | I32: =SUM(I30:I31) -> 8 | ... P32: =SUM(P30:P31) -> 19
A36: =[2]СПО!B42 -> Начальник УМО___________________И.И. Линник

Sheet АспОФО 3 Курс ГПА Ялта
A1: Название подразделения
A2: Гуманитарно-педагогическая академия (филиал) в г. Ялта
A3: Контингент очной формы обучения 3 года обучения на 01.10.2017 г.(Аспиранты)
A5: Факультет/специальность подготовки | B5: 3 | H5: Всего аспирантов
B7: За счет бюджетных ассигнований | C7: На основе догов. о платных образов. услугах | D7: ВСЕГО | E7: За счет бюджетных ассигнований | F7: На основе догов. о платных образов. услугах | G7: ВСЕГО | H7: За счет бюджетных ассигнований | I7: На основе догов. о платных образов. услугах | J7: ВСЕГО
A8: Свод по специальностям подготовки | B8: 1 | C8: 0 | D8: 1 | H8: 1 | I8: 0 | J8: 1
A9: 07.00.03 - всеобщая история (соответствующего периода) | B9: 0 | C9: 0 | D9: 0 | H9: =B9+E9 -> 0 | I9: =C9+F9 -> 0 | J9: =SUM(H9:I9) -> 0
A10: 09.00.11 - cоциальная философия | B10: 0 | C10: 0 | D10: 0 | H10: =B10+E10 -> 0 | I10: =C10+F10 -> 0 | J10: =SUM(H10:I10) -> 0
A11: 10.01.03 - литература народов стран зарубежья (американская) | B11: 1 | C11: 0 | D11: 1 | H11: =B11+E11 -> 1 | I11: =C11+F11 -> 0 | J11: =SUM(H11:I11) -> 1
A12: Итого по специальностям подготовки: | B12: =SUM(B9:B11) -> 1 | C12: =SUM(C9:C11) -> 0 | D12: =SUM(D9:D11) -> 1 | H12: =SUM(H9:H11) -> 1 | I12: =SUM(I9:I11) -> 0 | J12: =SUM(H12:I12) -> 1
A13: В том числе:
A14: Граждане России
A15: 07.00.03 - всеобщая история (соответствующего периода) | B15: 0 | C15: 0 | D15: 0 | H15: =B15+E15 -> 0 | I15: =C15+F15 -> 0 | J15: =SUM(H15:I15) -> 0
A16: 09.00.11 - cоциальная философия | B16: 0 | C16: 0 | D16: 0 | H16: =B16+E16 -> 0 | I16: =C16+F16 -> 0 | J16: =SUM(H16:I16) -> 0
A17: 10.01.03 - литература народов стран зарубежья (американская) | B17: 1 | C17: 0 | D17: =SUM(B17:C17) -> 1 | H17: =B17+E17 -> 1 | I17: =C17+F17 -> 0 | J17: =SUM(H17:I17) -> 1
A18: Итого граждане России | B18: =SUM(B15:B17) -> 1 | C18: =SUM(C15:C17) -> 0 | D18: =SUM(D15:D17) -> 1 | H18: =SUM(H15:H17) -> 1 | I18: =SUM(I15:I17) -> 0 | J18: =SUM(H18:I18) -> 1
A19: Граждане Украины
A21: Итого граждане Украины | B21: =SUM(B20:B20) -> 0 | C21: =SUM(C20:C20) -> 0 | D21: =SUM(D20:D20) -> 0 | H21: =SUM(H20:H20) -> 0 | I21: =SUM(I20:I20) -> 0 | J21: =SUM(J20:J20) -> 0
A22: Граждане иностранных государств
A24: Итого граждане иностранных государств | B24: =SUM(B23:B23) -> 0 | C24: =SUM(C23:C23) -> 0 | D24: =SUM(D23:D23) -> 0 | H24: =SUM(H23:H23) -> 0 | I24: =SUM(I23:I23) -> 0 | J24: =SUM(J23:J23) -> 0
A25: ИТОГО по подразделению граждане России | B25: =B18 -> 1 | C25: =C18 -> 0 | D25: =D18 -> 1 | H25: =B25+E25 -> 1 | I25: =C25+F25 -> 0 | J25: =SUM(H25:I25) -> 1
A26: ИТОГО по подразделению граждане Украины | B26: =B21 -> 0 | C26: =C21 -> 0 | D26: =D21 -> 0 | H26: =B26+E26 -> 0 | I26: =C26+F26 -> 0 | J26: =SUM(H26:I26) -> 0
A27: ИТОГО по подразделению иностранные граждане | B27: =B24 -> 0 | C27: =C24 -> 0 | D27: =D24 -> 0 | H27: =B27+E27 -> 0 | I27: =C27+E27 -> 0 | J27: =SUM(H27:I27) -> 0
A28: Итого | B28: =SUM(B25:B27) -> 1 | C28: =SUM(C25:C27) -> 0 | D28: =SUM(D25:D27) -> 1 | H28: =SUM(H25:H27) -> 1 | I28: =SUM(I25:I27) -> 0 | J28: =SUM(J25:J27) -> 1
A31: Начальник УМО___________________И.И. Линник

Sheet Асп3-4курс ЗФО курсГПА Ялта
A1: =[1]СПО!B1 -> Гуманитарно-педагогическая академия (филиал) ФГАОУ ВО «КФУ им. В. И. Вернадского» в г. Ялте
B3: Контингент заочная форма обучения 3-4 годов на | E3: 01.10.2017 г | H3: (Аспиранты)
B5: Факультет/направление подготовки | C5: 3 | F5: 4 | L5: Всего аспирантов
C7: За счет бюджетных ассигнований | D7: На основе догов. о платных образов. услугах | E7: ВСЕГО | F7: За счет бюджетных ассигнований | G7: На основе догов. о платных образов. услугах | H7: ВСЕГО | I7: За счет бюджетных ассигнований | J7: На основе догов. о платных образов. услугах | K7: ВСЕГО | L7: За счет бюджетных ассигнований | M7: На основе догов. о платных образов. услугах | N7: ВСЕГО
B8: Свод по направлениям подготовки | C8: 0 | D8: =SUM(D9:D11) -> 0 | E8: 0 | F8: =SUM(F9:F11) -> 3 | G8: =SUM(G9:G11) -> 0 | H8: =SUM(H9:H11) -> 3 | L8: =SUM(L9:L11) -> 3 | M8: =SUM(M9:M11) -> 0 | N8: =SUM(N9:N11) -> 3
B9: 13.00.08 - теория и методика профессионального образования | C9: 0 | D9: 0 | E9: =SUM(C9:D9) -> 0 | F9: 1 | G9: 0 | H9: =SUM(F9:G9) -> 1 | L9: =C9+F9+I9 -> 1 | M9: =D9+G9+J9 -> 0 | N9: =SUM(L9:M9) -> 1
B10: 13.00.01 - общая педагогика и история педагогики и образования | C10: 0 | D10: 0 | E10: 0 | F10: 2 | G10: 0 | H10: =SUM(F10:G10) -> 2 | L10: =C10+F10+I10 -> 2 | M10: =D10+G10+J10 -> 0 | N10: =SUM(L10:M10) -> 2
B11: 19.00.13 - психология развития и акмеология | C11: 0 | D11: 0 | E11: =SUM(C11:D11) -> 0 | F11: 0 | G11: 0 | H11: =SUM(F11:G11) -> 0 | L11: =C11+F11+I11 -> 0 | M11: =D11+G11+J11 -> 0 | N11: =SUM(L11:M11) -> 0
B12: Итого по специальностям подготовки | C12: =SUM(C9:C11) -> 0 | D12: =SUM(D9:D11) -> 0 | E12: =SUM(E9:E11) -> 0 | F12: =SUM(F9:F11) -> 3 | G12: =SUM(G9:G11) -> 0 | H12: =SUM(H9:H11) -> 3 | L12: =SUM(L9:L11) -> 3 | M12: =SUM(M9:M11) -> 0 | N12: =SUM(L12:M12) -> 3
B13: В том числе:
B14: Граждане России
B15: 13.00.08 - теория и методика профессионального образования | C15: 0 | D15: 0 | E15: =SUM(C15:D15) -> 0 | F15: 1 | G15: 0 | H15: =SUM(F15:G15) -> 1 | L15: =C15+F15+I15 -> 1 | M15: =D15+G15+J15 -> 0 | N15: =SUM(L15:M15) -> 1
B16: 13.00.01 - общая педагогика и история педагогики и образования | C16: 0 | D16: 0 | E16: =SUM(C16:D16) -> 0 | F16: 2 | G16: 0 | H16: =SUM(F16:G16) -> 2 | L16: =C16+F16+I16 -> 2 | M16: =D16+G16+J16 -> 0 | N16: =SUM(L16:M16) -> 2
B17: 19.00.13 - психология развития и акмеология | C17: 0 | D17: 0 | E17: =SUM(C17:D17) -> 0 | F17: 0 | G17: 0 | H17: =SUM(F17:G17) -> 0 | L17: =C17+F17+I17 -> 0 | M17: =D17+G17+J17 -> 0 | N17: =SUM(L17:M17) -> 0
B18: Итого граждане России | C18: 0 | D18: =SUM(D15:D17) -> 0 | E18: =SUM(E15:E17) -> 0 | F18: =SUM(F15:F17) -> 3 | G18: =SUM(G15:G17) -> 0 | H18: =SUM(H15:H17) -> 3 | L18: =SUM(L15:L17) -> 3 | M18: =SUM(M15:M17) -> 0 | N18: =SUM(L18:M18) -> 3
B19: Граждане Украины
B21: Итого граждане Украины | C21: =SUM(C20:C20) -> 0 | D21: =SUM(D20:D20) -> 0 | E21: =SUM(E20:E20) -> 0 | F21: =SUM(F20:F20) -> 0 | G21: =SUM(G20:G20) -> 0 | H21: =SUM(H20:H20) -> 0 | L21: =SUM(L20:L20) -> 0 | M21: =SUM(M20:M20) -> 0 | N21: =SUM(L21:M21) -> 0
B22: Граждане иностранных государств
B25: Итого граждане иностранных государств | C25: =SUM(C23:C24) -> 0 | D25: =SUM(D23:D24) -> 0 | E25: =SUM(E23:E24) -> 0 | F25: =SUM(F23:F24) -> 0 | G25: =SUM(G23:G24) -> 0 | H25: =SUM(H23:H24) -> 0 | L25: =SUM(L23:L24) -> 0 | M25: =SUM(M23:M24) -> 0 | N25: =SUM(N23:N24) -> 0
B26: ИТОГО по подразделению граждане России | C26: =C18 -> 0 | D26: =D18 -> 0 | E26: =E18 -> 0 | F26: =F18 -> 3 | G26: =G18 -> 0 | H26: =H18 -> 3 | L26: =L18 -> 3 | M26: =M18 -> 0 | N26: =N18 -> 3
B27: ИТОГО по подразделению граждане Украины | C27: =C24 -> 0 | D27: =D24 -> 0 | E27: =E24 -> 0 | F27: =F24 -> 0 | G27: =G24 -> 0 | H27: =H24 -> 0 | L27: =L24 -> 0 | M27: =M24 -> 0 | N27: =N24 -> 0
B28: ИТОГО по подразделению граждане иностранных государств | C28: =C25 -> 0 | D28: =D25 -> 0 | E28: =E25 -> 0 | F28: =F25 -> 0 | G28: =G25 -> 0 | H28: =H25 -> 0 | L28: =L25 -> 0 | M28: =M25 -> 0 | N28: =N25 -> 0
B29: Свод по специальностям подготовки | C29: =C26 -> 0 | D29: =D26 -> 0 | E29: =E26 -> 0 | F29: =F26 -> 3 | G29: =G26 -> 0 | H29: =H26 -> 3 | L29: =L26 -> 3 | M29: =M26 -> 0 | N29: =N26 -> 3

Sheet АспОФО Мед Акад
A1: Медицинская академия имени С.И.Георгиевского
A3: Контингент очной формы обучения на 01.10.2017 г.(Аспирантура)
A5: Факультет/направление подготовки | B5: 1 | E5: 2 | H5: 3 | K5: 4 | N5: Всего: Аспирантов
B7: За счет бюджетных ассигнований | C7: На основе догов. о платных образов. услугах | D7: ВСЕГО | E7: За счет бюджетных ассигнований | F7: На основе догов. о платных образов. услугах | G7: ВСЕГО | H7: За счет бюджетных ассигнований | I7: На основе догов. о платных образов. услугах | J7: ВСЕГО | K7: За счет бюджетных ассигнований | L7: На основе догов. о платных образов. услугах | M7: ВСЕГО | N7: За счет бюджетных ассигнований | O7: На основе догов. о платных образов. услугах | P7: ВСЕГО
A8: Свод по направлениям подготовки
A9: 30.06.01 - Фундаментальная медицина | B9: 2 | C9: 0 | D9: 2 | E9: 5 | F9: 0 | G9: 5 | H9: 5 | I9: 0 | J9: 5 | K9: 0 | L9: 0 | M9: 0 | N9: 12 | O9: 0 | P9: 12
A10: 31.06.01 - Клиническая медицина | B10: 12 | C10: 0 | D10: 12 | E10: 10 | F10: 0 | G10: 10 | H10: 8 | I10: 0 | J10: 8 | K10: 0 | L10: 0 | M10: 0 | N10: 30 | O10: 0 | P10: 30
A11: 14.01.04" Внутренние болезни" | B11: 0 | C11: 0 | D11: 0 | E11: 0 | F11: 0 | G11: 0 | H11: 2 | I11: 0 | J11: 2 | K11: 0 | L11: 0 | M11: 0 | N11: 2 | O11: 0 | P11: 2
A12: Итого по направлениям подготовки: | B12: =SUM(B9:B11) -> 14 | C12: =SUM(C9:C11) -> 0 | D12: =SUM(D9:D11) -> 14 | E12: =SUM(E9:E11) -> 15 | F12: =SUM(F9:F11) -> 0 | G12: =SUM(G9:G11) -> 15 | H12: =SUM(H9:H11) -> 15 | I12: =SUM(I9:I11) -> 0 | ... P12: =SUM(P9:P11) -> 44
A13: В том числе:
A14: Граждане России
A15: 30.06.01 - Фундаментальная медицина | B15: 2 | C15: 0 | D15: 2 | E15: 5 | F15: 0 | G15: 5 | H15: 5 | I15: 0 | J15: 5 | K15: 0 | L15: 0 | M15: 0 | N15: 12 | O15: 0 | P15: 12
A16: 31.06.01 - Клиническая медицина | B16: 12 | C16: 0 | D16: 12 | E16: 10 | F16: 0 | G16: 10 | H16: 8 | I16: 0 | J16: 8 | K16: 0 | L16: 0 | M16: 0 | N16: 30 | O16: 0 | P16: 30
A17: 14.03.01 - "Анатомия человека" | B17: 0 | C17: 0 | D17: 0 | E17: 0 | F17: 0 | G17: 0 | H17: 2 | I17: 0 | J17: 2 | K17: 0 | L17: 0 | M17: 0 | N17: 2 | O17: 0 | P17: 2
A18: Итого по направлениям подготовки: | B18: =SUM(B15:B17) -> 14 | C18: =SUM(C15:C17) -> 0 | D18: =SUM(D15:D17) -> 14 | E18: =SUM(E15:E17) -> 15 | F18: =SUM(F15:F17) -> 0 | G18: =SUM(G15:G17) -> 15 | H18: =SUM(H15:H17) -> 15 | I18: =SUM(I15:I17) -> 0 | ... M18: =SUM(M15:M17) -> 0 | N18: =B18+E18+H18+K18 -> 44 | O18: =C18+F18+I18+L18 -> 0 | P18: =D18+G18+J18+M18 -> 44
A19: ИТОГО
A20: Граждане иностранных государств
A21: 14.01.04 - " Внутренние болезни" | B21: 0 | C21: 0 | D21: 0 | E21: 0 | F21: 0 | G21: =SUM(E21:F21) -> 0 | H21: 0 | I21: 0 | J21: 0 | K21: 0 | L21: 0 | M21: 0 | N21: =B21+E21+H21+K21 -> 0 | O21: 0 | P21: 0
A22: Итого граждане иностранных государств | B22: 0 | C22: 0 | D22: 0 | E22: =SUM(E21:E21) -> 0 | F22: =SUM(F21:F21) -> 0 | G22: =SUM(G21:G21) -> 0 | H22: =SUM(H21:H21) -> 0 | I22: 0 | J22: =SUM(J21:J21) -> 0 | K22: 0 | L22: 0 | M22: 0 | N22: =SUM(N21:N21) -> 0 | O22: 0 | P22: 0
A23: ИТОГО по подразделению граждане России | B23: =B18 -> 14 | C23: =C18 -> 0 | D23: =D18 -> 14 | E23: =E18 -> 15 | F23: =F18 -> 0 | G23: =G18 -> 15 | H23: =H18 -> 15 | I23: =I18 -> 0 | ... P23: =P18 -> 44
A24: ИТОГО по подразделению иностранные граждане | B24: 0 | C24: 0 | D24: 0 | E24: =E22 -> 0 | F24: =F22 -> 0 | G24: =G22 -> 0 | H24: =H22 -> 0 | I24: =I22 -> 0 | J24: =J22 -> 0 | K24: =K22 -> 0 | L24: 0 | M24: 0 | N24: =N22 -> 0 | O24: 0 | P24: =P22 -> 0
A25: Итого | B25: =B23+B24 -> 14 | C25: =C23+C24 -> 0 | D25: =D23+D24 -> 14 | E25: =E23+E24 -> 15 | F25: =F23+F24 -> 0 | G25: =G23+G24 -> 15 | H25: =H23+H24 -> 15 | I25: =I23+I24 -> 0 | ... P25: =P23+P24 -> 44

Sheet Асп ОФО ТА
A1: Таврическая академия (структурное подразделение) ФГАОУ ВО "Крымский федеральный университет имени В.И. Вернадского"
A3: Контингент очной формы обучения на 01.10.2017 г. (Аспиранты)
A5: Факультет/направление подготовки | B5: 1 год обучения | E5: 2 год обучения | H5: 3 год обучения | K5: 4 год обучения | N5: Всего аспиранты
B6: АСПИРАНТ | E6: АСПИРАНТ | H6: АСПИРАНТ | K6: АСПИРАНТ
B7: За счет бюджетных ассигнований | C7: На основе догов. о платных образов. услугах | D7: ВСЕГО | E7: За счет бюджетных ассигнований | F7: На основе догов. о платных образов. услугах | G7: ВСЕГО | H7: За счет бюджетных ассигнований | I7: На основе догов. о платных образов. услугах | J7: ВСЕГО | K7: За счет бюджетных ассигнований | L7: На основе догов. о платных образов. услугах | M7: ВСЕГО | N7: За счет бюджетных ассигнований | O7: На основе догов. о платных образов. услугах | P7: ВСЕГО
A8: Свод по направлениям подготовки
A9: 01.06.01. Математика и механика | B9: 1 | C9: 0 | D9: =B9+C9 -> 1 | E9: 2 | F9: 0 | G9: =E9+F9 -> 2 | H9: 0 | I9: 0 | J9: =H9+I9 -> 0 | K9: 2 | L9: 0 | M9: =K9+L9 -> 2 | N9: =B9+E9+H9+K9 -> 5 | O9: =C9+F9+I9+L9 -> 0 | P9: =D9+G9+J9+M9 -> 5
A10: 02.06.01. Компьютерные и информационные науки | B10: 0 | C10: 0 | D10: =B10+C10 -> 0 | E10: 1 | F10: 0 | G10: =E10+F10 -> 1 | H10: 1 | I10: 0 | J10: =H10+I10 -> 1 | K10: 0 | L10: 0 | M10: =K10+L10 -> 0 | N10: =B10+E10+H10+K10 -> 2 | O10: =C10+F10+I10+L10 -> 0 | P10: =D10+G10+J10+M10 -> 2
A11: 05.06.01. Науки о земле | B11: 6 | C11: 0 | D11: =B11+C11 -> 6 | E11: 4 | F11: 0 | G11: =E11+F11 -> 4 | H11: 3 | I11: 1 | J11: =H11+I11 -> 4 | K11: 0 | L11: 0 | M11: =K11+L11 -> 0 | N11: =B11+E11+H11+K11 -> 13 | O11: =C11+F11+I11+L11 -> 1 | P11: =D11+G11+J11+M11 -> 14
A12: 06.06.01. Биологический науки | B12: 2 | C12: 0 | D12: =B12+C12 -> 2 | E12: 5 | F12: 0 | G12: =E12+F12 -> 5 | H12: 1 | I12: 2 | J12: =H12+I12 -> 3 | K12: 3 | L12: 1 | M12: =K12+L12 -> 4 | N12: =B12+E12+H12+K12 -> 11 | O12: =C12+F12+I12+L12 -> 3 | P12: =D12+G12+J12+M12 -> 14
A13: 37.06.01. Психологические науки | B13: 0 | C13: 1 | D13: =B13+C13 -> 1 | E13: 4 | F13: 0 | G13: =E13+F13 -> 4 | H13: 3 | I13: 0 | J13: =H13+I13 -> 3 | K13: 0 | L13: 0 | M13: =K13+L13 -> 0 | N13: =B13+E13+H13+K13 -> 7 | O13: =C13+F13+I13+L13 -> 1 | P13: =D13+G13+J13+M13 -> 8
A14: 40.06.01. Юриспруденция | B14: 1 | C14: 1 | D14: =B14+C14 -> 2 | E14: 4 | F14: 0 | G14: =E14+F14 -> 4 | H14: 9 | I14: 1 | J14: =H14+I14 -> 10 | K14: 0 | L14: 0 | M14: =K14+L14 -> 0 | N14: =B14+E14+H14+K14 -> 14 | O14: =C14+F14+I14+L14 -> 2 | P14: =D14+G14+J14+M14 -> 16
A15: 41.06.01. Политические науки и регионоведение | B15: 0 | C15: 1 | D15: =B15+C15 -> 1 | E15: 4 | F15: 1 | G15: =E15+F15 -> 5 | H15: 4 | I15: 1 | J15: =H15+I15 -> 5 | K15: 0 | L15: 0 | M15: =K15+L15 -> 0 | N15: =B15+E15+H15+K15 -> 8 | O15: =C15+F15+I15+L15 -> 3 | P15: =D15+G15+J15+M15 -> 11
A16: 44.06.01. Образование и педагогические науки | B16: 2 | C16: 0 | D16: =B16+C16 -> 2 | E16: 1 | F16: 0 | G16: =E16+F16 -> 1 | H16: 2 | I16: 0 | J16: =H16+I16 -> 2 | K16: 0 | L16: 0 | M16: =K16+L16 -> 0 | N16: =B16+E16+H16+K16 -> 5 | O16: =C16+F16+I16+L16 -> 0 | P16: =D16+G16+J16+M16 -> 5
A17: 45.06.01. Языкознание и литературоведение | B17: 8 | C17: 1 | D17: =B17+C17 -> 9 | E17: 11 | F17: 0 | G17: =E17+F17 -> 11 | H17: 22 | I17: 1 | J17: =H17+I17 -> 23 | K17: 0 | L17: 0 | M17: =K17+L17 -> 0 | N17: =B17+E17+H17+K17 -> 41 | O17: =C17+F17+I17+L17 -> 2 | P17: =D17+G17+J17+M17 -> 43
A18: 46.06.01. История и археология | B18: 6 | C18: 0 | D18: =B18+C18 -> 6 | E18: 4 | F18: 0 | G18: =E18+F18 -> 4 | H18: 8 | I18: 0 | J18: =H18+I18 -> 8 | K18: 0 | L18: 0 | M18: =K18+L18 -> 0 | N18: =B18+E18+H18+K18 -> 18 | O18: =C18+F18+I18+L18 -> 0 | P18: =D18+G18+J18+M18 -> 18
A19: 47.06.01. Философия, этика и религиоведение | B19: 2 | C19: 0 | D19: =B19+C19 -> 2 | E19: 2 | F19: 0 | G19: =E19+F19 -> 2 | H19: 4 | I19: 0 | J19: =H19+I19 -> 4 | K19: 0 | L19: 0 | M19: =K19+L19 -> 0 | N19: =B19+E19+H19+K19 -> 8 | O19: =C19+F19+I19+L19 -> 0 | P19: =D19+G19+J19+M19 -> 8
A20: 51.06.01. Культурология | B20: 3 | C20: 0 | D20: =B20+C20 -> 3 | E20: 2 | F20: 0 | G20: =E20+F20 -> 2 | H20: 5 | I20: 1 | J20: =H20+I20 -> 6 | K20: 0 | L20: 0 | M20: =K20+L20 -> 0 | N20: =B20+E20+H20+K20 -> 10 | O20: =C20+F20+I20+L20 -> 1 | P20: =D20+G20+J20+M20 -> 11
A21: Итого по направлениям подготовки: | B21: =SUM(B9:B20) -> 31 | C21: =SUM(C9:C20) -> 4 | D21: =SUM(D9:D20) -> 35 | E21: =SUM(E9:E20) -> 44 | F21: =SUM(F9:F20) -> 1 | G21: =SUM(G9:G20) -> 45 | H21: =SUM(H9:H20) -> 62 | I21: =SUM(I9:I20) -> 7 | ... P21: =SUM(P9:P20) -> 155
A22: В том числе:
A23: Граждане России
A24: 01.06.01. Математика и механика | B24: 1 | C24: 0 | D24: =B24+C24 -> 1 | E24: 2 | F24: 0 | G24: =E24+F24 -> 2 | H24: 0 | I24: 0 | J24: =H24+I24 -> 0 | K24: 2 | L24: 0 | M24: =K24+L24 -> 2 | N24: =B24+E24+H24+K24 -> 5 | O24: =C24+F24+I24+L24 -> 0 | P24: =D24+G24+J24+M24 -> 5
A25: 02.06.01. Компьютерные и информационные науки | B25: 0 | C25: 0 | D25: =B25+C25 -> 0 | E25: 1 | F25: 0 | G25: =E25+F25 -> 1 | H25: 1 | I25: 0 | J25: =H25+I25 -> 1 | K25: 0 | L25: 0 | M25: =K25+L25 -> 0 | N25: =B25+E25+H25+K25 -> 2 | O25: =C25+F25+I25+L25 -> 0 | P25: =D25+G25+J25+M25 -> 2
A26: 05.06.01. Науки о земле | B26: 6 | C26: 0 | D26: =B26+C26 -> 6 | E26: 4 | F26: 0 | G26: =E26+F26 -> 4 | H26: 3 | I26: 0 | J26: =H26+I26 -> 3 | K26: 0 | L26: 0 | M26: =K26+L26 -> 0 | N26: =B26+E26+H26+K26 -> 13 | O26: =C26+F26+I26+L26 -> 0 | P26: =D26+G26+J26+M26 -> 13
A27: 06.06.01. Биологический науки | B27: 2 | C27: 0 | D27: =B27+C27 -> 2 | E27: 5 | F27: 0 | G27: =E27+F27 -> 5 | H27: 1 | I27: 0 | J27: =H27+I27 -> 1 | K27: 3 | L27: 0 | M27: =K27+L27 -> 3 | N27: =B27+E27+H27+K27 -> 11 | O27: =C27+F27+I27+L27 -> 0 | P27: =D27+G27+J27+M27 -> 11
A28: 37.06.01. Психологические науки | B28: 0 | C28: 1 | D28: =B28+C28 -> 1 | E28: 4 | F28: 0 | G28: =E28+F28 -> 4 | H28: 3 | I28: 0 | J28: =H28+I28 -> 3 | K28: 0 | L28: 0 | M28: =K28+L28 -> 0 | N28: =B28+E28+H28+K28 -> 7 | O28: =C28+F28+I28+L28 -> 1 | P28: =D28+G28+J28+M28 -> 8
A29: 40.06.01. Юриспруденция | B29: 1 | C29: 1 | D29: =B29+C29 -> 2 | E29: 4 | F29: 0 | G29: =E29+F29 -> 4 | H29: 9 | I29: 1 | J29: =H29+I29 -> 10 | K29: 0 | L29: 0 | M29: =K29+L29 -> 0 | N29: =B29+E29+H29+K29 -> 14 | O29: =C29+F29+I29+L29 -> 2 | P29: =D29+G29+J29+M29 -> 16
A30: 41.06.01. Политические науки и регионоведение | B30: 0 | C30: 1 | D30: =B30+C30 -> 1 | E30: 4 | F30: 0 | G30: =E30+F30 -> 4 | H30: 4 | I30: 1 | J30: =H30+I30 -> 5 | K30: 0 | L30: 0 | M30: =K30+L30 -> 0 | N30: =B30+E30+H30+K30 -> 8 | O30: =C30+F30+I30+L30 -> 2 | P30: =D30+G30+J30+M30 -> 10
A31: 44.06.01. Образование и педагогические науки | B31: 2 | C31: 0 | D31: =B31+C31 -> 2 | E31: 1 | F31: 0 | G31: =E31+F31 -> 1 | H31: 2 | I31: 0 | J31: =H31+I31 -> 2 | K31: 0 | L31: 0 | M31: =K31+L31 -> 0 | N31: =B31+E31+H31+K31 -> 5 | O31: =C31+F31+I31+L31 -> 0 | P31: =D31+G31+J31+M31 -> 5
A32: 45.06.01. Языкознание и литературоведение | B32: 8 | C32: 0 | D32: =B32+C32 -> 8 | E32: 10 | F32: 0 | G32: =E32+F32 -> 10 | H32: 22 | I32: 0 | J32: =H32+I32 -> 22 | K32: 0 | L32: 0 | M32: =K32+L32 -> 0 | N32: =B32+E32+H32+K32 -> 40 | O32: =C32+F32+I32+L32 -> 0 | P32: =D32+G32+J32+M32 -> 40
A33: 46.06.01. История и археология | B33: 6 | C33: 0 | D33: =B33+C33 -> 6 | E33: 4 | F33: 0 | G33: =E33+F33 -> 4 | H33: 8 | I33: 0 | J33: =H33+I33 -> 8 | K33: 0 | L33: 0 | M33: =K33+L33 -> 0 | N33: =B33+E33+H33+K33 -> 18 | O33: =C33+F33+I33+L33 -> 0 | P33: =D33+G33+J33+M33 -> 18
A34: 47.06.01. Философия, этика и религиоведение | B34: 2 | C34: 0 | D34: =B34+C34 -> 2 | E34: 2 | F34: 0 | G34: =E34+F34 -> 2 | H34: 3 | I34: 0 | J34: =H34+I34 -> 3 | K34: 0 | L34: 0 | M34: =K34+L34 -> 0 | N34: =B34+E34+H34+K34 -> 7 | O34: =C34+F34+I34+L34 -> 0 | P34: =D34+G34+J34+M34 -> 7
A35: 51.06.01. Культурология | B35: 3 | C35: 0 | D35: =B35+C35 -> 3 | E35: 2 | F35: 0 | G35: =E35+F35 -> 2 | H35: 5 | I35: 0 | J35: =H35+I35 -> 5 | K35: 0 | L35: 0 | M35: =K35+L35 -> 0 | N35: =B35+E35+H35+K35 -> 10 | O35: =C35+F35+I35+L35 -> 0 | P35: =D35+G35+J35+M35 -> 10
A36: Итого граждане России | B36: =SUM(B24:B35) -> 31 | C36: =SUM(C24:C35) -> 3 | D36: =SUM(D24:D35) -> 34 | E36: =SUM(E24:E35) -> 43 | F36: =SUM(F24:F35) -> 0 | G36: =SUM(G24:G35) -> 43 | H36: =SUM(H24:H35) -> 61 | I36: =SUM(I24:I35) -> 2 | ... P36: =SUM(P24:P35) -> 145
A37: Граждане иностранных государств (вкл. Украину)
A38: 01.06.01. Математика и механика | B38: 0 | C38: 0 | D38: =B38+C38 -> 0 | E38: 0 | F38: 0 | G38: =E38+F38 -> 0 | H38: 0 | I38: 0 | J38: =H38+I38 -> 0 | K38: 0 | L38: 0 | M38: =K38+L38 -> 0 | N38: =B38+E38+H38+K38 -> 0 | O38: =C38+F38+I38+L38 -> 0 | P38: =N38+O38 -> 0
A39: 02.06.01. Компьютерные и информационные науки | B39: 0 | C39: 0 | D39: =B39+C39 -> 0 | E39: 0 | F39: 0 | G39: =E39+F39 -> 0 | H39: 0 | I39: 0 | J39: =H39+I39 -> 0 | K39: 0 | L39: 0 | M39: =K39+L39 -> 0 | N39: =B39+E39+H39+K39 -> 0 | O39: =C39+F39+I39+L39 -> 0 | P39: =N39+O39 -> 0
A40: 05.06.01. Науки о земле | B40: 0 | C40: 0 | D40: =B40+C40 -> 0 | E40: 0 | F40: 0 | G40: =E40+F40 -> 0 | H40: 0 | I40: 1 | J40: =H40+I40 -> 1 | K40: 0 | L40: 0 | M40: =K40+L40 -> 0 | N40: =B40+E40+H40+K40 -> 0 | O40: =C40+F40+I40+L40 -> 1 | P40: =N40+O40 -> 1
A41: 06.06.01. Биологический науки | B41: 0 | C41: 0 | D41: =B41+C41 -> 0 | E41: 0 | F41: 0 | G41: =E41+F41 -> 0 | H41: 0 | I41: 2 | J41: =H41+I41 -> 2 | K41: 0 | L41: 1 | M41: =K41+L41 -> 1 | N41: =B41+E41+H41+K41 -> 0 | O41: =C41+F41+I41+L41 -> 3 | P41: =N41+O41 -> 3
A42: 37.06.01. Психологические науки | B42: 0 | C42: 0 | D42: =B42+C42 -> 0 | E42: 0 | F42: 0 | G42: =E42+F42 -> 0 | H42: 0 | I42: 0 | J42: =H42+I42 -> 0 | K42: 0 | L42: 0 | M42: =K42+L42 -> 0 | N42: =B42+E42+H42+K42 -> 0 | O42: =C42+F42+I42+L42 -> 0 | P42: =N42+O42 -> 0
...

Sheet Асп ТА ЗФО 
A1: Таврическая академия (структурное подразделение) ФГАОУ ВО "Крымский федеральный университет имени В.И. Вернадского"
A3: Контингент заочной формы обучения на 01.10.2017 г. (Аспиранты)
A5: Факультет/направление подготовки | B5: 1 год обучения | E5: 2 год обучения | H5: 3 год обучения | K5: 4 год обучения | N5: Всего аспиранты
B6: АСПИРАНТ | E6: АСПИРАНТ | H6: АСПИРАНТ | K6: АСПИРАНТ
B7: За счет бюджетных ассигнований | C7: На основе догов. о платных образов. услугах | D7: ВСЕГО | E7: За счет бюджетных ассигнований | F7: На основе догов. о платных образов. услугах | G7: ВСЕГО | H7: За счет бюджетных ассигнований | I7: На основе догов. о платных образов. услугах | J7: ВСЕГО | K7: За счет бюджетных ассигнований | L7: На основе догов. о платных образов. услугах | M7: ВСЕГО | N7: За счет бюджетных ассигнований | O7: На основе догов. о платных образов. услугах | P7: ВСЕГО
A8: Свод по направлениям подготовки
A9: 01.06.01. Математика и механика | B9: 0 | C9: 0 | D9: =B9+C9 -> 0 | E9: 0 | F9: 0 | G9: =E9+F9 -> 0 | H9: 0 | I9: 0 | J9: =H9+I9 -> 0 | K9: 0 | L9: 0 | M9: =K9+L9 -> 0 | N9: =B9+E9+H9+K9 -> 0 | O9: =C9+F9+I9+L9 -> 0 | P9: =D9+G9+J9+M9 -> 0
A10: 02.06.01. Компьютерные и информационные науки | B10: 0 | C10: 0 | D10: =B10+C10 -> 0 | E10: 0 | F10: 0 | G10: =E10+F10 -> 0 | H10: 0 | I10: 0 | J10: =H10+I10 -> 0 | K10: 0 | L10: 0 | M10: =K10+L10 -> 0 | N10: =B10+E10+H10+K10 -> 0 | O10: =C10+F10+I10+L10 -> 0 | P10: =D10+G10+J10+M10 -> 0
A11: 05.06.01. Науки о земле | B11: 0 | C11: 0 | D11: =B11+C11 -> 0 | E11: 0 | F11: 0 | G11: =E11+F11 -> 0 | H11: 0 | I11: 0 | J11: =H11+I11 -> 0 | K11: 0 | L11: 0 | M11: =K11+L11 -> 0 | N11: =B11+E11+H11+K11 -> 0 | O11: =C11+F11+I11+L11 -> 0 | P11: =D11+G11+J11+M11 -> 0
A12: 06.06.01. Биологический науки | B12: 0 | C12: 0 | D12: =B12+C12 -> 0 | E12: 0 | F12: 0 | G12: =E12+F12 -> 0 | H12: 0 | I12: 1 | J12: =H12+I12 -> 1 | K12: 0 | L12: 2 | M12: =K12+L12 -> 2 | N12: =B12+E12+H12+K12 -> 0 | O12: =C12+F12+I12+L12 -> 3 | P12: =D12+G12+J12+M12 -> 3
A13: 37.06.01. Психологические науки | B13: 0 | C13: 2 | D13: =B13+C13 -> 2 | E13: 1 | F13: 6 | G13: =E13+F13 -> 7 | H13: 0 | I13: 1 | J13: =H13+I13 -> 1 | K13: 1 | L13: 1 | M13: =K13+L13 -> 2 | N13: =B13+E13+H13+K13 -> 2 | O13: =C13+F13+I13+L13 -> 10 | P13: =D13+G13+J13+M13 -> 12
A14: 40.06.01. Юриспруденция | B14: 0 | C14: 4 | D14: =B14+C14 -> 4 | E14: 0 | F14: 9 | G14: =E14+F14 -> 9 | H14: 0 | I14: 7 | J14: =H14+I14 -> 7 | K14: 0 | L14: 4 | M14: =K14+L14 -> 4 | N14: =B14+E14+H14+K14 -> 0 | O14: =C14+F14+I14+L14 -> 24 | P14: =D14+G14+J14+M14 -> 24
A15: 41.06.01.Политические науки и регионоведение | B15: 0 | C15: 1 | D15: =B15+C15 -> 1 | E15: 0 | F15: 0 | G15: =E15+F15 -> 0 | H15: 0 | I15: 0 | J15: =H15+I15 -> 0 | K15: 1 | L15: 0 | M15: =K15+L15 -> 1 | N15: =B15+E15+H15+K15 -> 1 | O15: =C15+F15+I15+L15 -> 1 | P15: =D15+G15+J15+M15 -> 2
A16: 44.06.01. Образование и педагогические науки | B16: 0 | C16: 0 | D16: =B16+C16 -> 0 | E16: 1 | F16: 0 | G16: =E16+F16 -> 1 | H16: 0 | I16: 0 | J16: =H16+I16 -> 0 | K16: 0 | L16: 0 | M16: =K16+L16 -> 0 | N16: =B16+E16+H16+K16 -> 1 | O16: =C16+F16+I16+L16 -> 0 | P16: =D16+G16+J16+M16 -> 1
A17: 45.06.01. Языкознание и литературоведение | B17: 0 | C17: 1 | D17: =B17+C17 -> 1 | E17: 0 | F17: 1 | G17: =E17+F17 -> 1 | H17: 2 | I17: 1 | J17: =H17+I17 -> 3 | K17: 6 | L17: 1 | M17: =K17+L17 -> 7 | N17: =B17+E17+H17+K17 -> 8 | O17: =C17+F17+I17+L17 -> 4 | P17: =D17+G17+J17+M17 -> 12
A18: 46.06.01. История и археология | B18: 0 | C18: 0 | D18: =B18+C18 -> 0 | E18: 0 | F18: 0 | G18: =E18+F18 -> 0 | H18: 0 | I18: 0 | J18: =H18+I18 -> 0 | K18: 1 | L18: 0 | M18: =K18+L18 -> 1 | N18: =B18+E18+H18+K18 -> 1 | O18: =C18+F18+I18+L18 -> 0 | P18: =D18+G18+J18+M18 -> 1
A19: 47.06.01. Философия, этика и религиоведение | B19: 0 | C19: 0 | D19: =B19+C19 -> 0 | E19: 0 | F19: 0 | G19: =E19+F19 -> 0 | H19: 0 | I19: 0 | J19: =H19+I19 -> 0 | K19: 0 | L19: 0 | M19: =K19+L19 -> 0 | N19: =B19+E19+H19+K19 -> 0 | O19: =C19+F19+I19+L19 -> 0 | P19: =D19+G19+J19+M19 -> 0
A20: 51.06.01. Культуроведение и социокультурные проекты | B20: 0 | C20: 0 | D20: =B20+C20 -> 0 | E20: 0 | F20: 0 | G20: =E20+F20 -> 0 | H20: 0 | I20: 0 | J20: =H20+I20 -> 0 | K20: 0 | L20: 0 | M20: =K20+L20 -> 0 | N20: =B20+E20+H20+K20 -> 0 | O20: =C20+F20+I20+L20 -> 0 | P20: =D20+G20+J20+M20 -> 0
A21: Итого по направлениям подготовки: | B21: =SUM(B9:B20) -> 0 | C21: =SUM(C9:C20) -> 8 | D21: =SUM(D9:D20) -> 8 | E21: =SUM(E9:E20) -> 2 | F21: =SUM(F9:F20) -> 16 | G21: =SUM(G9:G20) -> 18 | H21: =SUM(H9:H20) -> 2 | I21: =SUM(I9:I20) -> 10 | ... P21: =SUM(P9:P20) -> 55
A22: В том числе:
A23: Граждане России
A24: 01.06.01. Математика и механика | B24: 0 | C24: 0 | D24: =B24+C24 -> 0 | E24: 0 | F24: 0 | G24: =E24+F24 -> 0 | H24: 0 | I24: 0 | J24: =H24+I24 -> 0 | K24: 0 | L24: 0 | M24: =K24+L24 -> 0 | N24: =B24+E24+H24+K24 -> 0 | O24: =C24+F24+I24+L24 -> 0 | P24: =D24+G24+J24+M24 -> 0
A25: 02.06.01. Компьютерные и информационные науки | B25: 0 | C25: 0 | D25: =B25+C25 -> 0 | E25: 0 | F25: 0 | G25: =E25+F25 -> 0 | H25: 0 | I25: 0 | J25: =H25+I25 -> 0 | K25: 0 | L25: 0 | M25: =K25+L25 -> 0 | N25: =B25+E25+H25+K25 -> 0 | O25: =C25+F25+I25+L25 -> 0 | P25: =D25+G25+J25+M25 -> 0
A26: 05.06.01. Науки о земле | B26: 0 | C26: 0 | D26: =B26+C26 -> 0 | E26: 0 | F26: 0 | G26: =E26+F26 -> 0 | H26: 0 | I26: 0 | J26: =H26+I26 -> 0 | K26: 0 | L26: 0 | M26: =K26+L26 -> 0 | N26: =B26+E26+H26+K26 -> 0 | O26: =C26+F26+I26+L26 -> 0 | P26: =D26+G26+J26+M26 -> 0
A27: 06.06.01. Биологический науки | B27: 0 | C27: 0 | D27: =B27+C27 -> 0 | E27: 0 | F27: 0 | G27: =E27+F27 -> 0 | H27: 0 | I27: 1 | J27: =H27+I27 -> 1 | K27: 0 | L27: 2 | M27: =K27+L27 -> 2 | N27: =B27+E27+H27+K27 -> 0 | O27: =C27+F27+I27+L27 -> 3 | P27: =D27+G27+J27+M27 -> 3
A28: 37.06.01. Психологические науки | B28: 0 | C28: 2 | D28: =B28+C28 -> 2 | E28: 1 | F28: 6 | G28: =E28+F28 -> 7 | H28: 0 | I28: 1 | J28: =H28+I28 -> 1 | K28: 1 | L28: 1 | M28: =K28+L28 -> 2 | N28: =B28+E28+H28+K28 -> 2 | O28: =C28+F28+I28+L28 -> 10 | P28: =D28+G28+J28+M28 -> 12
A29: 40.06.01. Юриспруденция | B29: 0 | C29: 4 | D29: =B29+C29 -> 4 | E29: 0 | F29: 9 | G29: =E29+F29 -> 9 | H29: 0 | I29: 7 | J29: =H29+I29 -> 7 | K29: 0 | L29: 4 | M29: =K29+L29 -> 4 | N29: =B29+E29+H29+K29 -> 0 | O29: =C29+F29+I29+L29 -> 24 | P29: =D29+G29+J29+M29 -> 24
A30: 41.06.01.Политические науки и регионоведение | B30: 0 | C30: 1 | D30: =B30+C30 -> 1 | E30: 0 | F30: 0 | G30: =E30+F30 -> 0 | H30: 0 | I30: 0 | J30: =H30+I30 -> 0 | K30: 1 | L30: 0 | M30: =K30+L30 -> 1 | N30: =B30+E30+H30+K30 -> 1 | O30: =C30+F30+I30+L30 -> 1 | P30: =D30+G30+J30+M30 -> 2
A31: 44.06.01. Образование и педагогические науки | B31: 0 | C31: 0 | D31: =B31+C31 -> 0 | E31: 1 | F31: 0 | G31: =E31+F31 -> 1 | H31: 0 | I31: 0 | J31: =H31+I31 -> 0 | K31: 0 | L31: 0 | M31: =K31+L31 -> 0 | N31: =B31+E31+H31+K31 -> 1 | O31: =C31+F31+I31+L31 -> 0 | P31: =D31+G31+J31+M31 -> 1
A32: 45.06.01. Языкознание и литературоведение | B32: 0 | C32: 0 | D32: =B32+C32 -> 0 | E32: 0 | F32: 1 | G32: =E32+F32 -> 1 | H32: 2 | I32: 1 | J32: =H32+I32 -> 3 | K32: 6 | L32: 1 | M32: =K32+L32 -> 7 | N32: =B32+E32+H32+K32 -> 8 | O32: =C32+F32+I32+L32 -> 3 | P32: =D32+G32+J32+M32 -> 11
A33: 46.06.01. История и археология | B33: 0 | C33: 0 | D33: =B33+C33 -> 0 | E33: 0 | F33: 0 | G33: =E33+F33 -> 0 | H33: 0 | I33: 0 | J33: =H33+I33 -> 0 | K33: 1 | L33: 0 | M33: =K33+L33 -> 1 | N33: =B33+E33+H33+K33 -> 1 | O33: =C33+F33+I33+L33 -> 0 | P33: =D33+G33+J33+M33 -> 1
A34: 47.06.01. Философия, этика и религиоведение | B34: 0 | C34: 0 | D34: =B34+C34 -> 0 | E34: 0 | F34: 0 | G34: =E34+F34 -> 0 | H34: 0 | I34: 0 | J34: =H34+I34 -> 0 | K34: 0 | L34: 0 | M34: =K34+L34 -> 0 | N34: =B34+E34+H34+K34 -> 0 | O34: =C34+F34+I34+L34 -> 0 | P34: =D34+G34+J34+M34 -> 0
A35: 51.06.01. Культуроведение и социокультурные проекты | B35: 0 | C35: 0 | D35: =B35+C35 -> 0 | E35: 0 | F35: 0 | G35: =E35+F35 -> 0 | H35: 0 | I35: 0 | J35: =H35+I35 -> 0 | K35: 0 | L35: 0 | M35: =K35+L35 -> 0 | N35: =B35+E35+H35+K35 -> 0 | O35: =C35+F35+I35+L35 -> 0 | P35: =D35+G35+J35+M35 -> 0
A36: Итого граждане России | B36: =SUM(B24:B35) -> 0 | C36: =SUM(C24:C35) -> 7 | D36: =SUM(D24:D35) -> 7 | E36: =SUM(E24:E35) -> 2 | F36: =SUM(F24:F35) -> 16 | G36: =SUM(G24:G35) -> 18 | H36: =SUM(H24:H35) -> 2 | I36: =SUM(I24:I35) -> 10 | ... P36: =SUM(P24:P35) -> 54
A37: Граждане иностранных государств (вкл. Украину)
A38: 01.06.01. Математика и механика | B38: 0 | C38: 0 | D38: =B38+C38 -> 0 | E38: 0 | F38: 0 | G38: =E38+F38 -> 0 | H38: 0 | I38: 0 | J38: =H38+I38 -> 0 | K38: 0 | L38: 0 | M38: =K38+L38 -> 0 | N38: =B38+E38+H38+K38 -> 0 | O38: =C38+F38+I38+L38 -> 0 | P38: =D38+G38+J38+M38 -> 0
