Workbook

Sheet Специал ОФО МедА 
A1: Медицинская академия имени С.И.Георгиевского
A3: Контингент очной формы обучения по состоянию на 01.09.2019 г .
B5: Факультет/направление подготовки | C5: 1 | F5: 2 | I5: 3 | L5: 4 | O5: 5 | R5: 6 | U5: Всего специалитет
C7: За счет бюджетных ассигнований | D7: На основе догов. о платных образов. услугах | E7: ВСЕГО | F7: За счет бюджетных ассигнований | G7: На основе догов. о платных образов. услугах | H7: ВСЕГО | I7: За счет бюджетных ассигнований | J7: На основе догов. о платных образов. услугах | K7: ВСЕГО | L7: За счет бюджетных ассигнований | M7: На основе догов. о платных образов. услугах | N7: ВСЕГО | O7: За счет бюджетных ассигнований | P7: На основе догов. о платных образов. услугах | Q7: ВСЕГО | R7: За счет бюджетных ассигнований | S7: На основе догов. о платных образов. услугах | T7: ВСЕГО | U7: За счет бюджетных ассигнований | V7: На основе догов. о платных образов. услугах | W7: ВСЕГО
B8: 31.05.01 Лечебное дело | C8: =C15+C21 -> 340 | D8: =D15+D21 -> 129 | E8: =C8+D8 -> 469 | F8: =F15+F21 -> 324 | G8: =G15+G21 -> 343 | H8: =F8+G8 -> 667 | I8: =I15+I21 -> 296 | J8: =J15+J21 -> 247 | K8: =I8+J8 -> 543 | L8: =L15+L21 -> 291 | M8: =M15+M21 -> 199 | N8: =L8+M8 -> 490 | O8: =O15+O21 -> 277 | P8: =P15+P21 -> 220 | Q8: =O8+P8 -> 497 | R8: =R15+R21 -> 273 | S8: =S15+S21 -> 216 | T8: =R8+S8 -> 489 | U8: =C8+F8+I8+L8+O8+R8 -> 1801 | V8: =D8+G8+J8+M8+P8+S8 -> 1354 | W8: =E8+H8+K8+N8+Q8+T8 -> 3155
B9: 31.05.02 Педиатрия | C9: =C16+C22 -> 101 | D9: =D16+D22 -> 55 | E9: =C9+D9 -> 156 | F9: =F16+F22 -> 99 | G9: =G16+G22 -> 56 | H9: =F9+G9 -> 155 | I9: =I16+I22 -> 80 | J9: =J16+J22 -> 14 | K9: =I9+J9 -> 94 | L9: =L16+L22 -> 70 | M9: =M16+M22 -> 10 | N9: =L9+M9 -> 80 | O9: =O16+O22 -> 67 | P9: =P16+P22 -> 12 | Q9: =O9+P9 -> 79 | R9: =R16+R22 -> 69 | S9: =S16+S22 -> 7 | T9: =R9+S9 -> 76 | U9: =C9+F9+I9+L9+O9+R9 -> 486 | V9: =D9+G9+J9+M9+P9+S9 -> 154 | W9: =E9+H9+K9+N9+Q9+T9 -> 640
B10: 31.05.03 Стоматология | C10: =C17+C23 -> 30 | D10: =D17+D23 -> 100 | E10: =C10+D10 -> 130 | F10: =F17+F23 -> 37 | G10: =G17+G23 -> 127 | H10: =F10+G10 -> 164 | I10: =I17+I23 -> 31 | J10: =J17+J23 -> 62 | K10: =I10+J10 -> 93 | L10: =L17+L23 -> 32 | M10: =M17+M23 -> 71 | N10: =L10+M10 -> 103 | O10: =O17+O23 -> 27 | P10: =P17+P23 -> 83 | Q10: =O10+P10 -> 110 | R10: =R17+R23 -> 0 | S10: =S17+S23 -> 0 | T10: =R10+S10 -> 0 | U10: =C10+F10+I10+L10+O10+R10 -> 157 | V10: =D10+G10+J10+M10+P10+S10 -> 443 | W10: =E10+H10+K10+N10+Q10+T10 -> 600
B11: 33.05.01 Фармация | C11: =C18+C24 -> 45 | D11: =D18+D24 -> 23 | E11: =C11+D11 -> 68 | F11: =F18+F24 -> 41 | G11: =G18+G24 -> 28 | H11: =F11+G11 -> 69 | I11: =I18+I24 -> 37 | J11: =J18+J24 -> 4 | K11: =I11+J11 -> 41 | L11: =L18+L24 -> 40 | M11: =M18+M24 -> 7 | N11: =L11+M11 -> 47 | O11: =O18+O24 -> 41 | P11: =P18+P24 -> 13 | Q11: =O11+P11 -> 54 | R11: =R18+R24 -> 0 | S11: =S18+S24 -> 0 | T11: =R11+S11 -> 0 | U11: =C11+F11+I11+L11+O11+R11 -> 204 | V11: =D11+G11+J11+M11+P11+S11 -> 75 | W11: =E11+H11+K11+N11+Q11+T11 -> 279
B12: Итого по направлениям подготовки | C12: =SUM(C8:C11) -> 516 | D12: =SUM(D8:D11) -> 307 | E12: =SUM(E8:E11) -> 823 | F12: =SUM(F8:F11) -> 501 | G12: =SUM(G8:G11) -> 554 | H12: =SUM(H8:H11) -> 1055 | I12: =SUM(I8:I11) -> 444 | J12: =SUM(J8:J11) -> 327 | ... W12: =SUM(W8:W11) -> 4674
B13: В том числе:
B14: Граждане России
B15: 31.05.01 Лечебное дело | C15: 325 | D15: 76 | E15: 402 | F15: 308 | G15: 102 | H15: 410 | I15: 277 | J15: 43 | K15: 320 | L15: 277 | M15: 28 | N15: 305 | O15: 249 | P15: 39 | Q15: 288 | R15: 264 | S15: 27 | T15: 291 | U15: =C15+F15+I15+L15+O15+R15 -> 1700 | V15: =D15+G15+J15+M15+P15+S15 -> 315 | W15: =U15+V15 -> 2015
B16: 31.05.02 Педиатрия | C16: 100 | D16: 52 | E16: 153 | F16: 99 | G16: 55 | H16: 154 | I16: 77 | J16: 13 | K16: 90 | L16: 69 | M16: 10 | N16: 79 | O16: 66 | P16: 12 | Q16: 78 | R16: 68 | S16: 6 | T16: 74 | U16: =C16+F16+I16+L16+O16+R16 -> 479 | V16: =D16+G16+J16+M16+P16+S16 -> 148 | W16: =U16+V16 -> 627
B17: 31.05.03 Стоматология | C17: 30 | D17: 87 | E17: 117 | F17: 30 | G17: 109 | H17: 139 | I17: 29 | J17: 48 | K17: 77 | L17: 30 | M17: 59 | N17: 89 | O17: 26 | P17: 57 | Q17: 83 | R17: 0 | S17: 0 | T17: 0 | U17: =C17+F17+I17+L17+O17+R17 -> 145 | V17: =D17+G17+J17+M17+P17+S17 -> 360 | W17: =U17+V17 -> 505
B18: 33.05.01 Фармация | C18: 43 | D18: 22 | E18: 65 | F18: 41 | G18: 27 | H18: 68 | I18: 36 | J18: 2 | K18: 38 | L18: 38 | M18: 7 | N18: 45 | O18: 41 | P18: 12 | Q18: 53 | R18: 0 | S18: 0 | T18: 0 | U18: =C18+F18+I18+L18+O18+R18 -> 199 | V18: =D18+G18+J18+M18+P18+S18 -> 70 | W18: =U18+V18 -> 269
B19: Итого граждане России | C19: =SUM(C15:C18) -> 498 | D19: =SUM(D15:D18) -> 237 | E19: =SUM(E15:E18) -> 737 | F19: =SUM(F15:F18) -> 478 | G19: =SUM(G15:G18) -> 293 | H19: =SUM(H15:H18) -> 771 | I19: =SUM(I15:I18) -> 419 | J19: =SUM(J15:J18) -> 106 | ... W19: =SUM(W15:W18) -> 3416
B20: Граждане иностранных государств (вкл. Украину)
B21: 31.05.01 Лечебное дело | C21: 15 | D21: 53 | E21: 68 | F21: 16 | G21: 241 | H21: 256 | I21: 19 | J21: 204 | K21: 223 | L21: 14 | M21: 171 | N21: 185 | O21: 28 | P21: 181 | Q21: 209 | R21: 9 | S21: 189 | T21: 198 | U21: =C21+F21+I21+L21+O21+R21 -> 101 | V21: =D21+G21+J21+M21+P21+S21 -> 1039 | W21: =U21+V21 -> 1140
B22: 31.05.02 Педиатрия | C22: 1 | D22: 3 | E22: 4 | F22: 0 | G22: 1 | H22: 1 | I22: 3 | J22: 1 | K22: 4 | L22: 1 | M22: 0 | N22: 1 | O22: 1 | P22: 0 | Q22: 1 | R22: 1 | S22: 1 | T22: 2 | U22: =C22+F22+I22+L22+O22+R22 -> 7 | V22: =D22+G22+J22+M22+P22+S22 -> 6 | W22: =U22+V22 -> 13
B23: 31.05.03 Стоматология | C23: 0 | D23: 13 | E23: 13 | F23: 7 | G23: 18 | H23: 25 | I23: 2 | J23: 14 | K23: 16 | L23: 2 | M23: 12 | N23: 14 | O23: 1 | P23: 26 | Q23: 27 | R23: 0 | S23: 0 | T23: 0 | U23: =C23+F23+I23+L23+O23+R23 -> 12 | V23: =D23+G23+J23+M23+P23+S23 -> 83 | W23: =U23+V23 -> 95
B24: 33.05.01 Фармация | C24: 2 | D24: 1 | E24: 3 | F24: 0 | G24: 1 | H24: 0 | I24: 1 | J24: 2 | K24: 3 | L24: 2 | M24: 0 | N24: 2 | O24: 0 | P24: 1 | Q24: 1 | R24: 0 | S24: 0 | T24: 0 | U24: =C24+F24+I24+L24+O24+R24 -> 5 | V24: =D24+G24+J24+M24+P24+S24 -> 5 | W24: =U24+V24 -> 10
B25: Итого граждане иностранных государств | C25: =SUM(C21:C24) -> 18 | D25: =SUM(D21:D24) -> 70 | E25: =SUM(E21:E24) -> 88 | F25: =SUM(F21:F24) -> 23 | G25: =SUM(G21:G24) -> 261 | H25: =SUM(H21:H24) -> 282 | I25: =SUM(I21:I24) -> 25 | J25: =SUM(J21:J24) -> 221 | ... W25: =SUM(W21:W24) -> 1258
B26: Всего: | C26: =C19+C25 -> 516 | D26: =D19+D25 -> 307 | E26: =E19+E25 -> 825 | F26: =F19+F25 -> 501 | G26: =G19+G25 -> 554 | H26: =H19+H25 -> 1053 | I26: =I19+I25 -> 444 | J26: =J19+J25 -> 327 | ... W26: =W19+W25 -> 4674

Sheet МАГ ЗФО МедА ГОСУПР
A2: Название подразделения Медицинская академия имени С.И. Георгиевского
A3: Контингент заочной формы обучения на 01.09.2019 г.(Магистры)
A5: Факультет/направление подготовки | B5: 1 год обучения | E5: 2 год обучения | H5: 3 год обучения | K5: Всего магистры
B6: МАГИСТР | E6: МАГИСТР | H6: МАГИСТР
B7: За счет бюджетных ассигнований | C7: На основе догов. о платных образов. услугах | D7: ВСЕГО | E7: За счет бюджетных ассигнований | F7: На основе догов. о платных образов. услугах | G7: ВСЕГО | H7: За счет бюджетных ассигнований | I7: На основе догов. о платных образов. услугах | J7: ВСЕГО | K7: За счет бюджетных ассигнований | L7: На основе догов. о платных образов. услугах | M7: ВСЕГО
A8: Свод по направлениям подготовки
A9: 38.04.04 Государственное и муниципальное управление | B9: =B13+B17 -> 0 | C9: 0 | D9: 0 | E9: =E13+E17 -> 0 | F9: 11 | G9: 11 | H9: 0 | I9: 27 | J9: 27 | K9: =B9+E9+H9 -> 0 | L9: =C9+F9+I9 -> 38 | M9: =D9+G9+J9 -> 38
A10: Итого по направлениям подготовки: | B10: =SUM(B8:B9) -> 0 | C10: =SUM(C8:C9) -> 0 | D10: =SUM(D8:D9) -> 0 | E10: =SUM(E8:E9) -> 0 | F10: =SUM(F8:F9) -> 11 | G10: =SUM(G8:G9) -> 11 | H10: =SUM(H8:H9) -> 0 | I10: =SUM(I8:I9) -> 27 | ... M10: =SUM(M8:M9) -> 38
A11: В том числе:
A12: Граждане России
A13: 38.04.04 Государственное и муниципальное управление | B13: 0 | C13: 0 | D13: 0 | E13: 0 | F13: 10 | G13: 10 | H13: 0 | I13: 27 | J13: 27 | K13: =B13+E13+H13 -> 0 | L13: =C13+F13+I13 -> 37 | M13: =D13+G13+J13 -> 37
A14: Итого граждане России | B14: =SUM(B13:B13) -> 0 | C14: =SUM(C13:C13) -> 0 | D14: =SUM(D13:D13) -> 0 | E14: =SUM(E13:E13) -> 0 | F14: =SUM(F13:F13) -> 10 | G14: =SUM(G13:G13) -> 10 | H14: =SUM(H13:H13) -> 0 | I14: =SUM(I13:I13) -> 27 | ... M14: =SUM(M13:M13) -> 37
A15: Граждане иностранных государств (вкл. Украину)
A16: 38.04.04 Государственное и муниципальное управление | B16: 0 | C16: 0 | D16: 0 | E16: 0 | F16: 1 | G16: 1 | H16: 0 | I16: 0 | J16: 0 | K16: =B16+E16+H16 -> 0 | L16: =C16+F16+I16 -> 1 | M16: =D16+G16+J16 -> 1
A17: Итого граждане иностранных государств | B17: =SUM(B16:B16) -> 0 | C17: =SUM(C16:C16) -> 0 | D17: =SUM(D16:D16) -> 0 | E17: =SUM(E16:E16) -> 0 | F17: =SUM(F16:F16) -> 1 | G17: =SUM(G16:G16) -> 1 | H17: =SUM(H16:H16) -> 0 | I17: =SUM(I16:I16) -> 0 | ... M17: =SUM(M16:M16) -> 1
A18: ИТОГО по подразделению граждане России | B18: =B14 -> 0 | C18: =C14 -> 0 | D18: =D14 -> 0 | E18: =E14 -> 0 | F18: =F14 -> 10 | G18: =G14 -> 10 | H18: =H14 -> 0 | I18: =I14 -> 27 | ... M18: =M14 -> 37
A19: ИТОГО по подразделению иностранные граждане | B19: =B17 -> 0 | C19: =C17 -> 0 | D19: =D17 -> 0 | E19: =E17 -> 0 | F19: =F17 -> 1 | G19: =G17 -> 1 | H19: =H17 -> 0 | I19: =I17 -> 0 | ... M19: =M17 -> 1
A20: Итого | B20: =SUM(B18:B19) -> 0 | C20: =SUM(C18:C19) -> 0 | D20: =SUM(D18:D19) -> 0 | E20: =SUM(E18:E19) -> 0 | F20: =SUM(F18:F19) -> 11 | G20: =SUM(G18:G19) -> 11 | H20: =SUM(H18:H19) -> 0 | I20: =SUM(I18:I19) -> 27 | ... M20: =SUM(M18:M19) -> 38

Sheet Бакалавр ОФО АСИА
A1: АКАДЕМИЯ СТРОИТЕЛЬСТВА ИАРХИТЕКТУРЫ
A3: Контингент очной формы обучения на 01.09.2019 г.(Бакалавры)
A5: Факультет/направление подготовки | B5: 1 | E5: 2 | H5: 3 | K5: 4 | N5: 5 | Q5: Всего бакалавры
B7: За счет бюджетных ассигнований | C7: На основе догов. о платных образов. услугах | D7: ВСЕГО | E7: За счет бюджетных ассигнований | F7: На основе догов. о платных образов. услугах | G7: ВСЕГО | H7: За счет бюджетных ассигнований | I7: На основе догов. о платных образов. услугах | J7: ВСЕГО | K7: За счет бюджетных ассигнований | L7: На основе догов. о платных образов. услугах | M7: ВСЕГО | N7: За счет бюджетных ассигнований | O7: На основе догов. о платных образов. услугах | P7: ВСЕГО | Q7: За счет бюджетных ассигнований | R7: На основе догов. о платных образов. услугах | S7: ВСЕГО
A8: Свод по направлениям подготовки
A9: 07.03.04 Градостроительство | B9: =B22+B16 -> 59 | C9: =C22+C16 -> 22 | D9: =D22+D16 -> 81 | E9: =E22+E16 -> 60 | F9: =F22+F16 -> 14 | G9: =G22+G16 -> 74 | H9: =H22+H16 -> 56 | I9: =I22+I16 -> 18 | ... M9: =M22+M16 -> 65 | N9: =SUM(N16+N22) -> 66 | O9: =SUM(O16+O22) -> 18 | P9: =SUM(P16+P22) -> 84 | Q9: =B9+E9+H9+K9+N9 -> 289 | R9: =C9+F9+I9+L9+O9 -> 89 | S9: =SUM(Q9:R9) -> 378
A10: 08.03.01Строительство | B10: =B23+B17 -> 160 | C10: =C23+C17 -> 3 | D10: =D23+D17 -> 163 | E10: =E23+E17 -> 164 | F10: =F23+F17 -> 2 | G10: =G23+G17 -> 166 | H10: =H23+H17 -> 162 | I10: =I23+I17 -> 4 | ... M10: =M23+M17 -> 142 | N10: 0 | O10: 0 | P10: 0 | Q10: =B10+E10+H10+K10 -> 622 | R10: =C10+F10+I10+L10 -> 15 | S10: =SUM(Q10:R10) -> 637
A11: 15.03.04 Автоматизация технологических процессов и производста | B11: =SUM(B18+B24) -> 11 | C11: =SUM(C18) -> 0 | D11: =SUM(D18) -> 11 | E11: 0 | F11: 0 | G11: 0 | H11: 0 | I11: 0 | J11: 0 | K11: 0 | L11: 0 | M11: 0 | N11: 0 | O11: 0 | P11: 0 | Q11: =B11+E11+H11+K11 -> 11 | R11: =C11+F11+I11+L11 -> 0 | S11: =SUM(Q11:R11) -> 11
A12: 20.03.02 Природообустройство и водопользование | B12: =B19+B25 -> 6 | C12: =C25+C18 -> 0 | D12: =D25+D19 -> 6 | E12: =E25+E19 -> 23 | F12: =F25+F19 -> 0 | G12: =G25+G19 -> 23 | H12: =H25+H19 -> 17 | I12: =I25+I19 -> 0 | J12: =J25+J19 -> 17 | K12: =K25+K19 -> 20 | ... M12: =M25+M19 -> 20 | N12: 0 | O12: 0 | P12: 0 | Q12: =B12+E12+H12+K12 -> 66 | R12: =C12+F12+I12+L12 -> 0 | S12: =SUM(Q12:R12) -> 66
A13: Итого по направлениям подготовки: | B13: =SUM(B9:B12) -> 236 | C13: =SUM(C9:C12) -> 25 | D13: =SUM(D9:D12) -> 261 | E13: =SUM(E9:E12) -> 247 | F13: =SUM(F9:F12) -> 16 | G13: =SUM(G9:G12) -> 263 | H13: =SUM(H9:H12) -> 235 | I13: =SUM(I9:I12) -> 22 | ... M13: =SUM(M9:M12) -> 227 | N13: =SUM(N9) -> 66 | O13: =SUM(O9) -> 18 | P13: =SUM(P9) -> 84 | Q13: =SUM(Q9:Q12) -> 988 | R13: =SUM(R9:R12) -> 104 | S13: =SUM(S9:S12) -> 1092
A14: В том числе:
A15: Граждане России
A16: 07.03.04 Градостроительство | B16: 57 | C16: 21 | D16: =SUM(B16:C16) -> 78 | E16: 59 | F16: 14 | G16: =SUM(E16:F16) -> 73 | H16: 54 | I16: 15 | J16: =SUM(H16:I16) -> 69 | K16: 47 | L16: 13 | M16: =SUM(K16:L16) -> 60 | N16: 61 | O16: 18 | P16: =SUM(N16:O16) -> 79 | Q16: =B16+E16+H16+K16+N16 -> 278 | R16: =C16+F16+I16+L16+O16 -> 81 | S16: =SUM(Q16:R16) -> 359
A17: 08.03.01Строительство | B17: 157 | D17: =SUM(B17:C17) -> 157 | E17: 161 | F17: 1 | G17: =SUM(E17:F17) -> 162 | H17: 160 | I17: 1 | J17: =SUM(H17:I17) -> 161 | K17: 136 | L17: 6 | M17: =SUM(K17:L17) -> 142 | P17: 0 | Q17: =B17+E17+H17+K17 -> 614 | R17: =C17+F17+I17+L17 -> 8 | S17: =SUM(Q17:R17) -> 622
A18: 15.03.04 Автоматизация технологических процессов и производста | B18: 11 | C18: 0 | D18: =SUM(B18:C18) -> 11 | E18: 0 | F18: 0 | G18: =SUM(E18:F18) -> 0 | H18: 0 | I18: 0 | J18: =SUM(H18:I18) -> 0 | K18: 0 | L18: 0 | M18: =SUM(K18:L18) -> 0 | N18: 0 | O18: 0 | P18: 0 | Q18: =B18+E18+H18+K18 -> 11 | R18: =C18+F18+I18+L18 -> 0 | S18: =SUM(Q18:R18) -> 11
A19: 20.03.02 Природообустройство и водопользование | B19: 6 | C19: 0 | D19: =SUM(B19:C19) -> 6 | E19: 23 | F19: 0 | G19: =SUM(E19:F19) -> 23 | H19: 16 | I19: 0 | J19: =SUM(H19:I19) -> 16 | K19: 20 | L19: 0 | M19: =SUM(K19:L19) -> 20 | N19: 0 | O19: 0 | P19: 0 | Q19: =B19+E19+H19+K19 -> 65 | R19: =C19+F19+I19+L19 -> 0 | S19: =SUM(Q19:R19) -> 65
A20: Итого граждане России | B20: =SUM(B16:B19) -> 231 | C20: =SUM(C16:C19) -> 21 | D20: =SUM(D16:D19) -> 252 | E20: =SUM(E16:E19) -> 243 | F20: =SUM(F16:F19) -> 15 | G20: =SUM(G16:G19) -> 258 | H20: =SUM(H16:H19) -> 230 | I20: =SUM(I16:I19) -> 16 | ... O20: =SUM(O16:O19) -> 18 | P20: =SUM(N20:O20) -> 79 | Q20: =B20+E20+H20+K20+N20 -> 968 | R20: =C20+F20+I20+L20+O20 -> 89 | S20: =SUM(Q20:R20) -> 1057
A21: Граждане иностранных государств (вкл. Украину)
A22: 07.03.04 Градостроительство | B22: 2 | C22: 1 | D22: =SUM(B22:C22) -> 3 | E22: 1 | F22: 0 | G22: =SUM(E22:F22) -> 1 | H22: 2 | I22: 3 | J22: =SUM(H22:I22) -> 5 | K22: 1 | L22: 4 | M22: =SUM(K22:L22) -> 5 | N22: 5 | O22: 0 | P22: =SUM(N22:O22) -> 5 | Q22: =B22+E22+H22+K22+N22 -> 11 | R22: =C22+F22+I22+L22+O22 -> 8 | S22: =SUM(Q22:R22) -> 19
A23: 08.03.01Строительство | B23: 3 | C23: 3 | D23: =SUM(B23:C23) -> 6 | E23: 3 | F23: 1 | G23: =SUM(E23:F23) -> 4 | H23: 2 | I23: 3 | J23: =SUM(H23:I23) -> 5 | M23: =SUM(K23:L23) -> 0 | P23: 0 | Q23: =B23+E23+H23+K23 -> 8 | R23: =C23+F23+I23+L23 -> 7 | S23: =SUM(Q23:R23) -> 15
A24: 15.03.04 Автоматизация технологических процессов и производста | B24: 0 | C24: 0 | D24: =SUM(B24:C24) -> 0 | E24: 0 | F24: 0 | G24: =SUM(E24:F24) -> 0 | H24: 0 | I24: 0 | J24: =SUM(H24:I24) -> 0 | K24: 0 | L24: 0 | M24: =SUM(K24:L24) -> 0 | N24: 0 | O24: 0 | P24: 0 | Q24: =B24+E24+H24+K24 -> 0 | R24: =C24+F24+I24+L24 -> 0 | S24: =SUM(Q24:R24) -> 0
A25: 20.03.02 Природообустройство и водопользование | B25: 0 | C25: 0 | D25: =SUM(B25:C25) -> 0 | E25: 0 | F25: 0 | G25: =SUM(E25:F25) -> 0 | H25: 1 | I25: 0 | J25: =SUM(H25:I25) -> 1 | K25: 0 | L25: 0 | M25: =SUM(K25:L25) -> 0 | N25: 0 | O25: 0 | P25: 0 | Q25: =B25+E25+H25+K25 -> 1 | R25: =C25+F25+I25+L25 -> 0 | S25: =SUM(Q25:R25) -> 1
A26: Итого граждане иностранных государств | B26: =SUM(B22:B25) -> 5 | C26: =SUM(C22:C25) -> 4 | D26: =SUM(D22:D25) -> 9 | E26: =SUM(E22:E25) -> 4 | F26: =SUM(F22:F25) -> 1 | G26: =SUM(G22:G25) -> 5 | H26: =SUM(H22:H25) -> 5 | I26: =SUM(I22:I25) -> 6 | ... O26: =SUM(O22:O25) -> 0 | P26: =SUM(N26:O26) -> 5 | Q26: =SUM(Q21:Q25) -> 20 | R26: =SUM(R21:R25) -> 15 | S26: =SUM(S21:S25) -> 35
A27: ИТОГО по подразделению граждане России | B27: =B20 -> 231 | C27: =C20 -> 21 | D27: =D20 -> 252 | E27: =E20 -> 243 | F27: =F20 -> 15 | G27: =G20 -> 258 | H27: =H20 -> 230 | I27: =I20 -> 16 | ... M27: =M20 -> 222 | N27: =SUM(N20) -> 61 | O27: =SUM(O20) -> 18 | P27: =SUM(N27:O27) -> 79 | Q27: =Q20 -> 968 | R27: =R20 -> 89 | S27: =Q27+R27 -> 1057
A28: ИТОГО по подразделению иностранные граждане | B28: =B26 -> 5 | C28: =C26 -> 4 | D28: =D26 -> 9 | E28: =E26 -> 4 | F28: =F26 -> 1 | G28: =G26 -> 5 | H28: =H26 -> 5 | I28: =I26 -> 6 | ... M28: =M26 -> 5 | N28: =SUM(N26) -> 5 | O28: =SUM(O26) -> 0 | P28: =SUM(N28:O28) -> 5 | Q28: =Q26 -> 20 | R28: =R26 -> 15 | S28: =S26 -> 35
A29: Итого | B29: =SUM(B27:B28) -> 236 | C29: =SUM(C27:C28) -> 25 | D29: =SUM(D27:D28) -> 261 | E29: =SUM(E27:E28) -> 247 | F29: =SUM(F27:F28) -> 16 | G29: =SUM(G27:G28) -> 263 | H29: =SUM(H27:H28) -> 235 | I29: =SUM(I27:I28) -> 22 | ... S29: =SUM(S27:S28) -> 1092

Sheet Бакалавр ЗФО АСИА
A2: АКАДЕМИЯ СТРОИТЕЛЬСТВА И АРХИТЕКТУРЫ
A3: Контингент заочная форма обучения 01.09.2019 г.(Бакалавры)
B5: Факультет/направление подготовки | C5: 1 | F5: 2 | I5: 3 | L5: 4 | O5: 5 | R5: Всего бакалавры
C7: За счет бюджетных ассигнований | D7: На основе догов. о платных образов. услугах | E7: ВСЕГО | F7: За счет бюджетных ассигнований | G7: На основе догов. о платных образов. услугах | H7: ВСЕГО | I7: За счет бюджетных ассигнований | J7: На основе догов. о платных образов. услугах | K7: ВСЕГО | L7: За счет бюджетных ассигнований | M7: На основе догов. о платных образов. услугах | N7: ВСЕГО | O7: За счет бюджетных ассигнований | P7: На основе догов. о платных образов. услугах | Q7: ВСЕГО | R7: За счет бюджетных ассигнований | S7: На основе догов. о платных образов. услугах | T7: ВСЕГО
B8: Свод по направлениям подготовки
B9: 08.03.01 Строительство | C9: =C23+C16 -> 0 | D9: =D23+D16 -> 49 | E9: =E23+E16 -> 49 | F9: =F23+F16 -> 0 | G9: =G23+G16 -> 47 | H9: =H23+H16 -> 47 | I9: =I23+I16 -> 0 | J9: =J23+J16 -> 60 | ... T9: =T23+T16 -> 338
B10: 13.03.02 Электроэнергетика и электротехника | C10: =C24+C17 -> 0 | D10: =D24+D17 -> 0 | E10: =E24+E17 -> 0 | F10: =F24+F17 -> 0 | G10: =G24+G17 -> 0 | H10: =H24+H17 -> 0 | I10: =I24+I17 -> 0 | J10: =J24+J17 -> 0 | ... T10: =T24+T17 -> 0
B11: 20.03.02 Природообустройство и водопользование | C11: =C25+C18 -> 0 | D11: =D25+D18 -> 0 | E11: =E25+E18 -> 0 | F11: =F25+F18 -> 0 | G11: =G25+G18 -> 2 | H11: =H25+H18 -> 2 | I11: =I25+I18 -> 0 | J11: =J25+J18 -> 0 | ... T11: =T25+T18 -> 5
C12: =C27+C19 -> 0 | D12: =D27+D19 -> 0 | E12: =E27+E19 -> 0 | F12: =F27+F19 -> 0 | G12: =G27+G19 -> 0 | H12: =H27+H19 -> 0 | I12: =I27+I19 -> 0 | J12: =J27+J19 -> 0 | ... Q12: =Q27+Q19 -> 0 | R12: =C12+F12+I12+L12+O12 -> 0 | S12: =D12+G12+J12+M12+P12 -> 0 | T12: =SUM(R12:S12) -> 0
B13: Итого по направлениям подготовки | C13: =SUM(C9:C12) -> 0 | D13: =SUM(D9:D12) -> 49 | E13: =SUM(E9:E12) -> 49 | F13: =SUM(F9:F12) -> 0 | G13: =SUM(G9:G12) -> 49 | H13: =SUM(H9:H12) -> 49 | I13: =SUM(I9+I11) -> 0 | J13: =SUM(J9:J12) -> 60 | K13: =SUM(K9:K12) -> 60 | L13: =SUM(L9:L12) -> 2 | M13: =SUM(M9:M12) -> 80 | N13: =SUM(N9:N12) -> 82 | O13: =SUM(O9:O12) -> 0 | P13: =SUM(P9:P12) -> 103 | Q13: =SUM(Q9:Q12) -> 103 | ... T13: =SUM(T9:T12) -> 343
B14: В том числе:
B15: Граждане России
B16: 08.03.01 Строительство | C16: 0 | D16: 48 | E16: =SUM(C16:D16) -> 48 | F16: 0 | G16: 45 | H16: =SUM(F16:G16) -> 45 | I16: 0 | J16: 59 | K16: =SUM(I16:J16) -> 59 | L16: 1 | M16: 78 | N16: =SUM(L16:M16) -> 79 | O16: 0 | P16: 99 | Q16: =SUM(O16:P16) -> 99 | R16: =C16+F16+I16+L16+O16 -> 1 | S16: =D16+G16+J16+M16+P16 -> 329 | T16: =SUM(R16:S16) -> 330
B17: 13.03.02 Электроэнергетика и электротехника | E17: =SUM(C17:D17) -> 0 | H17: =SUM(F17:G17) -> 0 | K17: =SUM(I17:J17) -> 0 | N17: =SUM(L17:M17) -> 0 | Q17: =SUM(O17:P17) -> 0 | R17: =C17+F17+I17+L17+O17 -> 0 | S17: =D17+G17+J17+M17+P17 -> 0 | T17: =SUM(R17:S17) -> 0
B18: 20.03.02 Природообустройство и водопользование | C18: 0 | D18: 0 | E18: =SUM(C18:D18) -> 0 | F18: 0 | G18: 2 | H18: =SUM(F18:G18) -> 2 | I18: 0 | J18: 0 | K18: =SUM(I18:J18) -> 0 | L18: 1 | M18: 2 | N18: =SUM(L18:M18) -> 3 | O18: 0 | P18: 0 | Q18: =SUM(O18:P18) -> 0 | R18: =C18+F18+I18+L18+O18 -> 1 | S18: =D18+G18+J18+M18+P18 -> 4 | T18: =SUM(R18:S18) -> 5
C19: 0 | D19: 0 | E19: =SUM(C19:D19) -> 0 | F19: 0 | G19: 0 | H19: =SUM(F19:G19) -> 0 | I19: 0 | J19: 0 | K19: =SUM(I19:J19) -> 0 | L19: 0 | M19: 0 | N19: =SUM(L19:M19) -> 0 | O19: 0 | P19: 0 | Q19: =SUM(O19:P19) -> 0 | R19: =C19+F19+I19+L19+O19 -> 0 | S19: =D19+G19+J19+M19+P19 -> 0 | T19: =SUM(R19:S19) -> 0
C20: 0 | D20: 0 | E20: =SUM(C20:D20) -> 0 | F20: 0 | G20: 0 | H20: =SUM(F20:G20) -> 0 | I20: 0 | J20: 0 | K20: =SUM(I20:J20) -> 0 | L20: 0 | M20: 0 | N20: =SUM(L20:M20) -> 0 | O20: 0 | P20: 0 | Q20: =SUM(O20:P20) -> 0 | R20: =C20+F20+I20+L20+O20 -> 0 | S20: =D20+G20+J20+M20+P20 -> 0 | T20: =SUM(R20:S20) -> 0
B21: Итого граждане России | C21: =SUM(C16:C20) -> 0 | D21: =SUM(D16:D20) -> 48 | E21: =SUM(E16:E20) -> 48 | F21: =SUM(F16:F20) -> 0 | G21: =SUM(G16:G20) -> 47 | H21: =SUM(H16:H20) -> 47 | I21: =SUM(I16:I20) -> 0 | J21: =SUM(J16:J20) -> 59 | ... T21: =SUM(T16:T20) -> 335
B22: Граждане иностранных государств (вкл. Украину)
B23: 08.03.01 Строительство | C23: 0 | D23: 1 | E23: =SUM(C23:D23) -> 1 | F23: 0 | G23: 2 | H23: =SUM(F23:G23) -> 2 | I23: 0 | J23: 1 | K23: =SUM(I23:J23) -> 1 | L23: 0 | N23: =SUM(L23:M23) -> 0 | O23: 0 | P23: 4 | Q23: =SUM(O23:P23) -> 4 | R23: =C23+F23+I23+L23+O23 -> 0 | S23: =D23+G23+J23+M23+P23 -> 8 | T23: =SUM(R23:S23) -> 8
B24: 13.03.02 Электроэнергетика и электротехника | C24: 0 | D24: 0 | E24: =SUM(C24:D24) -> 0 | F24: 0 | G24: 0 | H24: =SUM(F24:G24) -> 0 | I24: 0 | J24: 0 | K24: =SUM(I24:J24) -> 0 | L24: 0 | M24: 0 | N24: =SUM(L24:M24) -> 0 | O24: 0 | P24: 0 | Q24: =SUM(O24:P24) -> 0 | R24: =C24+F24+I24+L24+O24 -> 0 | S24: =D24+G24+J24+M24+P24 -> 0 | T24: =SUM(R24:S24) -> 0
B25: 20.03.02 Природообустройство и водопользование | C25: 0 | D25: 0 | E25: =SUM(C25:D25) -> 0 | F25: 0 | G25: 0 | H25: =SUM(F25:G25) -> 0 | I25: 0 | J25: 0 | K25: =SUM(I25:J25) -> 0 | L25: 0 | M25: 0 | N25: =SUM(L25:M25) -> 0 | O25: 0 | P25: 0 | Q25: =SUM(O25:P25) -> 0 | R25: =C25+F25+I25+L25+O25 -> 0 | S25: =D25+G25+J25+M25+P25 -> 0 | T25: =SUM(R25:S25) -> 0
C26: 0 | D26: 0 | E26: =SUM(C26:D26) -> 0 | F26: 0 | G26: 0 | H26: =SUM(F26:G26) -> 0 | I26: 0 | J26: 0 | K26: =SUM(I26:J26) -> 0 | L26: 0 | M26: 0 | N26: =SUM(L26:M26) -> 0 | O26: 0 | P26: 0 | Q26: =SUM(O26:P26) -> 0 | R26: =C26+F26+I26+L26+O26 -> 0 | S26: =D26+G26+J26+M26+P26 -> 0 | T26: =SUM(R26:S26) -> 0
C27: 0 | D27: 0 | E27: =SUM(C27:D27) -> 0 | F27: 0 | G27: 0 | H27: =SUM(F27:G27) -> 0 | I27: 0 | J27: 0 | K27: =SUM(I27:J27) -> 0 | L27: 0 | M27: 0 | N27: =SUM(L27:M27) -> 0 | O27: 0 | P27: 0 | Q27: =SUM(O27:P27) -> 0 | R27: =C27+F27+I27+L27+O27 -> 0 | S27: =D27+G27+J27+M27+P27 -> 0 | T27: =SUM(R27:S27) -> 0
B28: Итого граждане иностранных государств | C28: =SUM(C23:C27) -> 0 | D28: =SUM(D23:D27) -> 1 | E28: =SUM(E23:E27) -> 1 | F28: =SUM(F23:F27) -> 0 | G28: =SUM(G23:G27) -> 2 | H28: =SUM(H23:H27) -> 2 | I28: =SUM(I23:I27) -> 0 | J28: =SUM(J23:J27) -> 1 | ... T28: =SUM(T23:T27) -> 8
B29: ИТОГО по подразделению граждане России | C29: =C21 -> 0 | D29: =D21 -> 48 | E29: =E21 -> 48 | F29: =F21 -> 0 | G29: =G21 -> 47 | H29: =H21 -> 47 | I29: =I21 -> 0 | J29: =J21 -> 59 | ... T29: =T21 -> 335
B30: ИТОГО по подразделению граждане иностранных государств | C30: =C28 -> 0 | D30: =D28 -> 1 | E30: =E28 -> 1 | F30: =F28 -> 0 | G30: =G28 -> 2 | H30: =H28 -> 2 | I30: =I28 -> 0 | J30: =J28 -> 1 | ... T30: =T28 -> 8
B31: Свод по направлениям подготовки | C31: =SUM(C29:C30) -> 0 | D31: =SUM(D29:D30) -> 49 | E31: =SUM(E29:E30) -> 49 | F31: =SUM(F29:F30) -> 0 | G31: =SUM(G29:G30) -> 49 | H31: =SUM(H29:H30) -> 49 | I31: =SUM(I29:I30) -> 0 | J31: =SUM(J29:J30) -> 60 | ... T31: =SUM(T29:T30) -> 343

Sheet МАГ ОФО АСИА
A2: АКАДЕМИЯ СТРОИТЕЛЬСТВА И АРХИТЕКТУРЫ
A3: Контингент очной формы обучения на 01.09.2019 г.(Магистры)
A5: Факультет/направление подготовки | B5: 1 год обучения | E5: 2 год обучения | H5: Всего магистры
B6: МАГИСТР | E6: МАГИСТР
B7: За счет бюджетных ассигнований | C7: На основе догов. о платных образов. услугах | D7: ВСЕГО | E7: За счет бюджетных ассигнований | F7: На основе догов. о платных образов. услугах | G7: ВСЕГО | H7: За счет бюджетных ассигнований | I7: На основе догов. о платных образов. услугах | J7: ВСЕГО
A8: Свод по направлениям подготовки
A9: 07.04.04 Градостроительство | B9: =B16+B23 -> 25 | C9: =C23+C16 -> 6 | D9: =D23+D16 -> 31 | E9: =E23+E16 -> 30 | F9: =F24+F16 -> 1 | G9: =G23+G16 -> 31 | H9: =B9+E9 -> 55 | I9: =C9+F9 -> 7 | J9: =D9+G9 -> 62
A10: 08.04.01 Строительство | B10: =B24+B17 -> 68 | C10: =C24+C17 -> 13 | D10: =D24+D17 -> 81 | E10: =E24+E17 -> 70 | F10: =F25+F17 -> 7 | G10: =G24+G17 -> 77 | H10: =B10+E10 -> 138 | I10: =C10+F10 -> 20 | J10: =D10+G10 -> 158
A11: 13.04.02 Электроэнергетика и электротехника | B11: =B26+B18 -> 0 | C11: =C26+C18 -> 0 | D11: =D26+D18 -> 0 | E11: =E26+E18 -> 0 | F11: =F26+F18 -> 0 | G11: =G26+G18 -> 0 | H11: =B11+E11 -> 0 | I11: =C11+F11 -> 0 | J11: =D11+G11 -> 0
A12: 20.04.02 Природообустройство и водопользование | B12: =B26+B19 -> 6 | C12: =C26+C18 -> 0 | D12: =D26+D19 -> 6 | E12: =E27+E19 -> 3 | F12: =F27+F19 -> 0 | G12: =G27+G19 -> 3 | H12: =B12+E12 -> 9 | I12: =C12+F12 -> 0 | J12: =D12+G12 -> 9
A13: Итого по направлениям подготовки: | B13: =SUM(B8:B12) -> 99 | C13: =SUM(C8:C12) -> 19 | D13: =SUM(D8:D12) -> 118 | E13: =SUM(E8:E12) -> 103 | F13: =SUM(F8:F12) -> 8 | G13: =SUM(G8:G12) -> 111 | H13: =SUM(H9:H12) -> 202 | I13: =SUM(I9:I12) -> 27 | J13: =SUM(J9:J12) -> 229
A14: В том числе:
A15: Граждане России
A16: 07.04.04 Градостроительство | B16: 25 | C16: 6 | D16: =SUM(B16:C16) -> 31 | E16: 30 | F16: 1 | G16: =SUM(E16:F16) -> 31 | H16: =B16+E16 -> 55 | I16: =C16+F16 -> 7 | J16: =D16+G16 -> 62
A17: 08.04.01 Строительство | B17: 66 | C17: 12 | D17: =SUM(B17:C17) -> 78 | E17: 69 | F17: 7 | G17: =SUM(E17:F17) -> 76 | H17: =B17+E17 -> 135 | I17: =C17+F17 -> 19 | J17: =D17+G17 -> 154
A18: 13.04.02 Электроэнергетика и электротехника | D18: =SUM(B18:C18) -> 0 | G18: =SUM(E18:F18) -> 0 | H18: =B18+E18 -> 0 | I18: =C18+F18 -> 0 | J18: =D18+G18 -> 0
A19: 20.04.02 Природообустройство и водопользование | B19: 6 | D19: =SUM(B19:C19) -> 6 | E19: 3 | G19: =SUM(E19:F19) -> 3 | H19: =B19+E19 -> 9 | I19: =C19+F19 -> 0 | J19: =D19+G19 -> 9
B20: 0 | C20: 0 | D20: =SUM(B20:C20) -> 0 | E20: 0 | F20: 0 | G20: =SUM(E20:F20) -> 0 | H20: =B20+E20 -> 0 | I20: =C20+F20 -> 0 | J20: =D20+G20 -> 0
A21: Итого граждане России | B21: =SUM(B16:B20) -> 97 | C21: =SUM(C16:C20) -> 18 | D21: =SUM(D16:D20) -> 115 | E21: =SUM(E16:E20) -> 102 | F21: =SUM(F16:F20) -> 8 | G21: =SUM(G16:G20) -> 110 | H21: =SUM(H16:H20) -> 199 | I21: =SUM(I16:I20) -> 26 | J21: =SUM(J16:J20) -> 225
A22: Граждане иностранных государств (вкл. Украину)
A23: 07.04.04 Градостроительство | D23: =SUM(B23:C23) -> 0 | G23: =SUM(E23:F23) -> 0 | H23: =B23+E23 -> 0 | I23: =C23+F23 -> 0 | J23: =D23+G23 -> 0
A24: 08.04.01 Строительство | B24: 2 | C24: 1 | D24: =SUM(B24:C24) -> 3 | E24: 1 | G24: =SUM(E24:F24) -> 1 | H24: =B24+E24 -> 3 | I24: =C24+F24 -> 1 | J24: =D24+G24 -> 4
A25: 13.04.02 Электроэнергетика и электротехника | D25: =SUM(B25:C25) -> 0 | G25: =SUM(E25:F25) -> 0 | H25: =B25+E25 -> 0 | I25: =C25+F25 -> 0 | J25: =D25+G25 -> 0
A26: 20.04.02 Природообустройство и водопользование | D26: =SUM(B26:C26) -> 0 | G26: =SUM(E26:F26) -> 0 | H26: =B26+E26 -> 0 | I26: =C26+F26 -> 0 | J26: =D26+G26 -> 0
B27: 0 | C27: 0 | D27: =SUM(B27:C27) -> 0 | E27: 0 | F27: 0 | G27: =SUM(E27:F27) -> 0 | H27: =B27+E27 -> 0 | I27: =C27+F27 -> 0 | J27: =D27+G27 -> 0
A28: Итого граждане иностранных государств | B28: =SUM(B23:B27) -> 2 | C28: =SUM(C23:C27) -> 1 | D28: =SUM(D23:D27) -> 3 | E28: =SUM(E23:E27) -> 1 | F28: =SUM(F23:F27) -> 0 | G28: =SUM(G23:G27) -> 1 | H28: =SUM(H23:H27) -> 3 | I28: =SUM(I23:I27) -> 1 | J28: =SUM(J23:J27) -> 4
A29: ИТОГО по подразделению граждане России | B29: =B21 -> 97 | C29: =C21 -> 18 | D29: =D21 -> 115 | E29: =E21 -> 102 | F29: =F21 -> 8 | G29: =G21 -> 110 | H29: =H21 -> 199 | I29: =I21 -> 26 | J29: =J21 -> 225
A30: ИТОГО по подразделению иностранные граждане | B30: =B28 -> 2 | C30: =C28 -> 1 | D30: =D28 -> 3 | E30: =E28 -> 1 | F30: =F28 -> 0 | G30: =G28 -> 1 | H30: =H28 -> 3 | I30: =I28 -> 1 | J30: =J28 -> 4
A31: Итого | B31: =SUM(B29:B30) -> 99 | C31: =SUM(C29:C30) -> 19 | D31: =SUM(D29:D30) -> 118 | E31: =SUM(E29:E30) -> 103 | F31: =SUM(F29:F30) -> 8 | G31: =SUM(G29:G30) -> 111 | H31: =SUM(H29:H30) -> 202 | I31: =SUM(I29:I30) -> 27 | J31: =SUM(J29:J30) -> 229

Sheet МАГ ЗФО АСИА
A2: АКАДЕМИЯ СТРОИТЕЛЬСТВА И АРХИТЕКТУРЫ
A3: Контингент заочной формы обучения на 01.09.2019 г.(Магистры)
A5: Факультет/направление подготовки | B5: 1 год обучения | E5: 2 год обучения | H5: 3 год обучения | K5: Всего магистры
B6: МАГИСТР | E6: МАГИСТР | H6: МАГИСТР
B7: За счет бюджетных ассигнований | C7: На основе догов. о платных образов. услугах | D7: ВСЕГО | E7: За счет бюджетных ассигнований | F7: На основе догов. о платных образов. услугах | G7: ВСЕГО | H7: За счет бюджетных ассигнований | I7: На основе догов. о платных образов. услугах | J7: ВСЕГО | K7: За счет бюджетных ассигнований | L7: На основе догов. о платных образов. услугах | M7: ВСЕГО
A8: Свод по направлениям подготовки
A9: 08.04.01 Строительство | B9: =B17+B17 -> 0 | C9: =C24+C17 -> 62 | D9: =D24+D17 -> 62 | E9: =E25+E17 -> 0 | F9: =F25+F17 -> 42 | G9: =G25+G17 -> 42 | H9: =H25+H17 -> 0 | I9: =I25+I17 -> 28 | J9: =J25+J17 -> 28 | K9: =B9+E9+H9 -> 0 | L9: =C9+F9+I9 -> 132 | M9: =D9+G9+J9 -> 132
A10: 13.04.02 Электроэнергетика и электротехника | B10: =B26+B18 -> 0 | C10: =C26+C18 -> 0 | D10: =D26+D18 -> 0 | E10: =E26+E18 -> 0 | F10: =F26+F18 -> 0 | G10: =G26+G18 -> 0 | H10: =H26+H18 -> 0 | I10: =I26+I18 -> 0 | J10: =J26+J18 -> 0 | K10: =B10+E10+H10 -> 0 | L10: =C10+F10+I10 -> 0 | M10: =D10+G10+J10 -> 0
A11: 20.04.02 Природообустройство и водопользование | B11: =B27+B19 -> 0 | C11: =C27+C19 -> 0 | D11: =D27+D19 -> 0 | E11: =E27+E19 -> 0 | F11: 1 | G11: =G27+G19 -> 1 | H11: =H27+H19 -> 0 | I11: =I27+I19 -> 0 | J11: =J27+J19 -> 0 | K11: =B11+E11+H11 -> 0 | L11: =C11+F11+I11 -> 1 | M11: =D11+G11+J11 -> 1
E12: =E28+E20 -> 0 | F12: =F28+F20 -> 0 | G12: =G28+G20 -> 0 | H12: =H28+H20 -> 0 | I12: =I28+I20 -> 0 | J12: =J28+J20 -> 0 | K12: =B12+E12+H12 -> 0 | L12: =C12+F12+I12 -> 0 | M12: =D12+G12+J12 -> 0
B13: =B28+B20 -> 0 | C13: =C28+C20 -> 0 | D13: =D28+D20 -> 0 | E13: =E29+E21 -> 0 | F13: =F29+F21 -> 0 | G13: =G29+G21 -> 0 | H13: =H29+H21 -> 0 | I13: =I29+I21 -> 3 | J13: =J29+J21 -> 3 | K13: =B13+E13+H13 -> 0 | L13: =C13+F13+I13 -> 3 | M13: =D13+G13+J13 -> 3
A14: Итого по направлениям подготовки: | B14: =SUM(B8:B13) -> 0 | C14: =SUM(C8:C13) -> 62 | D14: =SUM(D8:D13) -> 62 | E14: =SUM(E8:E13) -> 0 | F14: =SUM(F8:F13) -> 43 | G14: =SUM(G8:G13) -> 43 | H14: =SUM(H8:H13) -> 0 | I14: =SUM(I8:I13) -> 31 | ... M14: =SUM(M8:M13) -> 136
A15: В том числе:
A16: Граждане России
A17: 08.04.01 Строительство | B17: 0 | C17: 61 | D17: =SUM(B17:C17) -> 61 | E17: 0 | F17: 42 | G17: =SUM(E17:F17) -> 42 | H17: 0 | I17: 28 | J17: =SUM(H17:I17) -> 28 | K17: =B17+E17+H17 -> 0 | L17: =C17+F17+I17 -> 131 | M17: =D17+G17+J17 -> 131
A18: 13.04.02 Электроэнергетика и электротехника | D18: =SUM(B18:C18) -> 0 | G18: =SUM(E18:F18) -> 0 | H18: 0 | I18: 0 | J18: =SUM(H18:I18) -> 0 | K18: =B18+E18+H18 -> 0 | L18: =C18+F18+I18 -> 0 | M18: =D18+G18+J18 -> 0
A19: 20.04.02 Природообустройство и водопользование | B19: 0 | C19: 0 | D19: =SUM(B19:C19) -> 0 | E19: 0 | F19: 1 | G19: 1 | H19: 0 | I19: 0 | J19: =SUM(H19:I19) -> 0 | K19: =B19+E19+H19 -> 0 | L19: =C19+F19+I19 -> 1 | M19: =D19+G19+J19 -> 1
B20: 0 | C20: 0 | D20: =SUM(B20:C20) -> 0 | E20: 0 | F20: 0 | G20: =SUM(E20:F20) -> 0 | H20: 0 | I20: 0 | J20: =SUM(H20:I20) -> 0 | K20: =B20+E20+H20 -> 0 | L20: =C20+F20+I20 -> 0 | M20: =D20+G20+J20 -> 0
B21: 0 | C21: 0 | D21: =SUM(B21:C21) -> 0 | E21: 0 | F21: 0 | G21: =SUM(E21:F21) -> 0 | H21: 0 | I21: 0 | J21: =SUM(H21:I21) -> 0 | K21: =B21+E21+H21 -> 0 | L21: =C21+F21+I21 -> 0 | M21: =D21+G21+J21 -> 0
A22: Итого граждане России | B22: =SUM(B17:B21) -> 0 | C22: =SUM(C17:C21) -> 61 | D22: =SUM(D17:D21) -> 61 | E22: =SUM(E17:E21) -> 0 | F22: =SUM(F17:F21) -> 43 | G22: =SUM(G17:G21) -> 43 | H22: =SUM(H17:H21) -> 0 | I22: =SUM(I17:I21) -> 28 | ... M22: =SUM(M17:M21) -> 132
A23: Граждане иностранных государств (вкл. Украину)
A24: 08.04.01 Строительство | B24: 0 | C24: 1 | D24: =SUM(B24:C24) -> 1 | E24: 0 | F24: 0 | G24: =SUM(E24:F24) -> 0 | H24: 0 | I24: 3 | J24: =SUM(H24:I24) -> 3 | K24: =B24+E24+H24 -> 0 | L24: =C24+F24+I24 -> 4 | M24: =D24+G24+J24 -> 4
A25: 13.04.02 Электроэнергетика и электротехника | B25: 0 | C25: 0 | D25: =SUM(B25:C25) -> 0 | E25: 0 | F25: 0 | G25: =SUM(E25:F25) -> 0 | H25: 0 | I25: 0 | J25: =SUM(H25:I25) -> 0 | K25: =B25+E25+H25 -> 0 | L25: =C25+F25+I25 -> 0 | M25: =D25+G25+J25 -> 0
A26: 20.04.02 Природообустройство и водопользование | B26: 0 | C26: 0 | D26: =SUM(B26:C26) -> 0 | E26: 0 | F26: 0 | G26: =SUM(E26:F26) -> 0 | H26: 0 | I26: 0 | J26: =SUM(H26:I26) -> 0 | K26: =B26+E26+H26 -> 0 | L26: =C26+F26+I26 -> 0 | M26: =D26+G26+J26 -> 0
B27: 0 | C27: 0 | D27: =SUM(B27:C27) -> 0 | E27: 0 | F27: 0 | G27: =SUM(E27:F27) -> 0 | H27: 0 | I27: 0 | J27: =SUM(H27:I27) -> 0 | K27: =B27+E27+H27 -> 0 | L27: =C27+F27+I27 -> 0 | M27: =D27+G27+J27 -> 0
B28: 0 | C28: 0 | D28: =SUM(B28:C28) -> 0 | E28: 0 | F28: 0 | G28: =SUM(E28:F28) -> 0 | H28: 0 | I28: 0 | J28: =SUM(H28:I28) -> 0 | K28: =B28+E28+H28 -> 0 | L28: =C28+F28+I28 -> 0 | M28: =D28+G28+J28 -> 0
A29: Итого граждане иностранных государств | B29: =SUM(B24:B28) -> 0 | C29: =SUM(C24:C28) -> 1 | D29: =SUM(D24:D28) -> 1 | E29: =SUM(E24:E28) -> 0 | F29: =SUM(F24:F28) -> 0 | G29: =SUM(G24:G28) -> 0 | H29: =SUM(H24:H28) -> 0 | I29: =SUM(I24:I28) -> 3 | ... M29: =SUM(M24:M28) -> 4
A30: ИТОГО по подразделению граждане России | B30: =B22 -> 0 | C30: =C22 -> 61 | D30: =D22 -> 61 | E30: =E22 -> 0 | F30: =F22 -> 43 | G30: =G22 -> 43 | H30: =H22 -> 0 | I30: =I22 -> 28 | ... M30: =M22 -> 132
A31: ИТОГО по подразделению иностранные граждане | B31: =B29 -> 0 | C31: =C29 -> 1 | D31: =D29 -> 1 | E31: =E29 -> 0 | F31: =F29 -> 0 | G31: =G29 -> 0 | H31: =H29 -> 0 | I31: =I29 -> 3 | ... M31: =M29 -> 4
A32: Итого | B32: =SUM(B30:B31) -> 0 | C32: =SUM(C30:C31) -> 62 | D32: =SUM(D30:D31) -> 62 | E32: =SUM(E30:E31) -> 0 | F32: =SUM(F30:F31) -> 43 | G32: =SUM(G30:G31) -> 43 | H32: =SUM(H30:H31) -> 0 | I32: =SUM(I30:I31) -> 31 | ... M32: =SUM(M30:M31) -> 136

Sheet Бакалавр ОФО АБиП
A1: АКАДЕМИЯ БИОРЕСУРСОВ И ПРИРОДОПОЛЬЗОВАНИЯ КФУ
A2: Контингент Дневной формы обучения на 1.09.2019
A3: Факультет/направление подготовки | B3: выпуск 2023 | E3: выпуск 2022 | H3: выпуск 2021 | K3: выпуск 2020 | N3: Итого Бакалавры
C5: 1 | E5: 2 | H5: 3 | K5: 4
B6: За счет бюджетных ассигнований | C6: На основе догов.о платных образов.услугах | D6: ВСЕГО | E6: За счет бюджетных ассигнований | F6: На основе догов.о платных образов.услугах | G6: ВСЕГО | H6: За счет бюджетных ассигнований | I6: На основе догов.о платных образов.услугах | J6: ВСЕГО | K6: За счет бюджетных ассигнований | L6: На основе догов.о платных образов.услугах | M6: ВСЕГО | N6: За счет бюджетных ассигнований | O6: На основе догов.о платных образов.услугах | P6: ВСЕГО
A7: Свод по направлениям подготовкии
A8: 35.03.04 Агрономия | B8: =B21+B33 -> 18 | C8: =C21+C33 -> 0 | D8: =D21+D33 -> 18 | E8: =E21+E33 -> 41 | F8: =F21+F33 -> 0 | G8: =G21+G33 -> 41 | H8: =H21+H33 -> 35 | I8: =I21+I33 -> 0 | ... P8: =P21+P33 -> 132
A9: 35.03.05 Садоводство | B9: =B22+B34 -> 16 | C9: =C22+C34 -> 0 | D9: =D22+D34 -> 16 | E9: =E22+E34 -> 37 | F9: =F22+F34 -> 0 | G9: =G22+G34 -> 37 | H9: =H22+H34 -> 22 | I9: =I22+I34 -> 0 | ... P9: =P22+P34 -> 98
A10: 21.03.02 Землеустройство и кадастры | B10: =B23+B35 -> 40 | C10: =C23+C35 -> 0 | D10: =D23+D35 -> 40 | E10: =E23+E35 -> 38 | F10: =F23+F35 -> 0 | G10: =G23+G35 -> 38 | H10: =H23+H35 -> 33 | I10: =I23+I35 -> 1 | ... P10: =P23+P35 -> 153
A11: 21.03.03 Геодезия и дистанцион. | B11: =B24+B36 -> 25 | C11: =C24+C36 -> 0 | D11: =D24+D36 -> 25 | E11: =E24+E36 -> 23 | F11: =F24+F36 -> 0 | G11: =G24+G36 -> 23 | H11: =H24+H36 -> 25 | I11: =I24+I36 -> 0 | ... P11: =P24+P36 -> 94
A12: 35.03.10 Ландшафтная архитектура | B12: =B25+B37 -> 0 | C12: =C25+C37 -> 0 | D12: =D25+D37 -> 0 | E12: =E25+E37 -> 0 | F12: =F25+F37 -> 0 | G12: =G25+G37 -> 0 | H12: =H25+H37 -> 0 | I12: =I25+I37 -> 0 | ... P12: =P25+P37 -> 0
A13: 35.03.01 Лесное дело | B13: =B26+B38 -> 13 | C13: =C26+C38 -> 0 | D13: =D26+D38 -> 13 | E13: =E26+E38 -> 29 | F13: =F26+F38 -> 0 | G13: =G26+G38 -> 29 | H13: =H26+H38 -> 24 | I13: =I26+I38 -> 0 | ... P13: =P26+P38 -> 93
A14: 19.03.02 Продукты питания из растительного сырья | B14: =B27+B39 -> 43 | C14: =C27+C39 -> 0 | D14: =D27+D39 -> 43 | E14: =E27+E39 -> 37 | F14: =F27+F39 -> 0 | G14: =G27+G39 -> 37 | H14: =H27+H39 -> 35 | I14: =I27+I39 -> 0 | ... P14: =P27+P39 -> 149
A15: 19.03.03 Продукты питания животного происхождения | B15: =B28+B40 -> 15 | C15: =C28+C40 -> 0 | D15: =D28+D40 -> 15 | E15: =E28+E40 -> 19 | F15: =F28+F40 -> 0 | G15: =G28+G40 -> 19 | H15: =H28+H40 -> 13 | I15: =I28+I40 -> 0 | ... P15: =P28+P40 -> 62
A16: 35.03.06 Агроинженерия | B16: =B29+B41 -> 57 | C16: =C29+C41 -> 0 | D16: =D29+D41 -> 57 | E16: =E29+E41 -> 55 | F16: =F29+F41 -> 1 | G16: =G29+G41 -> 56 | H16: =H29+H41 -> 47 | I16: =I29+I41 -> 0 | ... P16: =P29+P41 -> 198
A17: 27.03.03 Системный анализ | B17: =B30+B42 -> 16 | C17: =C30+C42 -> 0 | D17: =D30+D42 -> 16 | E17: =E30+E42 -> 16 | F17: =F30+F42 -> 0 | G17: =G30+G42 -> 16 | H17: =H30+H42 -> 13 | I17: =I30+I42 -> 0 | ... P17: =P30+P42 -> 59
A18: Итого по направлениям подготовки: | B18: =B31+B43 -> 243 | C18: =C31+C43 -> 0 | D18: =D31+D43 -> 243 | E18: =E31+E43 -> 295 | F18: =F31+F43 -> 1 | G18: =G31+G43 -> 296 | H18: =H31+H43 -> 247 | I18: =I31+I43 -> 1 | ... P18: =P31+P43 -> 1038
A19: В том числе:
A20: Граждане России
A21: 35.03.04 Агрономия | B21: 17 | C21: 0 | D21: =B21+C21 -> 17 | E21: 41 | F21: 0 | G21: =E21+F21 -> 41 | H21: 33 | I21: 0 | J21: =I21+H21 -> 33 | K21: 38 | L21: 0 | M21: =K21+L21 -> 38 | N21: =B21+E21+H21+K21 -> 129 | O21: =F21+I21+L21+C21 -> 0 | P21: =N21+O21 -> 129
A22: 35.03.05 Садоводство | B22: 15 | C22: 0 | D22: =B22+C22 -> 15 | E22: 34 | F22: 0 | G22: =E22+F22 -> 34 | H22: 21 | I22: 0 | J22: =I22+H22 -> 21 | K22: 19 | L22: 1 | M22: =K22+L22 -> 20 | N22: =B22+E22+H22+K22 -> 89 | O22: =F22+I22+L22+C22 -> 1 | P22: =N22+O22 -> 90
A23: 21.03.02 Землеустройство и кадастры | B23: 40 | C23: 0 | D23: =B23+C23 -> 40 | E23: 38 | F23: 0 | G23: =E23+F23 -> 38 | H23: 32 | I23: 1 | J23: =I23+H23 -> 33 | K23: 37 | L23: 4 | M23: =K23+L23 -> 41 | N23: =B23+E23+H23+K23 -> 147 | O23: =F23+I23+L23+C23 -> 5 | P23: =N23+O23 -> 152
A24: 21.03.03 Геодезия и дистанцион. | B24: 25 | C24: 0 | D24: =B24+C24 -> 25 | E24: 22 | F24: 0 | G24: =E24+F24 -> 22 | H24: 25 | I24: 0 | J24: =I24+H24 -> 25 | K24: 21 | L24: 0 | M24: =K24+L24 -> 21 | N24: =B24+E24+H24+K24 -> 93 | O24: =F24+I24+L24+C24 -> 0 | P24: =N24+O24 -> 93
A25: 35.03.10 Ландшафтная архитектура | B25: 0 | C25: 0 | D25: =B25+C25 -> 0 | E25: 0 | F25: 0 | G25: =E25+F25 -> 0 | H25: 0 | I25: 0 | J25: =I25+H25 -> 0 | K25: 0 | L25: 0 | M25: =K25+L25 -> 0 | N25: =B25+E25+H25+K25 -> 0 | O25: =F25+I25+L25+C25 -> 0 | P25: =N25+O25 -> 0
A26: 35.03.01 Лесное дело | B26: 13 | C26: 0 | D26: =B26+C26 -> 13 | E26: 29 | F26: 0 | G26: =E26+F26 -> 29 | H26: 24 | I26: 0 | J26: =I26+H26 -> 24 | K26: 27 | L26: 0 | M26: =K26+L26 -> 27 | N26: =B26+E26+H26+K26 -> 93 | O26: =F26+I26+L26+C26 -> 0 | P26: =N26+O26 -> 93
A27: 19.03.02 Продукты питания из растительного сырья | B27: 43 | C27: 0 | D27: =B27+C27 -> 43 | E27: 36 | F27: 0 | G27: =E27+F27 -> 36 | H27: 35 | I27: 0 | J27: =I27+H27 -> 35 | K27: 34 | L27: 0 | M27: =K27+L27 -> 34 | N27: =B27+E27+H27+K27 -> 148 | O27: =F27+I27+L27+C27 -> 0 | P27: =N27+O27 -> 148
A28: 19.03.03 Продукты питания животного происхождения | B28: 14 | C28: 0 | D28: =B28+C28 -> 14 | E28: 18 | F28: 0 | G28: =E28+F28 -> 18 | H28: 10 | I28: 0 | J28: =I28+H28 -> 10 | K28: 15 | L28: 0 | M28: =K28+L28 -> 15 | N28: =B28+E28+H28+K28 -> 57 | O28: =F28+I28+L28+C28 -> 0 | P28: =N28+O28 -> 57
A29: 35.03.10 Агроинженерия | B29: 55 | C29: 0 | D29: =B29+C29 -> 55 | E29: 53 | F29: 1 | G29: =E29+F29 -> 54 | H29: 44 | I29: 0 | J29: =I29+H29 -> 44 | K29: 38 | L29: 0 | M29: =K29+L29 -> 38 | N29: =B29+E29+H29+K29 -> 190 | O29: =F29+I29+L29+C29 -> 1 | P29: =N29+O29 -> 191
A30: 27.03.03 Системный анализ | B30: 16 | C30: 0 | D30: =B30+C30 -> 16 | E30: 15 | F30: 0 | G30: =E30+F30 -> 15 | H30: 13 | I30: 0 | J30: =I30+H30 -> 13 | K30: 14 | L30: 0 | M30: =K30+L30 -> 14 | N30: =B30+E30+H30+K30 -> 58 | O30: =F30+I30+L30+C30 -> 0 | P30: =N30+O30 -> 58
A31: Итого граждане России | B31: =B21+B22+B23+B24+B25+B26+B27+B28+B29+B30 -> 238 | C31: =C21+C22+C23+C24+C25+C26+C27+C28+C29+C30 -> 0 | D31: =D21+D22+D23+D24+D25+D26+D27+D28+D29+D30 -> 238 | E31: =E21+E22+E23+E24+E25+E26+E27+E28+E29+E30 -> 286 | F31: =F21+F22+F23+F24+F25+F26+F27+F28+F29+F30 -> 1 | G31: =G21+G22+G23+G24+G25+G26+G27+G28+G29+G30 -> 287 | H31: =H21+H22+H23+H24+H25+H26+H27+H28+H29+H30 -> 237 | I31: =I21+I22+I23+I24+I25+I26+I27+I28+I29+I30 -> 1 | ... P31: =P21+P22+P23+P24+P25+P26+P27+P28+P29+P30 -> 1011
A32: Граждане иностранных государст(вкл.Украину)
A33: 35.03.04 Агрономия | B33: 1 | C33: 0 | D33: =B33+C33 -> 1 | E33: 0 | F33: 0 | G33: =E33+F33 -> 0 | H33: 2 | I33: 0 | J33: =I33+H33 -> 2 | K33: 0 | L33: 0 | M33: =K33+L33 -> 0 | N33: =B33+E33+H33+K33 -> 3 | O33: =F33+I33+L33+C33 -> 0 | P33: =N33+O33 -> 3
A34: 35.03.05 Садоводство | B34: 1 | C34: 0 | D34: =B34+C34 -> 1 | E34: 3 | F34: 0 | G34: =E34+F34 -> 3 | H34: 1 | I34: 0 | J34: =I34+H34 -> 1 | K34: 2 | L34: 1 | M34: =K34+L34 -> 3 | N34: =B34+E34+H34+K34 -> 7 | O34: =F34+I34+L34+C34 -> 1 | P34: =N34+O34 -> 8
A35: 21.03.02 Землеустройство и кадастры | B35: 0 | C35: 0 | D35: =B35+C35 -> 0 | E35: 0 | F35: 0 | G35: =E35+F35 -> 0 | H35: 1 | I35: 0 | J35: =I35+H35 -> 1 | K35: 0 | L35: 0 | M35: =K35+L35 -> 0 | N35: =B35+E35+H35+K35 -> 1 | O35: =F35+I35+L35+C35 -> 0 | P35: =N35+O35 -> 1
A36: 21.03.03 Геодезия и дистанцион. | B36: 0 | C36: 0 | D36: =B36+C36 -> 0 | E36: 1 | F36: 0 | G36: =E36+F36 -> 1 | H36: 0 | I36: 0 | J36: =I36+H36 -> 0 | K36: 0 | L36: 0 | M36: =K36+L36 -> 0 | N36: =B36+E36+H36+K36 -> 1 | O36: =F36+I36+L36+C36 -> 0 | P36: =N36+O36 -> 1
A37: 35.03.10 Ландшафтная архитектура | B37: 0 | C37: 0 | D37: =B37+C37 -> 0 | E37: 0 | F37: 0 | G37: =E37+F37 -> 0 | H37: 0 | I37: 0 | J37: =I37+H37 -> 0 | K37: 0 | L37: 0 | M37: =K37+L37 -> 0 | N37: =B37+E37+H37+K37 -> 0 | O37: =F37+I37+L37+C37 -> 0 | P37: =N37+O37 -> 0
A38: 35.03.01 Лесное дело | B38: 0 | C38: 0 | D38: =B38+C38 -> 0 | E38: 0 | F38: 0 | G38: =E38+F38 -> 0 | H38: 0 | I38: 0 | J38: =I38+H38 -> 0 | K38: 0 | L38: 0 | M38: =K38+L38 -> 0 | N38: =B38+E38+H38+K38 -> 0 | O38: =F38+I38+L38+C38 -> 0 | P38: =N38+O38 -> 0
A39: 19.03.02 Продукты питания из растительного сырья | B39: 0 | C39: 0 | D39: =B39+C39 -> 0 | E39: 1 | F39: 0 | G39: =E39+F39 -> 1 | H39: 0 | I39: 0 | J39: =I39+H39 -> 0 | K39: 0 | L39: 0 | M39: =K39+L39 -> 0 | N39: =B39+E39+H39+K39 -> 1 | O39: =F39+I39+L39+C39 -> 0 | P39: =N39+O39 -> 1
A40: 19.03.03 Продукты питания животного происхождения | B40: 1 | C40: 0 | D40: =B40+C40 -> 1 | E40: 1 | F40: 0 | G40: =E40+F40 -> 1 | H40: 3 | I40: 0 | J40: =I40+H40 -> 3 | K40: 0 | L40: 0 | M40: =K40+L40 -> 0 | N40: =B40+E40+H40+K40 -> 5 | O40: =F40+I40+L40+C40 -> 0 | P40: =N40+O40 -> 5
A41: 35.03.10 Агроинженерия | B41: 2 | C41: 0 | D41: =B41+C41 -> 2 | E41: 2 | F41: 0 | G41: =E41+F41 -> 2 | H41: 3 | I41: 0 | J41: =I41+H41 -> 3 | K41: 0 | L41: 0 | M41: =K41+L41 -> 0 | N41: =B41+E41+H41+K41 -> 7 | O41: =F41+I41+L41+C41 -> 0 | P41: =N41+O41 -> 7
...

Sheet Бакалавр ЗФО АБиП
E1: АКАДЕМИЯ БИОРЕСУРСОВ И ПРИРОДОПОЛЬЗОВАНИЯ КФУ
A2: Факультет/направление подготовки | E2: Контингент Заочной формы обучения на 1.09.2019
B3: выпуск 2024 | E3: выпуск 2023 | H3: выпуск 2022 | K3: выпуск 2021 | N3: выпуск 2020 | Q3: ВСЕГО
B5: 1 | E5: 2 | H5: 3 | K5: 4 | N5: 5
B7: За счет бюджетных ассигнований | C7: На основе догов.о платных образов.услугах | D7: ВСЕГО | E7: За счет бюджетных ассигнований | F7: На основе догов.о платных образов.услугах | G7: ВСЕГО | H7: За счет бюджетных ассигнований | I7: На основе догов.о платных образов.услугах | J7: ВСЕГО | K7: За счет бюджетных ассигнований | L7: На основе догов.о платных образов.услугах | M7: ВСЕГО | N7: За счет бюджетных ассигнований | O7: На основе догов.о платных образов.услугах | P7: ВСЕГО | Q7: За счет бюджетных ассигнований | R7: На основе догов.о платных образов.услугах | S7: ВСЕГО
A8: Свод по направлениям подготовкии
A9: 35.03.04 Агрономия | B9: =B22+B34 -> 20 | C9: =C22+C34 -> 0 | D9: =D22+D34 -> 20 | E9: =E22+E34 -> 19 | F9: =F22+F34 -> 2 | G9: =G22+G34 -> 21 | H9: =H22+H34 -> 13 | I9: =I22+I34 -> 2 | ... P9: =P22+P34 -> 34 | Q9: =E9+H9+K9+N9+B9 -> 102 | R9: =F9+I9+L9+O9+C9 -> 11 | S9: =G9+J9+M9+P9+D9 -> 113
A10: 35.03.05 Садоводство | B10: =B23+B35 -> 15 | C10: =C23+C35 -> 1 | D10: =D23+D35 -> 16 | E10: =E23+E35 -> 17 | F10: =F23+F35 -> 1 | G10: =G23+G35 -> 18 | H10: =H23+H35 -> 9 | I10: =I23+I35 -> 1 | ... P10: =P23+P35 -> 18 | Q10: =E10+H10+K10+N10+B10 -> 79 | R10: =F10+I10+L10+O10+C10 -> 10 | S10: =G10+J10+M10+P10+D10 -> 89
A11: 21.03.02 Землеустройство и кадастры | B11: =B24+B36 -> 23 | C11: =C24+C36 -> 1 | D11: =D24+D36 -> 24 | E11: =E24+E36 -> 18 | F11: =F24+F36 -> 8 | G11: =G24+G36 -> 26 | H11: =H24+H36 -> 20 | I11: =I24+I36 -> 6 | ... P11: =P24+P36 -> 42 | Q11: =E11+H11+K11+N11+B11 -> 103 | R11: =F11+I11+L11+O11+C11 -> 42 | S11: =G11+J11+M11+P11+D11 -> 145
A12: 21.03.03 Геодезия и дистанцион. | B12: =B25+B37 -> 13 | C12: =C25+C37 -> 0 | D12: =D25+D37 -> 13 | E12: =E25+E37 -> 11 | F12: =F25+F37 -> 1 | G12: =G25+G37 -> 12 | H12: =H25+H37 -> 9 | I12: =I25+I37 -> 0 | ... P12: =P25+P37 -> 15 | Q12: =E12+H12+K12+N12+B12 -> 48 | R12: =F12+I12+L12+O12+C12 -> 8 | S12: =G12+J12+M12+P12+D12 -> 56
A13: 27.03.03 Системный анализ и управление | B13: =B26+B38 -> 12 | C13: =C26+C38 -> 0 | D13: =D26+D38 -> 12 | E13: =E26+E38 -> 9 | F13: =F26+F38 -> 0 | G13: =G26+G38 -> 9 | H13: =H26+H38 -> 10 | I13: =I26+I38 -> 1 | ... P13: =P26+P38 -> 0 | Q13: =E13+H13+K13+N13+B13 -> 31 | R13: =F13+I13+L13+O13+C13 -> 1 | S13: =G13+J13+M13+P13+D13 -> 32
A14: 35.03.10 Ландшафтная архитектура | B14: =B27+B39 -> 0 | C14: =C27+C39 -> 0 | D14: =D27+D39 -> 0 | E14: =E27+E39 -> 0 | F14: =F27+F39 -> 0 | G14: =G27+G39 -> 0 | H14: =H27+H39 -> 0 | I14: =I27+I39 -> 0 | ... P14: =P27+P39 -> 0 | Q14: =E14+H14+K14+N14+B14 -> 0 | R14: =F14+I14+L14+O14+C14 -> 0 | S14: =G14+J14+M14+P14+D14 -> 0
A15: 35.03.01 Лесное дело | B15: =B28+B40 -> 10 | C15: =C28+C40 -> 0 | D15: =D28+D40 -> 10 | E15: =E28+E40 -> 15 | F15: =F28+F40 -> 0 | G15: =G28+G40 -> 15 | H15: =H28+H40 -> 13 | I15: =I28+I40 -> 8 | ... P15: =P28+P40 -> 24 | Q15: =E15+H15+K15+N15+B15 -> 70 | R15: =F15+I15+L15+O15+C15 -> 21 | S15: =G15+J15+M15+P15+D15 -> 91
A16: 19.03.02 Продукты питания из растительного сырья | B16: =B29+B41 -> 12 | C16: =C29+C41 -> 2 | D16: =D29+D41 -> 14 | E16: =E29+E41 -> 11 | F16: =F29+F41 -> 3 | G16: =G29+G41 -> 14 | H16: =H29+H41 -> 11 | I16: =I29+I41 -> 3 | ... P16: =P29+P41 -> 30 | Q16: =E16+H16+K16+N16+B16 -> 58 | R16: =F16+I16+L16+O16+C16 -> 28 | S16: =G16+J16+M16+P16+D16 -> 86
A17: 21.03.02 Продукты питания животного происхождения | B17: =B30+B42 -> 10 | C17: =C30+C42 -> 0 | D17: =D30+D42 -> 10 | E17: =E30+E42 -> 8 | F17: =F30+F42 -> 2 | G17: =G30+G42 -> 10 | H17: =H30+H42 -> 8 | I17: =I30+I42 -> 0 | ... P17: =P30+P42 -> 0 | Q17: =E17+H17+K17+N17+B17 -> 34 | R17: =F17+I17+L17+O17+C17 -> 4 | S17: =G17+J17+M17+P17+D17 -> 38
A18: 35.03.06 Агроинженерия | B18: =B31+B43 -> 28 | C18: =C31+C43 -> 4 | D18: =D31+D43 -> 32 | E18: =E31+E43 -> 24 | F18: =F31+F43 -> 18 | G18: =G31+G43 -> 42 | H18: =H31+H43 -> 22 | I18: =I31+I43 -> 10 | ... P18: =P31+P43 -> 53 | Q18: =E18+H18+K18+N18+B18 -> 121 | R18: =F18+I18+L18+O18+C18 -> 68 | S18: =G18+J18+M18+P18+D18 -> 189
A19: Итого по направлениям подготовки: | B19: =SUM(B9:B18) -> 143 | C19: =SUM(C9:C18) -> 8 | D19: =SUM(D9:D18) -> 151 | E19: =SUM(E9:E18) -> 132 | F19: =SUM(F9:F18) -> 35 | G19: =SUM(G9:G18) -> 167 | H19: =SUM(H9:H18) -> 115 | I19: =SUM(I9:I18) -> 31 | ... P19: =SUM(P9:P18) -> 216 | Q19: =E19+H19+K19+N19+B19 -> 646 | R19: =F19+I19+L19+O19+C19 -> 193 | S19: =G19+J19+M19+P19+D19 -> 839
A20: В том числе:
A21: Граждане России
A22: 35.03.04 Агрономия | B22: 20 | C22: 0 | D22: =B22+C22 -> 20 | E22: 18 | F22: 2 | G22: =E22+F22 -> 20 | H22: 13 | I22: 2 | J22: =H22+I22 -> 15 | K22: 21 | L22: 2 | M22: =K22+L22 -> 23 | N22: 29 | O22: 5 | P22: =N22+O22 -> 34 | Q22: =E22+H22+K22+N22+B22 -> 101 | R22: =F22+I22+L22+O22+C22 -> 11 | S22: =G22+J22+M22+P22+D22 -> 112
A23: 35.03.05 Садоводство | B23: 14 | C23: 1 | D23: =B23+C23 -> 15 | E23: 17 | F23: 1 | G23: =E23+F23 -> 18 | H23: 9 | I23: 1 | J23: =H23+I23 -> 10 | K23: 23 | L23: 4 | M23: =K23+L23 -> 27 | N23: 15 | O23: 3 | P23: =N23+O23 -> 18 | Q23: =E23+H23+K23+N23+B23 -> 78 | R23: =F23+I23+L23+O23+C23 -> 10 | S23: =G23+J23+M23+P23+D23 -> 88
A24: 21.03.02 Землеустройство и кадастры | B24: 22 | C24: 1 | D24: =B24+C24 -> 23 | E24: 18 | F24: 8 | G24: =E24+F24 -> 26 | H24: 20 | I24: 6 | J24: =H24+I24 -> 26 | K24: 13 | L24: 14 | M24: =K24+L24 -> 27 | N24: 29 | O24: 12 | P24: =N24+O24 -> 41 | Q24: =E24+H24+K24+N24+B24 -> 102 | R24: =F24+I24+L24+O24+C24 -> 41 | S24: =G24+J24+M24+P24+D24 -> 143
A25: 21.03.03 Геодезия и дистанцион. | B25: 13 | C25: 0 | D25: =B25+C25 -> 13 | E25: 11 | F25: 0 | G25: =E25+F25 -> 11 | H25: 8 | I25: 0 | J25: =H25+I25 -> 8 | K25: 5 | L25: 2 | M25: =K25+L25 -> 7 | N25: 10 | O25: 5 | P25: =N25+O25 -> 15 | Q25: =E25+H25+K25+N25+B25 -> 47 | R25: =F25+I25+L25+O25+C25 -> 7 | S25: =G25+J25+M25+P25+D25 -> 54
A26: 27.03.03 Системный анализ и управление | B26: 12 | C26: 0 | D26: =B26+C26 -> 12 | E26: 9 | F26: 0 | G26: =E26+F26 -> 9 | H26: 10 | I26: 1 | J26: =H26+I26 -> 11 | K26: 0 | L26: 0 | M26: =K26+L26 -> 0 | N26: 0 | O26: 0 | P26: =N26+O26 -> 0 | Q26: =E26+H26+K26+N26+B26 -> 31 | R26: =F26+I26+L26+O26+C26 -> 1 | S26: =G26+J26+M26+P26+D26 -> 32
A27: 35.03.10 Ландшафтная архитектура | B27: 0 | C27: 0 | D27: =B27+C27 -> 0 | E27: 0 | F27: 0 | G27: =E27+F27 -> 0 | H27: 0 | I27: 0 | J27: =H27+I27 -> 0 | K27: 0 | L27: 0 | M27: =K27+L27 -> 0 | N27: 0 | O27: 0 | P27: =N27+O27 -> 0 | Q27: =E27+H27+K27+N27+B27 -> 0 | R27: =F27+I27+L27+O27+C27 -> 0 | S27: =G27+J27+M27+P27+D27 -> 0
A28: 35.03.01 Лесное дело | B28: 10 | C28: 0 | D28: =B28+C28 -> 10 | E28: 15 | F28: 0 | G28: =E28+F28 -> 15 | H28: 13 | I28: 8 | J28: =H28+I28 -> 21 | K28: 14 | L28: 7 | M28: =K28+L28 -> 21 | N28: 18 | O28: 6 | P28: =N28+O28 -> 24 | Q28: =E28+H28+K28+N28+B28 -> 70 | R28: =F28+I28+L28+O28+C28 -> 21 | S28: =G28+J28+M28+P28+D28 -> 91
A29: 19.03.02 Продукты питания из растительного сырья | B29: 12 | C29: 2 | D29: =B29+C29 -> 14 | E29: 11 | F29: 2 | G29: =E29+F29 -> 13 | H29: 11 | I29: 3 | J29: =H29+I29 -> 14 | K29: 6 | L29: 8 | M29: =K29+L29 -> 14 | N29: 18 | O29: 11 | P29: =O29+N29 -> 29 | Q29: =E29+H29+K29+N29+B29 -> 58 | R29: =F29+I29+L29+O29+C29 -> 26 | S29: =G29+J29+M29+P29+D29 -> 84
A30: 21.03.02 Продукты питания животного происхождения | B30: 10 | C30: 0 | D30: =B30+C30 -> 10 | E30: 7 | F30: 2 | G30: =E30+F30 -> 9 | H30: 8 | I30: 0 | J30: =H30+I30 -> 8 | K30: 8 | L30: 2 | M30: =K30+L30 -> 10 | N30: 0 | O30: 0 | P30: =O30+N30 -> 0 | Q30: =E30+H30+K30+N30+B30 -> 33 | R30: =F30+I30+L30+O30+C30 -> 4 | S30: =G30+J30+M30+P30+D30 -> 37
A31: 35.03.06 Агроинженерия | B31: 28 | C31: 4 | D31: =B31+C31 -> 32 | E31: 24 | F31: 18 | G31: =E31+F31 -> 42 | H31: 22 | I31: 9 | J31: =H31+I31 -> 31 | K31: 16 | L31: 14 | M31: =K31+L31 -> 30 | N31: 31 | O31: 22 | P31: =O31+N31 -> 53 | Q31: =E31+H31+K31+N31+B31 -> 121 | R31: =F31+I31+L31+O31+C31 -> 67 | S31: =G31+J31+M31+P31+D31 -> 188
A32: Итого граждане России | B32: =SUM(B21:B31) -> 141 | C32: =SUM(C21:C31) -> 8 | D32: =B32+C32 -> 149 | E32: =SUM(E22:E31) -> 130 | F32: =SUM(F22:F31) -> 33 | G32: =SUM(G22:G31) -> 163 | H32: =SUM(H22:H31) -> 114 | I32: =SUM(I22:I31) -> 30 | J32: =SUM(J22:J31) -> 144 | K32: =SUM(K22:K31) -> 106 | L32: =SUM(L22:L31) -> 53 | ... P32: =SUM(P22:P31) -> 214 | Q32: =E32+H32+K32+N32+B32 -> 641 | R32: =F32+I32+L32+O32+C32 -> 188 | S32: =G32+J32+M32+P32+D32 -> 829
A33: Граждане иностранных государст(вкл.Украину)
A34: 35.03.04 Агрономия | B34: 0 | C34: 0 | D34: =B34+C34 -> 0 | E34: 1 | F34: 0 | G34: =E34+F34 -> 1 | H34: 0 | I34: 0 | J34: =H34+I34 -> 0 | K34: 0 | L34: 0 | M34: =K34+L34 -> 0 | N34: 0 | O34: 0 | P34: =N34+O34 -> 0 | Q34: =E34+H34+K34+N34+B34 -> 1 | R34: =F34+I34+L34+O34+C34 -> 0 | S34: =G34+J34+M34+P34+D34 -> 1
A35: 35.03.05 Садоводство | B35: 1 | C35: 0 | D35: =B35+C35 -> 1 | E35: 0 | F35: 0 | G35: =E35+F35 -> 0 | H35: 0 | I35: 0 | J35: =H35+I35 -> 0 | K35: 0 | L35: 0 | M35: =K35+L35 -> 0 | N35: 0 | O35: 0 | P35: =N35+O35 -> 0 | Q35: =E35+H35+K35+N35+B35 -> 1 | R35: =F35+I35+L35+O35+C35 -> 0 | S35: =G35+J35+M35+P35+D35 -> 1
A36: 21.03.02 Землеустройство и кадастры | B36: 1 | C36: 0 | D36: =B36+C36 -> 1 | E36: 0 | F36: 0 | G36: =E36+F36 -> 0 | H36: 0 | I36: 0 | J36: =H36+I36 -> 0 | K36: 0 | L36: 0 | M36: =K36+L36 -> 0 | N36: 0 | O36: 1 | P36: =N36+O36 -> 1 | Q36: =E36+H36+K36+N36+B36 -> 1 | R36: =F36+I36+L36+O36+C36 -> 1 | S36: =G36+J36+M36+P36+D36 -> 2
A37: 21.03.03 Геодезия и дистанцион. | B37: 0 | C37: 0 | D37: =B37+C37 -> 0 | E37: 0 | F37: 1 | G37: =E37+F37 -> 1 | H37: 1 | I37: 0 | J37: =H37+I37 -> 1 | K37: 0 | L37: 0 | M37: =K37+L37 -> 0 | N37: 0 | O37: 0 | P37: =N37+O37 -> 0 | Q37: =E37+H37+K37+N37+B37 -> 1 | R37: =F37+I37+L37+O37+C37 -> 1 | S37: =G37+J37+M37+P37+D37 -> 2
A38: 27.03.03 Системный анализ и управление | B38: 0 | C38: 0 | D38: =B38+C38 -> 0 | E38: 0 | F38: 0 | G38: =F38+E38 -> 0 | H38: 0 | I38: 0 | J38: =H38+I38 -> 0 | K38: 0 | L38: 0 | M38: =K38+L38 -> 0 | N38: 0 | O38: 0 | P38: =N38+O38 -> 0 | Q38: =E38+H38+K38+N38+B38 -> 0 | R38: =F38+I38+L38+O38+C38 -> 0 | S38: =G38+J38+M38+P38+D38 -> 0
A39: 35.03.10 Ландшафтная архитектура | B39: 0 | C39: 0 | D39: =B39+C39 -> 0 | E39: =G39-F39 -> 0 | F39: 0 | G39: 0 | H39: =J39-I39 -> 0 | I39: 0 | J39: 0 | K39: 0 | L39: 0 | M39: =K39+L39 -> 0 | N39: 0 | O39: 0 | P39: =N39+O39 -> 0 | Q39: =E39+H39+K39+N39+B39 -> 0 | R39: =F39+I39+L39+O39+C39 -> 0 | S39: =G39+J39+M39+P39+D39 -> 0
A40: 35.03.01 Лесное дело | B40: 0 | C40: 0 | D40: =B40+C40 -> 0 | E40: 0 | F40: 0 | G40: =+E40+F40 -> 0 | H40: 0 | I40: 0 | J40: =H40+I40 -> 0 | K40: 0 | L40: 0 | M40: =K40+L40 -> 0 | N40: 0 | O40: 0 | P40: =N40+O40 -> 0 | Q40: =E40+H40+K40+N40+B40 -> 0 | R40: =F40+I40+L40+O40+C40 -> 0 | S40: =G40+J40+M40+P40+D40 -> 0
A41: 19.03.02 Продукты питания из растительного сырья | B41: 0 | C41: 0 | D41: =B41+C41 -> 0 | E41: 0 | F41: 1 | G41: =+E41+F41 -> 1 | H41: 0 | I41: 0 | J41: =H41+I41 -> 0 | K41: 0 | L41: 0 | M41: =K41+L41 -> 0 | N41: 0 | O41: 1 | P41: 1 | Q41: =E41+H41+K41+N41+B41 -> 0 | R41: =F41+I41+L41+O41+C41 -> 2 | S41: =G41+J41+M41+P41+D41 -> 2
A42: 21.03.02 Продукты питания животного происхождения | B42: 0 | C42: 0 | D42: =B42+C42 -> 0 | E42: 1 | F42: 0 | G42: =E42+F42 -> 1 | H42: 0 | I42: 0 | J42: =H42+I42 -> 0 | K42: 0 | L42: 0 | M42: =K42+L42 -> 0 | N42: 0 | O42: 0 | P42: =N42+O42 -> 0 | Q42: =E42+H42+K42+N42+B42 -> 1 | R42: =F42+I42+L42+O42+C42 -> 0 | S42: =G42+J42+M42+P42+D42 -> 1
...

Sheet Специалист ОФО АПБиП
A1: АКАДЕМИЯ БИОРЕСУРСОВ И ПРИРОДОПОЛЬЗОВАНИЯ КФУ
A2: Контингент Дневной формы обучения на 1.09.2019 (специалитет)
B3: выпуск 2024 | E3: выпуск 2023 | H3: выпуск 2022 | K3: выпуск 2021 | N3: выпуск 2020 | Q3: ВСЕГО специалитет
A4: Факультет/направление подготовки | B4: 1 | E4: 2 | H4: 3 | K4: 4 | N4: 5
B5: специалисты | E5: специалисты | H5: специалисты | K5: специалисты | N5: специалисты
B6: За счет бюджетных ассигнований | C6: На основе догов.о платных образов.услугах | D6: ВСЕГО | E6: За счет бюджетных ассигнований | F6: На основе догов.о платных образов.услугах | G6: ВСЕГО | H6: За счет бюджетных ассигнований | I6: На основе догов.о платных образов.услугах | J6: ВСЕГО | K6: За счет бюджетных ассигнований | L6: На основе догов.о платных образов.услугах | M6: ВСЕГО | N6: За счет бюджетных ассигнований | O6: На основе догов.о платных образов.услугах | P6: ВСЕГО | Q6: За счет бюджетных ассигнований | R6: На основе догов.о платных образов.услугах | S6: ВСЕГО
A7: Факультет ветеринарной медицины
A8: 36.05.01 Ветеринария | B8: 90 | C8: 13 | D8: =C8+B8 -> 103 | E8: 79 | F8: 11 | G8: =F8+E8 -> 90 | H8: 69 | I8: 2 | J8: =H8+I8 -> 71 | K8: 66 | L8: 3 | M8: =K8+L8 -> 69 | N8: 36 | O8: 11 | P8: =N8+O8 -> 47 | Q8: =B8+E8+H8+K8+N8 -> 340 | R8: =I8+L8+O8+C8+F8 -> 40 | S8: =R8+Q8 -> 380
A9: Итого граждане России | B9: =B8 -> 90 | C9: =C8 -> 13 | D9: =D8 -> 103 | E9: =E8 -> 79 | F9: =F8 -> 11 | G9: =G8 -> 90 | H9: =H8 -> 69 | I9: =I8 -> 2 | ... P9: =P8 -> 47 | Q9: =H9+K9+N9+E9+B9 -> 340 | R9: =I9+L9+O9+C9+F9 -> 40 | S9: =R9+Q9 -> 380
A10: 36.05.01 Ветеринария | B10: 1 | C10: 0 | D10: =B10+C10 -> 1 | E10: 2 | F10: 0 | G10: =E10+F10 -> 2 | H10: 2 | I10: 0 | J10: =H10+I10 -> 2 | K10: 2 | L10: 1 | M10: =K10+L10 -> 3 | N10: 3 | O10: 0 | P10: =N10+O10 -> 3 | Q10: =B10+E10+H10+K10+N10 -> 10 | R10: =I10+L10+O10+F10+C10 -> 1 | S10: =R10+Q10 -> 11
A11: Итого граждане иностранных государст(вкл.Украину) | B11: =B10 -> 1 | C11: =C10 -> 0 | D11: =D10 -> 1 | E11: =E10 -> 2 | F11: =F10 -> 0 | G11: =G10 -> 2 | H11: =H10 -> 2 | I11: =I10 -> 0 | ... P11: =P10 -> 3 | Q11: =H11+K11+N11+E11+B11 -> 10 | R11: =I11+L11+O11+F11+C11 -> 1 | S11: =R11+Q11 -> 11
A12: Итого по факультету | B12: =B11+B9 -> 91 | C12: =C11+C9 -> 13 | D12: =D11+D9 -> 104 | E12: =E8+E10 -> 81 | F12: =F9+F11 -> 11 | G12: =G11+G9 -> 92 | H12: =H11+H9 -> 71 | I12: =I11+I9 -> 2 | J12: =J11+J9 -> 73 | K12: =K11+K9 -> 68 | L12: =L11+L9 -> 4 | M12: =M11+M9 -> 72 | N12: =N11+N9 -> 39 | ... P12: =P11+P9 -> 50 | Q12: =H12+K12+N12+E12+B12 -> 350 | R12: =I12+L12+O12+F12+C12 -> 41 | S12: =R12+Q12 -> 391

Sheet МАГ ОФО АБиП
A1: АКАДЕМИЯ БИОРЕСУРСОВ И ПРИРОДОПОЛЬЗОВАНИЯ КФУ
A2: Контингент Дневной формы обучения на 1.09.2019
A3: Факультет/направление подготовки | B3: выпуск 2021 | E3: выпуск 2020
B4: 1 | E4: 2 | H4: Итого магистров
B6: магистр | E6: магистр
B7: За счет бюджетных ассигнований | C7: На основе догов.о платных образов.услугах | D7: ВСЕГО | E7: За счет бюджетных ассигнований | F7: На основе догов.о платных образов.услугах | G7: ВСЕГО | H7: За счет бюджетных ассигнований | I7: На основе догов.о платных образов.услугах | J7: ВСЕГО
A8: Свод по направлениям подготовкии
A9: 35.04.04 Агрономия | B9: =B20+B30 -> 24 | C9: =C20+C30 -> 0 | D9: =D20+D30 -> 24 | E9: =E20+E30 -> 20 | F9: =F20+F30 -> 1 | G9: =G20+G30 -> 21 | H9: =E9+B9 -> 44 | I9: =F9+C9 -> 1 | J9: =G9+D9 -> 45
A10: 35.04.05 Садоводство | B10: =B21+B31 -> 20 | C10: =C21+C31 -> 0 | D10: =D21+D31 -> 20 | E10: =E21+E31 -> 21 | F10: =F21+F31 -> 0 | G10: =G21+G31 -> 21 | H10: =E10+B10 -> 41 | I10: =F10+C10 -> 0 | J10: =G10+D10 -> 41
A11: 21.04.02 Землеустройство и кадастры | B11: =B22+B32 -> 30 | C11: =C22+C32 -> 1 | D11: =D22+D32 -> 31 | E11: =E22+E32 -> 36 | F11: =F22+F32 -> 1 | G11: =G22+G32 -> 37 | H11: =E11+B11 -> 66 | I11: =F11+C11 -> 2 | J11: =G11+D11 -> 68
A12: 35.04.09 Ландшафтная архитектура | B12: =B23+B33 -> 0 | C12: =C23+C33 -> 0 | D12: =D23+D33 -> 0 | E12: =E23+E33 -> 0 | F12: =F23+F33 -> 0 | G12: =G23+G33 -> 0 | H12: =E12+B12 -> 0 | I12: =F12+C12 -> 0 | J12: =G12+D12 -> 0
A13: 35.04.01 Лесное дело | B13: =B24+B34 -> 10 | C13: =C24+C34 -> 0 | D13: =D24+D34 -> 10 | E13: =E24+E34 -> 9 | F13: =F24+F34 -> 1 | G13: =G24+G34 -> 10 | H13: =E13+B13 -> 19 | I13: =F13+C13 -> 1 | J13: =G13+D13 -> 20
A14: 19.04.02 Продукты питания из растительного сырья | B14: =B25+B35 -> 20 | C14: =C25+C35 -> 1 | D14: =D25+D35 -> 21 | E14: =E25+E35 -> 15 | F14: =F25+F35 -> 0 | G14: =G25+G35 -> 15 | H14: =E14+B14 -> 35 | I14: =F14+C14 -> 1 | J14: =G14+D14 -> 36
