Workbook

Sheet Специал ОФО МедА 
A1: Медицинская академия имени С.И.Георгиевского
A3: Контингент очной формы обучения по состоянию на 01.09.2019 г .
B5: Факультет/направление подготовки | C5: 1 | F5: 2 | I5: 3 | L5: 4 | O5: 5 | R5: 6 | U5: Всего специалитет
C7: За счет бюджетных ассигнований | D7: На основе догов. о платных образов. услугах | E7: ВСЕГО | F7: За счет бюджетных ассигнований | G7: На основе догов. о платных образов. услугах | H7: ВСЕГО | I7: За счет бюджетных ассигнований | J7: На основе догов. о платных образов. услугах | K7: ВСЕГО | L7: За счет бюджетных ассигнований | M7: На основе догов. о платных образов. услугах | N7: ВСЕГО | O7: За счет бюджетных ассигнований | P7: На основе догов. о платных образов. услугах | Q7: ВСЕГО | R7: За счет бюджетных ассигнований | S7: На основе догов. о платных образов. услугах | T7: ВСЕГО | U7: За счет бюджетных ассигнований | V7: На основе догов. о платных образов. услугах | W7: ВСЕГО
B8: 31.05.01 Лечебное дело | C8: =C15+C21 -> 340 | D8: =D15+D21 -> 129 | E8: =C8+D8 -> 469 | F8: =F15+F21 -> 324 | G8: =G15+G21 -> 343 | H8: =F8+G8 -> 667 | I8: =I15+I21 -> 296 | J8: =J15+J21 -> 247 | K8: =I8+J8 -> 543 | L8: =L15+L21 -> 291 | M8: =M15+M21 -> 199 | N8: =L8+M8 -> 490 | O8: =O15+O21 -> 277 | P8: =P15+P21 -> 220 | Q8: =O8+P8 -> 497 | R8: =R15+R21 -> 273 | S8: =S15+S21 -> 216 | T8: =R8+S8 -> 489 | U8: =C8+F8+I8+L8+O8+R8 -> 1801 | V8: =D8+G8+J8+M8+P8+S8 -> 1354 | W8: =E8+H8+K8+N8+Q8+T8 -> 3155
B9: 31.05.02 Педиатрия | C9: =C16+C22 -> 101 | D9: =D16+D22 -> 55 | E9: =C9+D9 -> 156 | F9: =F16+F22 -> 99 | G9: =G16+G22 -> 56 | H9: =F9+G9 -> 155 | I9: =I16+I22 -> 80 | J9: =J16+J22 -> 14 | K9: =I9+J9 -> 94 | L9: =L16+L22 -> 70 | M9: =M16+M22 -> 10 | N9: =L9+M9 -> 80 | O9: =O16+O22 -> 67 | P9: =P16+P22 -> 12 | Q9: =O9+P9 -> 79 | R9: =R16+R22 -> 69 | S9: =S16+S22 -> 7 | T9: =R9+S9 -> 76 | U9: =C9+F9+I9+L9+O9+R9 -> 486 | V9: =D9+G9+J9+M9+P9+S9 -> 154 | W9: =E9+H9+K9+N9+Q9+T9 -> 640
B10: 31.05.03 Стоматология | C10: =C17+C23 -> 30 | D10: =D17+D23 -> 100 | E10: =C10+D10 -> 130 | F10: =F17+F23 -> 37 | G10: =G17+G23 -> 127 | H10: =F10+G10 -> 164 | I10: =I17+I23 -> 31 | J10: =J17+J23 -> 62 | K10: =I10+J10 -> 93 | L10: =L17+L23 -> 32 | M10: =M17+M23 -> 71 | N10: =L10+M10 -> 103 | O10: =O17+O23 -> 27 | P10: =P17+P23 -> 83 | Q10: =O10+P10 -> 110 | R10: =R17+R23 -> 0 | S10: =S17+S23 -> 0 | T10: =R10+S10 -> 0 | U10: =C10+F10+I10+L10+O10+R10 -> 157 | V10: =D10+G10+J10+M10+P10+S10 -> 443 | W10: =E10+H10+K10+N10+Q10+T10 -> 600
B11: 33.05.01 Фармация | C11: =C18+C24 -> 45 | D11: =D18+D24 -> 23 | E11: =C11+D11 -> 68 | F11: =F18+F24 -> 41 | G11: =G18+G24 -> 28 | H11: =F11+G11 -> 69 | I11: =I18+I24 -> 37 | J11: =J18+J24 -> 4 | K11: =I11+J11 -> 41 | L11: =L18+L24 -> 40 | M11: =M18+M24 -> 7 | N11: =L11+M11 -> 47 | O11: =O18+O24 -> 41 | P11: =P18+P24 -> 13 | Q11: =O11+P11 -> 54 | R11: =R18+R24 -> 0 | S11: =S18+S24 -> 0 | T11: =R11+S11 -> 0 | U11: =C11+F11+I11+L11+O11+R11 -> 204 | V11: =D11+G11+J11+M11+P11+S11 -> 75 | W11: =E11+H11+K11+N11+Q11+T11 -> 279
B12: Итого по направлениям подготовки | C12: =SUM(C8:C11) -> 516 | D12: =SUM(D8:D11) -> 307 | E12: =SUM(E8:E11) -> 823 | F12: =SUM(F8:F11) -> 501 | G12: =SUM(G8:G11) -> 554 | H12: =SUM(H8:H11) -> 1055 | I12: =SUM(I8:I11) -> 444 | J12: =SUM(J8:J11) -> 327 | ... W12: =SUM(W8:W11) -> 4674
B13: В том числе:
B14: Граждане России
B15: 31.05.01 Лечебное дело | C15: 325 | D15: 76 | E15: 402 | F15: 308 | G15: 102 | H15: 410 | I15: 277 | J15: 43 | K15: 320 | L15: 277 | M15: 28 | N15: 305 | O15: 249 | P15: 39 | Q15: 288 | R15: 264 | S15: 27 | T15: 291 | U15: =C15+F15+I15+L15+O15+R15 -> 1700 | V15: =D15+G15+J15+M15+P15+S15 -> 315 | W15: =U15+V15 -> 2015
B16: 31.05.02 Педиатрия | C16: 100 | D16: 52 | E16: 153 | F16: 99 | G16: 55 | H16: 154 | I16: 77 | J16: 13 | K16: 90 | L16: 69 | M16: 10 | N16: 79 | O16: 66 | P16: 12 | Q16: 78 | R16: 68 | S16: 6 | T16: 74 | U16: =C16+F16+I16+L16+O16+R16 -> 479 | V16: =D16+G16+J16+M16+P16+S16 -> 148 | W16: =U16+V16 -> 627
B17: 31.05.03 Стоматология | C17: 30 | D17: 87 | E17: 117 | F17: 30 | G17: 109 | H17: 139 | I17: 29 | J17: 48 | K17: 77 | L17: 30 | M17: 59 | N17: 89 | O17: 26 | P17: 57 | Q17: 83 | R17: 0 | S17: 0 | T17: 0 | U17: =C17+F17+I17+L17+O17+R17 -> 145 | V17: =D17+G17+J17+M17+P17+S17 -> 360 | W17: =U17+V17 -> 505
B18: 33.05.01 Фармация | C18: 43 | D18: 22 | E18: 65 | F18: 41 | G18: 27 | H18: 68 | I18: 36 | J18: 2 | K18: 38 | L18: 38 | M18: 7 | N18: 45 | O18: 41 | P18: 12 | Q18: 53 | R18: 0 | S18: 0 | T18: 0 | U18: =C18+F18+I18+L18+O18+R18 -> 199 | V18: =D18+G18+J18+M18+P18+S18 -> 70 | W18: =U18+V18 -> 269
B19: Итого граждане России | C19: =SUM(C15:C18) -> 498 | D19: =SUM(D15:D18) -> 237 | E19: =SUM(E15:E18) -> 737 | F19: =SUM(F15:F18) -> 478 | G19: =SUM(G15:G18) -> 293 | H19: =SUM(H15:H18) -> 771 | I19: =SUM(I15:I18) -> 419 | J19: =SUM(J15:J18) -> 106 | ... W19: =SUM(W15:W18) -> 3416
B20: Граждане иностранных государств (вкл. Украину)
B21: 31.05.01 Лечебное дело | C21: 15 | D21: 53 | E21: 68 | F21: 16 | G21: 241 | H21: 256 | I21: 19 | J21: 204 | K21: 223 | L21: 14 | M21: 171 | N21: 185 | O21: 28 | P21: 181 | Q21: 209 | R21: 9 | S21: 189 | T21: 198 | U21: =C21+F21+I21+L21+O21+R21 -> 101 | V21: =D21+G21+J21+M21+P21+S21 -> 1039 | W21: =U21+V21 -> 1140
B22: 31.05.02 Педиатрия | C22: 1 | D22: 3 | E22: 4 | F22: 0 | G22: 1 | H22: 1 | I22: 3 | J22: 1 | K22: 4 | L22: 1 | M22: 0 | N22: 1 | O22: 1 | P22: 0 | Q22: 1 | R22: 1 | S22: 1 | T22: 2 | U22: =C22+F22+I22+L22+O22+R22 -> 7 | V22: =D22+G22+J22+M22+P22+S22 -> 6 | W22: =U22+V22 -> 13
B23: 31.05.03 Стоматология | C23: 0 | D23: 13 | E23: 13 | F23: 7 | G23: 18 | H23: 25 | I23: 2 | J23: 14 | K23: 16 | L23: 2 | M23: 12 | N23: 14 | O23: 1 | P23: 26 | Q23: 27 | R23: 0 | S23: 0 | T23: 0 | U23: =C23+F23+I23+L23+O23+R23 -> 12 | V23: =D23+G23+J23+M23+P23+S23 -> 83 | W23: =U23+V23 -> 95
B24: 33.05.01 Фармация | C24: 2 | D24: 1 | E24: 3 | F24: 0 | G24: 1 | H24: 0 | I24: 1 | J24: 2 | K24: 3 | L24: 2 | M24: 0 | N24: 2 | O24: 0 | P24: 1 | Q24: 1 | R24: 0 | S24: 0 | T24: 0 | U24: =C24+F24+I24+L24+O24+R24 -> 5 | V24: =D24+G24+J24+M24+P24+S24 -> 5 | W24: =U24+V24 -> 10
B25: Итого граждане иностранных государств | C25: =SUM(C21:C24) -> 18 | D25: =SUM(D21:D24) -> 70 | E25: =SUM(E21:E24) -> 88 | F25: =SUM(F21:F24) -> 23 | G25: =SUM(G21:G24) -> 261 | H25: =SUM(H21:H24) -> 282 | I25: =SUM(I21:I24) -> 25 | J25: =SUM(J21:J24) -> 221 | ... W25: =SUM(W21:W24) -> 1258
B26: Всего: | C26: =C19+C25 -> 516 | D26: =D19+D25 -> 307 | E26: =E19+E25 -> 825 | F26: =F19+F25 -> 501 | G26: =G19+G25 -> 554 | H26: =H19+H25 -> 1053 | I26: =I19+I25 -> 444 | J26: =J19+J25 -> 327 | ... W26: =W19+W25 -> 4674

Sheet МАГ ЗФО МедА ГОСУПР
A2: Название подразделения Медицинская академия имени С.И. Георгиевского
A3: Контингент заочной формы обучения на 01.09.2019 г.(Магистры)
A5: Факультет/направление подготовки | B5: 1 год обучения | E5: 2 год обучения | H5: 3 год обучения | K5: Всего магистры
B6: МАГИСТР | E6: МАГИСТР | H6: МАГИСТР
B7: За счет бюджетных ассигнований | C7: На основе догов. о платных образов. услугах | D7: ВСЕГО | E7: За счет бюджетных ассигнований | F7: На основе догов. о платных образов. услугах | G7: ВСЕГО | H7: За счет бюджетных ассигнований | I7: На основе догов. о платных образов. услугах | J7: ВСЕГО | K7: За счет бюджетных ассигнований | L7: На основе догов. о платных образов. услугах | M7: ВСЕГО
A8: Свод по направлениям подготовки
A9: 38.04.04 Государственное и муниципальное управление | B9: =B13+B17 -> 0 | C9: 0 | D9: 0 | E9: =E13+E17 -> 0 | F9: 11 | G9: 11 | H9: 0 | I9: 27 | J9: 27 | K9: =B9+E9+H9 -> 0 | L9: =C9+F9+I9 -> 38 | M9: =D9+G9+J9 -> 38
A10: Итого по направлениям подготовки: | B10: =SUM(B8:B9) -> 0 | C10: =SUM(C8:C9) -> 0 | D10: =SUM(D8:D9) -> 0 | E10: =SUM(E8:E9) -> 0 | F10: =SUM(F8:F9) -> 11 | G10: =SUM(G8:G9) -> 11 | H10: =SUM(H8:H9) -> 0 | I10: =SUM(I8:I9) -> 27 | ... M10: =SUM(M8:M9) -> 38
A11: В том числе:
A12: Граждане России
A13: 38.04.04 Государственное и муниципальное управление | B13: 0 | C13: 0 | D13: 0 | E13: 0 | F13: 10 | G13: 10 | H13: 0 | I13: 27 | J13: 27 | K13: =B13+E13+H13 -> 0 | L13: =C13+F13+I13 -> 37 | M13: =D13+G13+J13 -> 37
A14: Итого граждане России | B14: =SUM(B13:B13) -> 0 | C14: =SUM(C13:C13) -> 0 | D14: =SUM(D13:D13) -> 0 | E14: =SUM(E13:E13) -> 0 | F14: =SUM(F13:F13) -> 10 | G14: =SUM(G13:G13) -> 10 | H14: =SUM(H13:H13) -> 0 | I14: =SUM(I13:I13) -> 27 | ... M14: =SUM(M13:M13) -> 37
A15: Граждане иностранных государств (вкл. Украину)
A16: 38.04.04 Государственное и муниципальное управление | B16: 0 | C16: 0 | D16: 0 | E16: 0 | F16: 1 | G16: 1 | H16: 0 | I16: 0 | J16: 0 | K16: =B16+E16+H16 -> 0 | L16: =C16+F16+I16 -> 1 | M16: =D16+G16+J16 -> 1
A17: Итого граждане иностранных государств | B17: =SUM(B16:B16) -> 0 | C17: =SUM(C16:C16) -> 0 | D17: =SUM(D16:D16) -> 0 | E17: =SUM(E16:E16) -> 0 | F17: =SUM(F16:F16) -> 1 | G17: =SUM(G16:G16) -> 1 | H17: =SUM(H16:H16) -> 0 | I17: =SUM(I16:I16) -> 0 | ... M17: =SUM(M16:M16) -> 1
A18: ИТОГО по подразделению граждане России | B18: =B14 -> 0 | C18: =C14 -> 0 | D18: =D14 -> 0 | E18: =E14 -> 0 | F18: =F14 -> 10 | G18: =G14 -> 10 | H18: =H14 -> 0 | I18: =I14 -> 27 | ... M18: =M14 -> 37
A19: ИТОГО по подразделению иностранные граждане | B19: =B17 -> 0 | C19: =C17 -> 0 | D19: =D17 -> 0 | E19: =E17 -> 0 | F19: =F17 -> 1 | G19: =G17 -> 1 | H19: =H17 -> 0 | I19: =I17 -> 0 | ... M19: =M17 -> 1
A20: Итого | B20: =SUM(B18:B19) -> 0 | C20: =SUM(C18:C19) -> 0 | D20: =SUM(D18:D19) -> 0 | E20: =SUM(E18:E19) -> 0 | F20: =SUM(F18:F19) -> 11 | G20: =SUM(G18:G19) -> 11 | H20: =SUM(H18:H19) -> 0 | I20: =SUM(I18:I19) -> 27 | ... M20: =SUM(M18:M19) -> 38

Sheet Бакалавр ОФО АСИА
A1: АКАДЕМИЯ СТРОИТЕЛЬСТВА ИАРХИТЕКТУРЫ
A3: Контингент очной формы обучения на 01.09.2019 г.(Бакалавры)
A5: Факультет/направление подготовки | B5: 1 | E5: 2 | H5: 3 | K5: 4 | N5: 5 | Q5: Всего бакалавры
B7: За счет бюджетных ассигнований | C7: На основе догов. о платных образов. услугах | D7: ВСЕГО | E7: За счет бюджетных ассигнований | F7: На основе догов. о платных образов. услугах | G7: ВСЕГО | H7: За счет бюджетных ассигнований | I7: На основе догов. о платных образов. услугах | J7: ВСЕГО | K7: За счет бюджетных ассигнований | L7: На основе догов. о платных образов. услугах | M7: ВСЕГО | N7: За счет бюджетных ассигнований | O7: На основе догов. о платных образов. услугах | P7: ВСЕГО | Q7: За счет бюджетных ассигнований | R7: На основе догов. о платных образов. услугах | S7: ВСЕГО
A8: Свод по направлениям подготовки
A9: 07.03.04 Градостроительство | B9: =B22+B16 -> 59 | C9: =C22+C16 -> 22 | D9: =D22+D16 -> 81 | E9: =E22+E16 -> 60 | F9: =F22+F16 -> 14 | G9: =G22+G16 -> 74 | H9: =H22+H16 -> 56 | I9: =I22+I16 -> 18 | ... M9: =M22+M16 -> 65 | N9: =SUM(N16+N22) -> 66 | O9: =SUM(O16+O22) -> 18 | P9: =SUM(P16+P22) -> 84 | Q9: =B9+E9+H9+K9+N9 -> 289 | R9: =C9+F9+I9+L9+O9 -> 89 | S9: =SUM(Q9:R9) -> 378
A10: 08.03.01Строительство | B10: =B23+B17 -> 160 | C10: =C23+C17 -> 3 | D10: =D23+D17 -> 163 | E10: =E23+E17 -> 164 | F10: =F23+F17 -> 2 | G10: =G23+G17 -> 166 | H10: =H23+H17 -> 162 | I10: =I23+I17 -> 4 | ... M10: =M23+M17 -> 142 | N10: 0 | O10: 0 | P10: 0 | Q10: =B10+E10+H10+K10 -> 622 | R10: =C10+F10+I10+L10 -> 15 | S10: =SUM(Q10:R10) -> 637
A11: 15.03.04 Автоматизация технологических процессов и производста | B11: =SUM(B18+B24) -> 11 | C11: =SUM(C18) -> 0 | D11: =SUM(D18) -> 11 | E11: 0 | F11: 0 | G11: 0 | H11: 0 | I11: 0 | J11: 0 | K11: 0 | L11: 0 | M11: 0 | N11: 0 | O11: 0 | P11: 0 | Q11: =B11+E11+H11+K11 -> 11 | R11: =C11+F11+I11+L11 -> 0 | S11: =SUM(Q11:R11) -> 11
A12: 20.03.02 Природообустройство и водопользование | B12: =B19+B25 -> 6 | C12: =C25+C18 -> 0 | D12: =D25+D19 -> 6 | E12: =E25+E19 -> 23 | F12: =F25+F19 -> 0 | G12: =G25+G19 -> 23 | H12: =H25+H19 -> 17 | I12: =I25+I19 -> 0 | J12: =J25+J19 -> 17 | K12: =K25+K19 -> 20 | ... M12: =M25+M19 -> 20 | N12: 0 | O12: 0 | P12: 0 | Q12: =B12+E12+H12+K12 -> 66 | R12: =C12+F12+I12+L12 -> 0 | S12: =SUM(Q12:R12) -> 66
A13: Итого по направлениям подготовки: | B13: =SUM(B9:B12) -> 236 | C13: =SUM(C9:C12) -> 25 | D13: =SUM(D9:D12) -> 261 | E13: =SUM(E9:E12) -> 247 | F13: =SUM(F9:F12) -> 16 | G13: =SUM(G9:G12) -> 263 | H13: =SUM(H9:H12) -> 235 | I13: =SUM(I9:I12) -> 22 | ... M13: =SUM(M9:M12) -> 227 | N13: =SUM(N9) -> 66 | O13: =SUM(O9) -> 18 | P13: =SUM(P9) -> 84 | Q13: =SUM(Q9:Q12) -> 988 | R13: =SUM(R9:R12) -> 104 | S13: =SUM(S9:S12) -> 1092
A14: В том числе:
A15: Граждане России
A16: 07.03.04 Градостроительство | B16: 57 | C16: 21 | D16: =SUM(B16:C16) -> 78 | E16: 59 | F16: 14 | G16: =SUM(E16:F16) -> 73 | H16: 54 | I16: 15 | J16: =SUM(H16:I16) -> 69 | K16: 47 | L16: 13 | M16: =SUM(K16:L16) -> 60 | N16: 61 | O16: 18 | P16: =SUM(N16:O16) -> 79 | Q16: =B16+E16+H16+K16+N16 -> 278 | R16: =C16+F16+I16+L16+O16 -> 81 | S16: =SUM(Q16:R16) -> 359
A17: 08.03.01Строительство | B17: 157 | D17: =SUM(B17:C17) -> 157 | E17: 161 | F17: 1 | G17: =SUM(E17:F17) -> 162 | H17: 160 | I17: 1 | J17: =SUM(H17:I17) -> 161 | K17: 136 | L17: 6 | M17: =SUM(K17:L17) -> 142 | P17: 0 | Q17: =B17+E17+H17+K17 -> 614 | R17: =C17+F17+I17+L17 -> 8 | S17: =SUM(Q17:R17) -> 622
A18: 15.03.04 Автоматизация технологических процессов и производста | B18: 11 | C18: 0 | D18: =SUM(B18:C18) -> 11 | E18: 0 | F18: 0 | G18: =SUM(E18:F18) -> 0 | H18: 0 | I18: 0 | J18: =SUM(H18:I18) -> 0 | K18: 0 | L18: 0 | M18: =SUM(K18:L18) -> 0 | N18: 0 | O18: 0 | P18: 0 | Q18: =B18+E18+H18+K18 -> 11 | R18: =C18+F18+I18+L18 -> 0 | S18: =SUM(Q18:R18) -> 11
A19: 20.03.02 Природообустройство и водопользование | B19: 6 | C19: 0 | D19: =SUM(B19:C19) -> 6 | E19: 23 | F19: 0 | G19: =SUM(E19:F19) -> 23 | H19: 16 | I19: 0 | J19: =SUM(H19:I19) -> 16 | K19: 20 | L19: 0 | M19: =SUM(K19:L19) -> 20 | N19: 0 | O19: 0 | P19: 0 | Q19: =B19+E19+H19+K19 -> 65 | R19: =C19+F19+I19+L19 -> 0 | S19: =SUM(Q19:R19) -> 65
A20: Итого граждане России | B20: =SUM(B16:B19) -> 231 | C20: =SUM(C16:C19) -> 21 | D20: =SUM(D16:D19) -> 252 | E20: =SUM(E16:E19) -> 243 | F20: =SUM(F16:F19) -> 15 | G20: =SUM(G16:G19) -> 258 | H20: =SUM(H16:H19) -> 230 | I20: =SUM(I16:I19) -> 16 | ... O20: =SUM(O16:O19) -> 18 | P20: =SUM(N20:O20) -> 79 | Q20: =B20+E20+H20+K20+N20 -> 968 | R20: =C20+F20+I20+L20+O20 -> 89 | S20: =SUM(Q20:R20) -> 1057
A21: Граждане иностранных государств (вкл. Украину)
A22: 07.03.04 Градостроительство | B22: 2 | C22: 1 | D22: =SUM(B22:C22) -> 3 | E22: 1 | F22: 0 | G22: =SUM(E22:F22) -> 1 | H22: 2 | I22: 3 | J22: =SUM(H22:I22) -> 5 | K22: 1 | L22: 4 | M22: =SUM(K22:L22) -> 5 | N22: 5 | O22: 0 | P22: =SUM(N22:O22) -> 5 | Q22: =B22+E22+H22+K22+N22 -> 11 | R22: =C22+F22+I22+L22+O22 -> 8 | S22: =SUM(Q22:R22) -> 19
A23: 08.03.01Строительство | B23: 3 | C23: 3 | D23: =SUM(B23:C23) -> 6 | E23: 3 | F23: 1 | G23: =SUM(E23:F23) -> 4 | H23: 2 | I23: 3 | J23: =SUM(H23:I23) -> 5 | M23: =SUM(K23:L23) -> 0 | P23: 0 | Q23: =B23+E23+H23+K23 -> 8 | R23: =C23+F23+I23+L23 -> 7 | S23: =SUM(Q23:R23) -> 15
A24: 15.03.04 Автоматизация технологических процессов и производста | B24: 0 | C24: 0 | D24: =SUM(B24:C24) -> 0 | E24: 0 | F24: 0 | G24: =SUM(E24:F24) -> 0 | H24: 0 | I24: 0 | J24: =SUM(H24:I24) -> 0 | K24: 0 | L24: 0 | M24: =SUM(K24:L24) -> 0 | N24: 0 | O24: 0 | P24: 0 | Q24: =B24+E24+H24+K24 -> 0 | R24: =C24+F24+I24+L24 -> 0 | S24: =SUM(Q24:R24) -> 0
A25: 20.03.02 Природообустройство и водопользование | B25: 0 | C25: 0 | D25: =SUM(B25:C25) -> 0 | E25: 0 | F25: 0 | G25: =SUM(E25:F25) -> 0 | H25: 1 | I25: 0 | J25: =SUM(H25:I25) -> 1 | K25: 0 | L25: 0 | M25: =SUM(K25:L25) -> 0 | N25: 0 | O25: 0 | P25: 0 | Q25: =B25+E25+H25+K25 -> 1 | R25: =C25+F25+I25+L25 -> 0 | S25: =SUM(Q25:R25) -> 1
A26: Итого граждане иностранных государств | B26: =SUM(B22:B25) -> 5 | C26: =SUM(C22:C25) -> 4 | D26: =SUM(D22:D25) -> 9 | E26: =SUM(E22:E25) -> 4 | F26: =SUM(F22:F25) -> 1 | G26: =SUM(G22:G25) -> 5 | H26: =SUM(H22:H25) -> 5 | I26: =SUM(I22:I25) -> 6 | ... O26: =SUM(O22:O25) -> 0 | P26: =SUM(N26:O26) -> 5 | Q26: =SUM(Q21:Q25) -> 20 | R26: =SUM(R21:R25) -> 15 | S26: =SUM(S21:S25) -> 35
A27: ИТОГО по подразделению граждане России | B27: =B20 -> 231 | C27: =C20 -> 21 | D27: =D20 -> 252 | E27: =E20 -> 243 | F27: =F20 -> 15 | G27: =G20 -> 258 | H27: =H20 -> 230 | I27: =I20 -> 16 | ... M27: =M20 -> 222 | N27: =SUM(N20) -> 61 | O27: =SUM(O20) -> 18 | P27: =SUM(N27:O27) -> 79 | Q27: =Q20 -> 968 | R27: =R20 -> 89 | S27: =Q27+R27 -> 1057
A28: ИТОГО по подразделению иностранные граждане | B28: =B26 -> 5 | C28: =C26 -> 4 | D28: =D26 -> 9 | E28: =E26 -> 4 | F28: =F26 -> 1 | G28: =G26 -> 5 | H28: =H26 -> 5 | I28: =I26 -> 6 | ... M28: =M26 -> 5 | N28: =SUM(N26) -> 5 | O28: =SUM(O26) -> 0 | P28: =SUM(N28:O28) -> 5 | Q28: =Q26 -> 20 | R28: =R26 -> 15 | S28: =S26 -> 35
A29: Итого | B29: =SUM(B27:B28) -> 236 | C29: =SUM(C27:C28) -> 25 | D29: =SUM(D27:D28) -> 261 | E29: =SUM(E27:E28) -> 247 | F29: =SUM(F27:F28) -> 16 | G29: =SUM(G27:G28) -> 263 | H29: =SUM(H27:H28) -> 235 | I29: =SUM(I27:I28) -> 22 | ... S29: =SUM(S27:S28) -> 1092

Sheet Бакалавр ЗФО АСИА
A2: АКАДЕМИЯ СТРОИТЕЛЬСТВА И АРХИТЕКТУРЫ
A3: Контингент заочная форма обучения 01.09.2019 г.(Бакалавры)
B5: Факультет/направление подготовки | C5: 1 | F5: 2 | I5: 3 | L5: 4 | O5: 5 | R5: Всего бакалавры
C7: За счет бюджетных ассигнований | D7: На основе догов. о платных образов. услугах | E7: ВСЕГО | F7: За счет бюджетных ассигнований | G7: На основе догов. о платных образов. услугах | H7: ВСЕГО | I7: За счет бюджетных ассигнований | J7: На основе догов. о платных образов. услугах | K7: ВСЕГО | L7: За счет бюджетных ассигнований | M7: На основе догов. о платных образов. услугах | N7: ВСЕГО | O7: За счет бюджетных ассигнований | P7: На основе догов. о платных образов. услугах | Q7: ВСЕГО | R7: За счет бюджетных ассигнований | S7: На основе догов. о платных образов. услугах | T7: ВСЕГО
B8: Свод по направлениям подготовки
B9: 08.03.01 Строительство | C9: =C23+C16 -> 0 | D9: =D23+D16 -> 49 | E9: =E23+E16 -> 49 | F9: =F23+F16 -> 0 | G9: =G23+G16 -> 47 | H9: =H23+H16 -> 47 | I9: =I23+I16 -> 0 | J9: =J23+J16 -> 60 | ... T9: =T23+T16 -> 338
B10: 13.03.02 Электроэнергетика и электротехника | C10: =C24+C17 -> 0 | D10: =D24+D17 -> 0 | E10: =E24+E17 -> 0 | F10: =F24+F17 -> 0 | G10: =G24+G17 -> 0 | H10: =H24+H17 -> 0 | I10: =I24+I17 -> 0 | J10: =J24+J17 -> 0 | ... T10: =T24+T17 -> 0
B11: 20.03.02 Природообустройство и водопользование | C11: =C25+C18 -> 0 | D11: =D25+D18 -> 0 | E11: =E25+E18 -> 0 | F11: =F25+F18 -> 0 | G11: =G25+G18 -> 2 | H11: =H25+H18 -> 2 | I11: =I25+I18 -> 0 | J11: =J25+J18 -> 0 | ... T11: =T25+T18 -> 5
C12: =C27+C19 -> 0 | D12: =D27+D19 -> 0 | E12: =E27+E19 -> 0 | F12: =F27+F19 -> 0 | G12: =G27+G19 -> 0 | H12: =H27+H19 -> 0 | I12: =I27+I19 -> 0 | J12: =J27+J19 -> 0 | ... Q12: =Q27+Q19 -> 0 | R12: =C12+F12+I12+L12+O12 -> 0 | S12: =D12+G12+J12+M12+P12 -> 0 | T12: =SUM(R12:S12) -> 0
B13: Итого по направлениям подготовки | C13: =SUM(C9:C12) -> 0 | D13: =SUM(D9:D12) -> 49 | E13: =SUM(E9:E12) -> 49 | F13: =SUM(F9:F12) -> 0 | G13: =SUM(G9:G12) -> 49 | H13: =SUM(H9:H12) -> 49 | I13: =SUM(I9+I11) -> 0 | J13: =SUM(J9:J12) -> 60 | K13: =SUM(K9:K12) -> 60 | L13: =SUM(L9:L12) -> 2 | M13: =SUM(M9:M12) -> 80 | N13: =SUM(N9:N12) -> 82 | O13: =SUM(O9:O12) -> 0 | P13: =SUM(P9:P12) -> 103 | Q13: =SUM(Q9:Q12) -> 103 | ... T13: =SUM(T9:T12) -> 343
B14: В том числе:
B15: Граждане России
B16: 08.03.01 Строительство | C16: 0 | D16: 48 | E16: =SUM(C16:D16) -> 48 | F16: 0 | G16: 45 | H16: =SUM(F16:G16) -> 45 | I16: 0 | J16: 59 | K16: =SUM(I16:J16) -> 59 | L16: 1 | M16: 78 | N16: =SUM(L16:M16) -> 79 | O16: 0 | P16: 99 | Q16: =SUM(O16:P16) -> 99 | R16: =C16+F16+I16+L16+O16 -> 1 | S16: =D16+G16+J16+M16+P16 -> 329 | T16: =SUM(R16:S16) -> 330
B17: 13.03.02 Электроэнергетика и электротехника | E17: =SUM(C17:D17) -> 0 | H17: =SUM(F17:G17) -> 0 | K17: =SUM(I17:J17) -> 0 | N17: =SUM(L17:M17) -> 0 | Q17: =SUM(O17:P17) -> 0 | R17: =C17+F17+I17+L17+O17 -> 0 | S17: =D17+G17+J17+M17+P17 -> 0 | T17: =SUM(R17:S17) -> 0
B18: 20.03.02 Природообустройство и водопользование | C18: 0 | D18: 0 | E18: =SUM(C18:D18) -> 0 | F18: 0 | G18: 2 | H18: =SUM(F18:G18) -> 2 | I18: 0 | J18: 0 | K18: =SUM(I18:J18) -> 0 | L18: 1 | M18: 2 | N18: =SUM(L18:M18) -> 3 | O18: 0 | P18: 0 | Q18: =SUM(O18:P18) -> 0 | R18: =C18+F18+I18+L18+O18 -> 1 | S18: =D18+G18+J18+M18+P18 -> 4 | T18: =SUM(R18:S18) -> 5
C19: 0 | D19: 0 | E19: =SUM(C19:D19) -> 0 | F19: 0 | G19: 0 | H19: =SUM(F19:G19) -> 0 | I19: 0 | J19: 0 | K19: =SUM(I19:J19) -> 0 | L19: 0 | M19: 0 | N19: =SUM(L19:M19) -> 0 | O19: 0 | P19: 0 | Q19: =SUM(O19:P19) -> 0 | R19: =C19+F19+I19+L19+O19 -> 0 | S19: =D19+G19+J19+M19+P19 -> 0 | T19: =SUM(R19:S19) -> 0
C20: 0 | D20: 0 | E20: =SUM(C20:D20) -> 0 | F20: 0 | G20: 0 | H20: =SUM(F20:G20) -> 0 | I20: 0 | J20: 0 | K20: =SUM(I20:J20) -> 0 | L20: 0 | M20: 0 | N20: =SUM(L20:M20) -> 0 | O20: 0 | P20: 0 | Q20: =SUM(O20:P20) -> 0 | R20: =C20+F20+I20+L20+O20 -> 0 | S20: =D20+G20+J20+M20+P20 -> 0 | T20: =SUM(R20:S20) -> 0
B21: Итого граждане России | C21: =SUM(C16:C20) -> 0 | D21: =SUM(D16:D20) -> 48 | E21: =SUM(E16:E20) -> 48 | F21: =SUM(F16:F20) -> 0 | G21: =SUM(G16:G20) -> 47 | H21: =SUM(H16:H20) -> 47 | I21: =SUM(I16:I20) -> 0 | J21: =SUM(J16:J20) -> 59 | ... T21: =SUM(T16:T20) -> 335
B22: Граждане иностранных государств (вкл. Украину)
B23: 08.03.01 Строительство | C23: 0 | D23: 1 | E23: =SUM(C23:D23) -> 1 | F23: 0 | G23: 2 | H23: =SUM(F23:G23) -> 2 | I23: 0 | J23: 1 | K23: =SUM(I23:J23) -> 1 | L23: 0 | N23: =SUM(L23:M23) -> 0 | O23: 0 | P23: 4 | Q23: =SUM(O23:P23) -> 4 | R23: =C23+F23+I23+L23+O23 -> 0 | S23: =D23+G23+J23+M23+P23 -> 8 | T23: =SUM(R23:S23) -> 8
B24: 13.03.02 Электроэнергетика и электротехника | C24: 0 | D24: 0 | E24: =SUM(C24:D24) -> 0 | F24: 0 | G24: 0 | H24: =SUM(F24:G24) -> 0 | I24: 0 | J24: 0 | K24: =SUM(I24:J24) -> 0 | L24: 0 | M24: 0 | N24: =SUM(L24:M24) -> 0 | O24: 0 | P24: 0 | Q24: =SUM(O24:P24) -> 0 | R24: =C24+F24+I24+L24+O24 -> 0 | S24: =D24+G24+J24+M24+P24 -> 0 | T24: =SUM(R24:S24) -> 0
B25: 20.03.02 Природообустройство и водопользование | C25: 0 | D25: 0 | E25: =SUM(C25:D25) -> 0 | F25: 0 | G25: 0 | H25: =SUM(F25:G25) -> 0 | I25: 0 | J25: 0 | K25: =SUM(I25:J25) -> 0 | L25: 0 | M25: 0 | N25: =SUM(L25:M25) -> 0 | O25: 0 | P25: 0 | Q25: =SUM(O25:P25) -> 0 | R25: =C25+F25+I25+L25+O25 -> 0 | S25: =D25+G25+J25+M25+P25 -> 0 | T25: =SUM(R25:S25) -> 0
C26: 0 | D26: 0 | E26: =SUM(C26:D26) -> 0 | F26: 0 | G26: 0 | H26: =SUM(F26:G26) -> 0 | I26: 0 | J26: 0 | K26: =SUM(I26:J26) -> 0 | L26: 0 | M26: 0 | N26: =SUM(L26:M26) -> 0 | O26: 0 | P26: 0 | Q26: =SUM(O26:P26) -> 0 | R26: =C26+F26+I26+L26+O26 -> 0 | S26: =D26+G26+J26+M26+P26 -> 0 | T26: =SUM(R26:S26) -> 0
C27: 0 | D27: 0 | E27: =SUM(C27:D27) -> 0 | F27: 0 | G27: 0 | H27: =SUM(F27:G27) -> 0 | I27: 0 | J27: 0 | K27: =SUM(I27:J27) -> 0 | L27: 0 | M27: 0 | N27: =SUM(L27:M27) -> 0 | O27: 0 | P27: 0 | Q27: =SUM(O27:P27) -> 0 | R27: =C27+F27+I27+L27+O27 -> 0 | S27: =D27+G27+J27+M27+P27 -> 0 | T27: =SUM(R27:S27) -> 0
B28: Итого граждане иностранных государств | C28: =SUM(C23:C27) -> 0 | D28: =SUM(D23:D27) -> 1 | E28: =SUM(E23:E27) -> 1 | F28: =SUM(F23:F27) -> 0 | G28: =SUM(G23:G27) -> 2 | H28: =SUM(H23:H27) -> 2 | I28: =SUM(I23:I27) -> 0 | J28: =SUM(J23:J27) -> 1 | ... T28: =SUM(T23:T27) -> 8
B29: ИТОГО по подразделению граждане России | C29: =C21 -> 0 | D29: =D21 -> 48 | E29: =E21 -> 48 | F29: =F21 -> 0 | G29: =G21 -> 47 | H29: =H21 -> 47 | I29: =I21 -> 0 | J29: =J21 -> 59 | ... T29: =T21 -> 335
B30: ИТОГО по подразделению граждане иностранных государств | C30: =C28 -> 0 | D30: =D28 -> 1 | E30: =E28 -> 1 | F30: =F28 -> 0 | G30: =G28 -> 2 | H30: =H28 -> 2 | I30: =I28 -> 0 | J30: =J28 -> 1 | ... T30: =T28 -> 8
B31: Свод по направлениям подготовки | C31: =SUM(C29:C30) -> 0 | D31: =SUM(D29:D30) -> 49 | E31: =SUM(E29:E30) -> 49 | F31: =SUM(F29:F30) -> 0 | G31: =SUM(G29:G30) -> 49 | H31: =SUM(H29:H30) -> 49 | I31: =SUM(I29:I30) -> 0 | J31: =SUM(J29:J30) -> 60 | ... T31: =SUM(T29:T30) -> 343

Sheet МАГ ОФО АСИА
A2: АКАДЕМИЯ СТРОИТЕЛЬСТВА И АРХИТЕКТУРЫ
A3: Контингент очной формы обучения на 01.09.2019 г.(Магистры)
A5: Факультет/направление подготовки | B5: 1 год обучения | E5: 2 год обучения | H5: Всего магистры
B6: МАГИСТР | E6: МАГИСТР
B7: За счет бюджетных ассигнований | C7: На основе догов. о платных образов. услугах | D7: ВСЕГО | E7: За счет бюджетных ассигнований | F7: На основе догов. о платных образов. услугах | G7: ВСЕГО | H7: За счет бюджетных ассигнований | I7: На основе догов. о платных образов. услугах | J7: ВСЕГО
A8: Свод по направлениям подготовки
A9: 07.04.04 Градостроительство | B9: =B16+B23 -> 25 | C9: =C23+C16 -> 6 | D9: =D23+D16 -> 31 | E9: =E23+E16 -> 30 | F9: =F24+F16 -> 1 | G9: =G23+G16 -> 31 | H9: =B9+E9 -> 55 | I9: =C9+F9 -> 7 | J9: =D9+G9 -> 62
A10: 08.04.01 Строительство | B10: =B24+B17 -> 68 | C10: =C24+C17 -> 13 | D10: =D24+D17 -> 81 | E10: =E24+E17 -> 70 | F10: =F25+F17 -> 7 | G10: =G24+G17 -> 77 | H10: =B10+E10 -> 138 | I10: =C10+F10 -> 20 | J10: =D10+G10 -> 158
A11: 13.04.02 Электроэнергетика и электротехника | B11: =B26+B18 -> 0 | C11: =C26+C18 -> 0 | D11: =D26+D18 -> 0 | E11: =E26+E18 -> 0 | F11: =F26+F18 -> 0 | G11: =G26+G18 -> 0 | H11: =B11+E11 -> 0 | I11: =C11+F11 -> 0 | J11: =D11+G11 -> 0
A12: 20.04.02 Природообустройство и водопользование | B12: =B26+B19 -> 6 | C12: =C26+C18 -> 0 | D12: =D26+D19 -> 6 | E12: =E27+E19 -> 3 | F12: =F27+F19 -> 0 | G12: =G27+G19 -> 3 | H12: =B12+E12 -> 9 | I12: =C12+F12 -> 0 | J12: =D12+G12 -> 9
A13: Итого по направлениям подготовки: | B13: =SUM(B8:B12) -> 99 | C13: =SUM(C8:C12) -> 19 | D13: =SUM(D8:D12) -> 118 | E13: =SUM(E8:E12) -> 103 | F13: =SUM(F8:F12) -> 8 | G13: =SUM(G8:G12) -> 111 | H13: =SUM(H9:H12) -> 202 | I13: =SUM(I9:I12) -> 27 | J13: =SUM(J9:J12) -> 229
A14: В том числе:
A15: Граждане России
A16: 07.04.04 Градостроительство | B16: 25 | C16: 6 | D16: =SUM(B16:C16) -> 31 | E16: 30 | F16: 1 | G16: =SUM(E16:F16) -> 31 | H16: =B16+E16 -> 55 | I16: =C16+F16 -> 7 | J16: =D16+G16 -> 62
A17: 08.04.01 Строительство | B17: 66 | C17: 12 | D17: =SUM(B17:C17) -> 78 | E17: 69 | F17: 7 | G17: =SUM(E17:F17) -> 76 | H17: =B17+E17 -> 135 | I17: =C17+F17 -> 19 | J17: =D17+G17 -> 154
A18: 13.04.02 Электроэнергетика и электротехника | D18: =SUM(B18:C18) -> 0 | G18: =SUM(E18:F18) -> 0 | H18: =B18+E18 -> 0 | I18: =C18+F18 -> 0 | J18: =D18+G18 -> 0
A19: 20.04.02 Природообустройство и водопользование | B19: 6 | D19: =SUM(B19:C19) -> 6 | E19: 3 | G19: =SUM(E19:F19) -> 3 | H19: =B19+E19 -> 9 | I19: =C19+F19 -> 0 | J19: =D19+G19 -> 9
B20: 0 | C20: 0 | D20: =SUM(B20:C20) -> 0 | E20: 0 | F20: 0 | G20: =SUM(E20:F20) -> 0 | H20: =B20+E20 -> 0 | I20: =C20+F20 -> 0 | J20: =D20+G20 -> 0
A21: Итого граждане России | B21: =SUM(B16:B20) -> 97 | C21: =SUM(C16:C20) -> 18 | D21: =SUM(D16:D20) -> 115 | E21: =SUM(E16:E20) -> 102 | F21: =SUM(F16:F20) -> 8 | G21: =SUM(G16:G20) -> 110 | H21: =SUM(H16:H20) -> 199 | I21: =SUM(I16:I20) -> 26 | J21: =SUM(J16:J20) -> 225
A22: Граждане иностранных государств (вкл. Украину)
A23: 07.04.04 Градостроительство | D23: =SUM(B23:C23) -> 0 | G23: =SUM(E23:F23) -> 0 | H23: =B23+E23 -> 0 | I23: =C23+F23 -> 0 | J23: =D23+G23 -> 0
A24: 08.04.01 Строительство | B24: 2 | C24: 1 | D24: =SUM(B24:C24) -> 3 | E24: 1 | G24: =SUM(E24:F24) -> 1 | H24: =B24+E24 -> 3 | I24: =C24+F24 -> 1 | J24: =D24+G24 -> 4
A25: 13.04.02 Электроэнергетика и электротехника | D25: =SUM(B25:C25) -> 0 | G25: =SUM(E25:F25) -> 0 | H25: =B25+E25 -> 0 | I25: =C25+F25 -> 0 | J25: =D25+G25 -> 0
A26: 20.04.02 Природообустройство и водопользование | D26: =SUM(B26:C26) -> 0 | G26: =SUM(E26:F26) -> 0 | H26: =B26+E26 -> 0 | I26: =C26+F26 -> 0 | J26: =D26+G26 -> 0
B27: 0 | C27: 0 | D27: =SUM(B27:C27) -> 0 | E27: 0 | F27: 0 | G27: =SUM(E27:F27) -> 0 | H27: =B27+E27 -> 0 | I27: =C27+F27 -> 0 | J27: =D27+G27 -> 0
A28: Итого граждане иностранных государств | B28: =SUM(B23:B27) -> 2 | C28: =SUM(C23:C27) -> 1 | D28: =SUM(D23:D27) -> 3 | E28: =SUM(E23:E27) -> 1 | F28: =SUM(F23:F27) -> 0 | G28: =SUM(G23:G27) -> 1 | H28: =SUM(H23:H27) -> 3 | I28: =SUM(I23:I27) -> 1 | J28: =SUM(J23:J27) -> 4
A29: ИТОГО по подразделению граждане России | B29: =B21 -> 97 | C29: =C21 -> 18 | D29: =D21 -> 115 | E29: =E21 -> 102 | F29: =F21 -> 8 | G29: =G21 -> 110 | H29: =H21 -> 199 | I29: =I21 -> 26 | J29: =J21 -> 225
A30: ИТОГО по подразделению иностранные граждане | B30: =B28 -> 2 | C30: =C28 -> 1 | D30: =D28 -> 3 | E30: =E28 -> 1 | F30: =F28 -> 0 | G30: =G28 -> 1 | H30: =H28 -> 3 | I30: =I28 -> 1 | J30: =J28 -> 4
A31: Итого | B31: =SUM(B29:B30) -> 99 | C31: =SUM(C29:C30) -> 19 | D31: =SUM(D29:D30) -> 118 | E31: =SUM(E29:E30) -> 103 | F31: =SUM(F29:F30) -> 8 | G31: =SUM(G29:G30) -> 111 | H31: =SUM(H29:H30) -> 202 | I31: =SUM(I29:I30) -> 27 | J31: =SUM(J29:J30) -> 229

Sheet МАГ ЗФО АСИА
A2: АКАДЕМИЯ СТРОИТЕЛЬСТВА И АРХИТЕКТУРЫ
A3: Контингент заочной формы обучения на 01.09.2019 г.(Магистры)
A5: Факультет/направление подготовки | B5: 1 год обучения | E5: 2 год обучения | H5: 3 год обучения | K5: Всего магистры
B6: МАГИСТР | E6: МАГИСТР | H6: МАГИСТР
B7: За счет бюджетных ассигнований | C7: На основе догов. о платных образов. услугах | D7: ВСЕГО | E7: За счет бюджетных ассигнований | F7: На основе догов. о платных образов. услугах | G7: ВСЕГО | H7: За счет бюджетных ассигнований | I7: На основе догов. о платных образов. услугах | J7: ВСЕГО | K7: За счет бюджетных ассигнований | L7: На основе догов. о платных образов. услугах | M7: ВСЕГО
A8: Свод по направлениям подготовки
A9: 08.04.01 Строительство | B9: =B17+B17 -> 0 | C9: =C24+C17 -> 62 | D9: =D24+D17 -> 62 | E9: =E25+E17 -> 0 | F9: =F25+F17 -> 42 | G9: =G25+G17 -> 42 | H9: =H25+H17 -> 0 | I9: =I25+I17 -> 28 | J9: =J25+J17 -> 28 | K9: =B9+E9+H9 -> 0 | L9: =C9+F9+I9 -> 132 | M9: =D9+G9+J9 -> 132
A10: 13.04.02 Электроэнергетика и электротехника | B10: =B26+B18 -> 0 | C10: =C26+C18 -> 0 | D10: =D26+D18 -> 0 | E10: =E26+E18 -> 0 | F10: =F26+F18 -> 0 | G10: =G26+G18 -> 0 | H10: =H26+H18 -> 0 | I10: =I26+I18 -> 0 | J10: =J26+J18 -> 0 | K10: =B10+E10+H10 -> 0 | L10: =C10+F10+I10 -> 0 | M10: =D10+G10+J10 -> 0
A11: 20.04.02 Природообустройство и водопользование | B11: =B27+B19 -> 0 | C11: =C27+C19 -> 0 | D11: =D27+D19 -> 0 | E11: =E27+E19 -> 0 | F11: 1 | G11: =G27+G19 -> 1 | H11: =H27+H19 -> 0 | I11: =I27+I19 -> 0 | J11: =J27+J19 -> 0 | K11: =B11+E11+H11 -> 0 | L11: =C11+F11+I11 -> 1 | M11: =D11+G11+J11 -> 1
E12: =E28+E20 -> 0 | F12: =F28+F20 -> 0 | G12: =G28+G20 -> 0 | H12: =H28+H20 -> 0 | I12: =I28+I20 -> 0 | J12: =J28+J20 -> 0 | K12: =B12+E12+H12 -> 0 | L12: =C12+F12+I12 -> 0 | M12: =D12+G12+J12 -> 0
B13: =B28+B20 -> 0 | C13: =C28+C20 -> 0 | D13: =D28+D20 -> 0 | E13: =E29+E21 -> 0 | F13: =F29+F21 -> 0 | G13: =G29+G21 -> 0 | H13: =H29+H21 -> 0 | I13: =I29+I21 -> 3 | J13: =J29+J21 -> 3 | K13: =B13+E13+H13 -> 0 | L13: =C13+F13+I13 -> 3 | M13: =D13+G13+J13 -> 3
A14: Итого по направлениям подготовки: | B14: =SUM(B8:B13) -> 0 | C14: =SUM(C8:C13) -> 62 | D14: =SUM(D8:D13) -> 62 | E14: =SUM(E8:E13) -> 0 | F14: =SUM(F8:F13) -> 43 | G14: =SUM(G8:G13) -> 43 | H14: =SUM(H8:H13) -> 0 | I14: =SUM(I8:I13) -> 31 | ... M14: =SUM(M8:M13) -> 136
A15: В том числе:
A16: Граждане России
A17: 08.04.01 Строительство | B17: 0 | C17: 61 | D17: =SUM(B17:C17) -> 61 | E17: 0 | F17: 42 | G17: =SUM(E17:F17) -> 42 | H17: 0 | I17: 28 | J17: =SUM(H17:I17) -> 28 | K17: =B17+E17+H17 -> 0 | L17: =C17+F17+I17 -> 131 | M17: =D17+G17+J17 -> 131
A18: 13.04.02 Электроэнергетика и электротехника | D18: =SUM(B18:C18) -> 0 | G18: =SUM(E18:F18) -> 0 | H18: 0 | I18: 0 | J18: =SUM(H18:I18) -> 0 | K18: =B18+E18+H18 -> 0 | L18: =C18+F18+I18 -> 0 | M18: =D18+G18+J18 -> 0
A19: 20.04.02 Природообустройство и водопользование | B19: 0 | C19: 0 | D19: =SUM(B19:C19) -> 0 | E19: 0 | F19: 1 | G19: 1 | H19: 0 | I19: 0 | J19: =SUM(H19:I19) -> 0 | K19: =B19+E19+H19 -> 0 | L19: =C19+F19+I19 -> 1 | M19: =D19+G19+J19 -> 1
B20: 0 | C20: 0 | D20: =SUM(B20:C20) -> 0 | E20: 0 | F20: 0 | G20: =SUM(E20:F20) -> 0 | H20: 0 | I20: 0 | J20: =SUM(H20:I20) -> 0 | K20: =B20+E20+H20 -> 0 | L20: =C20+F20+I20 -> 0 | M20: =D20+G20+J20 -> 0
B21: 0 | C21: 0 | D21: =SUM(B21:C21) -> 0 | E21: 0 | F21: 0 | G21: =SUM(E21:F21) -> 0 | H21: 0 | I21: 0 | J21: =SUM(H21:I21) -> 0 | K21: =B21+E21+H21 -> 0 | L21: =C21+F21+I21 -> 0 | M21: =D21+G21+J21 -> 0
A22: Итого граждане России | B22: =SUM(B17:B21) -> 0 | C22: =SUM(C17:C21) -> 61 | D22: =SUM(D17:D21) -> 61 | E22: =SUM(E17:E21) -> 0 | F22: =SUM(F17:F21) -> 43 | G22: =SUM(G17:G21) -> 43 | H22: =SUM(H17:H21) -> 0 | I22: =SUM(I17:I21) -> 28 | ... M22: =SUM(M17:M21) -> 132
A23: Граждане иностранных государств (вкл. Украину)
A24: 08.04.01 Строительство | B24: 0 | C24: 1 | D24: =SUM(B24:C24) -> 1 | E24: 0 | F24: 0 | G24: =SUM(E24:F24) -> 0 | H24: 0 | I24: 3 | J24: =SUM(H24:I24) -> 3 | K24: =B24+E24+H24 -> 0 | L24: =C24+F24+I24 -> 4 | M24: =D24+G24+J24 -> 4
A25: 13.04.02 Электроэнергетика и электротехника | B25: 0 | C25: 0 | D25: =SUM(B25:C25) -> 0 | E25: 0 | F25: 0 | G25: =SUM(E25:F25) -> 0 | H25: 0 | I25: 0 | J25: =SUM(H25:I25) -> 0 | K25: =B25+E25+H25 -> 0 | L25: =C25+F25+I25 -> 0 | M25: =D25+G25+J25 -> 0
A26: 20.04.02 Природообустройство и водопользование | B26: 0 | C26: 0 | D26: =SUM(B26:C26) -> 0 | E26: 0 | F26: 0 | G26: =SUM(E26:F26) -> 0 | H26: 0 | I26: 0 | J26: =SUM(H26:I26) -> 0 | K26: =B26+E26+H26 -> 0 | L26: =C26+F26+I26 -> 0 | M26: =D26+G26+J26 -> 0
B27: 0 | C27: 0 | D27: =SUM(B27:C27) -> 0 | E27: 0 | F27: 0 | G27: =SUM(E27:F27) -> 0 | H27: 0 | I27: 0 | J27: =SUM(H27:I27) -> 0 | K27: =B27+E27+H27 -> 0 | L27: =C27+F27+I27 -> 0 | M27: =D27+G27+J27 -> 0
B28: 0 | C28: 0 | D28: =SUM(B28:C28) -> 0 | E28: 0 | F28: 0 | G28: =SUM(E28:F28) -> 0 | H28: 0 | I28: 0 | J28: =SUM(H28:I28) -> 0 | K28: =B28+E28+H28 -> 0 | L28: =C28+F28+I28 -> 0 | M28: =D28+G28+J28 -> 0
A29: Итого граждане иностранных государств | B29: =SUM(B24:B28) -> 0 | C29: =SUM(C24:C28) -> 1 | D29: =SUM(D24:D28) -> 1 | E29: =SUM(E24:E28) -> 0 | F29: =SUM(F24:F28) -> 0 | G29: =SUM(G24:G28) -> 0 | H29: =SUM(H24:H28) -> 0 | I29: =SUM(I24:I28) -> 3 | ... M29: =SUM(M24:M28) -> 4
A30: ИТОГО по подразделению граждане России | B30: =B22 -> 0 | C30: =C22 -> 61 | D30: =D22 -> 61 | E30: =E22 -> 0 | F30: =F22 -> 43 | G30: =G22 -> 43 | H30: =H22 -> 0 | I30: =I22 -> 28 | ... M30: =M22 -> 132
A31: ИТОГО по подразделению иностранные граждане | B31: =B29 -> 0 | C31: =C29 -> 1 | D31: =D29 -> 1 | E31: =E29 -> 0 | F31: =F29 -> 0 | G31: =G29 -> 0 | H31: =H29 -> 0 | I31: =I29 -> 3 | ... M31: =M29 -> 4
A32: Итого | B32: =SUM(B30:B31) -> 0 | C32: =SUM(C30:C31) -> 62 | D32: =SUM(D30:D31) -> 62 | E32: =SUM(E30:E31) -> 0 | F32: =SUM(F30:F31) -> 43 | G32: =SUM(G30:G31) -> 43 | H32: =SUM(H30:H31) -> 0 | I32: =SUM(I30:I31) -> 31 | ... M32: =SUM(M30:M31) -> 136

Sheet Бакалавр ОФО АБиП
A1: АКАДЕМИЯ БИОРЕСУРСОВ И ПРИРОДОПОЛЬЗОВАНИЯ КФУ
A2: Контингент Дневной формы обучения на 1.09.2019
A3: Факультет/направление подготовки | B3: выпуск 2023 | E3: выпуск 2022 | H3: выпуск 2021 | K3: выпуск 2020 | N3: Итого Бакалавры
C5: 1 | E5: 2 | H5: 3 | K5: 4
B6: За счет бюджетных ассигнований | C6: На основе догов.о платных образов.услугах | D6: ВСЕГО | E6: За счет бюджетных ассигнований | F6: На основе догов.о платных образов.услугах | G6: ВСЕГО | H6: За счет бюджетных ассигнований | I6: На основе догов.о платных образов.услугах | J6: ВСЕГО | K6: За счет бюджетных ассигнований | L6: На основе догов.о платных образов.услугах | M6: ВСЕГО | N6: За счет бюджетных ассигнований | O6: На основе догов.о платных образов.услугах | P6: ВСЕГО
A7: Свод по направлениям подготовкии
A8: 35.03.04 Агрономия | B8: =B21+B33 -> 18 | C8: =C21+C33 -> 0 | D8: =D21+D33 -> 18 | E8: =E21+E33 -> 41 | F8: =F21+F33 -> 0 | G8: =G21+G33 -> 41 | H8: =H21+H33 -> 35 | I8: =I21+I33 -> 0 | ... P8: =P21+P33 -> 132
A9: 35.03.05 Садоводство | B9: =B22+B34 -> 16 | C9: =C22+C34 -> 0 | D9: =D22+D34 -> 16 | E9: =E22+E34 -> 37 | F9: =F22+F34 -> 0 | G9: =G22+G34 -> 37 | H9: =H22+H34 -> 22 | I9: =I22+I34 -> 0 | ... P9: =P22+P34 -> 98
A10: 21.03.02 Землеустройство и кадастры | B10: =B23+B35 -> 40 | C10: =C23+C35 -> 0 | D10: =D23+D35 -> 40 | E10: =E23+E35 -> 38 | F10: =F23+F35 -> 0 | G10: =G23+G35 -> 38 | H10: =H23+H35 -> 33 | I10: =I23+I35 -> 1 | ... P10: =P23+P35 -> 153
A11: 21.03.03 Геодезия и дистанцион. | B11: =B24+B36 -> 25 | C11: =C24+C36 -> 0 | D11: =D24+D36 -> 25 | E11: =E24+E36 -> 23 | F11: =F24+F36 -> 0 | G11: =G24+G36 -> 23 | H11: =H24+H36 -> 25 | I11: =I24+I36 -> 0 | ... P11: =P24+P36 -> 94
A12: 35.03.10 Ландшафтная архитектура | B12: =B25+B37 -> 0 | C12: =C25+C37 -> 0 | D12: =D25+D37 -> 0 | E12: =E25+E37 -> 0 | F12: =F25+F37 -> 0 | G12: =G25+G37 -> 0 | H12: =H25+H37 -> 0 | I12: =I25+I37 -> 0 | ... P12: =P25+P37 -> 0
A13: 35.03.01 Лесное дело | B13: =B26+B38 -> 13 | C13: =C26+C38 -> 0 | D13: =D26+D38 -> 13 | E13: =E26+E38 -> 29 | F13: =F26+F38 -> 0 | G13: =G26+G38 -> 29 | H13: =H26+H38 -> 24 | I13: =I26+I38 -> 0 | ... P13: =P26+P38 -> 93
A14: 19.03.02 Продукты питания из растительного сырья | B14: =B27+B39 -> 43 | C14: =C27+C39 -> 0 | D14: =D27+D39 -> 43 | E14: =E27+E39 -> 37 | F14: =F27+F39 -> 0 | G14: =G27+G39 -> 37 | H14: =H27+H39 -> 35 | I14: =I27+I39 -> 0 | ... P14: =P27+P39 -> 149
A15: 19.03.03 Продукты питания животного происхождения | B15: =B28+B40 -> 15 | C15: =C28+C40 -> 0 | D15: =D28+D40 -> 15 | E15: =E28+E40 -> 19 | F15: =F28+F40 -> 0 | G15: =G28+G40 -> 19 | H15: =H28+H40 -> 13 | I15: =I28+I40 -> 0 | ... P15: =P28+P40 -> 62
A16: 35.03.06 Агроинженерия | B16: =B29+B41 -> 57 | C16: =C29+C41 -> 0 | D16: =D29+D41 -> 57 | E16: =E29+E41 -> 55 | F16: =F29+F41 -> 1 | G16: =G29+G41 -> 56 | H16: =H29+H41 -> 47 | I16: =I29+I41 -> 0 | ... P16: =P29+P41 -> 198
A17: 27.03.03 Системный анализ | B17: =B30+B42 -> 16 | C17: =C30+C42 -> 0 | D17: =D30+D42 -> 16 | E17: =E30+E42 -> 16 | F17: =F30+F42 -> 0 | G17: =G30+G42 -> 16 | H17: =H30+H42 -> 13 | I17: =I30+I42 -> 0 | ... P17: =P30+P42 -> 59
A18: Итого по направлениям подготовки: | B18: =B31+B43 -> 243 | C18: =C31+C43 -> 0 | D18: =D31+D43 -> 243 | E18: =E31+E43 -> 295 | F18: =F31+F43 -> 1 | G18: =G31+G43 -> 296 | H18: =H31+H43 -> 247 | I18: =I31+I43 -> 1 | ... P18: =P31+P43 -> 1038
A19: В том числе:
A20: Граждане России
A21: 35.03.04 Агрономия | B21: 17 | C21: 0 | D21: =B21+C21 -> 17 | E21: 41 | F21: 0 | G21: =E21+F21 -> 41 | H21: 33 | I21: 0 | J21: =I21+H21 -> 33 | K21: 38 | L21: 0 | M21: =K21+L21 -> 38 | N21: =B21+E21+H21+K21 -> 129 | O21: =F21+I21+L21+C21 -> 0 | P21: =N21+O21 -> 129
A22: 35.03.05 Садоводство | B22: 15 | C22: 0 | D22: =B22+C22 -> 15 | E22: 34 | F22: 0 | G22: =E22+F22 -> 34 | H22: 21 | I22: 0 | J22: =I22+H22 -> 21 | K22: 19 | L22: 1 | M22: =K22+L22 -> 20 | N22: =B22+E22+H22+K22 -> 89 | O22: =F22+I22+L22+C22 -> 1 | P22: =N22+O22 -> 90
A23: 21.03.02 Землеустройство и кадастры | B23: 40 | C23: 0 | D23: =B23+C23 -> 40 | E23: 38 | F23: 0 | G23: =E23+F23 -> 38 | H23: 32 | I23: 1 | J23: =I23+H23 -> 33 | K23: 37 | L23: 4 | M23: =K23+L23 -> 41 | N23: =B23+E23+H23+K23 -> 147 | O23: =F23+I23+L23+C23 -> 5 | P23: =N23+O23 -> 152
A24: 21.03.03 Геодезия и дистанцион. | B24: 25 | C24: 0 | D24: =B24+C24 -> 25 | E24: 22 | F24: 0 | G24: =E24+F24 -> 22 | H24: 25 | I24: 0 | J24: =I24+H24 -> 25 | K24: 21 | L24: 0 | M24: =K24+L24 -> 21 | N24: =B24+E24+H24+K24 -> 93 | O24: =F24+I24+L24+C24 -> 0 | P24: =N24+O24 -> 93
A25: 35.03.10 Ландшафтная архитектура | B25: 0 | C25: 0 | D25: =B25+C25 -> 0 | E25: 0 | F25: 0 | G25: =E25+F25 -> 0 | H25: 0 | I25: 0 | J25: =I25+H25 -> 0 | K25: 0 | L25: 0 | M25: =K25+L25 -> 0 | N25: =B25+E25+H25+K25 -> 0 | O25: =F25+I25+L25+C25 -> 0 | P25: =N25+O25 -> 0
A26: 35.03.01 Лесное дело | B26: 13 | C26: 0 | D26: =B26+C26 -> 13 | E26: 29 | F26: 0 | G26: =E26+F26 -> 29 | H26: 24 | I26: 0 | J26: =I26+H26 -> 24 | K26: 27 | L26: 0 | M26: =K26+L26 -> 27 | N26: =B26+E26+H26+K26 -> 93 | O26: =F26+I26+L26+C26 -> 0 | P26: =N26+O26 -> 93
A27: 19.03.02 Продукты питания из растительного сырья | B27: 43 | C27: 0 | D27: =B27+C27 -> 43 | E27: 36 | F27: 0 | G27: =E27+F27 -> 36 | H27: 35 | I27: 0 | J27: =I27+H27 -> 35 | K27: 34 | L27: 0 | M27: =K27+L27 -> 34 | N27: =B27+E27+H27+K27 -> 148 | O27: =F27+I27+L27+C27 -> 0 | P27: =N27+O27 -> 148
A28: 19.03.03 Продукты питания животного происхождения | B28: 14 | C28: 0 | D28: =B28+C28 -> 14 | E28: 18 | F28: 0 | G28: =E28+F28 -> 18 | H28: 10 | I28: 0 | J28: =I28+H28 -> 10 | K28: 15 | L28: 0 | M28: =K28+L28 -> 15 | N28: =B28+E28+H28+K28 -> 57 | O28: =F28+I28+L28+C28 -> 0 | P28: =N28+O28 -> 57
A29: 35.03.10 Агроинженерия | B29: 55 | C29: 0 | D29: =B29+C29 -> 55 | E29: 53 | F29: 1 | G29: =E29+F29 -> 54 | H29: 44 | I29: 0 | J29: =I29+H29 -> 44 | K29: 38 | L29: 0 | M29: =K29+L29 -> 38 | N29: =B29+E29+H29+K29 -> 190 | O29: =F29+I29+L29+C29 -> 1 | P29: =N29+O29 -> 191
A30: 27.03.03 Системный анализ | B30: 16 | C30: 0 | D30: =B30+C30 -> 16 | E30: 15 | F30: 0 | G30: =E30+F30 -> 15 | H30: 13 | I30: 0 | J30: =I30+H30 -> 13 | K30: 14 | L30: 0 | M30: =K30+L30 -> 14 | N30: =B30+E30+H30+K30 -> 58 | O30: =F30+I30+L30+C30 -> 0 | P30: =N30+O30 -> 58
A31: Итого граждане России | B31: =B21+B22+B23+B24+B25+B26+B27+B28+B29+B30 -> 238 | C31: =C21+C22+C23+C24+C25+C26+C27+C28+C29+C30 -> 0 | D31: =D21+D22+D23+D24+D25+D26+D27+D28+D29+D30 -> 238 | E31: =E21+E22+E23+E24+E25+E26+E27+E28+E29+E30 -> 286 | F31: =F21+F22+F23+F24+F25+F26+F27+F28+F29+F30 -> 1 | G31: =G21+G22+G23+G24+G25+G26+G27+G28+G29+G30 -> 287 | H31: =H21+H22+H23+H24+H25+H26+H27+H28+H29+H30 -> 237 | I31: =I21+I22+I23+I24+I25+I26+I27+I28+I29+I30 -> 1 | ... P31: =P21+P22+P23+P24+P25+P26+P27+P28+P29+P30 -> 1011
A32: Граждане иностранных государст(вкл.Украину)
A33: 35.03.04 Агрономия | B33: 1 | C33: 0 | D33: =B33+C33 -> 1 | E33: 0 | F33: 0 | G33: =E33+F33 -> 0 | H33: 2 | I33: 0 | J33: =I33+H33 -> 2 | K33: 0 | L33: 0 | M33: =K33+L33 -> 0 | N33: =B33+E33+H33+K33 -> 3 | O33: =F33+I33+L33+C33 -> 0 | P33: =N33+O33 -> 3
A34: 35.03.05 Садоводство | B34: 1 | C34: 0 | D34: =B34+C34 -> 1 | E34: 3 | F34: 0 | G34: =E34+F34 -> 3 | H34: 1 | I34: 0 | J34: =I34+H34 -> 1 | K34: 2 | L34: 1 | M34: =K34+L34 -> 3 | N34: =B34+E34+H34+K34 -> 7 | O34: =F34+I34+L34+C34 -> 1 | P34: =N34+O34 -> 8
A35: 21.03.02 Землеустройство и кадастры | B35: 0 | C35: 0 | D35: =B35+C35 -> 0 | E35: 0 | F35: 0 | G35: =E35+F35 -> 0 | H35: 1 | I35: 0 | J35: =I35+H35 -> 1 | K35: 0 | L35: 0 | M35: =K35+L35 -> 0 | N35: =B35+E35+H35+K35 -> 1 | O35: =F35+I35+L35+C35 -> 0 | P35: =N35+O35 -> 1
A36: 21.03.03 Геодезия и дистанцион. | B36: 0 | C36: 0 | D36: =B36+C36 -> 0 | E36: 1 | F36: 0 | G36: =E36+F36 -> 1 | H36: 0 | I36: 0 | J36: =I36+H36 -> 0 | K36: 0 | L36: 0 | M36: =K36+L36 -> 0 | N36: =B36+E36+H36+K36 -> 1 | O36: =F36+I36+L36+C36 -> 0 | P36: =N36+O36 -> 1
A37: 35.03.10 Ландшафтная архитектура | B37: 0 | C37: 0 | D37: =B37+C37 -> 0 | E37: 0 | F37: 0 | G37: =E37+F37 -> 0 | H37: 0 | I37: 0 | J37: =I37+H37 -> 0 | K37: 0 | L37: 0 | M37: =K37+L37 -> 0 | N37: =B37+E37+H37+K37 -> 0 | O37: =F37+I37+L37+C37 -> 0 | P37: =N37+O37 -> 0
A38: 35.03.01 Лесное дело | B38: 0 | C38: 0 | D38: =B38+C38 -> 0 | E38: 0 | F38: 0 | G38: =E38+F38 -> 0 | H38: 0 | I38: 0 | J38: =I38+H38 -> 0 | K38: 0 | L38: 0 | M38: =K38+L38 -> 0 | N38: =B38+E38+H38+K38 -> 0 | O38: =F38+I38+L38+C38 -> 0 | P38: =N38+O38 -> 0
A39: 19.03.02 Продукты питания из растительного сырья | B39: 0 | C39: 0 | D39: =B39+C39 -> 0 | E39: 1 | F39: 0 | G39: =E39+F39 -> 1 | H39: 0 | I39: 0 | J39: =I39+H39 -> 0 | K39: 0 | L39: 0 | M39: =K39+L39 -> 0 | N39: =B39+E39+H39+K39 -> 1 | O39: =F39+I39+L39+C39 -> 0 | P39: =N39+O39 -> 1
A40: 19.03.03 Продукты питания животного происхождения | B40: 1 | C40: 0 | D40: =B40+C40 -> 1 | E40: 1 | F40: 0 | G40: =E40+F40 -> 1 | H40: 3 | I40: 0 | J40: =I40+H40 -> 3 | K40: 0 | L40: 0 | M40: =K40+L40 -> 0 | N40: =B40+E40+H40+K40 -> 5 | O40: =F40+I40+L40+C40 -> 0 | P40: =N40+O40 -> 5
A41: 35.03.10 Агроинженерия | B41: 2 | C41: 0 | D41: =B41+C41 -> 2 | E41: 2 | F41: 0 | G41: =E41+F41 -> 2 | H41: 3 | I41: 0 | J41: =I41+H41 -> 3 | K41: 0 | L41: 0 | M41: =K41+L41 -> 0 | N41: =B41+E41+H41+K41 -> 7 | O41: =F41+I41+L41+C41 -> 0 | P41: =N41+O41 -> 7
A42: 27.03.03 Системный анализ | B42: 0 | C42: 0 | D42: =B42+C42 -> 0 | E42: 1 | F42: 0 | G42: =E42+F42 -> 1 | H42: 0 | I42: =I55+I70 -> 0 | J42: =I42+H42 -> 0 | K42: 0 | L42: 0 | M42: =K42+L42 -> 0 | N42: =B42+E42+H42+K42 -> 1 | O42: =F42+I42+L42+C42 -> 0 | P42: =N42+O42 -> 1
A43: Итого граждане иностранных государст(вкл.Украину) | B43: =B33+B34+B35+B36+B37+B38+B39+B40+B41+B42 -> 5 | C43: =C33+C34+C35+C36+C37+C38+C39+C40+C41+C42 -> 0 | D43: =D33+D34+D35+D36+D37+D38+D39+D40+D41+D42 -> 5 | E43: =E33+E34+E35+E36+E37+E38+E39+E40+E41+E42 -> 9 | F43: =F33+F34+F35+F36+F37+F38+F39+F40+F41+F42 -> 0 | G43: =G33+G34+G35+G36+G37+G38+G39+G40+G41+G42 -> 9 | H43: =H33+H34+H35+H36+H37+H38+H39+H40+H41+H42 -> 10 | I43: =I33+I34+I35+I36+I37+I38+I39+I40+I41+I42 -> 0 | ... P43: =P33+P34+P35+P36+P37+P38+P39+P40+P41+P42 -> 27
A44: Итого граждане России | B44: =B31 -> 238 | C44: =C31 -> 0 | D44: =D31 -> 238 | E44: =E31 -> 286 | F44: =F31 -> 1 | G44: =G31 -> 287 | H44: =H31 -> 237 | I44: =I31 -> 1 | ... P44: =P31 -> 1011
A45: Итого граждане иностранных государст(вкл.Украину) | B45: =B43 -> 5 | C45: =C43 -> 0 | D45: =D43 -> 5 | E45: =E43 -> 9 | F45: =F43 -> 0 | G45: =G43 -> 9 | H45: =H43 -> 10 | I45: =I43 -> 0 | ... P45: =P43 -> 27
A46: Всего по АБиП | B46: =B44+B45 -> 243 | C46: =C44+C45 -> 0 | D46: =D44+D45 -> 243 | E46: =E44+E45 -> 295 | F46: =F44+F45 -> 1 | G46: =G44+G45 -> 296 | H46: =H44+H45 -> 247 | I46: =I44+I45 -> 1 | ... P46: =P44+P45 -> 1038
A51: исп. Горбаченко Т.А.

Sheet Бакалавр ЗФО АБиП
E1: АКАДЕМИЯ БИОРЕСУРСОВ И ПРИРОДОПОЛЬЗОВАНИЯ КФУ
A2: Факультет/направление подготовки | E2: Контингент Заочной формы обучения на 1.09.2019
B3: выпуск 2024 | E3: выпуск 2023 | H3: выпуск 2022 | K3: выпуск 2021 | N3: выпуск 2020 | Q3: ВСЕГО
B5: 1 | E5: 2 | H5: 3 | K5: 4 | N5: 5
B7: За счет бюджетных ассигнований | C7: На основе догов.о платных образов.услугах | D7: ВСЕГО | E7: За счет бюджетных ассигнований | F7: На основе догов.о платных образов.услугах | G7: ВСЕГО | H7: За счет бюджетных ассигнований | I7: На основе догов.о платных образов.услугах | J7: ВСЕГО | K7: За счет бюджетных ассигнований | L7: На основе догов.о платных образов.услугах | M7: ВСЕГО | N7: За счет бюджетных ассигнований | O7: На основе догов.о платных образов.услугах | P7: ВСЕГО | Q7: За счет бюджетных ассигнований | R7: На основе догов.о платных образов.услугах | S7: ВСЕГО
A8: Свод по направлениям подготовкии
A9: 35.03.04 Агрономия | B9: =B22+B34 -> 20 | C9: =C22+C34 -> 0 | D9: =D22+D34 -> 20 | E9: =E22+E34 -> 19 | F9: =F22+F34 -> 2 | G9: =G22+G34 -> 21 | H9: =H22+H34 -> 13 | I9: =I22+I34 -> 2 | ... P9: =P22+P34 -> 34 | Q9: =E9+H9+K9+N9+B9 -> 102 | R9: =F9+I9+L9+O9+C9 -> 11 | S9: =G9+J9+M9+P9+D9 -> 113
A10: 35.03.05 Садоводство | B10: =B23+B35 -> 15 | C10: =C23+C35 -> 1 | D10: =D23+D35 -> 16 | E10: =E23+E35 -> 17 | F10: =F23+F35 -> 1 | G10: =G23+G35 -> 18 | H10: =H23+H35 -> 9 | I10: =I23+I35 -> 1 | ... P10: =P23+P35 -> 18 | Q10: =E10+H10+K10+N10+B10 -> 79 | R10: =F10+I10+L10+O10+C10 -> 10 | S10: =G10+J10+M10+P10+D10 -> 89
A11: 21.03.02 Землеустройство и кадастры | B11: =B24+B36 -> 23 | C11: =C24+C36 -> 1 | D11: =D24+D36 -> 24 | E11: =E24+E36 -> 18 | F11: =F24+F36 -> 8 | G11: =G24+G36 -> 26 | H11: =H24+H36 -> 20 | I11: =I24+I36 -> 6 | ... P11: =P24+P36 -> 42 | Q11: =E11+H11+K11+N11+B11 -> 103 | R11: =F11+I11+L11+O11+C11 -> 42 | S11: =G11+J11+M11+P11+D11 -> 145
A12: 21.03.03 Геодезия и дистанцион. | B12: =B25+B37 -> 13 | C12: =C25+C37 -> 0 | D12: =D25+D37 -> 13 | E12: =E25+E37 -> 11 | F12: =F25+F37 -> 1 | G12: =G25+G37 -> 12 | H12: =H25+H37 -> 9 | I12: =I25+I37 -> 0 | ... P12: =P25+P37 -> 15 | Q12: =E12+H12+K12+N12+B12 -> 48 | R12: =F12+I12+L12+O12+C12 -> 8 | S12: =G12+J12+M12+P12+D12 -> 56
A13: 27.03.03 Системный анализ и управление | B13: =B26+B38 -> 12 | C13: =C26+C38 -> 0 | D13: =D26+D38 -> 12 | E13: =E26+E38 -> 9 | F13: =F26+F38 -> 0 | G13: =G26+G38 -> 9 | H13: =H26+H38 -> 10 | I13: =I26+I38 -> 1 | ... P13: =P26+P38 -> 0 | Q13: =E13+H13+K13+N13+B13 -> 31 | R13: =F13+I13+L13+O13+C13 -> 1 | S13: =G13+J13+M13+P13+D13 -> 32
A14: 35.03.10 Ландшафтная архитектура | B14: =B27+B39 -> 0 | C14: =C27+C39 -> 0 | D14: =D27+D39 -> 0 | E14: =E27+E39 -> 0 | F14: =F27+F39 -> 0 | G14: =G27+G39 -> 0 | H14: =H27+H39 -> 0 | I14: =I27+I39 -> 0 | ... P14: =P27+P39 -> 0 | Q14: =E14+H14+K14+N14+B14 -> 0 | R14: =F14+I14+L14+O14+C14 -> 0 | S14: =G14+J14+M14+P14+D14 -> 0
A15: 35.03.01 Лесное дело | B15: =B28+B40 -> 10 | C15: =C28+C40 -> 0 | D15: =D28+D40 -> 10 | E15: =E28+E40 -> 15 | F15: =F28+F40 -> 0 | G15: =G28+G40 -> 15 | H15: =H28+H40 -> 13 | I15: =I28+I40 -> 8 | ... P15: =P28+P40 -> 24 | Q15: =E15+H15+K15+N15+B15 -> 70 | R15: =F15+I15+L15+O15+C15 -> 21 | S15: =G15+J15+M15+P15+D15 -> 91
A16: 19.03.02 Продукты питания из растительного сырья | B16: =B29+B41 -> 12 | C16: =C29+C41 -> 2 | D16: =D29+D41 -> 14 | E16: =E29+E41 -> 11 | F16: =F29+F41 -> 3 | G16: =G29+G41 -> 14 | H16: =H29+H41 -> 11 | I16: =I29+I41 -> 3 | ... P16: =P29+P41 -> 30 | Q16: =E16+H16+K16+N16+B16 -> 58 | R16: =F16+I16+L16+O16+C16 -> 28 | S16: =G16+J16+M16+P16+D16 -> 86
A17: 21.03.02 Продукты питания животного происхождения | B17: =B30+B42 -> 10 | C17: =C30+C42 -> 0 | D17: =D30+D42 -> 10 | E17: =E30+E42 -> 8 | F17: =F30+F42 -> 2 | G17: =G30+G42 -> 10 | H17: =H30+H42 -> 8 | I17: =I30+I42 -> 0 | ... P17: =P30+P42 -> 0 | Q17: =E17+H17+K17+N17+B17 -> 34 | R17: =F17+I17+L17+O17+C17 -> 4 | S17: =G17+J17+M17+P17+D17 -> 38
A18: 35.03.06 Агроинженерия | B18: =B31+B43 -> 28 | C18: =C31+C43 -> 4 | D18: =D31+D43 -> 32 | E18: =E31+E43 -> 24 | F18: =F31+F43 -> 18 | G18: =G31+G43 -> 42 | H18: =H31+H43 -> 22 | I18: =I31+I43 -> 10 | ... P18: =P31+P43 -> 53 | Q18: =E18+H18+K18+N18+B18 -> 121 | R18: =F18+I18+L18+O18+C18 -> 68 | S18: =G18+J18+M18+P18+D18 -> 189
A19: Итого по направлениям подготовки: | B19: =SUM(B9:B18) -> 143 | C19: =SUM(C9:C18) -> 8 | D19: =SUM(D9:D18) -> 151 | E19: =SUM(E9:E18) -> 132 | F19: =SUM(F9:F18) -> 35 | G19: =SUM(G9:G18) -> 167 | H19: =SUM(H9:H18) -> 115 | I19: =SUM(I9:I18) -> 31 | ... P19: =SUM(P9:P18) -> 216 | Q19: =E19+H19+K19+N19+B19 -> 646 | R19: =F19+I19+L19+O19+C19 -> 193 | S19: =G19+J19+M19+P19+D19 -> 839
A20: В том числе:
A21: Граждане России
A22: 35.03.04 Агрономия | B22: 20 | C22: 0 | D22: =B22+C22 -> 20 | E22: 18 | F22: 2 | G22: =E22+F22 -> 20 | H22: 13 | I22: 2 | J22: =H22+I22 -> 15 | K22: 21 | L22: 2 | M22: =K22+L22 -> 23 | N22: 29 | O22: 5 | P22: =N22+O22 -> 34 | Q22: =E22+H22+K22+N22+B22 -> 101 | R22: =F22+I22+L22+O22+C22 -> 11 | S22: =G22+J22+M22+P22+D22 -> 112
A23: 35.03.05 Садоводство | B23: 14 | C23: 1 | D23: =B23+C23 -> 15 | E23: 17 | F23: 1 | G23: =E23+F23 -> 18 | H23: 9 | I23: 1 | J23: =H23+I23 -> 10 | K23: 23 | L23: 4 | M23: =K23+L23 -> 27 | N23: 15 | O23: 3 | P23: =N23+O23 -> 18 | Q23: =E23+H23+K23+N23+B23 -> 78 | R23: =F23+I23+L23+O23+C23 -> 10 | S23: =G23+J23+M23+P23+D23 -> 88
A24: 21.03.02 Землеустройство и кадастры | B24: 22 | C24: 1 | D24: =B24+C24 -> 23 | E24: 18 | F24: 8 | G24: =E24+F24 -> 26 | H24: 20 | I24: 6 | J24: =H24+I24 -> 26 | K24: 13 | L24: 14 | M24: =K24+L24 -> 27 | N24: 29 | O24: 12 | P24: =N24+O24 -> 41 | Q24: =E24+H24+K24+N24+B24 -> 102 | R24: =F24+I24+L24+O24+C24 -> 41 | S24: =G24+J24+M24+P24+D24 -> 143
A25: 21.03.03 Геодезия и дистанцион. | B25: 13 | C25: 0 | D25: =B25+C25 -> 13 | E25: 11 | F25: 0 | G25: =E25+F25 -> 11 | H25: 8 | I25: 0 | J25: =H25+I25 -> 8 | K25: 5 | L25: 2 | M25: =K25+L25 -> 7 | N25: 10 | O25: 5 | P25: =N25+O25 -> 15 | Q25: =E25+H25+K25+N25+B25 -> 47 | R25: =F25+I25+L25+O25+C25 -> 7 | S25: =G25+J25+M25+P25+D25 -> 54
A26: 27.03.03 Системный анализ и управление | B26: 12 | C26: 0 | D26: =B26+C26 -> 12 | E26: 9 | F26: 0 | G26: =E26+F26 -> 9 | H26: 10 | I26: 1 | J26: =H26+I26 -> 11 | K26: 0 | L26: 0 | M26: =K26+L26 -> 0 | N26: 0 | O26: 0 | P26: =N26+O26 -> 0 | Q26: =E26+H26+K26+N26+B26 -> 31 | R26: =F26+I26+L26+O26+C26 -> 1 | S26: =G26+J26+M26+P26+D26 -> 32
A27: 35.03.10 Ландшафтная архитектура | B27: 0 | C27: 0 | D27: =B27+C27 -> 0 | E27: 0 | F27: 0 | G27: =E27+F27 -> 0 | H27: 0 | I27: 0 | J27: =H27+I27 -> 0 | K27: 0 | L27: 0 | M27: =K27+L27 -> 0 | N27: 0 | O27: 0 | P27: =N27+O27 -> 0 | Q27: =E27+H27+K27+N27+B27 -> 0 | R27: =F27+I27+L27+O27+C27 -> 0 | S27: =G27+J27+M27+P27+D27 -> 0
A28: 35.03.01 Лесное дело | B28: 10 | C28: 0 | D28: =B28+C28 -> 10 | E28: 15 | F28: 0 | G28: =E28+F28 -> 15 | H28: 13 | I28: 8 | J28: =H28+I28 -> 21 | K28: 14 | L28: 7 | M28: =K28+L28 -> 21 | N28: 18 | O28: 6 | P28: =N28+O28 -> 24 | Q28: =E28+H28+K28+N28+B28 -> 70 | R28: =F28+I28+L28+O28+C28 -> 21 | S28: =G28+J28+M28+P28+D28 -> 91
A29: 19.03.02 Продукты питания из растительного сырья | B29: 12 | C29: 2 | D29: =B29+C29 -> 14 | E29: 11 | F29: 2 | G29: =E29+F29 -> 13 | H29: 11 | I29: 3 | J29: =H29+I29 -> 14 | K29: 6 | L29: 8 | M29: =K29+L29 -> 14 | N29: 18 | O29: 11 | P29: =O29+N29 -> 29 | Q29: =E29+H29+K29+N29+B29 -> 58 | R29: =F29+I29+L29+O29+C29 -> 26 | S29: =G29+J29+M29+P29+D29 -> 84
A30: 21.03.02 Продукты питания животного происхождения | B30: 10 | C30: 0 | D30: =B30+C30 -> 10 | E30: 7 | F30: 2 | G30: =E30+F30 -> 9 | H30: 8 | I30: 0 | J30: =H30+I30 -> 8 | K30: 8 | L30: 2 | M30: =K30+L30 -> 10 | N30: 0 | O30: 0 | P30: =O30+N30 -> 0 | Q30: =E30+H30+K30+N30+B30 -> 33 | R30: =F30+I30+L30+O30+C30 -> 4 | S30: =G30+J30+M30+P30+D30 -> 37
A31: 35.03.06 Агроинженерия | B31: 28 | C31: 4 | D31: =B31+C31 -> 32 | E31: 24 | F31: 18 | G31: =E31+F31 -> 42 | H31: 22 | I31: 9 | J31: =H31+I31 -> 31 | K31: 16 | L31: 14 | M31: =K31+L31 -> 30 | N31: 31 | O31: 22 | P31: =O31+N31 -> 53 | Q31: =E31+H31+K31+N31+B31 -> 121 | R31: =F31+I31+L31+O31+C31 -> 67 | S31: =G31+J31+M31+P31+D31 -> 188
A32: Итого граждане России | B32: =SUM(B21:B31) -> 141 | C32: =SUM(C21:C31) -> 8 | D32: =B32+C32 -> 149 | E32: =SUM(E22:E31) -> 130 | F32: =SUM(F22:F31) -> 33 | G32: =SUM(G22:G31) -> 163 | H32: =SUM(H22:H31) -> 114 | I32: =SUM(I22:I31) -> 30 | J32: =SUM(J22:J31) -> 144 | K32: =SUM(K22:K31) -> 106 | L32: =SUM(L22:L31) -> 53 | ... P32: =SUM(P22:P31) -> 214 | Q32: =E32+H32+K32+N32+B32 -> 641 | R32: =F32+I32+L32+O32+C32 -> 188 | S32: =G32+J32+M32+P32+D32 -> 829
A33: Граждане иностранных государст(вкл.Украину)
A34: 35.03.04 Агрономия | B34: 0 | C34: 0 | D34: =B34+C34 -> 0 | E34: 1 | F34: 0 | G34: =E34+F34 -> 1 | H34: 0 | I34: 0 | J34: =H34+I34 -> 0 | K34: 0 | L34: 0 | M34: =K34+L34 -> 0 | N34: 0 | O34: 0 | P34: =N34+O34 -> 0 | Q34: =E34+H34+K34+N34+B34 -> 1 | R34: =F34+I34+L34+O34+C34 -> 0 | S34: =G34+J34+M34+P34+D34 -> 1
A35: 35.03.05 Садоводство | B35: 1 | C35: 0 | D35: =B35+C35 -> 1 | E35: 0 | F35: 0 | G35: =E35+F35 -> 0 | H35: 0 | I35: 0 | J35: =H35+I35 -> 0 | K35: 0 | L35: 0 | M35: =K35+L35 -> 0 | N35: 0 | O35: 0 | P35: =N35+O35 -> 0 | Q35: =E35+H35+K35+N35+B35 -> 1 | R35: =F35+I35+L35+O35+C35 -> 0 | S35: =G35+J35+M35+P35+D35 -> 1
A36: 21.03.02 Землеустройство и кадастры | B36: 1 | C36: 0 | D36: =B36+C36 -> 1 | E36: 0 | F36: 0 | G36: =E36+F36 -> 0 | H36: 0 | I36: 0 | J36: =H36+I36 -> 0 | K36: 0 | L36: 0 | M36: =K36+L36 -> 0 | N36: 0 | O36: 1 | P36: =N36+O36 -> 1 | Q36: =E36+H36+K36+N36+B36 -> 1 | R36: =F36+I36+L36+O36+C36 -> 1 | S36: =G36+J36+M36+P36+D36 -> 2
A37: 21.03.03 Геодезия и дистанцион. | B37: 0 | C37: 0 | D37: =B37+C37 -> 0 | E37: 0 | F37: 1 | G37: =E37+F37 -> 1 | H37: 1 | I37: 0 | J37: =H37+I37 -> 1 | K37: 0 | L37: 0 | M37: =K37+L37 -> 0 | N37: 0 | O37: 0 | P37: =N37+O37 -> 0 | Q37: =E37+H37+K37+N37+B37 -> 1 | R37: =F37+I37+L37+O37+C37 -> 1 | S37: =G37+J37+M37+P37+D37 -> 2
A38: 27.03.03 Системный анализ и управление | B38: 0 | C38: 0 | D38: =B38+C38 -> 0 | E38: 0 | F38: 0 | G38: =F38+E38 -> 0 | H38: 0 | I38: 0 | J38: =H38+I38 -> 0 | K38: 0 | L38: 0 | M38: =K38+L38 -> 0 | N38: 0 | O38: 0 | P38: =N38+O38 -> 0 | Q38: =E38+H38+K38+N38+B38 -> 0 | R38: =F38+I38+L38+O38+C38 -> 0 | S38: =G38+J38+M38+P38+D38 -> 0
A39: 35.03.10 Ландшафтная архитектура | B39: 0 | C39: 0 | D39: =B39+C39 -> 0 | E39: =G39-F39 -> 0 | F39: 0 | G39: 0 | H39: =J39-I39 -> 0 | I39: 0 | J39: 0 | K39: 0 | L39: 0 | M39: =K39+L39 -> 0 | N39: 0 | O39: 0 | P39: =N39+O39 -> 0 | Q39: =E39+H39+K39+N39+B39 -> 0 | R39: =F39+I39+L39+O39+C39 -> 0 | S39: =G39+J39+M39+P39+D39 -> 0
A40: 35.03.01 Лесное дело | B40: 0 | C40: 0 | D40: =B40+C40 -> 0 | E40: 0 | F40: 0 | G40: =+E40+F40 -> 0 | H40: 0 | I40: 0 | J40: =H40+I40 -> 0 | K40: 0 | L40: 0 | M40: =K40+L40 -> 0 | N40: 0 | O40: 0 | P40: =N40+O40 -> 0 | Q40: =E40+H40+K40+N40+B40 -> 0 | R40: =F40+I40+L40+O40+C40 -> 0 | S40: =G40+J40+M40+P40+D40 -> 0
A41: 19.03.02 Продукты питания из растительного сырья | B41: 0 | C41: 0 | D41: =B41+C41 -> 0 | E41: 0 | F41: 1 | G41: =+E41+F41 -> 1 | H41: 0 | I41: 0 | J41: =H41+I41 -> 0 | K41: 0 | L41: 0 | M41: =K41+L41 -> 0 | N41: 0 | O41: 1 | P41: 1 | Q41: =E41+H41+K41+N41+B41 -> 0 | R41: =F41+I41+L41+O41+C41 -> 2 | S41: =G41+J41+M41+P41+D41 -> 2
A42: 21.03.02 Продукты питания животного происхождения | B42: 0 | C42: 0 | D42: =B42+C42 -> 0 | E42: 1 | F42: 0 | G42: =E42+F42 -> 1 | H42: 0 | I42: 0 | J42: =H42+I42 -> 0 | K42: 0 | L42: 0 | M42: =K42+L42 -> 0 | N42: 0 | O42: 0 | P42: =N42+O42 -> 0 | Q42: =E42+H42+K42+N42+B42 -> 1 | R42: =F42+I42+L42+O42+C42 -> 0 | S42: =G42+J42+M42+P42+D42 -> 1
A43: 35.03.06 Агроинженерия | B43: 0 | C43: 0 | D43: =B43+C43 -> 0 | E43: 0 | F43: 0 | G43: =E43+F43 -> 0 | H43: 0 | I43: 1 | J43: =H43+I43 -> 1 | K43: 0 | L43: 0 | M43: =K43+L43 -> 0 | N43: 0 | O43: 0 | P43: =N43+O43 -> 0 | Q43: =E43+H43+K43+N43+B43 -> 0 | R43: =F43+I43+L43+O43+C43 -> 1 | S43: =G43+J43+M43+P43+D43 -> 1
A44: Итого граждане иностранных государст(вкл.Украину) | B44: =SUM(B34:B43) -> 2 | C44: =SUM(C34:C43) -> 0 | D44: =SUM(D34:D43) -> 2 | E44: =SUM(E34:E43) -> 2 | F44: =SUM(F34:F43) -> 2 | G44: =SUM(G34:G43) -> 4 | H44: =SUM(H34:H43) -> 1 | I44: =SUM(I34:I43) -> 1 | ... P44: =SUM(P34:P43) -> 2 | Q44: =E44+H44+K44+N44+B44 -> 5 | R44: =F44+I44+L44+O44+C44 -> 5 | S44: =G44+J44+M44+P44+D44 -> 10
A45: Итого граждан России: | B45: =B32 -> 141 | C45: =C32 -> 8 | D45: =D32 -> 149 | E45: =E32 -> 130 | F45: =F32 -> 33 | G45: =G32 -> 163 | H45: =H32 -> 114 | I45: =I32 -> 30 | ... P45: =P32 -> 214 | Q45: =E45+H45+K45+N45+B45 -> 641 | R45: =F45+I45+L45+O45+C45 -> 188 | S45: =G45+J45+M45+P45+D45 -> 829
A46: Граждане иностранных государст(вкл.Украину) | B46: =B44 -> 2 | C46: =C44 -> 0 | D46: =D44 -> 2 | E46: =E44 -> 2 | F46: =F44 -> 2 | G46: =G44 -> 4 | H46: =H44 -> 1 | I46: =I44 -> 1 | ... P46: =P44 -> 2 | Q46: =E46+H46+K46+N46+B46 -> 5 | R46: =F46+I46+L46+O46+C46 -> 5 | S46: =G46+J46+M46+P46+D46 -> 10
A47: Всего по АБиП | B47: =SUM(B45:B46) -> 143 | C47: =SUM(C45:C46) -> 8 | D47: =SUM(D45:D46) -> 151 | E47: =SUM(E45:E46) -> 132 | F47: =SUM(F45:F46) -> 35 | G47: =SUM(G45:G46) -> 167 | H47: =SUM(H45:H46) -> 115 | I47: =SUM(I45:I46) -> 31 | ... P47: =SUM(P45:P46) -> 216 | Q47: =E47+H47+K47+N47+B47 -> 646 | R47: =F47+I47+L47+O47+C47 -> 193 | S47: =SUM(S45:S46) -> 839

Sheet Специалист ОФО АПБиП
A1: АКАДЕМИЯ БИОРЕСУРСОВ И ПРИРОДОПОЛЬЗОВАНИЯ КФУ
A2: Контингент Дневной формы обучения на 1.09.2019 (специалитет)
B3: выпуск 2024 | E3: выпуск 2023 | H3: выпуск 2022 | K3: выпуск 2021 | N3: выпуск 2020 | Q3: ВСЕГО специалитет
A4: Факультет/направление подготовки | B4: 1 | E4: 2 | H4: 3 | K4: 4 | N4: 5
B5: специалисты | E5: специалисты | H5: специалисты | K5: специалисты | N5: специалисты
B6: За счет бюджетных ассигнований | C6: На основе догов.о платных образов.услугах | D6: ВСЕГО | E6: За счет бюджетных ассигнований | F6: На основе догов.о платных образов.услугах | G6: ВСЕГО | H6: За счет бюджетных ассигнований | I6: На основе догов.о платных образов.услугах | J6: ВСЕГО | K6: За счет бюджетных ассигнований | L6: На основе догов.о платных образов.услугах | M6: ВСЕГО | N6: За счет бюджетных ассигнований | O6: На основе догов.о платных образов.услугах | P6: ВСЕГО | Q6: За счет бюджетных ассигнований | R6: На основе догов.о платных образов.услугах | S6: ВСЕГО
A7: Факультет ветеринарной медицины
A8: 36.05.01 Ветеринария | B8: 90 | C8: 13 | D8: =C8+B8 -> 103 | E8: 79 | F8: 11 | G8: =F8+E8 -> 90 | H8: 69 | I8: 2 | J8: =H8+I8 -> 71 | K8: 66 | L8: 3 | M8: =K8+L8 -> 69 | N8: 36 | O8: 11 | P8: =N8+O8 -> 47 | Q8: =B8+E8+H8+K8+N8 -> 340 | R8: =I8+L8+O8+C8+F8 -> 40 | S8: =R8+Q8 -> 380
A9: Итого граждане России | B9: =B8 -> 90 | C9: =C8 -> 13 | D9: =D8 -> 103 | E9: =E8 -> 79 | F9: =F8 -> 11 | G9: =G8 -> 90 | H9: =H8 -> 69 | I9: =I8 -> 2 | ... P9: =P8 -> 47 | Q9: =H9+K9+N9+E9+B9 -> 340 | R9: =I9+L9+O9+C9+F9 -> 40 | S9: =R9+Q9 -> 380
A10: 36.05.01 Ветеринария | B10: 1 | C10: 0 | D10: =B10+C10 -> 1 | E10: 2 | F10: 0 | G10: =E10+F10 -> 2 | H10: 2 | I10: 0 | J10: =H10+I10 -> 2 | K10: 2 | L10: 1 | M10: =K10+L10 -> 3 | N10: 3 | O10: 0 | P10: =N10+O10 -> 3 | Q10: =B10+E10+H10+K10+N10 -> 10 | R10: =I10+L10+O10+F10+C10 -> 1 | S10: =R10+Q10 -> 11
A11: Итого граждане иностранных государст(вкл.Украину) | B11: =B10 -> 1 | C11: =C10 -> 0 | D11: =D10 -> 1 | E11: =E10 -> 2 | F11: =F10 -> 0 | G11: =G10 -> 2 | H11: =H10 -> 2 | I11: =I10 -> 0 | ... P11: =P10 -> 3 | Q11: =H11+K11+N11+E11+B11 -> 10 | R11: =I11+L11+O11+F11+C11 -> 1 | S11: =R11+Q11 -> 11
A12: Итого по факультету | B12: =B11+B9 -> 91 | C12: =C11+C9 -> 13 | D12: =D11+D9 -> 104 | E12: =E8+E10 -> 81 | F12: =F9+F11 -> 11 | G12: =G11+G9 -> 92 | H12: =H11+H9 -> 71 | I12: =I11+I9 -> 2 | J12: =J11+J9 -> 73 | K12: =K11+K9 -> 68 | L12: =L11+L9 -> 4 | M12: =M11+M9 -> 72 | N12: =N11+N9 -> 39 | ... P12: =P11+P9 -> 50 | Q12: =H12+K12+N12+E12+B12 -> 350 | R12: =I12+L12+O12+F12+C12 -> 41 | S12: =R12+Q12 -> 391

Sheet МАГ ОФО АБиП
A1: АКАДЕМИЯ БИОРЕСУРСОВ И ПРИРОДОПОЛЬЗОВАНИЯ КФУ
A2: Контингент Дневной формы обучения на 1.09.2019
A3: Факультет/направление подготовки | B3: выпуск 2021 | E3: выпуск 2020
B4: 1 | E4: 2 | H4: Итого магистров
B6: магистр | E6: магистр
B7: За счет бюджетных ассигнований | C7: На основе догов.о платных образов.услугах | D7: ВСЕГО | E7: За счет бюджетных ассигнований | F7: На основе догов.о платных образов.услугах | G7: ВСЕГО | H7: За счет бюджетных ассигнований | I7: На основе догов.о платных образов.услугах | J7: ВСЕГО
A8: Свод по направлениям подготовкии
A9: 35.04.04 Агрономия | B9: =B20+B30 -> 24 | C9: =C20+C30 -> 0 | D9: =D20+D30 -> 24 | E9: =E20+E30 -> 20 | F9: =F20+F30 -> 1 | G9: =G20+G30 -> 21 | H9: =E9+B9 -> 44 | I9: =F9+C9 -> 1 | J9: =G9+D9 -> 45
A10: 35.04.05 Садоводство | B10: =B21+B31 -> 20 | C10: =C21+C31 -> 0 | D10: =D21+D31 -> 20 | E10: =E21+E31 -> 21 | F10: =F21+F31 -> 0 | G10: =G21+G31 -> 21 | H10: =E10+B10 -> 41 | I10: =F10+C10 -> 0 | J10: =G10+D10 -> 41
A11: 21.04.02 Землеустройство и кадастры | B11: =B22+B32 -> 30 | C11: =C22+C32 -> 1 | D11: =D22+D32 -> 31 | E11: =E22+E32 -> 36 | F11: =F22+F32 -> 1 | G11: =G22+G32 -> 37 | H11: =E11+B11 -> 66 | I11: =F11+C11 -> 2 | J11: =G11+D11 -> 68
A12: 35.04.09 Ландшафтная архитектура | B12: =B23+B33 -> 0 | C12: =C23+C33 -> 0 | D12: =D23+D33 -> 0 | E12: =E23+E33 -> 0 | F12: =F23+F33 -> 0 | G12: =G23+G33 -> 0 | H12: =E12+B12 -> 0 | I12: =F12+C12 -> 0 | J12: =G12+D12 -> 0
A13: 35.04.01 Лесное дело | B13: =B24+B34 -> 10 | C13: =C24+C34 -> 0 | D13: =D24+D34 -> 10 | E13: =E24+E34 -> 9 | F13: =F24+F34 -> 1 | G13: =G24+G34 -> 10 | H13: =E13+B13 -> 19 | I13: =F13+C13 -> 1 | J13: =G13+D13 -> 20
A14: 19.04.02 Продукты питания из растительного сырья | B14: =B25+B35 -> 20 | C14: =C25+C35 -> 1 | D14: =D25+D35 -> 21 | E14: =E25+E35 -> 15 | F14: =F25+F35 -> 0 | G14: =G25+G35 -> 15 | H14: =E14+B14 -> 35 | I14: =F14+C14 -> 1 | J14: =G14+D14 -> 36
A15: 19.04.03 Продукты питания животного происхождения | B15: =B26+B36 -> 9 | C15: =C26+C36 -> 0 | D15: =D26+D36 -> 9 | E15: =E26+E36 -> 9 | F15: =F26+F36 -> 0 | G15: =G26+G36 -> 9 | H15: =E15+B15 -> 18 | I15: =F15+C15 -> 0 | J15: =G15+D15 -> 18
A16: 35.04.06 Агроинженерия | B16: =B27+B37 -> 22 | C16: =C27+C37 -> 0 | D16: =D27+D37 -> 22 | E16: =E27+E37 -> 24 | F16: =F27+F37 -> 1 | G16: =G27+G37 -> 25 | H16: =E16+B16 -> 46 | I16: =F16+C16 -> 1 | J16: =G16+D16 -> 47
A17: Итого по направлениям подготовки: | B17: =SUM(B8:B16) -> 135 | C17: =SUM(C8:C16) -> 2 | D17: =SUM(D8:D16) -> 137 | E17: =SUM(E8:E16) -> 134 | F17: =SUM(F8:F16) -> 4 | G17: =SUM(G8:G16) -> 138 | H17: =E17+B17 -> 269 | I17: =F17+C17 -> 6 | J17: =G17+D17 -> 275
A18: В том числе:
A19: Граждане России
A20: 35.04.04 Агрономия | B20: 23 | C20: 0 | D20: =C20+B20 -> 23 | E20: 20 | F20: 1 | G20: =F20+E20 -> 21 | H20: =B20+E20 -> 43 | I20: =C20+F20 -> 1 | J20: =G20+D20 -> 44
A21: 35.04.05 Садоводство | B21: 20 | C21: 0 | D21: =C21+B21 -> 20 | E21: 18 | F21: 0 | G21: =F21+E21 -> 18 | H21: =B21+E21 -> 38 | I21: =C21+F21 -> 0 | J21: =G21+D21 -> 38
A22: 21.04.02 Землеустройство и кадастры | B22: 29 | C22: 1 | D22: =C22+B22 -> 30 | E22: 34 | F22: 1 | G22: =F22+E22 -> 35 | H22: =B22+E22 -> 63 | I22: =C22+F22 -> 2 | J22: =G22+D22 -> 65
A23: 35.03.10 Ландшафтная архитектура | B23: 0 | C23: 0 | D23: =C23+B23 -> 0 | E23: 0 | F23: 0 | G23: =F23+E23 -> 0 | H23: =B23+E23 -> 0 | I23: =C23+F23 -> 0 | J23: =G23+D23 -> 0
A24: 35.04.01 Лесное дело | B24: 10 | C24: 0 | D24: =C24+B24 -> 10 | E24: 9 | F24: 1 | G24: =F24+E24 -> 10 | H24: =B24+E24 -> 19 | I24: =C24+F24 -> 1 | J24: =G24+D24 -> 20
A25: 19.04.02 Продукты питания из растительного сырья | B25: 20 | C25: 1 | D25: =C25+B25 -> 21 | E25: 15 | F25: 0 | G25: =F25+E25 -> 15 | H25: =B25+E25 -> 35 | I25: =C25+F25 -> 1 | J25: =G25+D25 -> 36
A26: 19.04.03 Продукты питания животного происхождения | B26: 9 | C26: 0 | D26: =C26+B26 -> 9 | E26: 9 | F26: 0 | G26: =F26+E26 -> 9 | H26: =B26+E26 -> 18 | I26: =C26+F26 -> 0 | J26: =G26+D26 -> 18
A27: 35.04.06 Агроинженерия | B27: 22 | C27: 0 | D27: =C27+B27 -> 22 | E27: 24 | F27: 1 | G27: =F27+E27 -> 25 | H27: =B27+E27 -> 46 | I27: =C27+F27 -> 1 | J27: =G27+D27 -> 47
A28: Итого граждане России | B28: =SUM(B20:B27) -> 133 | C28: =SUM(C20:C27) -> 2 | D28: =SUM(D20:D27) -> 135 | E28: =SUM(E20:E27) -> 129 | F28: =SUM(F20:F27) -> 4 | G28: =SUM(G20:G27) -> 133 | H28: =E28+B28 -> 262 | I28: =F28+C28 -> 6 | J28: =G28+D28 -> 268
A29: Граждане иностранных государст(вкл.Украину)
A30: 35.04.04 Агрономия | B30: 1 | C30: 0 | D30: =B30+C30 -> 1 | E30: 0 | F30: 0 | G30: =E30+F30 -> 0 | H30: =B30+E30 -> 1 | I30: =C30+F30 -> 0 | J30: =G30+D30 -> 1
A31: 35.04.05 Садоводство | B31: 0 | C31: 0 | D31: =B31+C31 -> 0 | E31: 3 | F31: 0 | G31: =E31+F31 -> 3 | H31: =B31+E31 -> 3 | I31: =C31+F31 -> 0 | J31: =G31+D31 -> 3
A32: 21.04.02 Землеустройство и кадастры | B32: 1 | C32: 0 | D32: =B32+C32 -> 1 | E32: 2 | F32: 0 | G32: =E32+F32 -> 2 | H32: =B32+E32 -> 3 | I32: =C32+F32 -> 0 | J32: =G32+D32 -> 3
A33: 35.03.10 Ландшафтная архитектура | B33: 0 | C33: 0 | D33: =B33+C33 -> 0 | E33: 0 | F33: 0 | G33: =E33+F33 -> 0 | H33: =B33+E33 -> 0 | I33: =C33+F33 -> 0 | J33: =G33+D33 -> 0
A34: 35.04.01 Лесное дело | B34: 0 | C34: 0 | D34: =B34+C34 -> 0 | E34: 0 | F34: 0 | G34: =E34+F34 -> 0 | H34: =B34+E34 -> 0 | I34: =C34+F34 -> 0 | J34: =G34+D34 -> 0
A35: 19.04.02 Продукты питания из растительного сырья | B35: 0 | C35: 0 | D35: =B35+C35 -> 0 | E35: 0 | F35: 0 | G35: =E35+F35 -> 0 | H35: =B35+E35 -> 0 | I35: =C35+F35 -> 0 | J35: =G35+D35 -> 0
A36: 19.04.03 Продукты питания животного происхождения | B36: 0 | C36: 0 | D36: =B36+C36 -> 0 | E36: 0 | F36: 0 | G36: =E36+F36 -> 0 | H36: =B36+E36 -> 0 | I36: =C36+F36 -> 0 | J36: =G36+D36 -> 0
A37: 35.04.06 Агроинженерия | B37: 0 | C37: 0 | D37: =B37+C37 -> 0 | E37: 0 | F37: 0 | G37: =E37+F37 -> 0 | H37: =B37+E37 -> 0 | I37: =C37+F37 -> 0 | J37: =G37+D37 -> 0
A38: Итого граждане иностранных государст(вкл.Украину) | B38: =SUM(B30:B37) -> 2 | C38: =SUM(C30:C37) -> 0 | D38: =SUM(D30:D37) -> 2 | E38: =SUM(E30:E37) -> 5 | F38: =SUM(F30:F37) -> 0 | G38: =SUM(G30:G37) -> 5 | H38: =B38+E38 -> 7 | I38: =C38+F38 -> 0 | J38: =G38+D38 -> 7
A39: Итого граждан России: | B39: =B28 -> 133 | C39: =C28 -> 2 | D39: =D28 -> 135 | E39: =E28 -> 129 | F39: =F28 -> 4 | G39: =G28 -> 133 | H39: =H28 -> 262 | I39: =I28 -> 6 | J39: =G39+D39 -> 268
A40: Итого граждане иностранных государст(вкл.Украину) | B40: =B38 -> 2 | C40: =C38 -> 0 | D40: =D38 -> 2 | E40: =E38 -> 5 | F40: =F38 -> 0 | G40: =G38 -> 5 | H40: =H38 -> 7 | I40: =I38 -> 0 | J40: =G40+D40 -> 7
A41: Всего по АБиП | B41: =B40+B39 -> 135 | C41: =C40+C39 -> 2 | D41: =D40+D39 -> 137 | E41: =E40+E39 -> 134 | F41: =F40+F39 -> 4 | G41: =G40+G39 -> 138 | H41: =E41+B41 -> 269 | I41: =F41+C41 -> 6 | J41: =G41+D41 -> 275

Sheet МАГ ЗФО АБиП
A1: АКАДЕМИЯ БИОРЕСУРСОВ И ПРИРОДОПОЛЬЗОВАНИЯ КФУ
A2: Контингент Заочной формы обучения на 1.09.2019
A3: Факультет/направление подготовки | B3: выпуск 2021 | E3: выпуск 2020 | H3: выпуск 2019
B4: 1 | E4: 2 | H4: 3 | K4: Итого магистров
B5: магистр | E5: магистр | H5: магистр
B6: За счет бюджетных ассигнований | C6: На основе догов.о платных образов.услугах | D6: ВСЕГО | E6: За счет бюджетных ассигнований | F6: На основе догов.о платных образов.услугах | G6: ВСЕГО | H6: За счет бюджетных ассигнований | I6: На основе догов.о платных образов.услугах | J6: ВСЕГО | K6: За счет бюджетных ассигнований | L6: На основе догов.о платных образов.услугах | M6: ВСЕГО
A7: Свод по направлениям подготовкии
A8: 35.04.04 Агрономия | B8: =B19+B29 -> 15 | C8: =C19+C29 -> 4 | D8: =D19+D29 -> 19 | E8: =E19+E29 -> 15 | F8: =F19+F29 -> 2 | G8: =G19+G29 -> 17 | H8: =H19+H29 -> 13 | I8: =I19+I29 -> 3 | J8: =J19+J29 -> 16 | K8: =E8+B8+H8 -> 43 | L8: =F8+C8+I8 -> 9 | M8: =K8+L8 -> 52
A9: 35.04.05 Садоводство | B9: =B20+B30 -> 13 | C9: =C20+C30 -> 1 | D9: =D20+D30 -> 14 | E9: =E20+E30 -> 13 | F9: =F20+F30 -> 1 | G9: =G20+G30 -> 14 | H9: =H20+H30 -> 18 | I9: =I20+I30 -> 0 | J9: =J20+J30 -> 18 | K9: =E9+B9+H9 -> 44 | L9: =F9+C9+I9 -> 2 | M9: =K9+L9 -> 46
A10: 21.04.02 Землеустройство и кадастры | B10: =B21+B31 -> 13 | C10: =C21+C31 -> 8 | D10: =D21+D31 -> 21 | E10: =E21+E31 -> 15 | F10: =F21+F31 -> 12 | G10: =G21+G31 -> 27 | H10: =H21+H31 -> 16 | I10: =I21+I31 -> 14 | J10: =J21+J31 -> 30 | K10: =E10+B10+H10 -> 44 | L10: =F10+C10+I10 -> 34 | M10: =K10+L10 -> 78
A11: 35.04.09 Ландшафтная архитектура | B11: =B22+B32 -> 0 | C11: =C22+C32 -> 0 | D11: =D22+D32 -> 0 | E11: =E22+E32 -> 0 | F11: =F22+F32 -> 0 | G11: =G22+G32 -> 0 | H11: =H22+H32 -> 0 | I11: =I22+I32 -> 0 | J11: =J22+J32 -> 0 | K11: =E11+B11+H11 -> 0 | L11: =F11+C11+I11 -> 0 | M11: =K11+L11 -> 0
A12: 35.04.01 Лесное дело | B12: =B23+B33 -> 11 | C12: =C23+C33 -> 3 | D12: =D23+D33 -> 14 | E12: =E23+E33 -> 9 | F12: =F23+F33 -> 0 | G12: =G23+G33 -> 9 | H12: =H23+H33 -> 10 | I12: =I23+I33 -> 1 | J12: =J23+J33 -> 11 | K12: =E12+B12+H12 -> 30 | L12: =F12+C12+I12 -> 4 | M12: =K12+L12 -> 34
A13: 19.04.02 Продукты питания из растительного сырья | B13: =B24+B34 -> 11 | C13: =C24+C34 -> 4 | D13: =D24+D34 -> 15 | E13: =E24+E34 -> 13 | F13: =F24+F34 -> 3 | G13: =G24+G34 -> 16 | H13: =H24+H34 -> 10 | I13: =I24+I34 -> 2 | J13: =J24+J34 -> 12 | K13: =E13+B13+H13 -> 34 | L13: =F13+C13+I13 -> 9 | M13: =K13+L13 -> 43
A14: 19.04.03 Продукты питания животного происхождения | B14: =B25+B35 -> 8 | C14: =C25+C35 -> 0 | D14: =D25+D35 -> 8 | E14: =E25+E35 -> 9 | F14: =F25+F35 -> 0 | G14: =G25+G35 -> 9 | H14: =H25+H35 -> 6 | I14: =I25+I35 -> 0 | J14: =J25+J35 -> 6 | K14: =E14+B14+H14 -> 23 | L14: =F14+C14+I14 -> 0 | M14: =K14+L14 -> 23
A15: 35.04.06 Агроинженерия | B15: =B26+B36 -> 23 | C15: =C26+C36 -> 4 | D15: =D26+D36 -> 27 | E15: =E26+E36 -> 22 | F15: =F26+F36 -> 4 | G15: =G26+G36 -> 26 | H15: =H26+H36 -> 21 | I15: =I26+I36 -> 3 | J15: =J26+J36 -> 24 | K15: =E15+B15+H15 -> 66 | L15: =F15+C15+I15 -> 11 | M15: =K15+L15 -> 77
A16: Итого по направлениям подготовки: | B16: =SUM(B8:B15) -> 94 | C16: =SUM(C7:C15) -> 24 | D16: =SUM(D7:D15) -> 118 | E16: =SUM(E7:E15) -> 96 | F16: =SUM(F7:F15) -> 22 | G16: =SUM(G7:G15) -> 118 | H16: =SUM(H8:H15) -> 94 | I16: =SUM(I8:I15) -> 23 | J16: =SUM(J7:J15) -> 117 | K16: =E16+B16+H16 -> 284 | L16: =C16+F16+I16 -> 69 | M16: =K16+L16 -> 353
A17: В том числе:
A18: Граждане России
A19: 35.04.04 Агрономия | B19: 15 | C19: 4 | D19: =C19+B19 -> 19 | E19: 15 | F19: 2 | G19: =E19+F19 -> 17 | H19: 13 | I19: 3 | J19: =H19+I19 -> 16 | K19: =E19+B19+H19 -> 43 | L19: =F19+C19+I19 -> 9 | M19: =K19+L19 -> 52
A20: 35.04.05 Садоводство | B20: 12 | C20: 1 | D20: =C20+B20 -> 13 | E20: 13 | F20: 1 | G20: =E20+F20 -> 14 | H20: 18 | I20: 0 | J20: =H20+I20 -> 18 | K20: =E20+B20+H20 -> 43 | L20: =F20+C20+I20 -> 2 | M20: =K20+L20 -> 45
A21: 21.04.02 Землеустройство и кадастры | B21: 13 | C21: 8 | D21: =C21+B21 -> 21 | E21: 15 | F21: 12 | G21: =E21+F21 -> 27 | H21: 15 | I21: 14 | J21: =H21+I21 -> 29 | K21: =E21+B21+H21 -> 43 | L21: =F21+C21+I21 -> 34 | M21: =K21+L21 -> 77
A22: 35.04.09 Ландшафтная архитектура | B22: 0 | C22: 0 | D22: =C22+B22 -> 0 | E22: 0 | F22: 0 | G22: =E22+F22 -> 0 | H22: 0 | I22: 0 | J22: =H22+I22 -> 0 | K22: =E22+B22+H22 -> 0 | L22: =F22+C22+I22 -> 0 | M22: =K22+L22 -> 0
A23: 35.04.01 Лесное дело | B23: 11 | C23: 2 | D23: =C23+B23 -> 13 | E23: 9 | F23: 0 | G23: =E23+F23 -> 9 | H23: 9 | I23: 1 | J23: =H23+I23 -> 10 | K23: =E23+B23+H23 -> 29 | L23: =F23+C23+I23 -> 3 | M23: =K23+L23 -> 32
A24: 19.04.02 Продукты питания из растительного сырья | B24: 11 | C24: 4 | D24: =C24+B24 -> 15 | E24: 12 | F24: 3 | G24: =E24+F24 -> 15 | H24: 10 | I24: 2 | J24: =H24+I24 -> 12 | K24: =E24+B24+H24 -> 33 | L24: =F24+C24+I24 -> 9 | M24: =K24+L24 -> 42
A25: 19.04.03 Продукты питания животного происхождения | B25: 8 | C25: 0 | D25: =C25+B25 -> 8 | E25: 9 | F25: 0 | G25: =E25+F25 -> 9 | H25: 6 | I25: 0 | J25: =H25+I25 -> 6 | K25: =E25+B25+H25 -> 23 | L25: =F25+C25+I25 -> 0 | M25: =K25+L25 -> 23
A26: 35.04.06 Агроинженерия | B26: 23 | C26: 4 | D26: =C26+B26 -> 27 | E26: 22 | F26: 4 | G26: =E26+F26 -> 26 | H26: 21 | I26: 3 | J26: =H26+I26 -> 24 | K26: =E26+B26+H26 -> 66 | L26: =F26+C26+I26 -> 11 | M26: =K26+L26 -> 77
A27: Итого граждане России | B27: =SUM(B19:B26) -> 93 | C27: =SUM(C19:C26) -> 23 | D27: =SUM(D19:D26) -> 116 | E27: =SUM(E19:E26) -> 95 | F27: =SUM(F19:F26) -> 22 | G27: =SUM(G19:G26) -> 117 | H27: =SUM(H19:H26) -> 92 | I27: =SUM(I19:I26) -> 23 | J27: =SUM(J19:J26) -> 115 | K27: =E27+B27+H27 -> 280 | L27: =F27+C27+I27 -> 68 | M27: =K27+L27 -> 348
A28: Граждане иностранных государст(вкл.Украину)
A29: 35.04.04 Агрономия | B29: 0 | C29: 0 | D29: =B29+C29 -> 0 | E29: 0 | F29: 0 | G29: =E29+F29 -> 0 | H29: 0 | I29: 0 | J29: 0 | K29: =E29+B29+H29 -> 0 | L29: =F29+C29+I29 -> 0 | M29: =K29+L29 -> 0
A30: 35.04.05 Садоводство | B30: 1 | C30: 0 | D30: =B30+C30 -> 1 | E30: 0 | F30: 0 | G30: =E30+F30 -> 0 | H30: 0 | I30: 0 | J30: =H30+I30 -> 0 | K30: =E30+B30+H30 -> 1 | L30: =F30+C30+I30 -> 0 | M30: =K30+L30 -> 1
A31: 21.04.02 Землеустройство и кадастры | B31: 0 | C31: 0 | D31: =B31+C31 -> 0 | E31: 0 | F31: 0 | G31: =E31+F31 -> 0 | H31: 1 | I31: 0 | J31: =H31+I31 -> 1 | K31: =E31+B31+H31 -> 1 | L31: =F31+C31+I31 -> 0 | M31: =K31+L31 -> 1
A32: 35.04.09 Ландшафтная архитектура | B32: 0 | C32: 0 | D32: =B32+C32 -> 0 | E32: 0 | F32: 0 | G32: =E32+F32 -> 0 | H32: 0 | I32: 0 | J32: 0 | K32: =E32+B32+H32 -> 0 | L32: =F32+C32+I32 -> 0 | M32: =K32+L32 -> 0
A33: 35.04.01 Лесное дело | B33: 0 | C33: 1 | D33: =B33+C33 -> 1 | E33: 0 | F33: 0 | G33: =E33+F33 -> 0 | H33: 1 | I33: 0 | J33: =H33+I33 -> 1 | K33: =E33+B33+H33 -> 1 | L33: =F33+C33+I33 -> 1 | M33: =K33+L33 -> 2
A34: 19.04.02 Продукты питания из растительного сырья | B34: 0 | C34: 0 | D34: =B34+C34 -> 0 | E34: 1 | F34: 0 | G34: =E34+F34 -> 1 | H34: 0 | I34: 0 | J34: =H34+I34 -> 0 | K34: =E34+B34+H34 -> 1 | L34: =F34+C34+I34 -> 0 | M34: =K34+L34 -> 1
A35: 19.04.03 Продукты питания животного происхождения | B35: 0 | C35: 0 | D35: =B35+C35 -> 0 | E35: 0 | F35: 0 | G35: 0 | H35: 0 | I35: 0 | J35: =H35+I35 -> 0 | K35: =E35+B35+H35 -> 0 | L35: =F35+C35+I35 -> 0 | M35: =K35+L35 -> 0
A36: 35.04.06 Агроинженерия | B36: 0 | C36: 0 | D36: =B36+C36 -> 0 | E36: 0 | F36: 0 | G36: 0 | H36: 0 | I36: 0 | J36: 0 | K36: =E36+B36+H36 -> 0 | L36: =F36+C36+I36 -> 0 | M36: =K36+L36 -> 0
A37: Итого граждане иностранных государст(вкл.Украину) | B37: =SUM(B29:B36) -> 1 | C37: =SUM(C29:C36) -> 1 | D37: =SUM(D29:D36) -> 2 | E37: =SUM(E29:E36) -> 1 | F37: =SUM(F29:F36) -> 0 | G37: =SUM(G29:G36) -> 1 | H37: =SUM(H29:H36) -> 2 | I37: =SUM(I29:I36) -> 0 | J37: =SUM(J29:J36) -> 2 | K37: =E37+B37+H37 -> 4 | L37: =F37+C37+I37 -> 1 | M37: =K37+L37 -> 5
A38: Итого граждан России: | B38: =B27 -> 93 | C38: =C27 -> 23 | D38: =D27 -> 116 | E38: =E27 -> 95 | F38: =F27 -> 22 | G38: =G27 -> 117 | H38: =H27 -> 92 | I38: =I27 -> 23 | J38: =J27 -> 115 | K38: =E38+B38+H38 -> 280 | L38: =F38+C38+I38 -> 68 | M38: =K38+L38 -> 348
A39: Итого граждане иностранных государст(вкл.Украину) | B39: =B37 -> 1 | C39: =C37 -> 1 | D39: =D37 -> 2 | E39: =E37 -> 1 | F39: =F37 -> 0 | G39: =G37 -> 1 | H39: =H37 -> 2 | I39: =I37 -> 0 | J39: =J37 -> 2 | K39: =E39+B39+H39 -> 4 | L39: =F39+C39+I39 -> 1 | M39: =K39+L39 -> 5
A40: Всего по АБиП | B40: =B39+B38 -> 94 | C40: =C39+C38 -> 24 | D40: =D39+D38 -> 118 | E40: =E39+E38 -> 96 | F40: =F39+F38 -> 22 | G40: =G39+G38 -> 118 | H40: =H39+H38 -> 94 | I40: =I39+I38 -> 23 | J40: =J39+J38 -> 117 | K40: =E40+B40+H40 -> 284 | L40: =F40+C40+I40 -> 69 | M40: =K40+L40 -> 353

Sheet Бакалавр ОФО ИЭиУ
A1: ФГАОУ ВО "КФУ им. В.И. Вернадского"
A2: ИНСТИТУТ ЭКОНОМИКИ И УПРАВЛЕНИЯ
A3: (структурное подразделение)
A4: Контингент очной формы обучения на 01.09.2019 г. (Бакалавры)
A6: Факультет/направление подготовки | B6: 1 | E6: 2 | H6: 3 | K6: 4 | N6: Всего бакалавры
B8: За счет бюджетных ассигнований | C8: На основе догов. о платных образов. услугах | D8: ВСЕГО | E8: За счет бюджетных ассигнований | F8: На основе догов. о платных образов. услугах | G8: ВСЕГО | H8: За счет бюджетных ассигнований | I8: На основе догов. о платных образов. услугах | J8: ВСЕГО | K8: За счет бюджетных ассигнований | L8: На основе догов. о платных образов. услугах | M8: ВСЕГО | N8: За счет бюджетных ассигнований | O8: На основе догов. о платных образов. услугах | P8: ВСЕГО
A9: Свод по направлениям подготовки
A10: 38.03.01 Экономика | B10: =B19+B27 -> 100 | C10: =C19+C27 -> 14 | D10: =B10+C10 -> 114 | E10: =E19+E27 -> 91 | F10: =F19+F27 -> 27 | G10: =E10+F10 -> 118 | H10: =H19+H27 -> 100 | I10: =I19+I27 -> 36 | J10: =H10+I10 -> 136 | K10: =K19+K27 -> 132 | L10: =L19+L27 -> 3 | M10: =K10+L10 -> 135 | N10: =SUM(B10+E10+H10+K10) -> 423 | O10: =SUM(C10+F10+I10+L10) -> 80 | P10: =SUM(N10:O10) -> 503
A11: 38.03.02 Менеджмент | B11: =B20+B28 -> 51 | C11: =C20+C28 -> 2 | D11: =B11+C11 -> 53 | E11: =E20+E28 -> 46 | F11: =F20+F28 -> 15 | G11: =E11+F11 -> 61 | H11: =H20+H28 -> 48 | I11: =I20+I28 -> 8 | J11: =H11+I11 -> 56 | K11: =K20+K28 -> 57 | L11: =L20+L28 -> 4 | M11: =K11+L11 -> 61 | N11: =SUM(B11+E11+H11+K11) -> 202 | O11: =SUM(C11+F11+I11+L11) -> 29 | P11: =SUM(N11:O11) -> 231
A12: 38.03.03 Управление персоналом | B12: =B21+B29 -> 35 | C12: =C21+C29 -> 0 | D12: =B12+C12 -> 35 | E12: =E21+E29 -> 28 | F12: =F21+F29 -> 10 | G12: =E12+F12 -> 38 | H12: =H21+H29 -> 30 | I12: =I21+I29 -> 5 | J12: =H12+I12 -> 35 | K12: =K21+K29 -> 22 | L12: =L21+L29 -> 6 | M12: =K12+L12 -> 28 | N12: =SUM(B12+E12+H12+K12) -> 115 | O12: =SUM(C12+F12+I12+L12) -> 21 | P12: =SUM(N12:O12) -> 136
A13: 38.03.04 Государственное и муниципальное управление | B13: =B22+B30 -> 40 | C13: =C22+C30 -> 5 | D13: =B13+C13 -> 45 | E13: =E22+E30 -> 38 | F13: =F22+F30 -> 22 | G13: =E13+F13 -> 60 | H13: =H22+H30 -> 29 | I13: =I22+I30 -> 17 | J13: =H13+I13 -> 46 | K13: =K22+K30 -> 38 | L13: =L22+L30 -> 21 | M13: =K13+L13 -> 59 | N13: =SUM(B13+E13+H13+K13) -> 145 | O13: =SUM(C13+F13+I13+L13) -> 65 | P13: =SUM(N13:O13) -> 210
A14: 38.03.05 Бизнес-информатика | B14: =B23+B31 -> 25 | C14: =C23+C31 -> 7 | D14: =B14+C14 -> 32 | E14: =E23+E31 -> 20 | F14: =F23+F31 -> 4 | G14: =E14+F14 -> 24 | H14: =H23+H31 -> 21 | I14: =I23+I31 -> 1 | J14: =H14+I14 -> 22 | K14: =K23+K31 -> 32 | L14: =L23+L31 -> 2 | M14: =K14+L14 -> 34 | N14: =SUM(B14+E14+H14+K14) -> 98 | O14: =SUM(C14+F14+I14+L14) -> 14 | P14: =SUM(N14:O14) -> 112
A15: 38.03.06 Торговое дело | B15: =B24+B32 -> 30 | C15: =C24+C32 -> 2 | D15: =B15+C15 -> 32 | E15: =E24+E32 -> 25 | F15: =F24+F32 -> 11 | G15: =E15+F15 -> 36 | H15: =H24+H32 -> 29 | I15: =I24+I32 -> 4 | J15: =H15+I15 -> 33 | K15: =K24+K32 -> 31 | L15: =L24+L32 -> 0 | M15: =K15+L15 -> 31 | N15: =SUM(B15+E15+H15+K15) -> 115 | O15: =SUM(C15+F15+I15+L15) -> 17 | P15: =SUM(N15:O15) -> 132
A16: Итого по направлениям подготовки: | B16: =SUM(B10:B15) -> 281 | C16: =SUM(C10:C15) -> 30 | D16: =SUM(D10:D15) -> 311 | E16: =SUM(E10:E15) -> 248 | F16: =SUM(F10:F15) -> 89 | G16: =SUM(G10:G15) -> 337 | H16: =SUM(H10:H15) -> 257 | I16: =SUM(I10:I15) -> 71 | ... P16: =SUM(P10:P15) -> 1324
A17: В том числе:
A18: Граждане России
A19: 38.03.01 Экономика | B19: 98 | C19: 13 | D19: =SUM(B19:C19) -> 111 | E19: =18+25+24+22+1 -> 90 | F19: =16+11 -> 27 | G19: =SUM(E19:F19) -> 117 | H19: =41+12+16+15+13 -> 97 | I19: =15+7+11 -> 33 | J19: =SUM(H19:I19) -> 130 | K19: =26+29+21+25+24 -> 125 | L19: 2 | M19: =SUM(K19:L19) -> 127 | N19: =SUM(B19+E19+H19+K19) -> 410 | O19: =SUM(C19+F19+I19+L19) -> 75 | P19: =SUM(N19:O19) -> 485
A20: 38.03.02 Менеджмент | B20: =1+49 -> 50 | C20: 2 | D20: =SUM(B20:C20) -> 52 | E20: =32+11 -> 43 | F20: 15 | G20: =SUM(E20:F20) -> 58 | H20: =20+26 -> 46 | I20: 8 | J20: =SUM(H20:I20) -> 54 | K20: =36+21 -> 57 | L20: 3 | M20: =SUM(K20:L20) -> 60 | N20: =SUM(B20+E20+H20+K20) -> 196 | O20: =SUM(C20+F20+I20+L20) -> 28 | P20: =SUM(N20:O20) -> 224
A21: 38.03.03 Управление персоналом | B21: 35 | C21: 0 | D21: =SUM(B21:C21) -> 35 | E21: 28 | F21: 10 | G21: =SUM(E21:F21) -> 38 | H21: 29 | I21: 5 | J21: =SUM(H21:I21) -> 34 | K21: 22 | L21: 6 | M21: =SUM(K21:L21) -> 28 | N21: =SUM(B21+E21+H21+K21) -> 114 | O21: =SUM(C21+F21+I21+L21) -> 21 | P21: =SUM(N21:O21) -> 135
A22: 38.03.04 Государственное и муниципальное управление | B22: 39 | C22: 5 | D22: =SUM(B22:C22) -> 44 | E22: 38 | F22: 22 | G22: =SUM(E22:F22) -> 60 | H22: 29 | I22: 16 | J22: =SUM(H22:I22) -> 45 | K22: =18+15+4 -> 37 | L22: 21 | M22: =SUM(K22:L22) -> 58 | N22: =SUM(B22+E22+H22+K22) -> 143 | O22: =SUM(C22+F22+I22+L22) -> 64 | P22: =SUM(N22:O22) -> 207
A23: 38.03.05 Бизнес-информатика | B23: 25 | C23: 5 | D23: =SUM(B23:C23) -> 30 | E23: 19 | F23: 4 | G23: =SUM(E23:F23) -> 23 | H23: 20 | I23: 1 | J23: =SUM(H23:I23) -> 21 | K23: =15+17 -> 32 | L23: 1 | M23: =SUM(K23:L23) -> 33 | N23: =SUM(B23+E23+H23+K23) -> 96 | O23: =SUM(C23+F23+I23+L23) -> 11 | P23: =SUM(N23:O23) -> 107
A24: 38.03.06 Торговое дело | B24: 30 | C24: 2 | D24: =SUM(B24:C24) -> 32 | E24: 25 | F24: 10 | G24: =SUM(E24:F24) -> 35 | H24: 29 | I24: 4 | J24: =SUM(H24:I24) -> 33 | K24: 31 | L24: 0 | M24: =SUM(K24:L24) -> 31 | N24: =SUM(B24+E24+H24+K24) -> 115 | O24: =SUM(C24+F24+I24+L24) -> 16 | P24: =SUM(N24:O24) -> 131
A25: Итого граждан России | B25: =SUM(B19:B24) -> 277 | C25: =SUM(C19:C24) -> 27 | D25: =SUM(D19:D24) -> 304 | E25: =SUM(E19:E24) -> 243 | F25: =SUM(F19:F24) -> 88 | G25: =SUM(G19:G24) -> 331 | H25: =SUM(H19:H24) -> 250 | I25: =SUM(I19:I24) -> 67 | ... P25: =SUM(P19:P24) -> 1289
A26: Граждане иностранных государств (вкл. Украину) | N26: =SUM(B26+E26+H26+K26) -> 0 | O26: =SUM(C26+F26+I26+L26) -> 0 | P26: =SUM(N26:O26) -> 0
A27: 38.03.01 Экономика | B27: 2 | C27: 1 | D27: =SUM(B27:C27) -> 3 | E27: 1 | F27: 0 | G27: =SUM(E27:F27) -> 1 | H27: 3 | I27: 3 | J27: =SUM(H27:I27) -> 6 | K27: 7 | L27: 1 | M27: =SUM(K27:L27) -> 8 | N27: =SUM(B27+E27+H27+K27) -> 13 | O27: =SUM(C27+F27+I27+L27) -> 5 | P27: =SUM(N27:O27) -> 18
A28: 38.03.02 Менеджмент | B28: 1 | C28: 0 | D28: =SUM(B28:C28) -> 1 | E28: 3 | F28: 0 | G28: =SUM(E28:F28) -> 3 | H28: 2 | I28: 0 | J28: =SUM(H28:I28) -> 2 | K28: 0 | L28: 1 | M28: =SUM(K28:L28) -> 1 | N28: =SUM(B28+E28+H28+K28) -> 6 | O28: =SUM(C28+F28+I28+L28) -> 1 | P28: =SUM(N28:O28) -> 7
A29: 38.03.03 Управление персоналом | B29: 0 | C29: 0 | D29: =SUM(B29:C29) -> 0 | E29: 0 | F29: 0 | G29: =SUM(E29:F29) -> 0 | H29: 1 | I29: 0 | J29: =SUM(H29:I29) -> 1 | K29: 0 | L29: 0 | M29: =SUM(K29:L29) -> 0 | N29: =SUM(B29+E29+H29+K29) -> 1 | O29: =SUM(C29+F29+I29+L29) -> 0 | P29: =SUM(N29:O29) -> 1
A30: 38.03.04 Государственное и муниципальное управление | B30: 1 | C30: 0 | D30: =SUM(B30:C30) -> 1 | E30: 0 | F30: 0 | G30: =SUM(E30:F30) -> 0 | H30: 0 | I30: 1 | J30: =SUM(H30:I30) -> 1 | K30: 1 | L30: 0 | M30: =SUM(K30:L30) -> 1 | N30: =SUM(B30+E30+H30+K30) -> 2 | O30: =SUM(C30+F30+I30+L30) -> 1 | P30: =SUM(N30:O30) -> 3
A31: 38.03.05 Бизнес-информатика | B31: 0 | C31: 2 | D31: =SUM(B31:C31) -> 2 | E31: 1 | F31: 0 | G31: =SUM(E31:F31) -> 1 | H31: 1 | I31: 0 | J31: =SUM(H31:I31) -> 1 | K31: 0 | L31: 1 | M31: =SUM(K31:L31) -> 1 | N31: =SUM(B31+E31+H31+K31) -> 2 | O31: =SUM(C31+F31+I31+L31) -> 3 | P31: =SUM(N31:O31) -> 5
A32: 38.03.06 Торговое дело | B32: 0 | C32: 0 | D32: =SUM(B32:C32) -> 0 | E32: 0 | F32: 1 | G32: =SUM(E32:F32) -> 1 | H32: 0 | I32: 0 | J32: =SUM(H32:I32) -> 0 | K32: 0 | L32: 0 | M32: =SUM(K32:L32) -> 0 | N32: =SUM(B32+E32+H32+K32) -> 0 | O32: =SUM(C32+F32+I32+L32) -> 1 | P32: =SUM(N32:O32) -> 1
A33: Итого граждане иностранных государств | B33: =SUM(B27:B32) -> 4 | C33: =SUM(C27:C32) -> 3 | D33: =SUM(D27:D32) -> 7 | E33: =SUM(E27:E32) -> 5 | F33: =SUM(F27:F32) -> 1 | G33: =SUM(G27:G32) -> 6 | H33: =SUM(H27:H32) -> 7 | I33: =SUM(I27:I32) -> 4 | ... P33: =SUM(P27:P32) -> 35
A34: ИТОГО по подразделению граждане России | B34: =B25 -> 277 | C34: =C25 -> 27 | D34: =D25 -> 304 | E34: =E25 -> 243 | F34: =F25 -> 88 | G34: =G25 -> 331 | H34: =H25 -> 250 | I34: =I25 -> 67 | ... P34: =P25 -> 1289
A35: ИТОГО по подразделению иностранные граждане | B35: =B33 -> 4 | C35: =C33 -> 3 | D35: =D33 -> 7 | E35: =E33 -> 5 | F35: =F33 -> 1 | G35: =G33 -> 6 | H35: =H33 -> 7 | I35: =I33 -> 4 | ... P35: =P33 -> 35
A36: Итого | B36: =SUM(B34:B35) -> 281 | C36: =SUM(C34:C35) -> 30 | D36: =SUM(D34:D35) -> 311 | E36: =SUM(E34:E35) -> 248 | F36: =SUM(F34:F35) -> 89 | G36: =SUM(G34:G35) -> 337 | H36: =SUM(H34:H35) -> 257 | I36: =SUM(I34:I35) -> 71 | ... O36: =SUM(O34:O35) -> 226 | P36: =P34+P35 -> 1324

Sheet Бакалавр ЗФО ИЭиУ
A2: ФГАОУ ВО "КФУ им. Вернадского"
A3: ИНСТИТУТ ЭКОНОМИКИ И УПРАВЛЕНИЯ
A4: (структурное подразделение)
A5: Контингент заочная форма обучения на 01.09.2019 г. (Бакалавры)
A7: Факультет/направление подготовки | B7: 1 | E7: 2 | H7: 3 | K7: 4 | N7: 5 | Q7: Всего бакалавры
B9: За счет бюджетных ассигнований | C9: На основе догов. о платных образов. услугах | D9: ВСЕГО | E9: За счет бюджетных ассигнований | F9: На основе догов. о платных образов. услугах | G9: ВСЕГО | H9: За счет бюджетных ассигнований | I9: На основе догов. о платных образов. услугах | J9: ВСЕГО | K9: За счет бюджетных ассигнований | L9: На основе догов. о платных образов. услугах | M9: ВСЕГО | N9: За счет бюджетных ассигнований | O9: На основе догов. о платных образов. услугах | P9: ВСЕГО | Q9: За счет бюджетных ассигнований | R9: На основе догов. о платных образов. услугах | S9: ВСЕГО
A10: Свод по направлениям подготовки
A11: 38.03.01 Экономика | B11: =B20+B28 -> 1 | C11: =C20+C28 -> 33 | D11: =B11+C11 -> 34 | E11: =E20+E28 -> 17 | F11: =F20+F28 -> 24 | G11: =E11+F11 -> 41 | H11: =H20+H28 -> 25 | I11: =I20+I28 -> 19 | J11: =H11+I11 -> 44 | K11: =K20+K28 -> 30 | L11: =L20+L28 -> 34 | M11: =K11+L11 -> 64 | N11: =N20+N28 -> 39 | O11: =O20+O28 -> 46 | P11: =P20+P28 -> 85 | Q11: =SUM(B11+E11+H11+K11+N11) -> 112 | R11: =SUM(C11+F11+I11+L11+O11) -> 156 | S11: =SUM(Q11:R11) -> 268
A12: 38.03.02 Менеджмент | B12: =B21+B29 -> 0 | C12: =C21+C29 -> 2 | D12: =B12+C12 -> 2 | E12: =E21+E29 -> 11 | F12: =F21+F29 -> 6 | G12: =E12+F12 -> 17 | H12: =H21+H29 -> 9 | I12: =I21+I29 -> 2 | J12: =H12+I12 -> 11 | K12: =K21+K29 -> 21 | L12: =L21+L29 -> 13 | M12: =K12+L12 -> 34 | N12: =N21+N29 -> 15 | O12: =O21+O29 -> 17 | P12: =P21+P29 -> 32 | Q12: =SUM(B12+E12+H12+K12+N12) -> 56 | R12: =SUM(C12+F12+I12+L12+O12) -> 40 | S12: =SUM(Q12:R12) -> 96
A13: 38.03.03 Управление персоналом | B13: =B22+B30 -> 0 | C13: =C22+C30 -> 0 | D13: =B13+C13 -> 0 | E13: =E22+E30 -> 5 | F13: =F22+F30 -> 9 | G13: =E13+F13 -> 14 | H13: =H22+H30 -> 3 | I13: =I22+I30 -> 12 | J13: =H13+I13 -> 15 | K13: =K22+K30 -> 8 | L13: =L22+L30 -> 12 | M13: =K13+L13 -> 20 | N13: =N22+N30 -> 2 | O13: =O22+O30 -> 18 | P13: =P22+P30 -> 20 | Q13: =SUM(B13+E13+H13+K13+N13) -> 18 | R13: =SUM(C13+F13+I13+L13+O13) -> 51 | S13: =SUM(Q13:R13) -> 69
A14: 38.03.04 Государственное и муниципальное управление | B14: =B23+B31 -> 0 | C14: =C23+C31 -> 26 | D14: =B14+C14 -> 26 | E14: =E23+E31 -> 6 | F14: =F23+F31 -> 15 | G14: =E14+F14 -> 21 | H14: =H23+H31 -> 5 | I14: =I23+I31 -> 15 | J14: =H14+I14 -> 20 | K14: =K23+K31 -> 6 | L14: =L23+L31 -> 23 | M14: =K14+L14 -> 29 | N14: =N23+N31 -> 14 | O14: =O23+O31 -> 19 | P14: =P23+P31 -> 33 | Q14: =SUM(B14+E14+H14+K14+N14) -> 31 | R14: =SUM(C14+F14+I14+L14+O14) -> 98 | S14: =SUM(Q14:R14) -> 129
A15: 38.03.05 Бизнес-информатика | B15: =B24+B32 -> 0 | C15: =C24+C32 -> 0 | D15: =B15+C15 -> 0 | E15: =E24+E32 -> 0 | F15: =F24+F32 -> 0 | G15: =E15+F15 -> 0 | H15: =H24+H32 -> 3 | I15: =I24+I32 -> 4 | J15: =H15+I15 -> 7 | K15: =K24+K32 -> 5 | L15: =L24+L32 -> 1 | M15: =K15+L15 -> 6 | N15: =N24+N32 -> 0 | O15: =O24+O32 -> 0 | P15: =P24+P32 -> 0 | Q15: =SUM(B15+E15+H15+K15+N15) -> 8 | R15: =SUM(C15+F15+I15+L15+O15) -> 5 | S15: =SUM(Q15:R15) -> 13
A16: 38.03.06 Торговое дело | B16: =B25+B33 -> 1 | C16: =C25+C33 -> 0 | D16: =B16+C16 -> 1 | E16: =E25+E33 -> 4 | F16: =F25+F33 -> 4 | G16: =E16+F16 -> 8 | H16: =H25+H33 -> 6 | I16: =I25+I33 -> 1 | J16: =H16+I16 -> 7 | K16: =K25+K33 -> 12 | L16: =L25+L33 -> 4 | M16: =K16+L16 -> 16 | N16: =N25+N33 -> 7 | O16: =O25+O33 -> 10 | P16: =P25+P33 -> 17 | Q16: =SUM(B16+E16+H16+K16+N16) -> 30 | R16: =SUM(C16+F16+I16+L16+O16) -> 19 | S16: =SUM(Q16:R16) -> 49
A17: Итого по направлениям подготовки | B17: =SUM(B11:B16) -> 2 | C17: =SUM(C11:C16) -> 61 | D17: =SUM(D11:D16) -> 63 | E17: =SUM(E11:E16) -> 43 | F17: =SUM(F11:F16) -> 58 | G17: =SUM(G11:G16) -> 101 | H17: =SUM(H11:H16) -> 51 | I17: =SUM(I11:I16) -> 53 | ... T17: =SUM(T11:T16) -> 0
A18: В том числе:
A19: Граждане России
A20: 38.03.01 Экономика | B20: 1 | C20: =2+31 -> 33 | D20: =SUM(B20:C20) -> 34 | E20: 17 | F20: =15+7 -> 22 | G20: =SUM(E20:F20) -> 39 | H20: =16+8 -> 24 | I20: 19 | J20: =SUM(H20:I20) -> 43 | K20: 30 | L20: 34 | M20: =SUM(K20:L20) -> 64 | N20: =27+12 -> 39 | O20: =7+14+12+12 -> 45 | P20: =N20+O20 -> 84 | Q20: =SUM(B20+E20+H20+K20+N20) -> 111 | R20: =SUM(C20+F20+I20+L20+O20) -> 153 | S20: =SUM(Q20:R20) -> 264
A21: 38.03.02 Менеджмент | B21: 0 | C21: 2 | D21: =SUM(B21:C21) -> 2 | E21: 11 | F21: 6 | G21: =SUM(E21:F21) -> 17 | H21: 9 | I21: 2 | J21: =SUM(H21:I21) -> 11 | K21: 21 | L21: 13 | M21: =SUM(K21:L21) -> 34 | N21: 15 | O21: 17 | P21: =N21+O21 -> 32 | Q21: =SUM(B21+E21+H21+K21+N21) -> 56 | R21: =SUM(C21+F21+I21+L21+O21) -> 40 | S21: =SUM(Q21:R21) -> 96
A22: 38.03.03 Управление персоналом | B22: 0 | C22: 0 | D22: =SUM(B22:C22) -> 0 | E22: 4 | F22: 8 | G22: =SUM(E22:F22) -> 12 | H22: 3 | I22: 11 | J22: =SUM(H22:I22) -> 14 | K22: 8 | L22: 12 | M22: =SUM(K22:L22) -> 20 | N22: 2 | O22: 18 | P22: =N22+O22 -> 20 | Q22: =SUM(B22+E22+H22+K22+N22) -> 17 | R22: =SUM(C22+F22+I22+L22+O22) -> 49 | S22: =SUM(Q22:R22) -> 66
A23: 38.03.04 Государственное и муниципальное управление | B23: 0 | C23: 25 | D23: =SUM(B23:C23) -> 25 | E23: 6 | F23: 14 | G23: =SUM(E23:F23) -> 20 | H23: 3 | I23: 15 | J23: =SUM(H23:I23) -> 18 | K23: 6 | L23: 22 | M23: =SUM(K23:L23) -> 28 | N23: 14 | O23: 17 | P23: =N23+O23 -> 31 | Q23: =SUM(B23+E23+H23+K23+N23) -> 29 | R23: =SUM(C23+F23+I23+L23+O23) -> 93 | S23: =SUM(Q23:R23) -> 122
A24: 38.03.05 Бизнес-информатика | B24: 0 | C24: 0 | D24: =SUM(B24:C24) -> 0 | E24: 0 | F24: 0 | G24: =SUM(E24:F24) -> 0 | H24: 2 | I24: 4 | J24: =SUM(H24:I24) -> 6 | K24: 5 | L24: 1 | M24: =SUM(K24:L24) -> 6 | N24: 0 | O24: 0 | P24: =N24+O24 -> 0 | Q24: =SUM(B24+E24+H24+K24+N24) -> 7 | R24: =SUM(C24+F24+I24+L24+O24) -> 5 | S24: =SUM(Q24:R24) -> 12
A25: 38.03.06 Торговое дело | B25: 1 | C25: 0 | D25: =SUM(B25:C25) -> 1 | E25: 3 | F25: 3 | G25: =SUM(E25:F25) -> 6 | H25: 6 | I25: 1 | J25: =SUM(H25:I25) -> 7 | K25: 12 | L25: 4 | M25: =SUM(K25:L25) -> 16 | N25: 7 | O25: 10 | P25: =N25+O25 -> 17 | Q25: =SUM(B25+E25+H25+K25+N25) -> 29 | R25: =SUM(C25+F25+I25+L25+O25) -> 18 | S25: =SUM(Q25:R25) -> 47
A26: Итого граждане России | B26: =SUM(B20:B25) -> 2 | C26: =SUM(C20:C25) -> 60 | D26: =SUM(D20:D25) -> 62 | E26: =SUM(E20:E25) -> 41 | F26: =SUM(F20:F25) -> 53 | G26: =SUM(G20:G25) -> 94 | H26: =SUM(H20:H25) -> 47 | I26: =SUM(I20:I25) -> 52 | ... T26: =SUM(T20:T25) -> 0
A27: Граждане иностранных государств (вкл. Украину)
A28: 38.03.01 Экономика | B28: 0 | C28: 0 | D28: =SUM(B28:C28) -> 0 | E28: 0 | F28: 2 | G28: =SUM(E28:F28) -> 2 | H28: 1 | I28: 0 | J28: =SUM(H28:I28) -> 1 | K28: 0 | L28: 0 | M28: =SUM(K28:L28) -> 0 | N28: 0 | O28: 1 | P28: =N28+O28 -> 1 | Q28: =B28+E28+H28+K28+N28 -> 1 | R28: =C28+F28+I28+L28+O28 -> 3 | S28: =SUM(Q28:R28) -> 4
A29: 38.03.02 Менеджмент | B29: 0 | C29: 0 | D29: =SUM(B29:C29) -> 0 | E29: 0 | F29: 0 | G29: =SUM(E29:F29) -> 0 | H29: 0 | I29: 0 | J29: =SUM(H29:I29) -> 0 | K29: 0 | L29: 0 | M29: =SUM(K29:L29) -> 0 | N29: 0 | O29: 0 | P29: =N29+O29 -> 0 | Q29: =B29+E29+H29+K29+N29 -> 0 | R29: =C29+F29+I29+L29+O29 -> 0 | S29: =SUM(Q29:R29) -> 0
A30: 38.03.03 Управление персоналом | B30: 0 | C30: 0 | D30: =SUM(B30:C30) -> 0 | E30: 1 | F30: 1 | G30: =SUM(E30:F30) -> 2 | H30: 0 | I30: 1 | J30: =SUM(H30:I30) -> 1 | K30: 0 | L30: 0 | M30: =SUM(K30:L30) -> 0 | N30: 0 | O30: 0 | P30: =N30+O30 -> 0 | Q30: =B30+E30+H30+K30+N30 -> 1 | R30: =C30+F30+I30+L30+O30 -> 2 | S30: =SUM(Q30:R30) -> 3
A31: 38.03.04 Государственное и муниципальное управление | B31: 0 | C31: 1 | D31: =SUM(B31:C31) -> 1 | E31: 0 | F31: 1 | G31: =SUM(E31:F31) -> 1 | H31: 2 | I31: 0 | J31: =SUM(H31:I31) -> 2 | K31: 0 | L31: 1 | M31: =SUM(K31:L31) -> 1 | N31: 0 | O31: 2 | P31: =N31+O31 -> 2 | Q31: =B31+E31+H31+K31+N31 -> 2 | R31: =C31+F31+I31+L31+O31 -> 5 | S31: =SUM(Q31:R31) -> 7
A32: 38.03.05 Бизнес-информатика | B32: 0 | C32: 0 | D32: =SUM(B32:C32) -> 0 | E32: 0 | F32: 0 | G32: =SUM(E32:F32) -> 0 | H32: 1 | I32: 0 | J32: =SUM(H32:I32) -> 1 | K32: 0 | L32: 0 | M32: =SUM(K32:L32) -> 0 | N32: 0 | O32: 0 | P32: =N32+O32 -> 0 | Q32: =B32+E32+H32+K32+N32 -> 1 | R32: =C32+F32+I32+L32+O32 -> 0 | S32: =SUM(Q32:R32) -> 1
A33: 38.03.06 Торговое дело | B33: 0 | C33: 0 | D33: =SUM(B33:C33) -> 0 | E33: 1 | F33: 1 | G33: =SUM(E33:F33) -> 2 | H33: 0 | I33: 0 | J33: =SUM(H33:I33) -> 0 | K33: 0 | L33: 0 | M33: =SUM(K33:L33) -> 0 | N33: 0 | O33: 0 | P33: =N33+O33 -> 0 | Q33: =B33+E33+H33+K33+N33 -> 1 | R33: =C33+F33+I33+L33+O33 -> 1 | S33: =SUM(Q33:R33) -> 2
A34: Итого граждане иностранных государств | B34: =SUM(B28:B33) -> 0 | C34: =SUM(C28:C33) -> 1 | D34: =SUM(D28:D33) -> 1 | E34: =SUM(E28:E33) -> 2 | F34: =SUM(F28:F33) -> 5 | G34: =SUM(G28:G33) -> 7 | H34: =SUM(H28:H33) -> 4 | I34: =SUM(I28:I33) -> 1 | ... S34: =SUM(S28:S33) -> 17
A35: ИТОГО по подразделению граждане России | B35: =B26 -> 2 | C35: =C26 -> 60 | D35: =D26 -> 62 | E35: =E26 -> 41 | F35: =F26 -> 53 | G35: =G26 -> 94 | H35: =H26 -> 47 | I35: =I26 -> 52 | ... S35: =S26 -> 607
A36: ИТОГО по подразделению граждане иностранных государств | B36: =B34 -> 0 | C36: =C34 -> 1 | D36: =D34 -> 1 | E36: =E34 -> 2 | F36: =F34 -> 5 | G36: =G34 -> 7 | H36: =H34 -> 4 | I36: =I34 -> 1 | ... S36: =S34 -> 17
A37: Свод по направлениям подготовки | B37: =SUM(B35:B36) -> 2 | C37: =SUM(C35:C36) -> 61 | D37: =SUM(D35:D36) -> 63 | E37: =SUM(E35:E36) -> 43 | F37: =SUM(F35:F36) -> 58 | G37: =SUM(G35:G36) -> 101 | H37: =SUM(H35:H36) -> 51 | I37: =SUM(I35:I36) -> 53 | ... S37: =SUM(S35:S36) -> 624

Sheet МАГ ОФО ИЭиУ
A2: ФГАОУ ВО "КФУ им. В.И. Вернадского"
A3: ИНСТИТУТ ЭКОНОМИКИ И УПРАВЛЕНИЯ
A4: (структурное подразделение)
A5: Контингент очной формы обучения на 01.09.2019 г. (Магистры)
A7: Факультет/направление подготовки | B7: 1 год обучения | E7: 2 год обучения | H7: Всего магистры
B8: МАГИСТР | E8: МАГИСТР
B9: За счет бюджетных ассигнований | C9: На основе догов. о платных образов. услугах | D9: ВСЕГО | E9: За счет бюджетных ассигнований | F9: На основе догов. о платных образов. услугах | G9: ВСЕГО | H9: За счет бюджетных ассигнований | I9: На основе догов. о платных образов. услугах | J9: ВСЕГО
A10: Свод по направлениям подготовки
A11: 38.04.01 Экономика | B11: =B21+B30 -> 76 | C11: =C21+C30 -> 1 | D11: =D21+D30 -> 77 | E11: =E21+E30 -> 75 | F11: =F21+F30 -> 5 | G11: =G21+G30 -> 80 | H11: =SUM(B11+E11) -> 151 | I11: =SUM(C11+F11) -> 6 | J11: =SUM(H11:I11) -> 157
A12: 38.04.02 Менеджмент | B12: =B22+B31 -> 29 | C12: =C22+C31 -> 0 | D12: =D22+D31 -> 29 | E12: =E22+E31 -> 34 | F12: =F22+F31 -> 3 | G12: =G22+G31 -> 37 | H12: =SUM(B12+E12) -> 63 | I12: =SUM(C12+F12) -> 3 | J12: =SUM(H12:I12) -> 66
A13: 38.04.03 Управление персоналом | B13: =B23+B32 -> 20 | C13: =C23+C32 -> 0 | D13: =D23+D32 -> 20 | E13: =E23+E32 -> 14 | F13: =F23+F32 -> 2 | G13: =G23+G32 -> 16 | H13: =SUM(B13+E13) -> 34 | I13: =SUM(C13+F13) -> 2 | J13: =SUM(H13:I13) -> 36
A14: 38.04.04 Государственное и муниципальное управление | B14: =B24+B33 -> 30 | C14: =C24+C33 -> 1 | D14: =D24+D33 -> 31 | E14: =E24+E33 -> 28 | F14: =F24+F33 -> 5 | G14: =G24+G33 -> 33 | H14: =SUM(B14+E14) -> 58 | I14: =SUM(C14+F14) -> 6 | J14: =SUM(H14:I14) -> 64
A15: 38.04.05 Бизнес-информатика | B15: =B25+B34 -> 20 | C15: =C25+C34 -> 4 | D15: =D25+D34 -> 24 | E15: =E25+E34 -> 16 | F15: =F25+F34 -> 4 | G15: =G25+G34 -> 20 | H15: =SUM(B15+E15) -> 36 | I15: =SUM(C15+F15) -> 8 | J15: =SUM(H15:I15) -> 44
A16: 38.04.06 Торговое дело | B16: =B26+B35 -> 20 | C16: =C26+C35 -> 0 | D16: =D26+D35 -> 20 | E16: =E26+E35 -> 16 | F16: =F26+F35 -> 0 | G16: =G26+G35 -> 16 | H16: =SUM(B16+E16) -> 36 | I16: =SUM(C16+F16) -> 0 | J16: =SUM(H16:I16) -> 36
A17: 38.04.08 Финансы и кредит | B17: =B27+B36 -> 51 | C17: =C27+C36 -> 1 | D17: =D27+D36 -> 52 | E17: =E27+E36 -> 58 | F17: =F27+F36 -> 3 | G17: =G27+G36 -> 61 | H17: =SUM(B17+E17) -> 109 | I17: =SUM(C17+F17) -> 4 | J17: =SUM(H17:I17) -> 113
A18: Итого по направлениям подготовки: | B18: =SUM(B10:B17) -> 246 | C18: =SUM(C10:C17) -> 7 | D18: =SUM(D10:D17) -> 253 | E18: =SUM(E10:E17) -> 241 | F18: =SUM(F10:F17) -> 22 | G18: =SUM(G10:G17) -> 263 | H18: =SUM(H10:H17) -> 487 | I18: =SUM(I10:I17) -> 29 | J18: =SUM(J10:J17) -> 516
A19: В том числе:
A20: Граждане России
A21: 38.04.01 Экономика | B21: =1+74 -> 75 | C21: 1 | D21: =SUM(B21:C21) -> 76 | E21: =23+11+17+18 -> 69 | F21: 4 | G21: =SUM(E21:F21) -> 73 | H21: =SUM(B21+E21) -> 144 | I21: =SUM(C21+F21) -> 5 | J21: =SUM(H21:I21) -> 149
A22: 38.04.02 Менеджмент | B22: 26 | C22: 0 | D22: =SUM(B22:C22) -> 26 | E22: =12+14+2 -> 28 | F22: 2 | G22: =SUM(E22:F22) -> 30 | H22: =SUM(B22+E22) -> 54 | I22: =SUM(C22+F22) -> 2 | J22: =SUM(H22:I22) -> 56
A23: 38.04.03 Управление персоналом | B23: 20 | C23: 0 | D23: =SUM(B23:C23) -> 20 | E23: 14 | F23: 2 | G23: =SUM(E23:F23) -> 16 | H23: =SUM(B23+E23) -> 34 | I23: =SUM(C23+F23) -> 2 | J23: =SUM(H23:I23) -> 36
A24: 38.04.04 Государственное и муниципальное управление | B24: 30 | C24: 0 | D24: =SUM(B24:C24) -> 30 | E24: 25 | F24: 4 | G24: =SUM(E24:F24) -> 29 | H24: =SUM(B24+E24) -> 55 | I24: =SUM(C24+F24) -> 4 | J24: =SUM(H24:I24) -> 59
A25: 38.04.05 Бизнес-информатика | B25: 20 | C25: 4 | D25: =SUM(B25:C25) -> 24 | E25: 14 | F25: 3 | G25: =SUM(E25:F25) -> 17 | H25: =SUM(B25+E25) -> 34 | I25: =SUM(C25+F25) -> 7 | J25: =SUM(H25:I25) -> 41
A26: 38.04.06 Торговое дело | B26: 19 | C26: 0 | D26: =SUM(B26:C26) -> 19 | E26: 14 | F26: 0 | G26: =SUM(E26:F26) -> 14 | H26: =SUM(B26+E26) -> 33 | I26: =SUM(C26+F26) -> 0 | J26: =SUM(H26:I26) -> 33
A27: 38.04.08 Финансы и кредит | B27: 50 | C27: 1 | D27: =SUM(B27:C27) -> 51 | E27: =13+9+17+13 -> 52 | F27: 2 | G27: =SUM(E27:F27) -> 54 | H27: =SUM(B27+E27) -> 102 | I27: =SUM(C27+F27) -> 3 | J27: =SUM(H27:I27) -> 105
A28: Итого граждане России | B28: =SUM(B21:B27) -> 240 | C28: =SUM(C21:C27) -> 6 | D28: =SUM(D21:D27) -> 246 | E28: =SUM(E21:E27) -> 216 | F28: =SUM(F21:F27) -> 17 | G28: =SUM(G21:G27) -> 233 | H28: =SUM(H21:H27) -> 456 | I28: =SUM(I21:I27) -> 23 | J28: =SUM(J21:J27) -> 479
A29: Граждане иностранных государств (вкл. Украину)
A30: 38.04.01 Экономика | B30: 1 | C30: 0 | D30: =SUM(B30:C30) -> 1 | E30: 6 | F30: 1 | G30: =SUM(E30:F30) -> 7 | H30: =SUM(B30+E30) -> 7 | I30: =SUM(C30+F30) -> 1 | J30: =D30+G30 -> 8
A31: 38.04.02 Менеджмент | B31: 3 | C31: 0 | D31: =SUM(B31:C31) -> 3 | E31: 6 | F31: 1 | G31: =SUM(E31:F31) -> 7 | H31: =B31+E31 -> 9 | I31: =C31+F31 -> 1 | J31: =D31+G31 -> 10
A32: 38.04.03 Управление персоналом | B32: 0 | C32: 0 | D32: =SUM(B32:C32) -> 0 | E32: 0 | F32: 0 | G32: =SUM(E32:F32) -> 0 | H32: =B32+E32 -> 0 | I32: =C32+F32 -> 0 | J32: =D32+G32 -> 0
A33: 38.04.04 Государственное и муниципальное управление | B33: 0 | C33: 1 | D33: =SUM(B33:C33) -> 1 | E33: 3 | F33: 1 | G33: =SUM(E33:F33) -> 4 | H33: =B33+E33 -> 3 | I33: =C33+F33 -> 2 | J33: =D33+G33 -> 5
A34: 38.04.05 Бизнес-информатика | B34: 0 | C34: 0 | D34: =SUM(B34:C34) -> 0 | E34: 2 | F34: 1 | G34: =SUM(E34:F34) -> 3 | H34: =B34+E34 -> 2 | I34: =C34+F34 -> 1 | J34: =D34+G34 -> 3
A35: 38.04.06 Торговое дело | B35: 1 | C35: 0 | D35: =SUM(B35:C35) -> 1 | E35: 2 | F35: 0 | G35: =SUM(E35:F35) -> 2 | H35: =B35+E35 -> 3 | I35: =C35+F35 -> 0 | J35: =D35+G35 -> 3
A36: 38.04.08 Финансы и кредит | B36: 1 | C36: 0 | D36: =SUM(B36:C36) -> 1 | E36: 6 | F36: 1 | G36: =SUM(E36:F36) -> 7 | H36: =B36+E36 -> 7 | I36: =C36+F36 -> 1 | J36: =D36+G36 -> 8
A37: Итого граждане иностранных государств | B37: =SUM(B30:B36) -> 6 | C37: =SUM(C30:C36) -> 1 | D37: =SUM(D30:D36) -> 7 | E37: =SUM(E30:E36) -> 25 | F37: =SUM(F30:F36) -> 5 | G37: =SUM(G30:G36) -> 30 | H37: =SUM(H30:H36) -> 31 | I37: =SUM(I30:I36) -> 6 | J37: =SUM(J30:J36) -> 37
A38: ИТОГО по подразделению граждане России | B38: =B28 -> 240 | C38: =C28 -> 6 | D38: =D28 -> 246 | E38: =E28 -> 216 | F38: =F28 -> 17 | G38: =G28 -> 233 | H38: =H28 -> 456 | I38: =I28 -> 23 | J38: =J28 -> 479
A39: ИТОГО по подразделению иностранные граждане | B39: =B37 -> 6 | C39: =C37 -> 1 | D39: =D37 -> 7 | E39: =E37 -> 25 | F39: =F37 -> 5 | G39: =G37 -> 30 | H39: =H37 -> 31 | I39: =I37 -> 6 | J39: =J37 -> 37
A40: Итого | B40: =SUM(B38:B39) -> 246 | C40: =SUM(C38:C39) -> 7 | D40: =SUM(D38:D39) -> 253 | E40: =SUM(E38:E39) -> 241 | F40: =SUM(F38:F39) -> 22 | G40: =SUM(G38:G39) -> 263 | H40: =SUM(H38:H39) -> 487 | I40: =SUM(I38:I39) -> 29 | J40: =SUM(J38:J39) -> 516
A41: Начальник отдела организации и мониторинга учебного процесса ____________________ Н.В. Новохатскася
A42: Директор института экономики и управления ____________________ В.Е. Реутов

Sheet МАГ ЗФО ИЭиУ
A2: ФГАОУ ВО "КФУ им. В.И. Вернадского"
A3: ИНСТИТУТ ЭКОНОМИКИ И УПРАВЛЕНИЯ
A4: (структурное подразделение)
A5: Контингент заочной формы обучения на 01.09.2019 г. (Магистры)
A7: Факультет/направление подготовки | B7: 1 год обучения | E7: 2 год обучения | H7: 3 год обучения | K7: Всего магистры
B8: МАГИСТР | E8: МАГИСТР | H8: МАГИСТР
B9: За счет бюджетных ассигнований | C9: На основе догов. о платных образов. услугах | D9: ВСЕГО | E9: За счет бюджетных ассигнований | F9: На основе догов. о платных образов. услугах | G9: ВСЕГО | H9: За счет бюджетных ассигнований | I9: На основе догов. о платных образов. услугах | J9: ВСЕГО | K9: За счет бюджетных ассигнований | L9: На основе догов. о платных образов. услугах | M9: ВСЕГО
A10: Свод по направлениям подготовки
A11: 38.04.01 Экономика | B11: =B21+B30 -> 23 | C11: =C21+C30 -> 19 | D11: =B11+C11 -> 42 | E11: =E21+E30 -> 30 | F11: =F21+F30 -> 30 | G11: =E11+F11 -> 60 | H11: =H21+H30 -> 30 | I11: =I21+I30 -> 11 | J11: =H11+I11 -> 41 | K11: =SUM(B11+E11+H11) -> 83 | L11: =SUM(C11+F11+I11) -> 60 | M11: =SUM(K11:L11) -> 143
A12: 38.04.02 Менеджмент | B12: =B22+B31 -> 0 | C12: =C22+C31 -> 5 | D12: =B12+C12 -> 5 | E12: =E22+E31 -> 0 | F12: =F22+F31 -> 0 | G12: =E12+F12 -> 0 | H12: =H22+H31 -> 0 | I12: =I22+I31 -> 1 | J12: =H12+I12 -> 1 | K12: =SUM(B12+E12+H12) -> 0 | L12: =SUM(C12+F12+I12) -> 6 | M12: =SUM(K12:L12) -> 6
A13: 38.04.03 Управление персоналом | B13: =B23+B32 -> 0 | C13: =C23+C32 -> 9 | D13: =B13+C13 -> 9 | E13: =E23+E32 -> 5 | F13: =F23+F32 -> 16 | G13: =E13+F13 -> 21 | H13: =H23+H32 -> 5 | I13: =I23+I32 -> 5 | J13: =H13+I13 -> 10 | K13: =SUM(B13+E13+H13) -> 10 | L13: =SUM(C13+F13+I13) -> 30 | M13: =SUM(K13:L13) -> 40
A14: 38.04.04 Государственное и муниципальное управление | B14: =B24+B33 -> 6 | C14: =C24+C33 -> 65 | D14: =B14+C14 -> 71 | E14: =E24+E33 -> 5 | F14: =F24+F33 -> 28 | G14: =E14+F14 -> 33 | H14: =H24+H33 -> 5 | I14: =I24+I33 -> 18 | J14: =H14+I14 -> 23 | K14: =SUM(B14+E14+H14) -> 16 | L14: =SUM(C14+F14+I14) -> 111 | M14: =SUM(K14:L14) -> 127
A15: 38.04.05 Бизнес-информатика | B15: =B25+B34 -> 0 | C15: =C25+C34 -> 0 | D15: =B15+C15 -> 0 | E15: =E25+E34 -> 5 | F15: =F25+F34 -> 1 | G15: =E15+F15 -> 6 | H15: =H25+H34 -> 6 | I15: =I25+I34 -> 0 | J15: =H15+I15 -> 6 | K15: =SUM(B15+E15+H15) -> 11 | L15: =SUM(C15+F15+I15) -> 1 | M15: =SUM(K15:L15) -> 12
A16: 38.04.06 Торговое дело | B16: =B26+B35 -> 0 | C16: =C26+C35 -> 0 | D16: =B16+C16 -> 0 | E16: =E26+E35 -> 0 | F16: =F26+F35 -> 0 | G16: =E16+F16 -> 0 | H16: =H26+H35 -> 0 | I16: =I26+I35 -> 0 | J16: =H16+I16 -> 0 | K16: =SUM(B16+E16+H16) -> 0 | L16: =SUM(C16+F16+I16) -> 0 | M16: =SUM(K16:L16) -> 0
A17: 38.04.08 Финансы и кредит | B17: =B27+B36 -> 15 | C17: =C27+C36 -> 2 | D17: =B17+C17 -> 17 | E17: =E27+E36 -> 26 | F17: =F27+F36 -> 11 | G17: =E17+F17 -> 37 | H17: =H27+H36 -> 25 | I17: =I27+I36 -> 4 | J17: =H17+I17 -> 29 | K17: =SUM(B17+E17+H17) -> 66 | L17: =SUM(C17+F17+I17) -> 17 | M17: =SUM(K17:L17) -> 83
A18: Итого по направлениям подготовки: | B18: =SUM(B11:B17) -> 44 | C18: =SUM(C11:C17) -> 100 | D18: =SUM(D11:D17) -> 144 | E18: =SUM(E11:E17) -> 71 | F18: =SUM(F11:F17) -> 86 | G18: =SUM(G11:G17) -> 157 | H18: =SUM(H11:H17) -> 71 | I18: =SUM(I11:I17) -> 39 | ... M18: =SUM(M11:M17) -> 411
A19: В том числе:
A20: Граждане России
A21: 38.04.01 Экономика | B21: =1+22 -> 23 | C21: 19 | D21: =SUM(B21:C21) -> 42 | E21: =17+8+4+1 -> 30 | F21: =9+9+8+4 -> 30 | G21: =SUM(E21:F21) -> 60 | H21: 29 | I21: 11 | J21: =SUM(H21:I21) -> 40 | K21: =B21+E21+H21 -> 82 | L21: =C21+F21+I21 -> 60 | M21: =D21+G21+J21 -> 142
A22: 38.04.02 Менеджмент | B22: 0 | C22: 5 | D22: =SUM(B22:C22) -> 5 | E22: 0 | F22: 0 | G22: =SUM(E22:F22) -> 0 | H22: 0 | I22: 1 | J22: =SUM(H22:I22) -> 1 | K22: =B22+E22+H22 -> 0 | L22: =C22+F22+I22 -> 6 | M22: =D22+G22+J22 -> 6
A23: 38.04.03 Управление персоналом | B23: 0 | C23: =1+8 -> 9 | D23: =SUM(B23:C23) -> 9 | E23: 5 | F23: 14 | G23: =SUM(E23:F23) -> 19 | H23: 5 | I23: 5 | J23: =SUM(H23:I23) -> 10 | K23: =B23+E23+H23 -> 10 | L23: =C23+F23+I23 -> 28 | M23: =D23+G23+J23 -> 38
A24: 38.04.04 Государственное и муниципальное управление | B24: 4 | C24: =1+63 -> 64 | D24: =SUM(B24:C24) -> 68 | E24: 5 | F24: 28 | G24: =SUM(E24:F24) -> 33 | H24: 5 | I24: 18 | J24: =SUM(H24:I24) -> 23 | K24: =B24+E24+H24 -> 14 | L24: =C24+F24+I24 -> 110 | M24: =D24+G24+J24 -> 124
A25: 38.04.05 Бизнес-информатика | B25: 0 | C25: 0 | D25: =SUM(B25:C25) -> 0 | E25: 4 | F25: 1 | G25: =SUM(E25:F25) -> 5 | H25: 6 | I25: 0 | J25: =SUM(H25:I25) -> 6 | K25: =B25+E25+H25 -> 10 | L25: =C25+F25+I25 -> 1 | M25: =D25+G25+J25 -> 11
A26: 38.04.06 Торговое дело | B26: 0 | C26: 0 | D26: =SUM(B26:C26) -> 0 | E26: 0 | F26: 0 | G26: =SUM(E26:F26) -> 0 | H26: 0 | I26: 0 | J26: =SUM(H26:I26) -> 0 | K26: =B26+E26+H26 -> 0 | L26: =C26+F26+I26 -> 0 | M26: =D26+G26+J26 -> 0
A27: 38.04.08 Финансы и кредит | B27: 15 | C27: 2 | D27: =SUM(B27:C27) -> 17 | E27: =10+13 -> 23 | F27: 9 | G27: =SUM(E27:F27) -> 32 | H27: 25 | I27: 4 | J27: =SUM(H27:I27) -> 29 | K27: =B27+E27+H27 -> 63 | L27: =C27+F27+I27 -> 15 | M27: =D27+G27+J27 -> 78
A28: Итого граждане России | B28: =SUM(B21:B27) -> 42 | C28: =SUM(C21:C27) -> 99 | D28: =SUM(D21:D27) -> 141 | E28: =SUM(E21:E27) -> 67 | F28: =SUM(F21:F27) -> 82 | G28: =SUM(G21:G27) -> 149 | H28: =SUM(H21:H27) -> 70 | I28: =SUM(I21:I27) -> 39 | ... M28: =SUM(M21:M27) -> 399
A29: Граждане иностранных государств (вкл. Украину)
A30: 38.04.01 Экономика | B30: 0 | C30: 0 | D30: =SUM(B30:C30) -> 0 | E30: 0 | F30: 0 | G30: =SUM(E30:F30) -> 0 | H30: 1 | I30: 0 | J30: =SUM(H30:I30) -> 1 | K30: =B30+E30+H30 -> 1 | L30: =C30+F30+I30 -> 0 | M30: =D30+G30+J30 -> 1
A31: 38.04.02 Менеджмент | B31: 0 | C31: 0 | D31: =SUM(B31:C31) -> 0 | E31: 0 | F31: 0 | G31: =SUM(E31:F31) -> 0 | H31: 0 | I31: 0 | J31: =SUM(H31:I31) -> 0 | K31: =B31+E31+H31 -> 0 | L31: =C31+F31+I31 -> 0 | M31: =D31+G31+J31 -> 0
A32: 38.04.03 Управление персоналом | B32: 0 | C32: 0 | D32: =SUM(B32:C32) -> 0 | E32: 0 | F32: 2 | G32: =SUM(E32:F32) -> 2 | H32: 0 | I32: 0 | J32: =SUM(H32:I32) -> 0 | K32: =B32+E32+H32 -> 0 | L32: =C32+F32+I32 -> 2 | M32: =D32+G32+J32 -> 2
A33: 38.04.04 Государственное и муниципальное управление | B33: 2 | C33: 1 | D33: =SUM(B33:C33) -> 3 | E33: 0 | F33: 0 | G33: =SUM(E33:F33) -> 0 | H33: 0 | I33: 0 | J33: =SUM(H33:I33) -> 0 | K33: =B33+E33+H33 -> 2 | L33: =C33+F33+I33 -> 1 | M33: =D33+G33+J33 -> 3
A34: 38.04.05 Бизнес-информатика | B34: 0 | C34: 0 | D34: =SUM(B34:C34) -> 0 | E34: 1 | F34: 0 | G34: =SUM(E34:F34) -> 1 | H34: 0 | I34: 0 | J34: =SUM(H34:I34) -> 0 | K34: =B34+E34+H34 -> 1 | L34: =C34+F34+I34 -> 0 | M34: =D34+G34+J34 -> 1
A35: 38.04.06 Торговое дело | B35: 0 | C35: 0 | D35: =SUM(B35:C35) -> 0 | E35: 0 | F35: 0 | G35: =SUM(E35:F35) -> 0 | H35: 0 | I35: 0 | J35: =SUM(H35:I35) -> 0 | K35: =B35+E35+H35 -> 0 | L35: =C35+F35+I35 -> 0 | M35: =D35+G35+J35 -> 0
A36: 38.04.08 Финансы и кредит | B36: 0 | C36: 0 | D36: =SUM(B36:C36) -> 0 | E36: 3 | F36: 2 | G36: =SUM(E36:F36) -> 5 | H36: 0 | I36: 0 | J36: =SUM(H36:I36) -> 0 | K36: =B36+E36+H36 -> 3 | L36: =C36+F36+I36 -> 2 | M36: =D36+G36+J36 -> 5
A37: Итого граждане иностранных государств | B37: =SUM(B30:B36) -> 2 | C37: =SUM(C30:C36) -> 1 | D37: =SUM(D30:D36) -> 3 | E37: =SUM(E30:E36) -> 4 | F37: =SUM(F30:F36) -> 4 | G37: =SUM(G30:G36) -> 8 | H37: =SUM(H30:H36) -> 1 | I37: =SUM(I30:I36) -> 0 | ... M37: =SUM(M30:M36) -> 12
A38: ИТОГО по подразделению граждане России | B38: =B28 -> 42 | C38: =C28 -> 99 | D38: =D28 -> 141 | E38: =E28 -> 67 | F38: =F28 -> 82 | G38: =G28 -> 149 | H38: =H28 -> 70 | I38: =I28 -> 39 | ... M38: =M28 -> 399
A39: ИТОГО по подразделению иностранные граждане | B39: =B37 -> 2 | C39: =C37 -> 1 | D39: =D37 -> 3 | E39: =E37 -> 4 | F39: =F37 -> 4 | G39: =G37 -> 8 | H39: =H37 -> 1 | I39: =I37 -> 0 | ... M39: =M37 -> 12
A40: Итого | B40: =SUM(B38:B39) -> 44 | C40: =SUM(C38:C39) -> 100 | D40: =SUM(D38:D39) -> 144 | E40: =SUM(E38:E39) -> 71 | F40: =SUM(F38:F39) -> 86 | G40: =SUM(G38:G39) -> 157 | H40: =SUM(H38:H39) -> 71 | I40: =SUM(I38:I39) -> 39 | ... M40: =SUM(M38:M39) -> 411

Sheet Бак ОФО ГПА
B1: =[1]СПО!B1 -> Гуманитарно-педагогическая академия (филиал) ФГАОУ ВО «КФУ им. В. И. Вернадского» в г. Ялте
B3: Контингент очной формы обучения на | G3: =[1]СПО!F3 -> 01.06.2017 г. | I3: (Бакалавры)
B5: Факультет/направление подготовки | D5: 1 | G5: 2 | J5: 3 | M5: 4 | P5: 5 | S5: Всего бакалавры
D7: За счет бюджетных ассигнований | E7: На основе догов. о платных образов. услугах | F7: ВСЕГО | G7: За счет бюджетных ассигнований | H7: На основе догов. о платных образов. услугах | I7: ВСЕГО | J7: За счет бюджетных ассигнований | K7: На основе догов. о платных образов. услугах | L7: ВСЕГО | M7: За счет бюджетных ассигнований | N7: На основе догов. о платных образов. услугах | O7: ВСЕГО | P7: За счет бюджетных ассигнований | Q7: На основе догов. о платных образов. услугах | R7: ВСЕГО | S7: За счет бюджетных ассигнований | T7: На основе догов. о платных образов. услугах | U7: ВСЕГО
B8: Свод по направлениям подготовки | D8: =SUM(D9:D30) -> 320 | E8: =SUM(E9:E30) -> 14 | F8: =SUM(F9:F30) -> 334 | G8: =SUM(G9:G30) -> 278 | H8: =SUM(H9:H30) -> 13 | I8: =SUM(I9:I30) -> 291 | J8: =SUM(J9:J30) -> 285 | K8: =SUM(K9:K30) -> 56 | ... U8: =SUM(U9:U30) -> 1209
A9: 1 | B9: 01.03.01 | C9: Математика | D9: 0 | E9: 0 | F9: 0 | G9: 0 | H9: 0 | I9: 0 | J9: 0 | K9: 0 | L9: 0 | M9: 0 | N9: 0 | O9: 0 | P9: 0 | Q9: 0 | R9: 0 | S9: 0 | T9: 0 | U9: 0
B10: 09.03.03 | C10: Прикладная информатика | D10: 19 | E10: 0 | F10: 19 | G10: 20 | H10: 0 | I10: 20 | J10: 17 | K10: 3 | L10: 20 | M10: 13 | N10: 0 | O10: 13 | P10: 0 | Q10: 0 | R10: 0 | S10: 69 | T10: 3 | U10: 72
B11: 37.03.01 | C11: Психология | D11: 13 | E11: 0 | F11: 13 | G11: 13 | H11: 1 | I11: 14 | J11: 17 | K11: 2 | L11: 19 | M11: 22 | N11: 2 | O11: 24 | P11: 0 | Q11: 0 | R11: 0 | S11: 65 | T11: 5 | U11: 70
B12: 38.03.01 | C12: Экономика | D12: 17 | E12: 4 | F12: 21 | G12: 35 | H12: 0 | I12: 35 | J12: 14 | K12: 3 | L12: 17 | M12: 23 | N12: 3 | O12: 26 | P12: 0 | Q12: 0 | R12: 0 | S12: 89 | T12: 10 | U12: 99
B13: 38.03.02 | C13: Менеджмент | D13: 18 | E13: 0 | F13: 18 | G13: 23 | H13: 1 | I13: 24 | J13: 20 | K13: 16 | L13: 36 | M13: 13 | N13: 2 | O13: 15 | P13: 0 | Q13: 0 | R13: 0 | S13: 74 | T13: 19 | U13: 93
B14: 43.03.02 | C14: Туризм | D14: 19 | E14: 1 | F14: 20 | G14: 8 | H14: 3 | I14: 11 | J14: 17 | K14: 2 | L14: 19 | M14: 11 | N14: 0 | O14: 11 | P14: 0 | Q14: 0 | R14: 0 | S14: 55 | T14: 6 | U14: 61
B15: 44.03.01 | C15: Педагогическое образование | D15: 52 | E15: 0 | F15: 52 | G15: 41 | H15: 0 | I15: 41 | J15: 45 | K15: 0 | L15: 45 | M15: 5 | N15: 0 | O15: 5 | P15: 0 | Q15: 0 | R15: 0 | S15: 143 | T15: 0 | U15: 143
B16: 44.03.02 | C16: Психолого-педагогическое образование | D16: 15 | E16: 0 | F16: 15 | G16: 12 | H16: 0 | I16: 12 | J16: 15 | K16: 1 | L16: 16 | M16: 7 | N16: 0 | O16: 7 | P16: 0 | Q16: 0 | R16: 0 | S16: 49 | T16: 1 | U16: 50
B17: 44.03.05 | C17: Педагогическое образование (с двумя профилями подготовки) | D17: 16 | E17: 0 | F17: 16 | G17: 12 | H17: 0 | I17: 12 | J17: 15 | K17: 2 | L17: 17 | M17: 25 | N17: 2 | O17: 27 | P17: 14 | Q17: 0 | R17: 14 | S17: 82 | T17: 4 | U17: 86
B18: 45.03.01 | C18: Филология | D18: 50 | E18: 5 | F18: 55 | G18: 36 | H18: 4 | I18: 40 | J18: 40 | K18: 9 | L18: 49 | M18: 30 | N18: 4 | O18: 34 | P18: 0 | Q18: 0 | R18: 0 | S18: 156 | T18: 22 | U18: 178
B19: 46.03.01 | C19: История | D19: 14 | E19: 0 | F19: 14 | G19: 9 | H19: 0 | I19: 9 | J19: 8 | K19: 1 | L19: 9 | M19: 9 | N19: 0 | O19: 9 | P19: 0 | Q19: 0 | R19: 0 | S19: 40 | T19: 1 | U19: 41
B20: 47.03.01 | C20: Философия | D20: 10 | E20: 0 | F20: 10 | G20: 0 | H20: 0 | I20: 0 | J20: 6 | K20: 0 | L20: 6 | M20: 0 | N20: 0 | O20: 0 | P20: 0 | Q20: 0 | R20: 0 | S20: 16 | T20: 0 | U20: 16
B21: 49.03.02 | C21: Физическая культура для лиц с отклонениями в состоянии здоровья (адаптивная физическая культура) | D21: 15 | E21: 1 | F21: 16 | G21: 16 | H21: 1 | I21: 17 | J21: 7 | K21: 0 | L21: 7 | M21: 11 | N21: 4 | O21: 15 | P21: 0 | Q21: 0 | R21: 0 | S21: 49 | T21: 6 | U21: 55
... B30: 54.03.02 | C30: Декоративно-прикладное искусство и народные промыслы | D30: 11 | E30: 0 | F30: 11 | G30: 4 | H30: 0 | I30: 4 | J30: 15 | K30: 0 | L30: 15 | M30: 5 | N30: 0 | O30: 5 | P30: 0 | Q30: 0 | R30: 0 | S30: 35 | T30: 0 | U30: 35
B31: Итого по направлениям подготовки | D31: =SUM(D9:D30) -> 320 | E31: =SUM(E9:E30) -> 14 | F31: =SUM(F9:F30) -> 334 | G31: =SUM(G9:G30) -> 278 | H31: =SUM(H9:H30) -> 13 | I31: =SUM(I9:I30) -> 291 | J31: =SUM(J9:J30) -> 285 | K31: =SUM(K9:K30) -> 56 | ... U31: =SUM(U9:U30) -> 1209
B32: В том числе:
B33: Граждане России
B34: 01.03.01 | C34: Математика | D34: 0 | E34: 0 | F34: 0 | G34: 0 | H34: 0 | I34: 0 | J34: 0 | K34: 0 | L34: 0 | M34: 0 | N34: 0 | O34: 0 | P34: 0 | Q34: 0 | R34: 0 | S34: 0 | T34: 0 | U34: 0
B35: 09.03.03 | C35: Прикладная информатика | D35: 17 | E35: 0 | F35: 17 | G35: 19 | H35: 0 | I35: 19 | J35: 17 | K35: 2 | L35: 19 | M35: 12 | N35: 0 | O35: 12 | P35: 0 | Q35: 0 | R35: 0 | S35: 65 | T35: 2 | U35: 67
B36: 37.03.01 | C36: Психология | D36: 13 | E36: 0 | F36: 13 | G36: 13 | H36: 1 | I36: 14 | J36: 17 | K36: 2 | L36: 19 | M36: 21 | N36: 2 | O36: 23 | P36: 0 | Q36: 0 | R36: 0 | S36: 64 | T36: 5 | U36: 69
B37: 38.03.01 | C37: Экономика | D37: 17 | E37: 4 | F37: 21 | G37: 33 | H37: 0 | I37: 33 | J37: 12 | K37: 1 | L37: 13 | M37: 21 | N37: 3 | O37: 24 | P37: 0 | Q37: 0 | R37: 0 | S37: 83 | T37: 8 | U37: 91
B38: 38.03.02 | C38: Менеджмент | D38: 17 | E38: 0 | F38: 17 | G38: 23 | H38: 1 | I38: 24 | J38: 18 | K38: 12 | L38: 30 | M38: 13 | N38: 2 | O38: 15 | P38: 0 | Q38: 0 | R38: 0 | S38: 71 | T38: 15 | U38: 86
B39: 43.03.02 | C39: Туризм | D39: 19 | E39: 0 | F39: 19 | G39: 8 | H39: 3 | I39: 11 | J39: 17 | K39: 2 | L39: 19 | M39: 10 | N39: 0 | O39: 10 | P39: 0 | Q39: 0 | R39: 0 | S39: 54 | T39: 5 | U39: 59
B40: 44.03.01 | C40: Педагогическое образование | D40: 51 | E40: 0 | F40: 51 | G40: 41 | H40: 0 | I40: 41 | J40: 43 | K40: 0 | L40: 43 | M40: 5 | N40: 0 | O40: 5 | P40: 0 | Q40: 0 | R40: 0 | S40: 140 | T40: 0 | U40: 140
B41: 44.03.02 | C41: Психолого-педагогическое образование | D41: 15 | E41: 0 | F41: 15 | G41: 12 | H41: 0 | I41: 12 | J41: 15 | K41: 1 | L41: 16 | M41: 7 | N41: 0 | O41: 7 | P41: 0 | Q41: 0 | R41: 0 | S41: 49 | T41: 1 | U41: 50
B42: 44.03.05 | C42: Педагогическое образование (с двумя профилями подготовки) | D42: 16 | E42: 0 | F42: 16 | G42: 12 | H42: 0 | I42: 12 | J42: 15 | K42: 0 | L42: 15 | M42: 25 | N42: 2 | O42: 27 | P42: 14 | Q42: 0 | R42: 14 | S42: 82 | T42: 2 | U42: 84
B43: 45.03.01 | C43: Филология | D43: 49 | E43: 4 | F43: 53 | G43: 34 | H43: 3 | I43: 37 | J43: 37 | K43: 9 | L43: 46 | M43: 24 | N43: 4 | O43: 28 | P43: 0 | Q43: 0 | R43: 0 | S43: 144 | T43: 20 | U43: 164
B44: 46.03.01 | C44: История | D44: 14 | E44: 0 | F44: 14 | G44: 9 | H44: 0 | I44: 9 | J44: 7 | K44: 1 | L44: 8 | M44: 9 | N44: 0 | O44: 9 | P44: 0 | Q44: 0 | R44: 0 | S44: 39 | T44: 1 | U44: 40
B45: 47.03.01 | C45: Философия | D45: 10 | E45: 0 | F45: 10 | G45: 0 | H45: 0 | I45: 0 | J45: 6 | K45: 0 | L45: 6 | M45: 0 | N45: 0 | O45: 0 | P45: 0 | Q45: 0 | R45: 0 | S45: 16 | T45: 0 | U45: 16
... B55: 54.03.02 | C55: Декоративно-прикладное искусство и народные промыслы | D55: 11 | E55: 0 | F55: 11 | G55: 4 | H55: 0 | I55: 4 | J55: 15 | K55: 0 | L55: 15 | M55: 5 | N55: 0 | O55: 5 | P55: 0 | Q55: 0 | R55: 0 | S55: 35 | T55: 0 | U55: 35
B56: Итого граждане России | D56: =SUM(D34:D55) -> 314 | E56: =SUM(E34:E55) -> 10 | F56: =SUM(F34:F55) -> 324 | G56: =SUM(G34:G55) -> 272 | H56: =SUM(H34:H55) -> 12 | I56: =SUM(I34:I55) -> 284 | J56: =SUM(J34:J55) -> 273 | K56: =SUM(K34:K55) -> 47 | ... U56: =SUM(U34:U55) -> 1147
B57: Граждане иностранных государств (вкл. Украину)
B58: 09.03.03 | C58: Прикладная информатика | D58: 2 | E58: 0 | F58: 2 | G58: 1 | H58: 0 | I58: 1 | J58: 0 | K58: 1 | L58: 1 | M58: 1 | N58: 0 | O58: 1 | P58: 0 | Q58: 0 | R58: 0 | S58: 4 | T58: 1 | U58: 5
B59: 37.03.01 | C59: Психология | D59: 0 | E59: 0 | F59: 0 | G59: 0 | H59: 0 | I59: 0 | J59: 0 | K59: 0 | L59: 0 | M59: 1 | N59: 0 | O59: 1 | P59: 0 | Q59: 0 | R59: 0 | S59: 1 | T59: 0 | U59: 1
B60: 38.03.01 | C60: Экономика | D60: 0 | E60: 0 | F60: 0 | G60: 2 | H60: 0 | I60: 2 | J60: 2 | K60: 2 | L60: 4 | M60: 2 | N60: 0 | O60: 2 | P60: 0 | Q60: 0 | R60: 0 | S60: 6 | T60: 2 | U60: 8
B61: 38.03.02 | C61: Менеджмент | D61: 1 | E61: 0 | F61: 1 | G61: 0 | H61: 0 | I61: 0 | J61: 2 | K61: 4 | L61: 6 | M61: 0 | N61: 0 | O61: 0 | P61: 0 | Q61: 0 | R61: 0 | S61: 3 | T61: 4 | U61: 7
B62: 43.03.02 | C62: Туризм | D62: 0 | E62: 1 | F62: 1 | G62: 0 | H62: 0 | I62: 0 | J62: 0 | K62: 0 | L62: 0 | M62: 1 | N62: 0 | O62: 1 | P62: 0 | Q62: 0 | R62: 0 | S62: 1 | T62: 1 | U62: 2
B63: 44.03.01 | C63: Педагогическое образование | D63: 1 | E63: 0 | F63: 1 | G63: 0 | H63: 0 | I63: 0 | J63: 2 | K63: 0 | L63: 2 | M63: 0 | N63: 0 | O63: 0 | P63: 0 | Q63: 0 | R63: 0 | S63: 3 | T63: 0 | U63: 3
B64: 44.03.05 | C64: Педагогическое образование (с двумя профилями подготовки) | D64: 0 | E64: 0 | F64: 0 | G64: 0 | H64: 0 | I64: 0 | J64: 0 | K64: 2 | L64: 2 | M64: 0 | N64: 0 | O64: 0 | P64: 0 | Q64: 0 | R64: 0 | S64: 0 | T64: 2 | U64: 2
B65: 45.03.01 | C65: Филология | D65: 1 | E65: 1 | F65: 2 | G65: 2 | H65: 1 | I65: 3 | J65: 3 | K65: 0 | L65: 3 | M65: 6 | N65: 0 | O65: 6 | P65: 0 | Q65: 0 | R65: 0 | S65: 12 | T65: 2 | U65: 14
B66: 46.03.01 | C66: История | D66: 0 | E66: 0 | F66: 0 | G66: 0 | H66: 0 | I66: 0 | J66: 1 | K66: 0 | L66: 1 | M66: 0 | N66: 0 | O66: 0 | P66: 0 | Q66: 0 | R66: 0 | S66: 1 | T66: 0 | U66: 1
B67: 49.03.02 | C67: Физическая культура для лиц с отклонениями в состоянии здоровья (адаптивная физическая культура) | D67: 0 | E67: 0 | F67: 0 | G67: 0 | H67: 0 | I67: 0 | J67: 0 | K67: 0 | L67: 0 | M67: 0 | N67: 2 | O67: 2 | P67: 0 | Q67: 0 | R67: 0 | S67: 0 | T67: 2 | U67: 2
B68: 52.03.01 | C68: Хореография | D68: 0 | E68: 0 | F68: 0 | G68: 0 | H68: 0 | I68: 0 | J68: 2 | K68: 0 | L68: 2 | M68: 1 | N68: 0 | O68: 1 | P68: 0 | Q68: 0 | R68: 0 | S68: 3 | T68: 0 | U68: 3
B69: 53.03.01 | C69: Музыкальное искусство эстрады | D69: 0 | E69: 2 | F69: 2 | G69: 0 | H69: 0 | I69: 0 | J69: 0 | K69: 0 | L69: 0 | M69: 1 | N69: 0 | O69: 1 | P69: 0 | Q69: 0 | R69: 0 | S69: 1 | T69: 2 | U69: 3
... B73: 54.03.01 | C73: Дизайн | D73: 1 | E73: 0 | F73: 1 | G73: 1 | H73: 0 | I73: 1 | J73: 0 | K73: 0 | L73: 0 | M73: 1 | N73: 0 | O73: 1 | P73: 0 | Q73: 0 | R73: 0 | S73: 3 | T73: 0 | U73: 3
B74: Итого граждане иностранных государств | D74: =SUM(D58:D73) -> 6 | E74: =SUM(E58:E73) -> 4 | F74: =SUM(F58:F73) -> 10 | G74: =SUM(G58:G73) -> 6 | H74: =SUM(H58:H73) -> 1 | I74: =SUM(I58:I73) -> 7 | J74: =SUM(J58:J73) -> 12 | K74: =SUM(K58:K73) -> 9 | ... O74: =SUM(O58:O73) -> 24 | P74: 0 | Q74: =SUM(Q34:Q55) -> 0 | R74: 0 | S74: =SUM(S58:S73) -> 41 | T74: =SUM(T58:T73) -> 21 | U74: =SUM(S74:T74) -> 62
B75: ИТОГО по подразделению граждане России | D75: =SUM(D34:D55) -> 314 | E75: =SUM(E34:E55) -> 10 | F75: =SUM(F34:F55) -> 324 | G75: =SUM(G34:G55) -> 272 | H75: =SUM(H34:H55) -> 12 | I75: =SUM(I34:I55) -> 284 | J75: =SUM(J34:J55) -> 273 | K75: =SUM(K34:K55) -> 47 | ... U75: =SUM(U34:U55) -> 1147
B76: ИТОГО по подразделению граждане иностранных государств | D76: =D74 -> 6 | E76: =E74 -> 4 | F76: =F74 -> 10 | G76: =G74 -> 6 | H76: =H74 -> 1 | I76: =I74 -> 7 | J76: =J74 -> 12 | K76: =K74 -> 9 | ... O76: =O74 -> 24 | P76: 0 | Q76: =Q74+Q75 -> 0 | R76: 0 | S76: =S74 -> 41 | T76: =T74 -> 21 | U76: =U74 -> 62
B77: Свод по направлениям подготовки | D77: =D75+D76 -> 320 | E77: =E75+E76 -> 14 | F77: =F75+F76 -> 334 | G77: =G75+G76 -> 278 | H77: =H75+H76 -> 13 | I77: =I75+I76 -> 291 | J77: =J75+J76 -> 285 | K77: =K75+K76 -> 56 | ... S77: =S75+S76 -> 1103 | T77: =SUM(T75:T76) -> 106 | U77: =SUM(S77:T77) -> 1209
B79: =[1]СПО!B42 -> Начальник УМО___________________И.И. Линник

Sheet БАК ОФО   ГПА
B1: =[2]СПО!B1 -> Гуманитарно-педагогическая академия (филиал) ФГАОУ ВО «КФУ им. В. И. Вернадского» в г. Ялте
B3: Контингент очной формы обучения на | G3: =[2]СПО!F3 -> 01.09.2019 г. | I3: (Бакалавры)
B5: Факультет/направление подготовки | D5: 1 | G5: 2 | J5: 3 | M5: 4 | P5: 5 | S5: Всего бакалавры
D7: За счет бюджетных ассигнований | E7: На основе догов. о платных образов. услугах | F7: ВСЕГО | G7: За счет бюджетных ассигнований | H7: На основе догов. о платных образов. услугах | I7: ВСЕГО | J7: За счет бюджетных ассигнований | K7: На основе догов. о платных образов. услугах | L7: ВСЕГО | M7: За счет бюджетных ассигнований | N7: На основе догов. о платных образов. услугах | O7: ВСЕГО | P7: За счет бюджетных ассигнований | Q7: На основе догов. о платных образов. услугах | R7: ВСЕГО | S7: За счет бюджетных ассигнований | T7: На основе догов. о платных образов. услугах | U7: ВСЕГО
B8: Свод по направлениям подготовки | D8: =SUM(D9:D28) -> 207 | E8: =SUM(E9:E28) -> 3 | F8: =SUM(F9:F28) -> 210 | G8: =SUM(G9:G28) -> 228 | H8: =SUM(H9:H28) -> 8 | I8: =SUM(I9:I28) -> 236 | J8: =SUM(J9:J28) -> 212 | K8: =SUM(K9:K28) -> 3 | ... U8: =SUM(U9:U28) -> 960
B9: 09.03.03 | C9: Прикладная информатика | D9: 19 | E9: 0 | F9: 19 | G9: 17 | H9: 0 | I9: 17 | J9: 19 | K9: 0 | L9: 19 | M9: 17 | N9: 0 | O9: 17 | P9: 0 | Q9: 0 | R9: 0 | S9: 72 | T9: 0 | U9: 72
B10: 37.03.01 | C10: Психология | D10: 1 | E10: 0 | F10: 1 | G10: 8 | H10: 0 | I10: 8 | J10: 10 | K10: 0 | L10: 10 | M10: 14 | N10: 1 | O10: 15 | P10: 0 | Q10: 0 | R10: 0 | S10: 33 | T10: 1 | U10: 34
B11: 38.03.01 | C11: Экономика | D11: 20 | E11: 3 | F11: 23 | G11: 13 | H11: 2 | I11: 15 | J11: 15 | K11: 2 | L11: 17 | M11: 17 | N11: 2 | O11: 19 | P11: 0 | Q11: 0 | R11: 0 | S11: 65 | T11: 9 | U11: 74
B12: 38.03.02 | C12: Менеджмент | D12: 16 | E12: 0 | F12: 16 | G12: 15 | H12: 1 | I12: 16 | J12: 14 | K12: 1 | L12: 15 | M12: 21 | N12: 0 | O12: 21 | P12: 0 | Q12: 0 | R12: 0 | S12: 66 | T12: 2 | U12: 68
B13: 43.03.02 | C13: Туризм | D13: 11 | E13: 0 | F13: 11 | G13: 12 | H13: 0 | I13: 12 | J13: 14 | K13: 0 | L13: 14 | M13: 15 | N13: 0 | O13: 15 | P13: 0 | Q13: 0 | R13: 0 | S13: 52 | T13: 0 | U13: 52
B14: 44.03.01 | C14: Педагогическое образование | D14: 34 | E14: 0 | F14: 34 | G14: 30 | H14: 1 | I14: 31 | J14: 36 | K14: 0 | L14: 36 | M14: 45 | N14: 0 | O14: 45 | P14: 0 | Q14: 0 | R14: 0 | S14: 145 | T14: 1 | U14: 146
B15: 44.03.02 | C15: Психолого-педагогическое образование | D15: 7 | E15: 0 | F15: 7 | G15: 17 | H15: 0 | I15: 17 | J15: 10 | K15: 0 | L15: 10 | M15: 14 | N15: 0 | O15: 14 | P15: 0 | Q15: 0 | R15: 0 | S15: 48 | T15: 0 | U15: 48
B16: 44.03.05 | C16: Педагогическое образование (с двумя профилями подготовки) | D16: 15 | E16: 0 | F16: 15 | G16: 11 | H16: 0 | I16: 11 | J16: 5 | K16: 0 | L16: 5 | M16: 12 | N16: 0 | O16: 12 | P16: 12 | Q16: 0 | R16: 12 | S16: 55 | T16: 0 | U16: 55
B17: 45.03.01 | C17: Филология | D17: 33 | E17: 0 | F17: 33 | G17: 43 | H17: 1 | I17: 44 | J17: 31 | K17: 0 | L17: 31 | M17: 41 | N17: 2 | O17: 43 | P17: 0 | Q17: 0 | R17: 0 | S17: 148 | T17: 3 | U17: 151
B18: 46.03.01 | C18: История | D18: 16 | E18: 0 | F18: 16 | G18: 13 | H18: 0 | I18: 13 | J18: 12 | K18: 0 | L18: 12 | M18: 8 | N18: 0 | O18: 8 | P18: 0 | Q18: 0 | R18: 0 | S18: 49 | T18: 0 | U18: 49
B19: 47.03.01 | C19: Философия | D19: 3 | E19: 0 | F19: 3 | G19: 6 | H19: 0 | I19: 6 | J19: 6 | K19: 0 | L19: 6 | M19: 4 | N19: 0 | O19: 4 | P19: 0 | Q19: 0 | R19: 0 | S19: 19 | T19: 0 | U19: 19
B20: 49.03.02 | C20: Физическая культура для лиц с отклонениями в состоянии здоровья (адаптивная физическая культура) | D20: 0 | E20: 0 | F20: 0 | G20: 0 | H20: 0 | I20: 0 | J20: 0 | K20: 0 | L20: 0 | M20: 15 | N20: 2 | O20: 17 | P20: 0 | Q20: 0 | R20: 0 | S20: 15 | T20: 2 | U20: 17
... B27: 54.03.01 | C27: Дизайн | D27: 20 | E27: 0 | F27: 20 | G27: 20 | H27: 2 | I27: 22 | J27: 11 | K27: 0 | L27: 11 | M27: 25 | N27: 1 | O27: 26 | P27: 0 | Q27: 0 | R27: 0 | S27: 76 | T27: 3 | U27: 79
B28: 54.03.02 | C28: Декоративно-прикладное искусство и народные промыслы | D28: 12 | E28: 0 | F28: 12 | G28: 12 | H28: 1 | I28: 13 | J28: 11 | K28: 0 | L28: 11 | M28: 12 | N28: 0 | O28: 12 | P28: 0 | Q28: 0 | R28: 0 | S28: 47 | T28: 1 | U28: 48 | V28: \
B29: Итого по направлениям подготовки | D29: =SUM(D9:D28) -> 207 | E29: =SUM(E9:E28) -> 3 | F29: =SUM(F9:F28) -> 210 | G29: =SUM(G9:G28) -> 228 | H29: =SUM(H9:H28) -> 8 | I29: =SUM(I9:I28) -> 236 | J29: =SUM(J9:J28) -> 212 | K29: =SUM(K9:K28) -> 3 | ... U29: =SUM(U9:U28) -> 960
B30: В том числе:
B31: Граждане России
B32: 09.03.03 | C32: Прикладная информатика | D32: 16 | E32: 0 | F32: 16 | G32: 16 | H32: 0 | I32: 16 | J32: 18 | K32: 0 | L32: 18 | M32: 15 | N32: 0 | O32: 15 | P32: 0 | Q32: 0 | R32: 0 | S32: 65 | T32: 0 | U32: 65
B33: 37.03.01 | C33: Психология | D33: 1 | E33: 0 | F33: 1 | G33: 8 | H33: 0 | I33: 8 | J33: 10 | K33: 0 | L33: 10 | M33: 14 | N33: 1 | O33: 15 | P33: 0 | Q33: 0 | R33: 0 | S33: 33 | T33: 1 | U33: 34
B34: 38.03.01 | C34: Экономика | D34: 19 | E34: 3 | F34: 22 | G34: 13 | H34: 2 | I34: 15 | J34: 15 | K34: 2 | L34: 17 | M34: 17 | N34: 2 | O34: 19 | P34: 0 | Q34: 0 | R34: 0 | S34: 64 | T34: 9 | U34: 73
B35: 38.03.02 | C35: Менеджмент | D35: 15 | E35: 0 | F35: 15 | G35: 15 | H35: 1 | I35: 16 | J35: 13 | K35: 1 | L35: 14 | M35: 20 | N35: 0 | O35: 20 | P35: 0 | Q35: 0 | R35: 0 | S35: 63 | T35: 2 | U35: 65
B36: 43.03.02 | C36: Туризм | D36: 9 | E36: 0 | F36: 9 | G36: 11 | H36: 0 | I36: 11 | J36: 13 | K36: 0 | L36: 13 | M36: 15 | N36: 0 | O36: 15 | P36: 0 | Q36: 0 | R36: 0 | S36: 48 | T36: 0 | U36: 48
B37: 44.03.01 | C37: Педагогическое образование | D37: 32 | E37: 0 | F37: 32 | G37: 24 | H37: 1 | I37: 25 | J37: 36 | K37: 0 | L37: 36 | M37: 45 | N37: 0 | O37: 45 | P37: 0 | Q37: 0 | R37: 0 | S37: 137 | T37: 1 | U37: 138
B38: 44.03.02 | C38: Психолого-педагогическое образование | D38: 7 | E38: 0 | F38: 7 | G38: 16 | H38: 0 | I38: 16 | J38: 10 | K38: 0 | L38: 10 | M38: 14 | N38: 0 | O38: 14 | P38: 0 | Q38: 0 | R38: 0 | S38: 47 | T38: 0 | U38: 47
B39: 44.03.05 | C39: Педагогическое образование (с двумя профилями подготовки) | D39: 15 | E39: 0 | F39: 15 | G39: 11 | H39: 0 | I39: 11 | J39: 4 | K39: 0 | L39: 4 | M39: 11 | N39: 0 | O39: 11 | P39: 12 | Q39: 0 | R39: 12 | S39: 53 | T39: 0 | U39: 53
B40: 45.03.01 | C40: Филология | D40: 33 | E40: 0 | F40: 33 | G40: 42 | H40: 1 | I40: 43 | J40: 27 | K40: 0 | L40: 27 | M40: 39 | N40: 2 | O40: 41 | P40: 0 | Q40: 0 | R40: 0 | S40: 141 | T40: 3 | U40: 144
B41: 46.03.01 | C41: История | D41: 15 | E41: 0 | F41: 15 | G41: 13 | H41: 0 | I41: 13 | J41: 12 | K41: 0 | L41: 12 | M41: 8 | N41: 0 | O41: 8 | P41: 0 | Q41: 0 | R41: 0 | S41: 48 | T41: 0 | U41: 48
B42: 47.03.01 | C42: Философия | D42: 3 | E42: 0 | F42: 3 | G42: 4 | H42: 0 | I42: 4 | J42: 6 | K42: 0 | L42: 6 | M42: 4 | N42: 0 | O42: 4 | P42: 0 | Q42: 0 | R42: 0 | S42: 17 | T42: 0 | U42: 17
B43: 49.03.02 | C43: Физическая культура для лиц с отклонениями в состоянии здоровья (адаптивная физическая культура) | D43: 0 | E43: 0 | F43: 0 | G43: 0 | H43: 0 | I43: 0 | J43: 0 | K43: 0 | L43: 0 | M43: 15 | N43: 2 | O43: 17 | P43: 0 | Q43: 0 | R43: 0 | S43: 15 | T43: 2 | U43: 17
... B51: 54.03.02 | C51: Декоративно-прикладное искусство и народные промыслы | D51: 12 | E51: 0 | F51: 12 | G51: 12 | H51: 1 | I51: 13 | J51: 9 | K51: 0 | L51: 9 | M51: 12 | N51: 0 | O51: 12 | P51: 0 | Q51: 0 | R51: 0 | S51: 45 | T51: 1 | U51: 46
B52: Итого граждане России | D52: =SUM(D32:D51) -> 196 | E52: =SUM(E32:E51) -> 3 | F52: =SUM(F32:F51) -> 199 | G52: =SUM(G32:G51) -> 216 | H52: =SUM(H32:H51) -> 8 | I52: =SUM(I32:I51) -> 224 | J52: =SUM(J32:J51) -> 201 | K52: =SUM(K32:K51) -> 3 | ... U52: =SUM(U32:U51) -> 918
B53: Граждане иностранных государств (вкл. Украину)
B54: 09.03.03 | C54: Прикладная информатика | D54: 3 | E54: 0 | F54: 3 | G54: 1 | H54: 0 | I54: 1 | J54: 1 | K54: 0 | L54: 1 | M54: 2 | N54: 0 | O54: 2 | P54: 0 | Q54: 0 | R54: 0 | S54: 7 | T54: 0 | U54: 7
B55: 38.03.01 | C55: Экономика | D55: 1 | E55: 0 | F55: 1 | G55: 0 | H55: 0 | I55: 0 | J55: 0 | K55: 0 | L55: 0 | M55: 0 | N55: 0 | O55: 0 | P55: 0 | Q55: 0 | R55: 0 | S55: 1 | T55: 0 | U55: 1
B56: 38.03.02 | C56: Менеджмент | D56: 1 | E56: 0 | F56: 1 | G56: 0 | H56: 0 | I56: 0 | J56: 1 | K56: 0 | L56: 1 | M56: 1 | N56: 0 | O56: 1 | P56: 0 | Q56: 0 | R56: 0 | S56: 3 | T56: 0 | U56: 3
B57: 43.03.02 | C57: Туризм | D57: 2 | E57: 0 | F57: 2 | G57: 1 | H57: 0 | I57: 1 | J57: 1 | K57: 0 | L57: 1 | M57: 0 | N57: 0 | O57: 0 | P57: 0 | Q57: 0 | R57: 0 | S57: 4 | T57: 0 | U57: 4
B58: 44.03.01 | C58: Педагогическое образование | D58: 2 | E58: 0 | F58: 2 | G58: 6 | H58: 0 | I58: 6 | J58: 0 | K58: 0 | L58: 0 | M58: 0 | N58: 0 | O58: 0 | P58: 0 | Q58: 0 | R58: 0 | S58: 8 | T58: 0 | U58: 8
B59: 44.03.02 | C59: Психолого-педагогическое образование | D59: 0 | E59: 0 | F59: 0 | G59: 1 | H59: 0 | I59: 1 | J59: 0 | K59: 0 | L59: 0 | M59: 0 | N59: 0 | O59: 0 | P59: 0 | Q59: 0 | R59: 0 | S59: 1 | T59: 0 | U59: 1
B60: 44.03.05 | C60: Педагогическое образование (с двумя профилями подготовки) | D60: 0 | E60: 0 | F60: 0 | G60: 0 | H60: 0 | I60: 0 | J60: 1 | K60: 0 | L60: 1 | M60: 1 | N60: 0 | O60: 1 | P60: 0 | Q60: 0 | R60: 0 | S60: 2 | T60: 0 | U60: 2
B61: 45.03.01 | C61: Филология | D61: 0 | E61: 0 | F61: 0 | G61: 1 | H61: 0 | I61: 1 | J61: 4 | K61: 0 | L61: 4 | M61: 2 | N61: 0 | O61: 2 | P61: 0 | Q61: 0 | R61: 0 | S61: 7 | T61: 0 | U61: 7
B62: 46.03.01 | C62: История | D62: 1 | E62: 0 | F62: 1 | G62: 0 | H62: 0 | I62: 0 | J62: 0 | K62: 0 | L62: 0 | M62: 0 | N62: 0 | O62: 0 | P62: 0 | Q62: 0 | R62: 0 | S62: 1 | T62: 0 | U62: 1
B63: 47.03.01 | C63: Философия | D63: 0 | E63: 0 | F63: 0 | G63: 2 | H63: 0 | I63: 2 | J63: 0 | K63: 0 | L63: 0 | M63: 0 | N63: 0 | O63: 0 | P63: 0 | Q63: 0 | R63: 0 | S63: 2 | T63: 0 | U63: 2
B64: 53.03.01 | C64: Музыкальное искусство эстрады | D64: 0 | E64: 0 | F64: 0 | G64: 0 | H64: 0 | I64: 0 | J64: 0 | K64: 0 | L64: 0 | M64: 1 | N64: 0 | O64: 1 | P64: 0 | Q64: 0 | R64: 0 | S64: 1 | T64: 0 | U64: 1
B65: 54.03.01 | C65: Дизайн | D65: 1 | E65: 0 | F65: 1 | G65: 0 | H65: 0 | I65: 0 | J65: 1 | K65: 0 | L65: 1 | M65: 1 | N65: 0 | O65: 1 | P65: 0 | Q65: 0 | R65: 0 | S65: 3 | T65: 0 | U65: 3
B66: 54.03.02 | C66: Декоративно-прикладное искусство и народные промыслы | D66: 0 | E66: 0 | F66: 0 | G66: 0 | H66: 0 | I66: 0 | J66: 2 | K66: 0 | L66: 2 | M66: 0 | N66: 0 | O66: 0 | P66: 0 | Q66: 0 | R66: 0 | S66: 2 | T66: 0 | U66: 2
B67: Итого по направлениям подготовки | D67: =SUM(D54:D66) -> 11 | E67: =SUM(E54:E66) -> 0 | F67: =SUM(F54:F66) -> 11 | G67: =SUM(G54:G66) -> 12 | H67: =SUM(H54:H66) -> 0 | I67: =SUM(I54:I66) -> 12 | J67: =SUM(J54:J66) -> 11 | K67: =SUM(K54:K66) -> 0 | ... U67: =SUM(U54:U66) -> 42
B68: ИТОГО по подразделению граждане России | D68: =SUM(D32:D51) -> 196 | E68: =SUM(E32:E51) -> 3 | F68: =SUM(F32:F51) -> 199 | G68: =SUM(G32:G51) -> 216 | H68: =SUM(H32:H51) -> 8 | I68: =SUM(I32:I51) -> 224 | J68: =SUM(J32:J51) -> 201 | K68: =SUM(K32:K51) -> 3 | ... U68: =SUM(U32:U51) -> 918
B69: ИТОГО по подразделению граждане иностранных государств | D69: =D67 -> 11 | E69: =E67 -> 0 | F69: =F67 -> 11 | G69: =G67 -> 12 | H69: =H67 -> 0 | I69: =I67 -> 12 | J69: =J67 -> 11 | K69: =K67 -> 0 | ... U69: =U67 -> 42
B70: Свод по направлениям подготовки | D70: =D68+D69 -> 207 | E70: =E68+E69 -> 3 | F70: =F68+F69 -> 210 | G70: =G68+G69 -> 228 | H70: =H68+H69 -> 8 | I70: =I68+I69 -> 236 | J70: =J68+J69 -> 212 | K70: =K68+K69 -> 3 | ... U70: =U68+U69 -> 960

Sheet БАК ОЗО ГПА
B1: =[2]СПО!B1 -> Гуманитарно-педагогическая академия (филиал) ФГАОУ ВО «КФУ им. В. И. Вернадского» в г. Ялте
B3: Контингент очно-заочной формы обучения на | I3: =[2]СПО!F3 -> 01.09.2019 г. | K3: (Бакалавры)
B5: Факультет/направление подготовки | D5: 1 | G5: 2 | J5: 3 | M5: 4 | P5: 5 | S5: Всего бакалавры
D7: За счет бюджетных ассигнований | E7: На основе догов. о платных образов. услугах | F7: ВСЕГО | G7: За счет бюджетных ассигнований | H7: На основе догов. о платных образов. услугах | I7: ВСЕГО | J7: За счет бюджетных ассигнований | K7: На основе догов. о платных образов. услугах | L7: ВСЕГО | M7: За счет бюджетных ассигнований | N7: На основе догов. о платных образов. услугах | O7: ВСЕГО | P7: За счет бюджетных ассигнований | Q7: На основе догов. о платных образов. услугах | R7: ВСЕГО | S7: За счет бюджетных ассигнований | T7: На основе догов. о платных образов. услугах | U7: ВСЕГО
B8: Свод по направлениям подготовки | D8: =SUM(D9:D10) -> 10 | E8: =SUM(E9:E10) -> 0 | F8: =SUM(F9:F10) -> 10 | G8: =SUM(G9:G10) -> 5 | H8: =SUM(H9:H10) -> 0 | I8: =SUM(I9:I10) -> 5 | J8: =SUM(J9:J10) -> 6 | K8: =SUM(K9:K10) -> 2 | ... U8: =SUM(U9:U10) -> 34
B9: 37.03.01 | C9: Психология | D9: 10 | E9: 0 | F9: 10 | G9: 5 | H9: 0 | I9: 5 | J9: 6 | K9: 0 | L9: 6 | M9: 0 | N9: 0 | O9: 0 | P9: 9 | Q9: 0 | R9: 9 | S9: 30 | T9: 0 | U9: 30
B10: 54.03.01 | C10: Дизайн | D10: 0 | E10: 0 | F10: 0 | G10: 0 | H10: 0 | I10: 0 | J10: 0 | K10: 2 | L10: 2 | M10: 0 | N10: 0 | O10: 0 | P10: 0 | Q10: 2 | R10: 2 | S10: 0 | T10: 4 | U10: 4
B11: Итого по направлениям подготовки | D11: =SUM(D9:D10) -> 10 | E11: =SUM(E9:E10) -> 0 | F11: =SUM(F9:F10) -> 10 | G11: =SUM(G9:G10) -> 5 | H11: =SUM(H9:H10) -> 0 | I11: =SUM(I9:I10) -> 5 | J11: =SUM(J9:J10) -> 6 | K11: =SUM(K9:K10) -> 2 | ... U11: =SUM(U9:U10) -> 34
B12: В том числе:
B13: Граждане России
B14: 37.03.01 | C14: Психология | D14: 10 | E14: 0 | F14: 10 | G14: 4 | H14: 0 | I14: 4 | J14: 5 | K14: 0 | L14: 5 | M14: 0 | N14: 0 | O14: 0 | P14: 9 | Q14: 0 | R14: 9 | S14: 28 | T14: 0 | U14: 28
B15: 54.03.01 | C15: Дизайн | D15: 0 | E15: 0 | F15: 0 | G15: 0 | H15: 0 | I15: 0 | J15: 0 | K15: 2 | L15: 2 | M15: 0 | N15: 0 | O15: 0 | P15: 0 | Q15: 2 | R15: 2 | S15: 0 | T15: 4 | U15: 4
B16: Итого граждане России | D16: =SUM(D14:D15) -> 10 | E16: =SUM(E14:E15) -> 0 | F16: =SUM(F14:F15) -> 10 | G16: =SUM(G14:G15) -> 4 | H16: =SUM(H14:H15) -> 0 | I16: =SUM(I14:I15) -> 4 | J16: =SUM(J14:J15) -> 5 | K16: =SUM(K14:K15) -> 2 | ... U16: =SUM(U14:U15) -> 32
B17: Граждане иностранных государств (вкл. Украину)
B18: 37.03.01 | C18: Психология | D18: 0 | E18: 0 | F18: 0 | G18: 1 | H18: 0 | I18: 1 | J18: 1 | K18: 0 | L18: 1 | M18: 0 | N18: 0 | O18: 0 | P18: 0 | Q18: 0 | R18: 0 | S18: 2 | T18: 0 | U18: 2
B19: Итого граждане иностранных государств | D19: =SUM(D18:D18) -> 0 | E19: =SUM(E18:E18) -> 0 | F19: =SUM(F18:F18) -> 0 | G19: =SUM(G18:G18) -> 1 | H19: =SUM(H18:H18) -> 0 | I19: =SUM(I18:I18) -> 1 | J19: =SUM(J18:J18) -> 1 | K19: =SUM(K18:K18) -> 0 | ... U19: =SUM(U18:U18) -> 2
B20: ИТОГО по подразделению граждане России | D20: =D16 -> 10 | E20: =E16 -> 0 | F20: =F16 -> 10 | G20: =G16 -> 4 | H20: =H16 -> 0 | I20: =I16 -> 4 | J20: =J16 -> 5 | K20: =K16 -> 2 | ... U20: =U16 -> 32
B21: ИТОГО по подразделению граждане иностранных государств | D21: =D19 -> 0 | E21: =E19 -> 0 | F21: =F19 -> 0 | G21: =G19 -> 1 | H21: =H19 -> 0 | I21: =I19 -> 1 | J21: =J19 -> 1 | K21: =K19 -> 0 | ... U21: =U19 -> 2
B22: Свод по направлениям подготовки | D22: =D20+D21 -> 10 | E22: =E20+E21 -> 0 | F22: =F20+F21 -> 10 | G22: =G20+G21 -> 5 | H22: =H20+H21 -> 0 | I22: =I20+I21 -> 5 | J22: =J20+J21 -> 6 | K22: =K20+K21 -> 2 | ... U22: =U20+U21 -> 34

Sheet Бак ЗФО ГПА
B1: =[2]СПО!B1 -> Гуманитарно-педагогическая академия (филиал) ФГАОУ ВО «КФУ им. В. И. Вернадского» в г. Ялте
B3: Контингент заочной формы обучения на | I3: =[2]СПО!F3 -> 01.09.2019 г. | K3: (Бакалавры)
B5: Факультет/направление подготовки | D5: 1 | G5: 2 | J5: 3 | M5: 4 | P5: 5 | S5: Всего бакалавры
D7: За счет бюджетных ассигнований | E7: На основе догов. о платных образов. услугах | F7: ВСЕГО | G7: За счет бюджетных ассигнований | H7: На основе догов. о платных образов. услугах | I7: ВСЕГО | J7: За счет бюджетных ассигнований | K7: На основе догов. о платных образов. услугах | L7: ВСЕГО | M7: За счет бюджетных ассигнований | N7: На основе догов. о платных образов. услугах | O7: ВСЕГО | P7: За счет бюджетных ассигнований | Q7: На основе догов. о платных образов. услугах | R7: ВСЕГО | S7: За счет бюджетных ассигнований | T7: На основе догов. о платных образов. услугах | U7: ВСЕГО
B8: Свод по направлениям подготовки | D8: =SUM(D9:D25) -> 39 | E8: =SUM(E9:E25) -> 37 | F8: =SUM(F9:F25) -> 76 | G8: =SUM(G9:G25) -> 89 | H8: =SUM(H9:H25) -> 44 | I8: =SUM(I9:I25) -> 133 | J8: =SUM(J9:J25) -> 61 | K8: =SUM(K9:K25) -> 18 | ... U8: =SUM(U9:U25) -> 555
B9: 09.03.03 | C9: Прикладная информатика | D9: 0 | E9: 0 | F9: 0 | G9: 7 | H9: 1 | I9: 8 | J9: 8 | K9: 0 | L9: 8 | M9: 4 | N9: 1 | O9: 5 | P9: 2 | Q9: 2 | R9: 4 | S9: 21 | T9: 4 | U9: 25
B10: 37.03.01 | C10: Психология | D10: 1 | E10: 0 | F10: 1 | G10: 7 | H10: 6 | I10: 13 | J10: 7 | K10: 0 | L10: 7 | M10: 5 | N10: 5 | O10: 10 | P10: 0 | Q10: 10 | R10: 10 | S10: 20 | T10: 21 | U10: 41
B11: 38.03.01 | C11: Экономика | D11: 1 | E11: 10 | F11: 11 | G11: 14 | H11: 3 | I11: 17 | J11: 8 | K11: 2 | L11: 10 | M11: 9 | N11: 6 | O11: 15 | P11: 3 | Q11: 18 | R11: 21 | S11: 35 | T11: 39 | U11: 74
B12: 38.03.02 | C12: Менеджмент | D12: 0 | E12: 6 | F12: 6 | G12: 9 | H12: 5 | I12: 14 | J12: 2 | K12: 1 | L12: 3 | M12: 6 | N12: 7 | O12: 13 | P12: 3 | Q12: 23 | R12: 26 | S12: 20 | T12: 42 | U12: 62
B13: 43.03.02 | C13: Туризм | D13: 10 | E13: 5 | F13: 15 | G13: 10 | H13: 0 | I13: 10 | J13: 4 | K13: 1 | L13: 5 | M13: 4 | N13: 4 | O13: 8 | P13: 5 | Q13: 8 | R13: 13 | S13: 33 | T13: 18 | U13: 51
B14: 44.03.01 | C14: Педагогическое образование | D14: 12 | E14: 0 | F14: 12 | G14: 6 | H14: 0 | I14: 6 | J14: 13 | K14: 1 | L14: 14 | M14: 12 | N14: 6 | O14: 18 | P14: 7 | Q14: 16 | R14: 23 | S14: 50 | T14: 23 | U14: 73
B15: 44.03.02 | C15: Психолого-педагогическое образование | D15: 5 | E15: 6 | F15: 11 | G15: 9 | H15: 3 | I15: 12 | J15: 5 | K15: 0 | L15: 5 | M15: 4 | N15: 2 | O15: 6 | P15: 5 | Q15: 14 | R15: 19 | S15: 28 | T15: 25 | U15: 53
B16: 44.03.05 | C16: Педагогическое образование (с двумя профилями подготовки) | D16: 0 | E16: 0 | F16: 0 | G16: 9 | H16: 4 | I16: 13 | J16: 0 | K16: 0 | L16: 0 | M16: 0 | N16: 0 | O16: 0 | P16: 0 | Q16: 0 | R16: 0 | S16: 9 | T16: 4 | U16: 13
B17: 45.03.01 | C17: Филология | D17: 10 | E17: 0 | F17: 10 | G17: 16 | H17: 6 | I17: 22 | J17: 11 | K17: 5 | L17: 16 | M17: 18 | N17: 4 | O17: 22 | P17: 15 | Q17: 10 | R17: 25 | S17: 70 | T17: 25 | U17: 95
B18: 46.03.01 | C18: История | D18: 0 | E18: 1 | F18: 1 | G18: 0 | H18: 0 | I18: 0 | J18: 0 | K18: 0 | L18: 0 | M18: 0 | N18: 0 | O18: 0 | P18: 6 | Q18: 0 | R18: 6 | S18: 6 | T18: 1 | U18: 7
B19: 49.03.02 | C19: Физическая культура для лиц с отклонениями в состоянии здоровья (адаптивная физическая культура) | D19: 0 | E19: 1 | F19: 1 | G19: 0 | H19: 9 | I19: 9 | J19: 0 | K19: 2 | L19: 2 | M19: 0 | N19: 4 | O19: 4 | P19: 0 | Q19: 2 | R19: 2 | S19: 0 | T19: 18 | U19: 18
B20: 52.03.01 | C20: Хореография | D20: 0 | E20: 0 | F20: 0 | G20: 2 | H20: 0 | I20: 2 | J20: 3 | K20: 1 | L20: 4 | M20: 0 | N20: 0 | O20: 0 | P20: 0 | Q20: 5 | R20: 5 | S20: 5 | T20: 6 | U20: 11
... B25: 53.03.06 | C25: Музыкознание и музыкально-прикладное искусство | D25: 0 | E25: 0 | F25: 0 | G25: 0 | H25: 0 | I25: 0 | J25: 0 | K25: 0 | L25: 0 | M25: 0 | N25: 1 | O25: 1 | P25: 0 | Q25: 0 | R25: 0 | S25: 0 | T25: 1 | U25: 1
B26: Итого по направлениям подготовки | D26: =SUM(D9:D25) -> 39 | E26: =SUM(E9:E25) -> 37 | F26: =SUM(F9:F25) -> 76 | G26: =SUM(G9:G25) -> 89 | H26: =SUM(H9:H25) -> 44 | I26: =SUM(I9:I25) -> 133 | J26: =SUM(J9:J25) -> 61 | K26: =SUM(K9:K25) -> 18 | ... U26: =SUM(U9:U25) -> 555
B27: В том числе:
B28: Граждане России
B30: 09.03.03 | C30: Прикладная информатика | D30: 0 | E30: 0 | F30: 0 | G30: 6 | H30: 1 | I30: 7 | J30: 8 | K30: 0 | L30: 8 | M30: 4 | N30: 1 | O30: 5 | P30: 2 | Q30: 2 | R30: 4 | S30: 20 | T30: 4 | U30: 24
B31: 37.03.01 | C31: Психология | D31: 1 | E31: 0 | F31: 1 | G31: 7 | H31: 6 | I31: 13 | J31: 7 | K31: 0 | L31: 7 | M31: 5 | N31: 5 | O31: 10 | P31: 0 | Q31: 9 | R31: 9 | S31: 20 | T31: 20 | U31: 40
B32: 38.03.01 | C32: Экономика | D32: 1 | E32: 10 | F32: 11 | G32: 13 | H32: 3 | I32: 16 | J32: 8 | K32: 2 | L32: 10 | M32: 9 | N32: 4 | O32: 13 | P32: 3 | Q32: 18 | R32: 21 | S32: 34 | T32: 37 | U32: 71
B33: 38.03.02 | C33: Менеджмент | D33: 0 | E33: 5 | F33: 5 | G33: 9 | H33: 4 | I33: 13 | J33: 2 | K33: 1 | L33: 3 | M33: 6 | N33: 7 | O33: 13 | P33: 3 | Q33: 20 | R33: 23 | S33: 20 | T33: 37 | U33: 57
B34: 43.03.02 | C34: Туризм | D34: 9 | E34: 5 | F34: 14 | G34: 7 | H34: 0 | I34: 7 | J34: 4 | K34: 1 | L34: 5 | M34: 4 | N34: 3 | O34: 7 | P34: 5 | Q34: 7 | R34: 12 | S34: 29 | T34: 16 | U34: 45
B35: 44.03.01 | C35: Педагогическое образование | D35: 12 | E35: 0 | F35: 12 | G35: 4 | H35: 0 | I35: 4 | J35: 13 | K35: 0 | L35: 13 | M35: 12 | N35: 5 | O35: 17 | P35: 7 | Q35: 16 | R35: 23 | S35: 48 | T35: 21 | U35: 69
B36: 44.03.02 | C36: Психолого-педагогическое образование | D36: 5 | E36: 6 | F36: 11 | G36: 8 | H36: 3 | I36: 11 | J36: 5 | K36: 0 | L36: 5 | M36: 4 | N36: 2 | O36: 6 | P36: 5 | Q36: 14 | R36: 19 | S36: 27 | T36: 25 | U36: 52
B37: 44.03.05 | C37: Педагогическое образование (с двумя профилями подготовки) | D37: 0 | E37: 0 | F37: 0 | G37: 8 | H37: 4 | I37: 12 | J37: 0 | K37: 0 | L37: 0 | M37: 0 | N37: 0 | O37: 0 | P37: 0 | Q37: 0 | R37: 0 | S37: 8 | T37: 4 | U37: 12
B38: 45.03.01 | C38: Филология | D38: 9 | E38: 0 | F38: 9 | G38: 14 | H38: 6 | I38: 20 | J38: 11 | K38: 4 | L38: 15 | M38: 17 | N38: 3 | O38: 20 | P38: 15 | Q38: 10 | R38: 25 | S38: 66 | T38: 23 | U38: 89
B39: 46.03.01 | C39: История | D39: 0 | E39: 1 | F39: 1 | G39: 0 | H39: 0 | I39: 0 | J39: 0 | K39: 0 | L39: 0 | M39: 0 | N39: 0 | O39: 0 | P39: 6 | Q39: 0 | R39: 6 | S39: 6 | T39: 1 | U39: 7
B40: 49.03.02 | C40: Физическая культура для лиц с отклонениями в состоянии здоровья (адаптивная физическая культура) | D40: 0 | E40: 1 | F40: 1 | G40: 0 | H40: 9 | I40: 9 | J40: 0 | K40: 2 | L40: 2 | M40: 0 | N40: 3 | O40: 3 | P40: 0 | Q40: 2 | R40: 2 | S40: 0 | T40: 17 | U40: 17
B41: 52.03.01 | C41: Хореография | D41: 0 | E41: 0 | F41: 0 | G41: 2 | H41: 0 | I41: 2 | J41: 3 | K41: 1 | L41: 4 | M41: 0 | N41: 0 | O41: 0 | P41: 0 | Q41: 5 | R41: 5 | S41: 5 | T41: 6 | U41: 11
... B46: 53.03.06 | C46: Музыкознание и музыкально-прикладное искусство | D46: 0 | E46: 0 | F46: 0 | G46: 0 | H46: 0 | I46: 0 | J46: 0 | K46: 0 | L46: 0 | M46: 0 | N46: 1 | O46: 1 | P46: 0 | Q46: 0 | R46: 0 | S46: 0 | T46: 1 | U46: 1
B47: Итого по направлениям подготовки | D47: =SUM(D29:D46) -> 37 | E47: =SUM(E29:E46) -> 35 | F47: =SUM(F29:F46) -> 72 | G47: =SUM(G29:G46) -> 78 | H47: =SUM(H29:H46) -> 43 | I47: =SUM(I29:I46) -> 121 | J47: =SUM(J29:J46) -> 61 | K47: =SUM(K29:K46) -> 15 | ... U47: =SUM(U29:U46) -> 524
B48: Граждане иностранных государств (вкл. Украину)
B49: 09.03.03 | C49: Прикладная информатика | D49: 0 | E49: 0 | F49: 0 | G49: 1 | H49: 0 | I49: 1 | J49: 0 | K49: 0 | L49: 0 | M49: 0 | N49: 0 | O49: 0 | P49: 0 | Q49: 0 | R49: 0 | S49: 1 | T49: 0 | U49: 1
B50: 37.03.01 | C50: Психология | D50: 0 | E50: 0 | F50: 0 | G50: 0 | H50: 0 | I50: 0 | J50: 0 | K50: 0 | L50: 0 | M50: 0 | N50: 0 | O50: 0 | P50: 0 | Q50: 1 | R50: 1 | S50: 0 | T50: 1 | U50: 1
B51: 38.03.01 | C51: Экономика | D51: 0 | E51: 0 | F51: 0 | G51: 1 | H51: 0 | I51: 1 | J51: 0 | K51: 0 | L51: 0 | M51: 0 | N51: 2 | O51: 2 | P51: 0 | Q51: 0 | R51: 0 | S51: 1 | T51: 2 | U51: 3
B52: 38.03.02 | C52: Менеджмент | D52: 0 | E52: 1 | F52: 1 | G52: 0 | H52: 1 | I52: 1 | J52: 0 | K52: 0 | L52: 0 | M52: 0 | N52: 0 | O52: 0 | P52: 0 | Q52: 3 | R52: 3 | S52: 0 | T52: 5 | U52: 5
B53: 43.03.02 | C53: Туризм | D53: 1 | E53: 0 | F53: 1 | G53: 3 | H53: 0 | I53: 3 | J53: 0 | K53: 0 | L53: 0 | M53: 0 | N53: 1 | O53: 1 | P53: 0 | Q53: 1 | R53: 1 | S53: 4 | T53: 2 | U53: 6
B54: 44.03.01 | C54: Педагогическое образование | D54: 0 | E54: 0 | F54: 0 | G54: 2 | H54: 0 | I54: 2 | J54: 0 | K54: 1 | L54: 1 | M54: 0 | N54: 1 | O54: 1 | P54: 0 | Q54: 0 | R54: 0 | S54: 2 | T54: 2 | U54: 4
B55: 44.03.02 | C55: Психолого-педагогическое образование | D55: 0 | E55: 0 | F55: 0 | G55: 1 | H55: 0 | I55: 1 | J55: 0 | K55: 0 | L55: 0 | M55: 0 | N55: 0 | O55: 0 | P55: 0 | Q55: 0 | R55: 0 | S55: 1 | T55: 0 | U55: 1
B56: 44.03.05 | C56: Педагогическое образование (с двумя профилями подготовки) | D56: 0 | E56: 0 | F56: 0 | G56: 1 | H56: 0 | I56: 1 | J56: 0 | K56: 0 | L56: 0 | M56: 0 | N56: 0 | O56: 0 | P56: 0 | Q56: 0 | R56: 0 | S56: 1 | T56: 0 | U56: 1
B57: 45.03.01 | C57: Филология | D57: 1 | E57: 0 | F57: 1 | G57: 2 | H57: 0 | I57: 2 | J57: 0 | K57: 1 | L57: 1 | M57: 1 | N57: 1 | O57: 2 | P57: 0 | Q57: 0 | R57: 0 | S57: 4 | T57: 2 | U57: 6
B58: 49.03.02 | C58: Физическая культура для лиц с отклонениями в состоянии здоровья (адаптивная физическая культура) | D58: 0 | E58: 0 | F58: 0 | G58: 0 | H58: 0 | I58: 0 | J58: 0 | K58: 0 | L58: 0 | M58: 0 | N58: 1 | O58: 1 | P58: 0 | Q58: 0 | R58: 0 | S58: 0 | T58: 1 | U58: 1
B59: 53.03.01 | C59: Музыкальное искусство эстрады | D59: 0 | E59: 0 | F59: 0 | G59: 0 | H59: 0 | I59: 0 | J59: 0 | K59: 1 | L59: 1 | M59: 0 | N59: 0 | O59: 0 | P59: 0 | Q59: 0 | R59: 0 | S59: 0 | T59: 1 | U59: 1
B60: 53.03.03 | C60: Вокальное искусство | D60: 0 | E60: 1 | F60: 1 | G60: 0 | H60: 0 | I60: 0 | J60: 0 | K60: 0 | L60: 0 | M60: 0 | N60: 0 | O60: 0 | P60: 0 | Q60: 0 | R60: 0 | S60: 0 | T60: 1 | U60: 1
B61: Итого по направлениям подготовки | D61: =SUM(D49:D60) -> 2 | E61: =SUM(E49:E60) -> 2 | F61: =SUM(F49:F60) -> 4 | G61: =SUM(G49:G60) -> 11 | H61: =SUM(H49:H60) -> 1 | I61: =SUM(I49:I60) -> 12 | J61: =SUM(J49:J60) -> 0 | K61: =SUM(K49:K60) -> 3 | ... U61: =SUM(U49:U60) -> 31
B62: ИТОГО по подразделению граждане России | D62: =D47 -> 37 | E62: =E47 -> 35 | F62: =F47 -> 72 | G62: =G47 -> 78 | H62: =H47 -> 43 | I62: =I47 -> 121 | J62: =J47 -> 61 | K62: =K47 -> 15 | ... U62: =U47 -> 524
B63: ИТОГО по подразделению граждане иностранных государств | D63: =D61 -> 2 | E63: =E61 -> 2 | F63: =F61 -> 4 | G63: =G61 -> 11 | H63: =H61 -> 1 | I63: =I61 -> 12 | J63: =J61 -> 0 | K63: =K61 -> 3 | ... U63: =U61 -> 31
B64: Свод по направлениям подготовки | D64: =D62+D63 -> 39 | E64: =E62+E63 -> 37 | F64: =F62+F63 -> 76 | G64: =G62+G63 -> 89 | H64: =H62+H63 -> 44 | I64: =I62+I63 -> 133 | J64: =J62+J63 -> 61 | K64: =K62+K63 -> 18 | ... U64: =U62+U63 -> 555

Sheet Спец ОФО ГПА
A1: =[2]СПО!B1 -> Гуманитарно-педагогическая академия (филиал) ФГАОУ ВО «КФУ им. В. И. Вернадского» в г. Ялте
A3: Контингент очной формы обучения на | C3: =[2]СПО!F3 -> 01.09.2019 г. | E3: (Специалитет)
A5: Факультет/направление подготовки | C5: 1 | F5: 2 | I5: 3 | L5: 4 | O5: 5 | R5: 6 | U5: Всего специалисты
C7: За счет бюджетных ассигнований | D7: На основе догов. о платных образов. услугах | E7: ВСЕГО | F7: За счет бюджетных ассигнований | G7: На основе догов. о платных образов. услугах | H7: ВСЕГО | I7: За счет бюджетных ассигнований | J7: На основе догов. о платных образов. услугах | K7: ВСЕГО | L7: За счет бюджетных ассигнований | M7: На основе догов. о платных образов. услугах | N7: ВСЕГО | O7: За счет бюджетных ассигнований | P7: На основе догов. о платных образов. услугах | Q7: ВСЕГО | R7: За счет бюджетных ассигнований | S7: На основе догов. о платных образов. услугах | T7: ВСЕГО | U7: За счет бюджетных ассигнований | V7: На основе догов. о платных образов. услугах | W7: ВСЕГО
A8: Свод по направлениям подготовки | C8: =SUM(C9:C10) -> 25 | D8: =SUM(D9:D10) -> 0 | E8: =SUM(E9:E10) -> 25 | F8: =SUM(F9:F10) -> 15 | G8: =SUM(G9:G10) -> 0 | H8: =SUM(H9:H10) -> 15 | I8: =SUM(I9:I10) -> 25 | J8: =SUM(J9:J10) -> 0 | ... W8: =SUM(W9:W10) -> 114
A9: 44.05.01 | B9: Педагогика и психология девиантного поведения | C9: 15 | D9: 0 | E9: 15 | F9: 6 | G9: 0 | H9: 6 | I9: 16 | J9: 0 | K9: 16 | L9: 14 | M9: 0 | N9: 14 | O9: 10 | P9: 0 | Q9: 10 | R9: 0 | S9: 0 | T9: 0 | U9: 61 | V9: 0 | W9: 61
A10: 54.05.02 | B10: Живопись | C10: 10 | D10: 0 | E10: 10 | F10: 9 | G10: 0 | H10: 9 | I10: 9 | J10: 0 | K10: 9 | L10: 8 | M10: 0 | N10: 8 | O10: 7 | P10: 0 | Q10: 7 | R10: 10 | S10: 0 | T10: 10 | U10: 53 | V10: 0 | W10: 53
A11: Итого по направлениям подготовки | C11: =SUM(C9:C10) -> 25 | D11: =SUM(D9:D10) -> 0 | E11: =SUM(E9:E10) -> 25 | F11: =SUM(F9:F10) -> 15 | G11: =SUM(G9:G10) -> 0 | H11: =SUM(H9:H10) -> 15 | I11: =SUM(I9:I10) -> 25 | J11: =SUM(J9:J10) -> 0 | ... W11: =SUM(W9:W10) -> 114
A12: В том числе:
A13: Граждане России
A14: 44.05.01 | B14: Педагогика и психология девиантного поведения | C14: 15 | D14: 0 | E14: 15 | F14: 6 | G14: 0 | H14: 6 | I14: 14 | J14: 0 | K14: 14 | L14: 14 | M14: 0 | N14: 14 | O14: 9 | P14: 0 | Q14: 9 | R14: 0 | S14: 0 | T14: 0 | U14: 58 | V14: 0 | W14: 58
A15: 54.05.02 | B15: Живопись | C15: 10 | D15: 0 | E15: 10 | F15: 9 | G15: 0 | H15: 9 | I15: 9 | J15: 0 | K15: 9 | L15: 8 | M15: 0 | N15: 8 | O15: 7 | P15: 0 | Q15: 7 | R15: 9 | S15: 0 | T15: 9 | U15: 52 | V15: 0 | W15: 52
A16: Итого граждане России | C16: =SUM(C14:C15) -> 25 | D16: =SUM(D14:D15) -> 0 | E16: =SUM(E14:E15) -> 25 | F16: =SUM(F14:F15) -> 15 | G16: =SUM(G14:G15) -> 0 | H16: =SUM(H14:H15) -> 15 | I16: =SUM(I14:I15) -> 23 | J16: =SUM(J14:J15) -> 0 | ... W16: =SUM(W14:W15) -> 110
A17: Граждане иностранных государств (вкл. Украину)
A18: 44.05.01 | B18: Педагогика и психология девиантного поведения | C18: 0 | D18: 0 | E18: 0 | F18: 0 | G18: 0 | H18: 0 | I18: 2 | J18: 0 | K18: 2 | L18: 0 | M18: 0 | N18: 0 | O18: 1 | P18: 0 | Q18: 1 | R18: 0 | S18: 0 | T18: 0 | U18: 3 | V18: 0 | W18: 3
A19: 54.05.02 | B19: Живопись | C19: 0 | D19: 0 | E19: 0 | F19: 0 | G19: 0 | H19: 0 | I19: 0 | J19: 0 | K19: 0 | L19: 0 | M19: 0 | N19: 0 | O19: 0 | P19: 0 | Q19: 0 | R19: 1 | S19: 0 | T19: 1 | U19: 1 | V19: 0 | W19: 1
A20: Итого граждане иностранных государств | C20: =SUM(C18:C19) -> 0 | D20: =SUM(D18:D19) -> 0 | E20: =SUM(E18:E19) -> 0 | F20: =SUM(F18:F19) -> 0 | G20: =SUM(G18:G19) -> 0 | H20: =SUM(H18:H19) -> 0 | I20: =SUM(I18:I19) -> 2 | J20: =SUM(J18:J19) -> 0 | ... W20: =SUM(W18:W19) -> 4
A21: ИТОГО по подразделению граждане России | C21: =C16 -> 25 | D21: =D16 -> 0 | E21: =E16 -> 25 | F21: =F16 -> 15 | G21: =G16 -> 0 | H21: =H16 -> 15 | I21: =I16 -> 23 | J21: =J16 -> 0 | ... W21: =W16 -> 110
A22: ИТОГО по подразделению граждане иностранных государств | C22: =C20 -> 0 | D22: =D20 -> 0 | E22: =E20 -> 0 | F22: =F20 -> 0 | G22: =G20 -> 0 | H22: =H20 -> 0 | I22: =I20 -> 2 | J22: =J20 -> 0 | ... W22: =W20 -> 4
A23: Свод по направлениям подготовки | C23: =C21+C22 -> 25 | D23: =D21+D22 -> 0 | E23: =E21+E22 -> 25 | F23: =F21+F22 -> 15 | G23: =G21+G22 -> 0 | H23: =H21+H22 -> 15 | I23: =I21+I22 -> 25 | J23: =J21+J22 -> 0 | ... W23: =W21+W22 -> 114

Sheet Спец ЗФО ГПА
B1: =[3]СПО!B1 -> Гуманитарно-педагогическая академия (филиал) ФГАОУ ВО «КФУ им. В. И. Вернадского» в г. Ялте
B3: Контингент заочной формы обучения на | D3: 01.09.2019 г. | F3: (Специалитет)
B5: Факультет/направление подготовки | D5: 1 | G5: 2 | J5: 3 | M5: 4 | P5: 5 | S5: 6 | V5: Всего специалисты
D7: За счет бюджетных ассигнований | E7: На основе догов. о платных образов. услугах | F7: ВСЕГО | G7: За счет бюджетных ассигнований | H7: На основе догов. о платных образов. услугах | I7: ВСЕГО | J7: За счет бюджетных ассигнований | K7: На основе догов. о платных образов. услугах | L7: ВСЕГО | M7: За счет бюджетных ассигнований | N7: На основе догов. о платных образов. услугах | O7: ВСЕГО | P7: За счет бюджетных ассигнований | Q7: На основе догов. о платных образов. услугах | R7: ВСЕГО | S7: За счет бюджетных ассигнований | T7: На основе догов. о платных образов. услугах | U7: ВСЕГО | V7: За счет бюджетных ассигнований | W7: На основе догов. о платных образов. услугах | X7: ВСЕГО
B8: Свод по направлениям подготовки | D8: =SUM(D9) -> 0 | E8: =SUM(E9) -> 0 | F8: =SUM(F9) -> 0 | G8: =SUM(G9) -> 0 | H8: =SUM(H9) -> 0 | I8: =SUM(I9) -> 0 | J8: =SUM(J9) -> 4 | K8: =SUM(K9) -> 1 | ... X8: =SUM(X9) -> 19
B9: 44.05.01 | C9: Педагогика и психология девиантного поведения | D9: 0 | E9: 0 | F9: 0 | G9: 0 | H9: 0 | I9: 0 | J9: 4 | K9: 1 | L9: 5 | M9: 0 | N9: 3 | O9: 3 | P9: 2 | Q9: 2 | R9: 4 | S9: 4 | T9: 3 | U9: 7 | V9: 10 | W9: 9 | X9: 19
B10: Итого по направлениям подготовки | D10: =SUM(D9:D9) -> 0 | E10: =SUM(E9:E9) -> 0 | F10: =SUM(F9:F9) -> 0 | G10: =SUM(G9:G9) -> 0 | H10: =SUM(H9:H9) -> 0 | I10: =SUM(I9:I9) -> 0 | J10: =SUM(J9:J9) -> 4 | K10: =SUM(K9:K9) -> 1 | ... X10: =SUM(X9:X9) -> 19
B11: В том числе:
B12: Граждане России
B13: 44.05.01 | C13: Педагогика и психология девиантного поведения | D13: 0 | E13: 0 | F13: 0 | G13: 0 | H13: 0 | I13: 0 | J13: 4 | K13: 1 | L13: 5 | M13: 0 | N13: 2 | O13: 2 | P13: 2 | Q13: 2 | R13: 4 | S13: 4 | T13: 3 | U13: 7 | V13: 10 | W13: 8 | X13: 18
B14: Итого граждане России | D14: =SUM(D13:D13) -> 0 | E14: =SUM(E13:E13) -> 0 | F14: =SUM(F13:F13) -> 0 | G14: =SUM(G13:G13) -> 0 | H14: =SUM(H13:H13) -> 0 | I14: =SUM(I13:I13) -> 0 | J14: =SUM(J13:J13) -> 4 | K14: =SUM(K13:K13) -> 1 | ... X14: =SUM(X13:X13) -> 18
B15: Граждане иностранных государств (вкл. Украину)
B16: 44.05.01 | C16: Педагогика и психология девиантного поведения | D16: 0 | E16: 0 | F16: 0 | G16: 0 | H16: 0 | I16: 0 | J16: 0 | K16: 0 | L16: 0 | M16: 0 | N16: 1 | O16: 1 | P16: 0 | Q16: 0 | R16: 0 | S16: 0 | T16: 0 | U16: 0 | V16: 0 | W16: 1 | X16: 1
B17: Итого граждане иностранных государств | D17: =SUM(D16:D16) -> 0 | E17: =SUM(E16:E16) -> 0 | F17: =SUM(F16:F16) -> 0 | G17: =SUM(G16:G16) -> 0 | H17: =SUM(H16:H16) -> 0 | I17: =SUM(I16:I16) -> 0 | J17: =SUM(J16:J16) -> 0 | K17: =SUM(K16:K16) -> 0 | ... X17: =SUM(X16:X16) -> 1
B18: ИТОГО по подразделению граждане России | D18: =D14 -> 0 | E18: =E14 -> 0 | F18: =F14 -> 0 | G18: =G14 -> 0 | H18: =H14 -> 0 | I18: =I14 -> 0 | J18: =J14 -> 4 | K18: =K14 -> 1 | ... X18: =X14 -> 18
B19: ИТОГО по подразделению граждане иностранных государств | D19: =D17 -> 0 | E19: =E17 -> 0 | F19: =F17 -> 0 | G19: =G17 -> 0 | H19: =H17 -> 0 | I19: =I17 -> 0 | J19: =J17 -> 0 | K19: =K17 -> 0 | ... X19: =X17 -> 1
B20: Свод по направлениям подготовки | D20: =D18+D19 -> 0 | E20: =E18+E19 -> 0 | F20: =F18+F19 -> 0 | G20: =G18+G19 -> 0 | H20: =H18+H19 -> 0 | I20: =I18+I19 -> 0 | J20: =J18+J19 -> 4 | K20: =K18+K19 -> 1 | ... X20: =X18+X19 -> 19

Sheet МАГ ОФО ГПА
B1: =[2]СПО!B1 -> Гуманитарно-педагогическая академия (филиал) ФГАОУ ВО «КФУ им. В. И. Вернадского» в г. Ялте
B3: Контингент очной формы обучения на | D3: =[2]СПО!F3 -> 01.09.2019 г. | F3: (Магистры)
B5: Факультет/направление подготовки | D5: 1 | G5: 2 | J5: Всего магистры
D7: За счет бюджетных ассигнований | E7: На основе догов. о платных образов. услугах | F7: ВСЕГО | G7: За счет бюджетных ассигнований | H7: На основе догов. о платных образов. услугах | I7: ВСЕГО | J7: За счет бюджетных ассигнований | K7: На основе догов. о платных образов. услугах | L7: ВСЕГО
B8: Свод по направлениям подготовки | D8: =SUM(D9:D20) -> 139 | E8: =SUM(E9:E20) -> 1 | F8: =SUM(F9:F20) -> 140 | G8: =SUM(G9:G20) -> 141 | H8: =SUM(H9:H20) -> 3 | I8: =SUM(I9:I20) -> 144 | J8: =SUM(J9:J20) -> 280 | K8: =SUM(K9:K20) -> 4 | L8: =SUM(L9:L20) -> 284
B9: 01.04.01 | C9: Математика | D9: 0 | E9: 0 | F9: 0 | G9: 0 | H9: 0 | I9: 0 | J9: 0 | K9: 0 | L9: 0
B10: 09.04.03 | C10: Прикладная информатика | D10: 5 | E10: 0 | F10: 5 | G10: 9 | H10: 0 | I10: 9 | J10: 14 | K10: 0 | L10: 14
B11: 37.04.01 | C11: Психология | D11: 10 | E11: 0 | F11: 10 | G11: 9 | H11: 0 | I11: 9 | J11: 19 | K11: 0 | L11: 19
B12: 38.04.01 | C12: Экономика | D12: 10 | E12: 1 | F12: 11 | G12: 9 | H12: 0 | I12: 9 | J12: 19 | K12: 1 | L12: 20
B13: 38.04.02 | C13: Менеджмент | D13: 10 | E13: 0 | F13: 10 | G13: 8 | H13: 1 | I13: 9 | J13: 18 | K13: 1 | L13: 19
B14: 38.04.08 | C14: Финансы и кредит | D14: 0 | E14: 0 | F14: 0 | G14: 9 | H14: 0 | I14: 9 | J14: 9 | K14: 0 | L14: 9
B15: 44.04.01 | C15: Педагогическое образование | D15: 41 | E15: 0 | F15: 41 | G15: 38 | H15: 0 | I15: 38 | J15: 79 | K15: 0 | L15: 79
B16: 44.04.02 | C16: Психолого-педагогическое образование | D16: 10 | E16: 0 | F16: 10 | G16: 14 | H16: 0 | I16: 14 | J16: 24 | K16: 0 | L16: 24
B17: 45.04.01 | C17: Филология | D17: 25 | E17: 0 | F17: 25 | G17: 25 | H17: 0 | I17: 25 | J17: 50 | K17: 0 | L17: 50
B18: 46.04.01 | C18: История | D18: 6 | E18: 0 | F18: 6 | G18: 10 | H18: 1 | I18: 11 | J18: 16 | K18: 1 | L18: 17
B19: 54.04.01 | C19: Дизайн | D19: 16 | E19: 0 | F19: 16 | G19: 0 | H19: 0 | I19: 0 | J19: 16 | K19: 0 | L19: 16
B20: 54.04.02 | C20: Декоративно-прикладное искусство и народные промыслы | D20: 6 | E20: 0 | F20: 6 | G20: 10 | H20: 1 | I20: 11 | J20: 16 | K20: 1 | L20: 17
B21: Итого по направлениям подготовки | D21: =SUM(D9:D20) -> 139 | E21: =SUM(E9:E20) -> 1 | F21: =SUM(F9:F20) -> 140 | G21: =SUM(G9:G20) -> 141 | H21: =SUM(H9:H20) -> 3 | I21: =SUM(I9:I20) -> 144 | J21: =SUM(J9:J20) -> 280 | K21: =SUM(K9:K20) -> 4 | L21: =SUM(L9:L20) -> 284
B22: В том числе:
B23: Граждане России
B24: 09.04.03 | C24: Прикладная информатика | D24: 5 | E24: 0 | F24: 5 | G24: 8 | H24: 0 | I24: 8 | J24: 13 | K24: 0 | L24: 13
B25: 37.04.01 | C25: Психология | D25: 10 | E25: 0 | F25: 10 | G25: 9 | H25: 0 | I25: 9 | J25: 19 | K25: 0 | L25: 19
B26: 38.04.01 | C26: Экономика | D26: 10 | E26: 1 | F26: 11 | G26: 9 | H26: 0 | I26: 9 | J26: 19 | K26: 1 | L26: 20
B27: 38.04.02 | C27: Менеджмент | D27: 8 | E27: 0 | F27: 8 | G27: 7 | H27: 1 | I27: 8 | J27: 15 | K27: 1 | L27: 16
B28: 38.04.08 | C28: Финансы и кредит | D28: 0 | E28: 0 | F28: 0 | G28: 7 | H28: 0 | I28: 7 | J28: 7 | K28: 0 | L28: 7
B29: 44.04.01 | C29: Педагогическое образование | D29: 40 | E29: 0 | F29: 40 | G29: 35 | H29: 0 | I29: 35 | J29: 75 | K29: 0 | L29: 75
B30: 44.04.02 | C30: Психолого-педагогическое образование | D30: 9 | E30: 0 | F30: 9 | G30: 14 | H30: 0 | I30: 14 | J30: 23 | K30: 0 | L30: 23
B31: 45.04.01 | C31: Филология | D31: 24 | E31: 0 | F31: 24 | G31: 24 | H31: 0 | I31: 24 | J31: 48 | K31: 0 | L31: 48
B32: 46.04.01 | C32: История | D32: 6 | E32: 0 | F32: 6 | G32: 9 | H32: 1 | I32: 10 | J32: 15 | K32: 1 | L32: 16
B33: 54.04.01 | C33: Дизайн | D33: 15 | E33: 0 | F33: 15 | G33: 0 | H33: 0 | I33: 0 | J33: 15 | K33: 0 | L33: 15
B34: 54.04.02 | C34: Декоративно-прикладное искусство и народные промыслы | D34: 6 | E34: 0 | F34: 6 | G34: 10 | H34: 1 | I34: 11 | J34: 16 | K34: 1 | L34: 17
B35: Итого граждане России | D35: =SUM(D24:D34) -> 133 | E35: =SUM(E24:E34) -> 1 | F35: =SUM(F24:F34) -> 134 | G35: =SUM(G24:G34) -> 132 | H35: =SUM(H24:H34) -> 3 | I35: =SUM(I24:I34) -> 135 | J35: =SUM(J24:J34) -> 265 | K35: =SUM(K24:K34) -> 4 | L35: =SUM(L24:L34) -> 269
B36: Граждане иностранных государств (вкл. Украину)
B37: 09.04.03 | C37: Прикладная информатика | D37: 0 | E37: 0 | F37: 0 | G37: 1 | H37: 0 | I37: 1 | J37: 1 | K37: 0 | L37: 1
B38: 38.04.02 | C38: Менеджмент | D38: 2 | E38: 0 | F38: 2 | G38: 1 | H38: 0 | I38: 1 | J38: 3 | K38: 0 | L38: 3
B39: 38.04.08 | C39: Финансы и кредит | D39: 0 | E39: 0 | F39: 0 | G39: 2 | H39: 0 | I39: 2 | J39: 2 | K39: 0 | L39: 2
B40: 44.04.01 | C40: Педагогическое образование | D40: 1 | E40: 0 | F40: 1 | G40: 3 | H40: 0 | I40: 3 | J40: 4 | K40: 0 | L40: 4
B41: 44.04.02 | C41: Психолого-педагогическое образование | D41: 1 | E41: 0 | F41: 1 | G41: 0 | H41: 0 | I41: 0 | J41: 1 | K41: 0 | L41: 1
B42: 45.04.01 | C42: Филология | D42: 1 | E42: 0 | F42: 1 | G42: 1 | H42: 0 | I42: 1 | J42: 2 | K42: 0 | L42: 2
B43: 46.04.01 | C43: История | D43: 0 | E43: 0 | F43: 0 | G43: 1 | H43: 0 | I43: 1 | J43: 1 | K43: 0 | L43: 1
B44: 54.04.01 | C44: Дизайн | D44: 1 | E44: 0 | F44: 1 | G44: 0 | H44: 0 | I44: 0 | J44: 1 | K44: 0 | L44: 1
B45: Итого граждане иностранных государств | D45: =SUM(D37:D44) -> 6 | E45: =SUM(E37:E44) -> 0 | F45: =SUM(F37:F44) -> 6 | G45: =SUM(G37:G44) -> 9 | H45: =SUM(H37:H44) -> 0 | I45: =SUM(I37:I44) -> 9 | J45: =SUM(J37:J44) -> 15 | K45: =SUM(K37:K44) -> 0 | L45: =SUM(L37:L44) -> 15
B46: ИТОГО по подразделению граждане России | D46: =D35 -> 133 | E46: =E35 -> 1 | F46: =F35 -> 134 | G46: =G35 -> 132 | H46: =H35 -> 3 | I46: =I35 -> 135 | J46: =J35 -> 265 | K46: =K35 -> 4 | L46: =L35 -> 269
B47: ИТОГО по подразделению граждане иностранных государств | D47: =D45 -> 6 | E47: =E45 -> 0 | F47: =F45 -> 6 | G47: =G45 -> 9 | H47: =H45 -> 0 | I47: =I45 -> 9 | J47: =J45 -> 15 | K47: =K45 -> 0 | L47: =L45 -> 15
B48: Свод по направлениям подготовки | D48: =D46+D47 -> 139 | E48: =E46+E47 -> 1 | F48: =F46+F47 -> 140 | G48: =G46+G47 -> 141 | H48: =H46+H47 -> 3 | I48: =I46+I47 -> 144 | J48: =J46+J47 -> 280 | K48: =K46+K47 -> 4 | L48: =L46+L47 -> 284

Sheet МАГ ЗФО ГПА
B1: =[2]СПО!B1 -> Гуманитарно-педагогическая академия (филиал) ФГАОУ ВО «КФУ им. В. И. Вернадского» в г. Ялте
B3: Контингент заочной формы обучения на | F3: =[2]СПО!F3 -> 01.09.2019 г. | H3: (Магистры)
B5: Факультет/направление подготовки | D5: 1 | G5: 2 | J5: 3 | M5: Всего магистры
D7: За счет бюджетных ассигнований | E7: На основе догов. о платных образов. услугах | F7: ВСЕГО | G7: За счет бюджетных ассигнований | H7: На основе догов. о платных образов. услугах | I7: ВСЕГО | J7: За счет бюджетных ассигнований | K7: На основе догов. о платных образов. услугах | L7: ВСЕГО | M7: За счет бюджетных ассигнований | N7: На основе догов. о платных образов. услугах | O7: ВСЕГО
B8: Свод по направлениям подготовки | D8: =SUM(D10:D23) -> 32 | E8: =SUM(E10:E23) -> 27 | F8: =SUM(F10:F23) -> 59 | G8: =SUM(G10:G23) -> 74 | H8: =SUM(H10:H23) -> 15 | I8: =SUM(I10:I23) -> 89 | J8: =SUM(J10:J23) -> 55 | K8: =SUM(K10:K23) -> 5 | ... O8: =SUM(O10:O23) -> 208
B9: 01.04.01 | C9: Математика | D9: 0 | E9: 0 | F9: 0 | G9: 0 | H9: 0 | I9: 0 | J9: 0 | K9: 0 | L9: 0 | M9: 0 | N9: 0 | O9: 0
B10: 09.04.03 | C10: Прикладная информатика | D10: 0 | E10: 0 | F10: 0 | G10: 6 | H10: 0 | I10: 6 | J10: 4 | K10: 0 | L10: 4 | M10: 10 | N10: 0 | O10: 10
B11: 37.04.01 | C11: Психология | D11: 0 | E11: 0 | F11: 0 | G11: 5 | H11: 0 | I11: 5 | J11: 4 | K11: 1 | L11: 5 | M11: 9 | N11: 1 | O11: 10
B12: 38.04.01 | C12: Экономика | D12: 0 | E12: 0 | F12: 0 | G12: 6 | H12: 0 | I12: 6 | J12: 3 | K12: 0 | L12: 3 | M12: 9 | N12: 0 | O12: 9
B13: 38.04.02 | C13: Менеджмент | D13: 0 | E13: 3 | F13: 3 | G13: 6 | H13: 2 | I13: 8 | J13: 5 | K13: 2 | L13: 7 | M13: 11 | N13: 7 | O13: 18
B14: 38.04.08 | C14: Финансы и кредит | D14: 5 | E14: 3 | F14: 8 | G14: 4 | H14: 2 | I14: 6 | J14: 4 | K14: 0 | L14: 4 | M14: 13 | N14: 5 | O14: 18
B15: 44.04.01 | C15: Педагогическое образование | D15: 14 | E15: 0 | F15: 14 | G15: 20 | H15: 5 | I15: 25 | J15: 21 | K15: 2 | L15: 23 | M15: 55 | N15: 7 | O15: 62
B16: 44.04.02 | C16: Психолого-педагогическое образование | D16: 7 | E16: 2 | F16: 9 | G16: 10 | H16: 0 | I16: 10 | J16: 4 | K16: 0 | L16: 4 | M16: 21 | N16: 2 | O16: 23
B17: 45.04.01 | C17: Филология | D17: 1 | E17: 4 | F17: 5 | G17: 16 | H17: 1 | I17: 17 | J17: 6 | K17: 0 | L17: 6 | M17: 23 | N17: 5 | O17: 28
B18: 46.04.01 | C18: История | D18: 5 | E18: 0 | F18: 5 | G18: 0 | H18: 0 | I18: 0 | J18: 0 | K18: 0 | L18: 0 | M18: 5 | N18: 0 | O18: 5
B19: 53.04.01 | C19: Музыкально-инструментальное искусство | D19: 0 | E19: 8 | F19: 8 | G19: 1 | H19: 4 | I19: 5 | J19: 3 | K19: 0 | L19: 3 | M19: 4 | N19: 12 | O19: 16
B20: 53.04.02 | C20: Вокальное искусство | D20: 0 | E20: 4 | F20: 4 | G20: 0 | H20: 1 | I20: 1 | J20: 0 | K20: 0 | L20: 0 | M20: 0 | N20: 5 | O20: 5
... B23: 53.04.06 | C23: Музыкознание и музыкально-прикладное искусство | D23: 0 | E23: 1 | F23: 1 | G23: 0 | H23: 0 | I23: 0 | J23: 1 | K23: 0 | L23: 1 | M23: 1 | N23: 1 | O23: 2
B24: Итого по направлениям подготовки | D24: =SUM(D10:D23) -> 32 | E24: =SUM(E10:E23) -> 27 | F24: =SUM(F10:F23) -> 59 | G24: =SUM(G10:G23) -> 74 | H24: =SUM(H10:H23) -> 15 | I24: =SUM(I10:I23) -> 89 | J24: =SUM(J10:J23) -> 55 | K24: =SUM(K10:K23) -> 5 | ... O24: =SUM(O10:O23) -> 208
B25: В том числе:
B26: Граждане России
B27: 01.04.01 | C27: Математика | D27: 0 | E27: 0 | F27: 0 | G27: 0 | H27: 0 | I27: 0 | J27: 0 | K27: 0 | L27: 0 | M27: 0 | N27: 0 | O27: 0
B28: 09.04.03 | C28: Прикладная информатика | D28: 0 | E28: 0 | F28: 0 | G28: 6 | H28: 0 | I28: 6 | J28: 4 | K28: 0 | L28: 4 | M28: 10 | N28: 0 | O28: 10
B29: 37.04.01 | C29: Психология | D29: 0 | E29: 0 | F29: 0 | G29: 5 | H29: 0 | I29: 5 | J29: 4 | K29: 1 | L29: 5 | M29: 9 | N29: 1 | O29: 10
B30: 38.04.01 | C30: Экономика | D30: 0 | E30: 0 | F30: 0 | G30: 6 | H30: 0 | I30: 6 | J30: 3 | K30: 0 | L30: 3 | M30: 9 | N30: 0 | O30: 9
B31: 38.04.02 | C31: Менеджмент | D31: 0 | E31: 3 | F31: 3 | G31: 4 | H31: 2 | I31: 6 | J31: 4 | K31: 2 | L31: 6 | M31: 8 | N31: 7 | O31: 15
B32: 38.04.08 | C32: Финансы и кредит | D32: 5 | E32: 3 | F32: 8 | G32: 4 | H32: 2 | I32: 6 | J32: 3 | K32: 0 | L32: 3 | M32: 12 | N32: 5 | O32: 17
B33: 44.04.01 | C33: Педагогическое образование | D33: 14 | E33: 0 | F33: 14 | G33: 20 | H33: 5 | I33: 25 | J33: 20 | K33: 2 | L33: 22 | M33: 54 | N33: 7 | O33: 61
B34: 44.04.02 | C34: Психолого-педагогическое образование | D34: 7 | E34: 2 | F34: 9 | G34: 8 | H34: 0 | I34: 8 | J34: 4 | K34: 0 | L34: 4 | M34: 19 | N34: 2 | O34: 21
B35: 45.04.01 | C35: Филология | D35: 1 | E35: 3 | F35: 4 | G35: 16 | H35: 1 | I35: 17 | J35: 5 | K35: 0 | L35: 5 | M35: 22 | N35: 4 | O35: 26
B36: 46.04.01 | C36: История | D36: 5 | E36: 0 | F36: 5 | G36: 0 | H36: 0 | I36: 0 | J36: 0 | K36: 0 | L36: 0 | M36: 5 | N36: 0 | O36: 5
B37: 53.04.01 | C37: Музыкально-инструментальное искусство | D37: 0 | E37: 7 | F37: 7 | G37: 1 | H37: 4 | I37: 5 | J37: 1 | K37: 0 | L37: 1 | M37: 2 | N37: 11 | O37: 13
B38: 53.04.02 | C38: Вокальное искусство | D38: 0 | E38: 4 | F38: 4 | G38: 0 | H38: 1 | I38: 1 | J38: 0 | K38: 0 | L38: 0 | M38: 0 | N38: 5 | O38: 5
... B41: 53.04.06 | C41: Музыкознание и музыкально-прикладное искусство | D41: 0 | E41: 1 | F41: 1 | G41: 0 | H41: 0 | I41: 0 | J41: 1 | K41: 0 | L41: 1 | M41: 1 | N41: 1 | O41: 2
B42: Итого граждан Росии | D42: =SUM(D27:D41) -> 32 | E42: =SUM(E27:E41) -> 25 | F42: =SUM(F27:F41) -> 57 | G42: =SUM(G27:G41) -> 70 | H42: =SUM(H27:H41) -> 15 | I42: =SUM(I27:I41) -> 85 | J42: =SUM(J27:J41) -> 49 | K42: =SUM(K27:K41) -> 5 | ... O42: =SUM(O27:O41) -> 196
B43: Граждане иностранных государств (вкл. Украину)
B44: 38.04.02 | C44: Менеджмент | D44: 0 | E44: 0 | F44: 0 | G44: 2 | H44: 0 | I44: 2 | J44: 1 | K44: 0 | L44: 1 | M44: 3 | N44: 0 | O44: 3
B45: 38.04.08 | C45: Финансы и кредит | D45: 0 | E45: 0 | F45: 0 | G45: 0 | H45: 0 | I45: 0 | J45: 1 | K45: 0 | L45: 1 | M45: 1 | N45: 0 | O45: 1
B46: 44.04.01 | C46: Педагогическое образование | D46: 0 | E46: 0 | F46: 0 | G46: 0 | H46: 0 | I46: 0 | J46: 1 | K46: 0 | L46: 1 | M46: 1 | N46: 0 | O46: 1
B47: 44.04.02 | C47: Психолого-педагогическое образование | D47: 0 | E47: 0 | F47: 0 | G47: 2 | H47: 0 | I47: 2 | J47: 0 | K47: 0 | L47: 0 | M47: 2 | N47: 0 | O47: 2
B48: 45.04.01 | C48: Филология | D48: 0 | E48: 1 | F48: 1 | G48: 0 | H48: 0 | I48: 0 | J48: 1 | K48: 0 | L48: 1 | M48: 1 | N48: 1 | O48: 2
B49: 53.04.01 | C49: Музыкально-инструментальное искусство | D49: 0 | E49: 1 | F49: 1 | G49: 0 | H49: 0 | I49: 0 | J49: 2 | K49: 0 | L49: 2 | M49: 2 | N49: 1 | O49: 3
B50: Итого граждане иностранных государств | D50: =SUM(D44:D49) -> 0 | E50: =SUM(E44:E49) -> 2 | F50: =SUM(F44:F49) -> 2 | G50: =SUM(G44:G49) -> 4 | H50: =SUM(H44:H49) -> 0 | I50: =SUM(I44:I49) -> 4 | J50: =SUM(J44:J49) -> 6 | K50: =SUM(K44:K49) -> 0 | ... O50: =SUM(O44:O49) -> 12
B51: ИТОГО по подразделению граждане России | D51: =SUM(D27:D41) -> 32 | E51: =SUM(E27:E41) -> 25 | F51: =SUM(F27:F41) -> 57 | G51: =SUM(G27:G41) -> 70 | H51: =SUM(H27:H41) -> 15 | I51: =SUM(I27:I41) -> 85 | J51: =SUM(J27:J41) -> 49 | K51: =SUM(K27:K41) -> 5 | ... O51: =SUM(O27:O41) -> 196
B52: ИТОГО по подразделению граждане иностранных государств | D52: =SUM(D44:D49) -> 0 | E52: =SUM(E44:E49) -> 2 | F52: =SUM(F44:F49) -> 2 | G52: =SUM(G44:G49) -> 4 | H52: =SUM(H44:H49) -> 0 | I52: =SUM(I44:I49) -> 4 | J52: =SUM(J44:J49) -> 6 | K52: =SUM(K44:K49) -> 0 | ... O52: =SUM(O44:O49) -> 12
B53: Свод по направлениям подготовки | D53: =D51+D52 -> 32 | E53: =E51+E52 -> 27 | F53: =F51+F52 -> 59 | G53: =G51+G52 -> 74 | H53: =H51+H52 -> 15 | I53: =I51+I52 -> 89 | J53: =J51+J52 -> 55 | K53: =K51+K52 -> 5 | ... O53: =O51+O52 -> 208

Sheet Бак ОФО ЕИСН
A2: Евпаторийский институт социальных наук (филиал)
A3: Контингент очной формы обучения на 01.09.2019 г. (Бакалавриат)
A5: Направление подготовки | B5: 1 год обучения | E5: 2 год обучения | H5: 3 год обучения | K5: 4 год обучения | N5: Всего бакалавры
B6: За счет бюджетных ассигнований | C6: На основе догов. о платных образов. услугах | D6: ВСЕГО | E6: За счет бюджетных ассигнований | F6: На основе догов. о платных образов. услугах | G6: ВСЕГО | H6: За счет бюджетных ассигнований | I6: На основе догов. о платных образов. услугах | J6: ВСЕГО | K6: За счет бюджетных ассигнований | L6: На основе догов. о платных образов. услугах | M6: ВСЕГО | N6: За счет бюджетных ассигнований | O6: На основе догов. о платных образов. услугах | P6: ВСЕГО
A7: Свод по направлениям подготовки
A8: 44.03.01 Педагогическое образование | B8: 12 | C8: 0 | D8: 12 | E8: 12 | F8: 0 | G8: 12 | H8: 26 | I8: 0 | J8: =SUM(H8:I8) -> 26 | K8: 22 | L8: 2 | M8: =SUM(K8:L8) -> 24 | N8: =B8+E8+H8+K8 -> 72 | O8: =C8+F8+I8+L8 -> 2 | P8: =N8+O8 -> 74
A9: 44.03.02 Психолого-педагогическое образование | B9: 14 | C9: 0 | D9: =SUM(B9:C9) -> 14 | E9: 18 | F9: 0 | G9: =SUM(E9:F9) -> 18 | H9: 10 | I9: 0 | J9: =SUM(H9:I9) -> 10 | K9: 8 | L9: 2 | M9: =SUM(K9:L9) -> 10 | N9: =B9+E9+H9+K9 -> 50 | O9: =C9+F9+I9+L9 -> 2 | P9: =N9+O9 -> 52
A10: 45.03.01 Филология | B10: 6 | C10: 0 | D10: =SUM(B10:C10) -> 6 | E10: 11 | F10: 0 | G10: =SUM(E10:F10) -> 11 | H10: 27 | I10: 1 | J10: =SUM(H10:I10) -> 28 | K10: 18 | L10: 0 | M10: =SUM(K10:L10) -> 18 | N10: =B10+E10+H10+K10 -> 62 | O10: =C10+F10+I10+L10 -> 1 | P10: =N10+O10 -> 63
A11: 46.03.01 История | B11: 0 | C11: 0 | D11: =SUM(B11:C11) -> 0 | E11: 16 | F11: 0 | G11: =SUM(E11:F11) -> 16 | H11: 7 | I11: 0 | J11: =SUM(H11:I11) -> 7 | K11: 11 | L11: 1 | M11: =SUM(K11:L11) -> 12 | N11: =B11+E11+H11+K11 -> 34 | O11: =C11+F11+I11+L11 -> 1 | P11: =N11+O11 -> 35
A12: Итого по направлениям подготовки: | B12: =SUM(B8:B11) -> 32 | C12: =SUM(C8:C11) -> 0 | D12: =SUM(D8:D11) -> 32 | E12: =SUM(E8:E11) -> 57 | F12: =SUM(F8:F11) -> 0 | G12: =SUM(G8:G11) -> 57 | H12: =SUM(H8:H11) -> 70 | I12: =SUM(I8:I11) -> 1 | ... O12: =SUM(O8:O11) -> 6 | P12: =SUM(N12:O12) -> 224
A13: В том числе:
A14: Граждане России
A15: 44.03.01 Педагогическое образование | B15: 12 | C15: 0 | D15: =SUM(B15:C15) -> 12 | E15: 12 | F15: 0 | G15: =SUM(E15:F15) -> 12 | H15: 26 | I15: 0 | J15: =SUM(H15:I15) -> 26 | K15: 22 | L15: 2 | M15: =SUM(K15:L15) -> 24 | N15: =B15+E15+H15+K15 -> 72 | O15: =C15+F15+I15+L15 -> 2 | P15: =SUM(N15:O15) -> 74
A16: 44.03.02 Психолого-педагогическое образование | B16: 14 | C16: 0 | D16: =SUM(B16:C16) -> 14 | E16: 17 | F16: 0 | G16: 17 | H16: 10 | I16: 0 | J16: =SUM(H16:I16) -> 10 | K16: 8 | L16: 2 | M16: =SUM(K16:L16) -> 10 | N16: =B16+E16+H16+K16 -> 49 | O16: =C16+F16+I16+L16 -> 2 | P16: =SUM(N16:O16) -> 51
A17: 45.03.01 Филология | B17: 6 | C17: 0 | D17: =SUM(B17:C17) -> 6 | E17: 11 | F17: 0 | G17: 11 | H17: 26 | I17: 1 | J17: =SUM(H17:I17) -> 27 | K17: 18 | L17: 0 | M17: =SUM(K17:L17) -> 18 | N17: =B17+E17+H17+K17 -> 61 | O17: =C17+F17+I17+L17 -> 1 | P17: =SUM(N17:O17) -> 62
A18: 46.03.01 История | B18: 0 | C18: 0 | D18: =SUM(B18:C18) -> 0 | E18: 16 | F18: 0 | G18: =SUM(E18:F18) -> 16 | H18: 7 | I18: 0 | J18: =SUM(H18:I18) -> 7 | K18: 11 | L18: 1 | M18: =SUM(K18:L18) -> 12 | N18: =B18+E18+H18+K18 -> 34 | O18: =C18+F18+I18+L18 -> 1 | P18: =SUM(N18:O18) -> 35
A19: Итого граждане России | B19: =SUM(B15:B18) -> 32 | C19: =SUM(C15:C18) -> 0 | D19: =SUM(D15:D18) -> 32 | E19: =SUM(E15:E18) -> 56 | F19: =SUM(F15:F18) -> 0 | G19: =SUM(G15:G18) -> 56 | H19: =SUM(H15:H18) -> 69 | I19: =SUM(I15:I18) -> 1 | ... P19: =SUM(P15:P18) -> 222
A20: Граждане иностранных государств (вкл. Украину)
A21: 44.03.01 Педагогическое образование | B21: 0 | C21: 0 | D21: 0 | E21: 0 | F21: 0 | G21: 0 | H21: 0 | I21: 0 | J21: =SUM(H21:I21) -> 0 | K21: =SUM(I21:J21) -> 0 | L21: =SUM(J21:K21) -> 0 | M21: =SUM(K21:L21) -> 0 | N21: =B21+E21+H21+K21 -> 0 | O21: =C21+F21+I21+L21 -> 0 | P21: =SUM(N21:O21) -> 0
A22: 44.03.02 Психолого-педагогическое образование | B22: 0 | C22: 0 | D22: 0 | E22: 1 | F22: 0 | G22: 1 | H22: 0 | I22: 0 | J22: =SUM(H22:I22) -> 0 | K22: =SUM(I22:J22) -> 0 | L22: =SUM(J22:K22) -> 0 | M22: =SUM(K22:L22) -> 0 | N22: =B22+E22+H22+K22 -> 1 | O22: =C22+F22+I22+L22 -> 0 | P22: =SUM(N22:O22) -> 1
A23: 45.03.01 Филология | B23: 0 | C23: 0 | D23: 0 | E23: 0 | F23: 0 | G23: 0 | H23: 1 | I23: 0 | J23: =SUM(H23:I23) -> 1 | N23: =B23+E23+H23+K23 -> 1 | O23: =C23+F23+I23+L23 -> 0 | P23: =SUM(N23:O23) -> 1
A24: 46.03.01 История | B24: 0 | C24: 0 | D24: 0 | E24: 0 | F24: 0 | G24: 0 | H24: 0 | I24: 0 | J24: =SUM(H24:I24) -> 0 | K24: =SUM(I24:J24) -> 0 | L24: =SUM(J24:K24) -> 0 | M24: =SUM(K24:L24) -> 0 | N24: =B24+E24+H24+K24 -> 0 | O24: =C24+F24+I24+L24 -> 0 | P24: =SUM(N24:O24) -> 0
A25: Итого граждане иностранных государств | B25: 0 | C25: 0 | D25: 0 | E25: 1 | F25: 0 | G25: 1 | H25: =SUM(H21:H24) -> 1 | I25: =SUM(I21:I24) -> 0 | J25: =SUM(J21:J24) -> 1 | K25: =SUM(K21:K24) -> 0 | L25: =SUM(L21:L24) -> 0 | M25: =SUM(M21:M24) -> 0 | N25: =SUM(N21:N24) -> 2 | O25: =SUM(O21:O24) -> 0 | P25: =SUM(N25:O25) -> 2
A26: ИТОГО по подразделению граждане России | B26: =B19 -> 32 | C26: =C19 -> 0 | D26: =D19 -> 32 | E26: =E19 -> 56 | F26: =F19 -> 0 | G26: =G19 -> 56 | H26: =H19 -> 69 | I26: =I19 -> 1 | J26: =J19 -> 70 | K26: =SUM(K19) -> 59 | L26: =SUM(L19) -> 5 | M26: =SUM(M19) -> 64 | N26: =B26+E26+H26+K26 -> 216 | O26: =C26+F26+I26+L26 -> 6 | P26: =SUM(N26:O26) -> 222
A27: ИТОГО по подразделению иностранные граждане | B27: =B25 -> 0 | C27: =C25 -> 0 | D27: =D25 -> 0 | E27: =E25 -> 1 | F27: =F25 -> 0 | G27: =G25 -> 1 | H27: =H25 -> 1 | I27: =I25 -> 0 | J27: =J25 -> 1 | K27: 0 | L27: 0 | M27: 0 | N27: =B27+E27+H27+K27 -> 2 | O27: =C27+F27+I27+L27 -> 0 | P27: =SUM(N27:O27) -> 2
A28: Итого | B28: =SUM(B26:B27) -> 32 | C28: =SUM(C26:C27) -> 0 | D28: =SUM(D26:D27) -> 32 | E28: =SUM(E26:E27) -> 57 | F28: =SUM(F26:F27) -> 0 | G28: =SUM(G26:G27) -> 57 | H28: =SUM(H26:H27) -> 70 | I28: =SUM(I26:I27) -> 1 | ... M28: =SUM(M26:M27) -> 64 | N28: =SUM(B28+E28+H28+K28) -> 218 | O28: =SUM(C28+F28+I28+L28) -> 6 | P28: =SUM(N28:O28) -> 224

Sheet Бак ЗФО ЕИСН
A2: Евпаторийский институт социальных наук (филиал)
A3: Контингент заочной формы обучения на 01.09.2019 г. (Бакалавриат)
A5: Направление подготовки | B5: 1 год обучения | E5: 2 год обучения | H5: 3 год обучения | K5: 4 год обучения | N5: 5 год обучения | Q5: Всего бакалавров
B6: За счет бюджетных ассигнований | C6: На основе догов. о платных образов. услугах | D6: ВСЕГО | E6: За счет бюджетных ассигнований | F6: На основе догов. о платных образов. услугах | G6: ВСЕГО | H6: За счет бюджетных ассигнований | I6: На основе догов. о платных образов. услугах | J6: ВСЕГО | K6: За счет бюджетных ассигнований | L6: На основе догов. о платных образов. услугах | M6: ВСЕГО | N6: За счет бюджетных ассигнований | O6: На основе догов. о платных образов. услугах | P6: ВСЕГО | Q6: За счет бюджетных ассигнований | R6: На основе догов. о платных образов. услугах | S6: ВСЕГО
A7: Свод по направлениям подготовки
A8: 44.03.01 Педагогическое образование | B8: 10 | C8: 6 | D8: 16 | E8: 12 | F8: 7 | G8: 19 | H8: 11 | I8: 8 | J8: 19 | K8: 9 | L8: 29 | M8: 38 | N8: 3 | O8: 52 | P8: =SUM(N8:O8) -> 55 | Q8: =B8+E8+H8+K8+N8 -> 45 | R8: =C8+F8+I8+L8+O8 -> 102 | S8: =SUM(Q8:R8) -> 147
A9: 44.03.02 Психолого-педагогическое образование | B9: 9 | C9: 5 | D9: 14 | E9: 0 | F9: 0 | G9: 0 | H9: 0 | I9: 5 | J9: 5 | K9: 3 | L9: 13 | M9: =SUM(K9:L9) -> 16 | N9: 1 | O9: 14 | P9: 15 | Q9: 13 | R9: =C9+F9+I9+L9+O9 -> 37 | S9: =SUM(Q9:R9) -> 50
A10: 45.03.01 Филология | B10: 9 | C10: 1 | D10: 10 | E10: 12 | F10: 1 | G10: 13 | H10: 8 | I10: 1 | J10: 9 | K10: 10 | L10: 5 | M10: =SUM(K10:L10) -> 15 | N10: 17 | O10: 3 | P10: 20 | Q10: =B10+E10+H10+K10+N10 -> 56 | R10: =C10+F10+I10+L10+O10 -> 11 | S10: =SUM(Q10:R10) -> 67
A11: 46.03.01 История | B11: 0 | C11: 0 | D11: 0 | E11: 0 | F11: 0 | G11: 0 | H11: 0 | I11: 1 | J11: =SUM(H11:I11) -> 1 | K11: 0 | L11: 1 | M11: =SUM(K11:L11) -> 1 | N11: 0 | O11: 5 | P11: =SUM(N11:O11) -> 5 | Q11: =B11+E11+H11+K11+N11 -> 0 | R11: =C11+F11+I11+L11+O11 -> 7 | S11: =SUM(Q11:R11) -> 7
A12: Итого по направлениям подготовки: | B12: 28 | C12: 12 | D12: 40 | E12: =SUM(E8:E11) -> 24 | F12: =SUM(F8:F11) -> 8 | G12: =SUM(G8:G11) -> 32 | H12: 19 | I12: =SUM(I8:I11) -> 15 | J12: =SUM(J8:J11) -> 34 | K12: =SUM(K8:K11) -> 22 | L12: =SUM(L8:L11) -> 48 | M12: =SUM(M8:M11) -> 70 | N12: =SUM(N8:N11) -> 21 | O12: =SUM(O8:O11) -> 74 | P12: =SUM(P8:P11) -> 95 | Q12: 114 | R12: =SUM(R8:R11) -> 157 | S12: =SUM(Q12:R12) -> 271
A13: В том числе:
A14: Граждане России
A15: 44.03.01 Педагогическое образование | B15: 9 | C15: 6 | D15: 15 | E15: 12 | F15: 7 | G15: 19 | H15: 11 | I15: 8 | J15: =SUM(H15:I15) -> 19 | K15: 9 | L15: 28 | M15: =SUM(K15:L15) -> 37 | N15: 3 | O15: 52 | P15: =SUM(N15:O15) -> 55 | Q15: =E15+H15+K15+N15+B15 -> 44 | R15: =F15+I15+L15+O15+C15 -> 101 | S15: =SUM(Q15:R15) -> 145
A16: 44.03.02 Психолого-педагогическое образование | B16: 9 | C16: 3 | D16: 12 | E16: 0 | F16: 0 | G16: 0 | H16: 0 | I16: 5 | J16: 5 | K16: 3 | L16: 13 | M16: =SUM(K16:L16) -> 16 | N16: 1 | O16: 14 | P16: =SUM(N16:O16) -> 15 | Q16: 13 | R16: =C16+F16+I16+L16+O16 -> 35 | S16: =SUM(Q16:R16) -> 48
A17: 45.03.01 Филология | B17: 9 | C17: 1 | D17: 10 | E17: 12 | F17: 1 | G17: 13 | H17: 8 | I17: 1 | J17: =SUM(H17:I17) -> 9 | K17: 10 | L17: 4 | M17: =SUM(K17:L17) -> 14 | N17: 17 | O17: 3 | P17: =SUM(N17:O17) -> 20 | Q17: =E17+H17+K17+N17+B17 -> 56 | R17: =+F17+I17+L17+O17+C17 -> 10 | S17: =SUM(Q17:R17) -> 66
A18: 46.03.01 История | B18: 0 | C18: 0 | D18: 0 | E18: 0 | F18: 0 | G18: 0 | H18: 0 | I18: 1 | J18: =SUM(H18:I18) -> 1 | K18: 0 | L18: 0 | M18: =SUM(K18:L18) -> 0 | N18: 0 | O18: 5 | P18: =SUM(N18:O18) -> 5 | Q18: =E18+H18+K18+N18 -> 0 | R18: =C18+F18+I18+L18+O18 -> 6 | S18: =SUM(Q18:R18) -> 6
A19: Итого граждане России | B19: 27 | C19: 10 | D19: 37 | E19: =SUM(E15:E18) -> 24 | F19: =SUM(F15:F18) -> 8 | G19: =SUM(G15:G18) -> 32 | H19: 19 | I19: =SUM(I15:I18) -> 15 | J19: =SUM(J15:J18) -> 34 | K19: =SUM(K15:K18) -> 22 | L19: 45 | M19: =SUM(M15:M18) -> 67 | N19: =SUM(N15:N18) -> 21 | O19: =SUM(O15:O18) -> 74 | P19: =SUM(P15:P18) -> 95 | Q19: =SUM(Q15:Q18) -> 113 | R19: =SUM(R15:R18) -> 152 | S19: =SUM(S15:S18) -> 265
A20: Граждане иностранных государств (вкл. Украину)
A21: 44.03.01 Педагогическое образование | B21: 1 | C21: 0 | D21: 1 | E21: 0 | F21: 0 | G21: 0 | H21: 0 | I21: 0 | J21: =SUM(H21:I21) -> 0 | K21: 0 | L21: 1 | M21: 1 | N21: 0 | O21: 0 | P21: 0 | Q21: =SUM(B21+E21+H21+K21+N21) -> 1 | R21: =SUM(C21+F21+I21+L21+O21) -> 1 | S21: =SUM(Q21:R21) -> 2
A22: 44.03.02 Психолого-педагогическое образование | B22: 0 | C22: 2 | D22: 2 | E22: 0 | F22: 0 | G22: 0 | H22: 0 | I22: 0 | J22: =SUM(H22:I22) -> 0 | K22: 0 | L22: 0 | M22: =SUM(K22:L22) -> 0 | N22: 0 | O22: 0 | P22: =SUM(N22:O22) -> 0 | Q22: =SUM(B22+E22+H22+K22+N22) -> 0 | R22: =SUM(C22+F22+I22+L22+O22) -> 2 | S22: =SUM(Q22:R22) -> 2
A23: 45.03.01 Филология | B23: 0 | C23: 0 | D23: 0 | E23: 0 | F23: 0 | G23: 0 | H23: 0 | I23: 0 | J23: =SUM(H23:I23) -> 0 | K23: 0 | L23: 1 | M23: =SUM(K23:L23) -> 1 | N23: 0 | O23: 0 | P23: =SUM(N23:O23) -> 0 | Q23: =SUM(B23+E23+H23+K23+N23) -> 0 | R23: =SUM(C23+F23+I23+L23+O23) -> 1 | S23: =SUM(Q23:R23) -> 1
A24: 46.03.01 История | B24: 0 | C24: 0 | D24: 0 | E24: 0 | F24: 0 | G24: 0 | H24: 0 | I24: 0 | J24: =SUM(H24:I24) -> 0 | K24: 0 | L24: 1 | M24: =SUM(K24:L24) -> 1 | N24: 0 | O24: 0 | P24: =SUM(N24:O24) -> 0 | Q24: =SUM(B24+E24+H24+K24+N24) -> 0 | R24: =SUM(C24+F24+I24+L24+O24) -> 1 | S24: =SUM(Q24:R24) -> 1
A25: Итого граждане иностранных государств | B25: 0 | C25: 0 | D25: =SUM(D21:D24) -> 3 | E25: 0 | F25: 0 | G25: =SUM(G21:G24) -> 0 | H25: 0 | I25: 0 | J25: =SUM(J21:J24) -> 0 | K25: =SUM(K21:K24) -> 0 | L25: =SUM(L21:L24) -> 3 | M25: =SUM(M21:M24) -> 3 | N25: =SUM(N21:N24) -> 0 | O25: =SUM(O21:O24) -> 0 | P25: =SUM(P21:P24) -> 0 | Q25: =SUM(Q21:Q24) -> 1 | ... S25: =SUM(S21:S24) -> 6
A26: ИТОГО по подразделению граждане России | B26: =B19 -> 27 | C26: =C19 -> 10 | D26: =D19 -> 37 | E26: =E19 -> 24 | F26: =F19 -> 8 | G26: =G19 -> 32 | H26: =H19 -> 19 | I26: =I19 -> 15 | ... P26: =P19 -> 95 | Q26: 113 | R26: 152 | S26: =SUM(Q26:R26) -> 265
A27: ИТОГО по подразделению иностранные граждане | B27: 1 | C27: 2 | D27: =D25 -> 3 | E27: =E25 -> 0 | F27: =F25 -> 0 | G27: =G25 -> 0 | H27: =H25 -> 0 | I27: 0 | J27: =J25 -> 0 | K27: =K25 -> 0 | L27: =L25 -> 3 | M27: =M25 -> 3 | N27: =N25 -> 0 | O27: =O25 -> 0 | P27: =P25 -> 0 | Q27: =SUM(B27+E27+H27+K27+N27) -> 1 | R27: =SUM(C27+F27+I27+L27+O27) -> 5 | S27: =SUM(Q27:R27) -> 6
A28: Итого | B28: =SUM(B26:B27) -> 28 | C28: =SUM(C26:C27) -> 12 | D28: =SUM(D26:D27) -> 40 | E28: =SUM(E26:E27) -> 24 | F28: =SUM(F26:F27) -> 8 | G28: =SUM(G26:G27) -> 32 | H28: =SUM(H26:H27) -> 19 | I28: =SUM(I26:I27) -> 15 | ... P28: =SUM(P26:P27) -> 95 | Q28: 114 | R28: 157 | S28: =SUM(Q28:R28) -> 271

Sheet Маг ОФО ЕИСН
A2: Евпаторийский институт социальных наук (филиал)
A3: Контингент очной формы обучения на 01.09.2019 г. (Магистратура)
A5: Направление подготовки | B5: 1 год обучения | E5: 2 год обучения | H5: Всего магистры
B6: За счет бюджетных ассигнований | C6: На основе догов. о платных образов. услугах | D6: ВСЕГО | E6: За счет бюджетных ассигнований | F6: На основе догов. о платных образов. услугах | G6: ВСЕГО | H6: За счет бюджетных ассигнований | I6: На основе догов. о платных образов. услугах | J6: ВСЕГО
A7: Свод по направлениям подготовки
A8: 44.04.01 Педагогическое образование | B8: 0 | C8: 0 | D8: 0 | E8: 11 | F8: 0 | G8: 11 | H8: =B8+E8 -> 11 | I8: =C8+F8 -> 0 | J8: =H8+I8 -> 11
A9: 44.04.02 Психолого-педагогическое образование | B9: 13 | C9: 0 | D9: 13 | E9: 0 | F9: 0 | G9: 0 | H9: =B9+E9 -> 13 | I9: =C9+F9 -> 0 | J9: =H9+I9 -> 13
A10: 45.04.01 Филология | B10: 9 | C10: 0 | D10: 9 | E10: 8 | F10: 0 | G10: 8 | H10: =B10+E10 -> 17 | I10: =C10+F10 -> 0 | J10: =H10+I10 -> 17
A11: 46.04.01 История | B11: 0 | C11: 0 | D11: 0 | E11: 10 | F11: 0 | G11: 10 | H11: =B11+E11 -> 10 | I11: =C11+F11 -> 0 | J11: =H11+I11 -> 10
A12: Итого по направлениям подготовки: | B12: =SUM(B8:B11) -> 22 | C12: =SUM(C8:C11) -> 0 | D12: =SUM(D8:D11) -> 22 | E12: 29 | F12: 0 | G12: 29 | H12: =SUM(H8:H11) -> 51 | I12: =SUM(I8:I11) -> 0 | J12: =SUM(H12:I12) -> 51
A13: В том числе:
A14: Граждане России
A15: 44.04.01 Педагогическое образование | B15: 0 | C15: 0 | D15: 0 | E15: 11 | F15: 0 | G15: 11 | H15: 11 | I15: =C15+F15 -> 0 | J15: =H15+I15 -> 11
A16: 44.04.02 Психолого-педагогическое образование | B16: 13 | C16: 0 | D16: 13 | E16: 0 | F16: 0 | G16: 0 | H16: =B16+E16 -> 13 | I16: =C16+F16 -> 0 | J16: =H16+I16 -> 13
A17: 45.04.01 Филология | B17: 9 | C17: 0 | D17: 9 | E17: 8 | F17: 0 | G17: 8 | H17: =B17+E17 -> 17 | I17: =C17+F17 -> 0 | J17: =H17+I17 -> 17
A18: 46.04.01 История | B18: 0 | C18: 0 | D18: 0 | E18: 10 | F18: 0 | G18: 10 | H18: =B18+E18 -> 10 | I18: =C18+F18 -> 0 | J18: =H18+I18 -> 10
A19: Итого граждане России | B19: =SUM(B15:B18) -> 22 | D19: =SUM(D15:D18) -> 22 | E19: 29 | F19: 0 | G19: 29 | H19: =SUM(H15:H18) -> 51 | I19: =SUM(I15:I18) -> 0 | J19: =SUM(H19:I19) -> 51
A20: Граждане иностранных государств (вкл. Украину)
A21: 44.04.01 Педагогическое образование | B21: 0 | C21: 0 | D21: =SUM(B21:C21) -> 0 | E21: =SUM(C21:D21) -> 0 | F21: =SUM(D21:E21) -> 0 | G21: =SUM(E21:F21) -> 0 | H21: =B21+E21 -> 0 | I21: =C21+F21 -> 0 | J21: =SUM(H21:I21) -> 0
A22: 44.04.02 Психолого-педагогическое образование | B22: 0 | C22: 0 | D22: =SUM(B22:C22) -> 0 | E22: =SUM(C22:D22) -> 0 | F22: =SUM(D22:E22) -> 0 | G22: =SUM(E22:F22) -> 0 | H22: =B22+E22 -> 0 | I22: =C22+F22 -> 0 | J22: =SUM(H22:I22) -> 0
A23: 45.04.01 Филология | B23: 0 | C23: 0 | D23: =SUM(B23:C23) -> 0 | E23: =SUM(C23:D23) -> 0 | F23: =SUM(D23:E23) -> 0 | G23: =SUM(E23:F23) -> 0 | H23: 0 | I23: =C23+F23 -> 0 | J23: =SUM(H23:I23) -> 0
A24: 46.04.01 История | B24: 0 | C24: 0 | D24: =SUM(B24:C24) -> 0 | E24: =SUM(C24:D24) -> 0 | F24: =SUM(D24:E24) -> 0 | G24: =SUM(E24:F24) -> 0 | H24: =B24+E24 -> 0 | I24: =C24+F24 -> 0 | J24: =SUM(H24:I24) -> 0
A25: Итого граждане иностранных государств | B25: 0 | C25: 0 | D25: =SUM(D21:D24) -> 0 | E25: =SUM(C25:D25) -> 0 | F25: =SUM(D25:E25) -> 0 | G25: =SUM(E25:F25) -> 0 | H25: =SUM(H21:H24) -> 0 | I25: =SUM(I21:I24) -> 0 | J25: =SUM(H25:I25) -> 0
A26: ИТОГО по подразделению граждане России | B26: =B19 -> 22 | C26: =C19 -> 0 | D26: =D19 -> 22 | E26: =SUM(E15:E18) -> 29 | F26: 0 | G26: 29 | H26: =B26+E26 -> 51 | I26: =C26+F26 -> 0 | J26: =SUM(H26:I26) -> 51
A27: ИТОГО по подразделению иностранные граждане | B27: =B25 -> 0 | C27: =C25 -> 0 | D27: =D25 -> 0 | E27: 0 | F27: 0 | G27: 0 | H27: =B27+E27 -> 0 | I27: =C27+F27 -> 0 | J27: =SUM(H27:I27) -> 0
A28: Итого | B28: =SUM(B26:B27) -> 22 | C28: =SUM(C26:C27) -> 0 | D28: =SUM(D26:D27) -> 22 | E28: 29 | F28: 0 | G28: 29 | H28: =SUM(B28+E28) -> 51 | I28: =SUM(C28+F28) -> 0 | J28: =SUM(H28:I28) -> 51

Sheet МАГ ЗФО ЕИСН
A2: Евпаторийский институт социальных наук (филиал)
A3: Контингент заочной формы обучения на 01.09.2019 г. (Магистратура)
A5: Направление подготовки | B5: 1 год обучения | E5: 2 год обучения | H5: 3 год обучения | K5: Всего магистры
B6: За счет бюджетных ассигнований | C6: На основе догов. о платных образов. услугах | D6: ВСЕГО | E6: За счет бюджетных ассигнований | F6: На основе догов. о платных образов. услугах | G6: ВСЕГО | H6: За счет бюджетных ассигнований | I6: На основе догов. о платных образов. услугах | J6: ВСЕГО | K6: За счет бюджетных ассигнований | L6: На основе догов. о платных образов. услугах | M6: ВСЕГО
A7: Свод по направлениям подготовки
A8: 44.04.01 Педагогическое образование | B8: 10 | C8: 5 | D8: 15 | E8: 0 | F8: 0 | G8: 0 | H8: 5 | I8: 0 | J8: =SUM(H8:I8) -> 5 | K8: =SUM(B8+E8+H8) -> 15 | L8: =SUM(C8+F8+I8) -> 5 | M8: =SUM(K8:L8) -> 20
A9: 44.04.02 Психолого-педагогическое образование | B9: 0 | C9: 0 | D9: 0 | E9: 9 | F9: 4 | G9: 13 | H9: 4 | I9: 2 | J9: =SUM(H9:I9) -> 6 | K9: =SUM(B9+E9+H9) -> 13 | L9: =SUM(C9+F9+I9) -> 6 | M9: =SUM(K9:L9) -> 19
A10: 45.04.01 Филология | B10: 1 | C10: 0 | D10: 1 | E10: 7 | F10: 0 | G10: 7 | H10: 5 | I10: 0 | J10: =SUM(H10:I10) -> 5 | K10: =SUM(B10+E10+H10) -> 13 | L10: =SUM(C10+F10+I10) -> 0 | M10: =SUM(K10:L10) -> 13
A11: 46.04.01 История | B11: 5 | C11: 1 | D11: 6 | E11: 6 | F11: 0 | G11: 6 | H11: 4 | I11: 0 | J11: 4 | K11: =SUM(B11+E11+H11) -> 15 | L11: =SUM(C11+F11+I11) -> 1 | M11: =SUM(K11:L11) -> 16
A12: Итого по направлениям подготовки: | B12: 16 | C12: 6 | D12: 22 | E12: =SUM(E8:E11) -> 22 | F12: =SUM(F8:F11) -> 4 | G12: =SUM(G8:G11) -> 26 | H12: =SUM(H8:H11) -> 18 | I12: =SUM(I8:I11) -> 2 | J12: =SUM(J8:J11) -> 20 | K12: =SUM(K8:K11) -> 56 | L12: =SUM(L8:L11) -> 12 | M12: =SUM(M8:M11) -> 68
A13: В том числе:
A14: Граждане России
A15: 44.04.01 Педагогическое образование | B15: 10 | C15: 5 | D15: 15 | E15: 0 | F15: 0 | G15: 0 | H15: 4 | I15: 0 | J15: =SUM(H15:I15) -> 4 | K15: =SUM(B15+E15+H15) -> 14 | L15: =SUM(C15+F15+I15) -> 5 | M15: =SUM(K15:L15) -> 19
A16: 44.04.02 Психолого-педагогическое образование | B16: 0 | C16: 0 | D16: 0 | E16: 9 | F16: 4 | G16: 13 | H16: 4 | I16: 2 | J16: =SUM(H16:I16) -> 6 | K16: =SUM(B16+E16+H16) -> 13 | L16: =SUM(C16+F16+I16) -> 6 | M16: =SUM(K16:L16) -> 19
A17: 45.04.01 Филология | B17: 1 | C17: 0 | D17: 1 | E17: 6 | F17: 0 | G17: 6 | H17: 5 | I17: 0 | J17: =SUM(H17:I17) -> 5 | K17: =SUM(B17+E17+H17) -> 12 | L17: =SUM(C17+F17+I17) -> 0 | M17: =SUM(K17:L17) -> 12
A18: 46.04.01 История | B18: 5 | C18: 1 | D18: 6 | E18: 6 | F18: 0 | G18: 6 | H18: 4 | I18: 0 | J18: 4 | K18: =SUM(B18+E18+H18) -> 15 | L18: =SUM(C18+F18+I18) -> 1 | M18: =SUM(K18:L18) -> 16
A19: Итого граждане России | B19: 16 | C19: =SUM(C15:C18) -> 6 | D19: 22 | E19: =SUM(E15:E18) -> 21 | F19: =SUM(F15:F18) -> 4 | G19: 25 | H19: =SUM(H15:H18) -> 17 | I19: =SUM(I15:I18) -> 2 | J19: =SUM(J15:J18) -> 19 | K19: =SUM(K15:K18) -> 54 | L19: =SUM(L15:L18) -> 12 | M19: =SUM(M15:M18) -> 66
A20: Граждане иностранных государств (вкл. Украину)
A21: 44.04.01 Педагогическое образование | B21: 0 | C21: 0 | D21: 0 | E21: 0 | F21: 0 | G21: 0 | H21: 1 | I21: 0 | J21: =SUM(H21:I21) -> 1 | K21: =SUM(B21+E21+H21) -> 1 | L21: =SUM(C21+F21+I21) -> 0 | M21: =SUM(K21:L21) -> 1
A22: 44.04.02 Психолого-педагогическое образование | B22: 0 | C22: 0 | D22: 0 | E22: 0 | F22: 0 | G22: 0 | H22: 0 | I22: 0 | J22: =SUM(H22:I22) -> 0 | K22: =SUM(B22+E22+H22) -> 0 | L22: =SUM(C22+F22+I22) -> 0 | M22: =SUM(K22:L22) -> 0
A23: 45.04.01 Филология | B23: 0 | C23: 0 | D23: 0 | E23: 1 | F23: 0 | G23: 1 | H23: 0 | I23: 0 | J23: =SUM(H23:I23) -> 0 | K23: =SUM(B23+E23+H23) -> 1 | L23: =SUM(C23+F23+I23) -> 0 | M23: =SUM(K23:L23) -> 1
A24: 46.04.01 История | B24: 0 | C24: 0 | D24: 0 | E24: 0 | F24: 0 | G24: 0 | H24: 0 | I24: 0 | J24: =SUM(H24:I24) -> 0 | K24: =SUM(B24+E24+H24) -> 0 | L24: =SUM(C24+F24+I24) -> 0 | M24: =SUM(K24:L24) -> 0
A25: Итого граждане иностранных государств | B25: 0 | C25: 0 | D25: 0 | E25: =SUM(E21:E24) -> 1 | F25: 0 | G25: =SUM(G21:G24) -> 1 | H25: =SUM(H21:H24) -> 1 | I25: 0 | J25: =SUM(J21:J24) -> 1 | K25: =SUM(K21:K24) -> 2 | L25: =SUM(L21:L24) -> 0 | M25: =SUM(M21:M24) -> 2
A26: ИТОГО по подразделению граждане России | B26: 16 | C26: =C19 -> 6 | D26: 22 | E26: =E19 -> 21 | F26: =F19 -> 4 | G26: =G19 -> 25 | H26: =H19 -> 17 | I26: =I19 -> 2 | J26: =J19 -> 19 | K26: =SUM(B26+E26+H26) -> 54 | L26: =SUM(C26+F26+I26) -> 12 | M26: =SUM(K26:L26) -> 66
A27: ИТОГО по подразделению иностранные граждане | B27: 0 | C27: =C25 -> 0 | D27: 0 | E27: =E25 -> 1 | F27: =F25 -> 0 | G27: 1 | H27: =H25 -> 1 | I27: =I25 -> 0 | J27: =J25 -> 1 | K27: =B27+E27+H27 -> 2 | L27: =C27+F27+I27 -> 0 | M27: =SUM(K27:L27) -> 2
A28: Итого | B28: =SUM(B26:B27) -> 16 | C28: =SUM(C26:C27) -> 6 | D28: 22 | E28: =SUM(E26:E27) -> 22 | F28: =SUM(F26:F27) -> 4 | G28: =SUM(G26:G27) -> 26 | H28: =SUM(H26:H27) -> 18 | I28: =SUM(I26:I27) -> 2 | J28: =SUM(J26:J27) -> 20 | K28: =SUM(B28+E28+H28) -> 56 | L28: =SUM(C28+F28+I28) -> 12 | M28: =SUM(K28:L28) -> 68

Sheet Бак ОФО СЕГИ
A1: Севастопольский экономико-гуманитарный институт (филиал)
A2: ФГАОУ ВО "Крымский федеральный университет имени В. И. Вернадского"
A3: Контингент очной формы обучения на 01.09.2019 г. (Бакалавры)
A5: Факультет/направление подготовки | B5: 1 | E5: 2 | H5: 3 | K5: 4 | N5: Всего бакалавры
B7: За счет бюджетных ассигнований | C7: На основе догов. о платных образов. услугах | D7: ВСЕГО | E7: За счет бюджетных ассигнований | F7: На основе догов. о платных образов. услугах | G7: ВСЕГО | H7: За счет бюджетных ассигнова ний | I7: На основе догов. о платных образов. услугах | J7: ВСЕГО | K7: За счет бюджетных ассигнова ний | L7: На основе догов. о платных образов. услугах | M7: ВСЕГО | N7: За счет бюджетных ассигнований | O7: На основе догов. о платных образов. услугах | P7: ВСЕГО
A8: Свод по направлениям подготовки
A9: Свод по направлениям подготовки | N9: =B9+E297+H9+K9 -> 0 | O9: =C9+F297+I9+L9 -> 0 | P9: =SUM(N9:O9) -> 0
A10: 37.03.01 Психология | B10: 16 | C10: 0 | D10: =SUM(B10:C10) -> 16 | E10: 11 | F10: 7 | G10: 18 | H10: 9 | I10: 0 | J10: 9 | K10: 10 | L10: 1 | M10: 11 | N10: =B10+E10+H10+K10 -> 46 | O10: =C10+F10+I10+L10 -> 8 | P10: =SUM(N10:O10) -> 54
A11: 38.03.02 Менеджмент | B11: 15 | C11: 0 | D11: 15 | E11: 15 | F11: 0 | G11: =SUM(E11:F11) -> 15 | H11: 9 | I11: 0 | J11: =SUM(H11:I11) -> 9 | K11: 12 | L11: 0 | M11: =SUM(K11:L11) -> 12 | N11: =B11+E298+H11+K11+E11 -> 51 | O11: =C11+F299+I11+L11+F11 -> 0 | P11: =SUM(N11:O11) -> 51
A12: 38.03.04 Государственное и муниципальное управление | B12: 15 | C12: 0 | D12: =SUM(B12:C12) -> 15 | E12: 13 | F12: 5 | G12: =SUM(E12:F12) -> 18 | H12: 9 | I12: 3 | J12: =SUM(H12:I12) -> 12 | K12: 10 | L12: =L34+L21 -> 0 | M12: =SUM(K12:L12) -> 10 | N12: =B12+E12+H12+K12 -> 47 | O12: =C12+I12+L12+F12 -> 8 | P12: =SUM(N12:O12) -> 55
A13: 40.03.01 Юриспруденция | B13: 12 | C13: 6 | D13: 18 | E13: 0 | F13: 5 | G13: =SUM(E13:F13) -> 5 | H13: 0 | I13: 12 | J13: =SUM(H13:I13) -> 12 | K13: 0 | L13: 9 | M13: 9 | N13: =B13+E13+H13+K13 -> 12 | O13: =C13+F13+I13+L13 -> 32 | P13: =SUM(N13:O13) -> 44
A14: 43.03.02 Туризм | B14: 17 | C14: 1 | D14: =SUM(B14:C14) -> 18 | E14: 9 | F14: 2 | G14: =SUM(E14:F14) -> 11 | H14: 18 | I14: 1 | J14: =SUM(H14:I14) -> 19 | K14: 3 | L14: 0 | M14: 3 | N14: =B14+E14+H14+K14 -> 47 | O14: =C14+F14+I14+L14 -> 4 | P14: =SUM(N14:O14) -> 51
A15: 49.03.01 Физическая культура | B15: 0 | C15: 0 | D15: =SUM(B15:C15) -> 0 | E15: 0 | F15: 0 | G15: =SUM(E15:F15) -> 0 | H15: 0 | I15: 0 | J15: =SUM(H15:I15) -> 0 | K15: 10 | L15: 2 | M15: 12 | N15: =B15+E15+H15+K15 -> 10 | O15: =C15+F15+I15+L15 -> 2 | P15: =SUM(N15:O15) -> 12
A16: 49.03.02 Физическая культура для лиц с отклонениями в состоянии здоровья (адаптивная физическая культура) | B16: 0 | C16: 0 | D16: =SUM(B16:C16) -> 0 | E16: 0 | F16: 0 | G16: =SUM(E16:F16) -> 0 | H16: 0 | I16: 0 | J16: =SUM(H16:I16) -> 0 | K16: 10 | L16: 1 | M16: =SUM(K16:L16) -> 11 | N16: =B16+E16+H16+K16 -> 10 | O16: =C16+F16+I16+L16 -> 1 | P16: =SUM(N16:O16) -> 11
A17: Итого по направлениям подготовки: | B17: =SUM(B10:B16) -> 75 | C17: =SUM(C10:C16) -> 7 | D17: =SUM(D10:D16) -> 82 | E17: =SUM(E10:E16) -> 48 | F17: =SUM(F10:F16) -> 19 | G17: =SUM(G10:G16) -> 67 | H17: =SUM(H10:H16) -> 45 | I17: =SUM(I10:I16) -> 16 | ... P17: =SUM(P10:P16) -> 278
A18: В том числе:
A19: Граждане России
A20: 37.03.01 Психология | B20: 15 | C20: 0 | D20: =SUM(B20:C20) -> 15 | E20: 11 | F20: 7 | G20: 18 | H20: 9 | I20: 0 | J20: 9 | K20: 10 | L20: 1 | M20: 11 | N20: =B20+E20+H20+K20 -> 45 | O20: =C20+F20+I20+L20 -> 8 | P20: =SUM(N20:O20) -> 53
A21: 38.03.02 Менеджмент | B21: 15 | C21: 0 | D21: =SUM(B21:C21) -> 15 | E21: 15 | F21: 0 | G21: =SUM(E21:F21) -> 15 | H21: 9 | I21: 0 | J21: =SUM(H21:I21) -> 9 | K21: 12 | L21: 0 | M21: =SUM(K21:L21) -> 12 | N21: =B21+E21+H21+K21 -> 51 | O21: =C21+F21+I21+L21 -> 0 | P21: =SUM(N21:O21) -> 51
A22: 38.03.04 Государственное и муниципальное управление | B22: 15 | C22: 0 | D22: =SUM(B22:C22) -> 15 | E22: 13 | F22: 5 | G22: =SUM(E22:F22) -> 18 | H22: 9 | I22: 3 | J22: =SUM(H22:I22) -> 12 | K22: 10 | L22: =L44+L31 -> 0 | M22: =SUM(K22:L22) -> 10 | N22: =B22+E22+H22+K22 -> 47 | O22: =C22+F22+I22+L22 -> 8 | P22: =SUM(N22:O22) -> 55
A23: 40.03.01 Юриспруденция | B23: 12 | C23: 6 | D23: =SUM(B23:C23) -> 18 | E23: 0 | F23: 5 | G23: =SUM(E23:F23) -> 5 | H23: 0 | I23: 12 | J23: =SUM(H23:I23) -> 12 | K23: 0 | L23: 9 | M23: 9 | N23: =B23+E23+H23+K23 -> 12 | O23: =C23+F23+I23+L23 -> 32 | P23: =SUM(N23:O23) -> 44
A24: 43.03.02 Туризм | B24: 17 | C24: 1 | D24: =SUM(B24:C24) -> 18 | E24: 9 | F24: 2 | G24: =SUM(E24:F24) -> 11 | H24: 18 | I24: 0 | J24: =SUM(H24:I24) -> 18 | K24: 3 | L24: 0 | M24: 3 | N24: =B24+E24+H24+K24 -> 47 | O24: =C24+F24+I24+L24 -> 3 | P24: =SUM(N24:O24) -> 50
A25: 49.03.01 Физическая культура | B25: 0 | C25: 0 | D25: =SUM(B25:C25) -> 0 | E25: 0 | F25: 0 | G25: =SUM(E25:F25) -> 0 | H25: 0 | I25: 0 | J25: =SUM(H25:I25) -> 0 | K25: 10 | L25: 2 | M25: 12 | N25: =B25+E25+H25+K25 -> 10 | O25: =C25+F25+I25+L25 -> 2 | P25: =SUM(N25:O25) -> 12
A26: 49.03.02 Физическая культура для лиц с отклонениями в состоянии здоровья (адаптивная физическая культура) | B26: 0 | C26: 0 | D26: =SUM(B26:C26) -> 0 | E26: 0 | F26: 0 | G26: =SUM(E26:F26) -> 0 | H26: 0 | I26: 0 | J26: =SUM(H26:I26) -> 0 | K26: 10 | L26: 1 | M26: =SUM(K26:L26) -> 11 | N26: =B26+E26+H26+K26 -> 10 | O26: =C26+F26+I26+L26 -> 1 | P26: =SUM(N26:O26) -> 11
A27: Итого граждане России | B27: =SUM(B20:B26) -> 74 | C27: =SUM(C20:C26) -> 7 | D27: =SUM(D20:D26) -> 81 | E27: =SUM(E20:E26) -> 48 | F27: =SUM(F20:F26) -> 19 | G27: =SUM(G20:G26) -> 67 | H27: =SUM(H20:H26) -> 45 | I27: =SUM(I20:I26) -> 15 | ... M27: =SUM(M20:M26) -> 68 | N27: =B27+E27+H27+K27 -> 222 | O27: =C27+F27+I27+L27 -> 54 | P27: =SUM(N27:O27) -> 276
A28: Граждане иностранных государств (вкл. Украину) | N28: =B28+E28+H28+K28 -> 0 | O28: =C28+F28+I28+L28 -> 0 | P28: =SUM(N28:O28) -> 0
A29: 37.03.01 Психология | B29: 1 | C29: 0 | D29: =SUM(B29:C29) -> 1 | E29: 0 | F29: 0 | G29: =SUM(E29:F29) -> 0 | H29: 0 | I29: 0 | J29: =SUM(H29:I29) -> 0 | K29: 0 | L29: 0 | M29: 0 | N29: =B29+E29+H29+K29 -> 1 | O29: =C29+F29+I29+L29 -> 0 | P29: =SUM(N29:O29) -> 1
A30: 38.03.02 Менеджмент | B30: 0 | C30: 0 | D30: =SUM(B30:C30) -> 0 | E30: 0 | F30: 0 | G30: =SUM(E30:F30) -> 0 | H30: 0 | I30: 0 | J30: =SUM(H30:I30) -> 0 | K30: 0 | L30: 0 | M30: =SUM(K30:L30) -> 0 | N30: =B30+E30+H30+K30 -> 0 | O30: =C30+F30+I30+L30 -> 0 | P30: =SUM(N30:O30) -> 0
A31: 38.03.04 Государственное и муниципальное управление | B31: 0 | C31: 0 | D31: =SUM(B31:C31) -> 0 | E31: 0 | F31: 0 | G31: =SUM(E31:F31) -> 0 | H31: 0 | I31: 0 | J31: =SUM(H31:I31) -> 0 | K31: 0 | L31: 0 | M31: =SUM(K31:L31) -> 0 | N31: =B31+E31+H31+K31 -> 0 | O31: =C31+F31+I31+L31 -> 0 | P31: =SUM(N31:O31) -> 0
A32: 40.03.01 Юриспруденция | B32: 0 | C32: 0 | D32: =SUM(B32:C32) -> 0 | E32: 0 | F32: 0 | G32: =SUM(E32:F32) -> 0 | H32: 0 | I32: 0 | J32: =SUM(H32:I32) -> 0 | K32: 0 | L32: 0 | M32: 0 | N32: =B32+E32+H32+K32 -> 0 | O32: =C32+F32+I32+L32 -> 0 | P32: =SUM(N32:O32) -> 0
A33: 43.03.02 Туризм | B33: 0 | C33: 0 | D33: 0 | E33: 0 | F33: 0 | G33: 0 | H33: 0 | I33: 1 | J33: 1 | K33: 0 | L33: 0 | M33: 0 | N33: =B33+E33+H33+K33 -> 0 | O33: =C33+F33+I33+L33 -> 1 | P33: =SUM(N33:O33) -> 1
A34: 49.03.01 Физическая культура | B34: 0 | C34: 0 | D34: =SUM(B34:C34) -> 0 | E34: 0 | F34: 0 | G34: =SUM(E34:F34) -> 0 | H34: 0 | I34: 0 | J34: =SUM(H34:I34) -> 0 | K34: 0 | L34: 0 | M34: =SUM(K34:L34) -> 0 | N34: =B34+E34+H34+K34 -> 0 | O34: =C34+F34+I34+L34 -> 0 | P34: =SUM(N34:O34) -> 0
A35: 49.03.02 Физическая культура для лиц с отклонениями в состоянии здоровья (адаптивная физическая культура) | B35: 0 | C35: 0 | D35: =SUM(B35:C35) -> 0 | E35: 0 | F35: 0 | G35: =SUM(E35:F35) -> 0 | H35: 0 | I35: 0 | J35: =SUM(H35:I35) -> 0 | K35: 0 | L35: 0 | M35: 0 | N35: =B35+E35+H35+K35 -> 0 | O35: =C35+F35+I35+L35 -> 0 | P35: =SUM(N35:O35) -> 0
A36: Итого граждане иностранных государств | B36: =SUM(B29:B35) -> 1 | C36: =SUM(C29:C35) -> 0 | D36: =SUM(D29:D35) -> 1 | E36: =SUM(E29:E35) -> 0 | F36: =SUM(F29:F35) -> 0 | G36: =SUM(G29:G35) -> 0 | H36: =SUM(H29:H35) -> 0 | I36: =SUM(I29:I35) -> 1 | ... M36: =SUM(M29:M35) -> 0 | N36: 1 | O36: =SUM(O29:O35) -> 1 | P36: =SUM(P29:P35) -> 2
A37: ИТОГО по подразделению граждане России | B37: =B27 -> 74 | C37: =C27 -> 7 | D37: =D27 -> 81 | E37: =E27 -> 48 | F37: =F27 -> 19 | G37: =G27 -> 67 | H37: =H27 -> 45 | I37: =I27 -> 15 | ... P37: =P27 -> 276
