Workbook

Sheet Специал ОФО МедА 
A1: Медицинская академия имени С.И.Георгиевского
A3: Контингент очной формы обучения по состоянию на 01.10.2020 г .
B5: Факультет/направление подготовки | C5: 1 | F5: 2 | I5: 3 | L5: 4 | O5: 5 | R5: 6 | U5: Всего специалитет
C7: За счет бюджетных ассигнований | D7: На основе догов. о платных образов. услугах | E7: ВСЕГО | F7: За счет бюджетных ассигнований | G7: На основе догов. о платных образов. услугах | H7: ВСЕГО | I7: За счет бюджетных ассигнований | J7: На основе догов. о платных образов. услугах | K7: ВСЕГО | L7: За счет бюджетных ассигнований | M7: На основе догов. о платных образов. услугах | N7: ВСЕГО | O7: За счет бюджетных ассигнований | P7: На основе догов. о платных образов. услугах | Q7: ВСЕГО | R7: За счет бюджетных ассигнований | S7: На основе догов. о платных образов. услугах | T7: ВСЕГО | U7: За счет бюджетных ассигнований | V7: На основе догов. о платных образов. услугах | W7: ВСЕГО
B8: Свод по направлениям подготовки
B9: 31.05.01 Лечебное дело | C9: 334 | D9: 195 | E9: 529 | F9: 333 | G9: 367 | H9: 700 | I9: 335 | J9: 319 | K9: 654 | L9: 292 | M9: 231 | N9: 523 | O9: 292 | P9: 159 | Q9: 451 | R9: 281 | S9: 205 | T9: 486 | U9: =C9+F9+I9+L9+O9+R9 -> 1867 | V9: =D9+G9+J9+M9+P9+S9 -> 1476 | W9: =E9+H9+K9+N9+Q9+T9 -> 3343
B10: 31.05.02 Педиатрия | C10: 100 | D10: 25 | E10: 125 | F10: 98 | G10: 52 | H10: 150 | I10: 98 | J10: 58 | K10: 156 | L10: 76 | M10: 7 | N10: 83 | O10: 68 | P10: 9 | Q10: 77 | R10: 65 | S10: 10 | T10: 75 | U10: =C10+F10+I10+L10+O10+R10 -> 505 | V10: =D10+G10+J10+M10+P10+S10 -> 161 | W10: =E10+H10+K10+N10+Q10+T10 -> 666
B11: 31.05.03 Стоматология | C11: 30 | D11: 131 | E11: 161 | F11: 31 | G11: 107 | H11: 138 | I11: 35 | J11: 120 | K11: 155 | L11: 31 | M11: 59 | N11: 90 | O11: 32 | P11: 70 | Q11: 102 | U11: =C11+F11+I11+L11+O11+R11 -> 159 | V11: =D11+G11+J11+M11+P11+S11 -> 487 | W11: =E11+H11+K11+N11+Q11+T11 -> 646
B12: 33.05.01 Фармация | C12: 34 | D12: 15 | E12: 49 | F12: 44 | G12: 17 | H12: 61 | I12: 45 | J12: 22 | K12: 67 | L12: 37 | M12: 5 | N12: 42 | O12: 42 | P12: 7 | Q12: 49 | U12: =C12+F12+I12+L12+O12+R12 -> 202 | V12: =D12+G12+J12+M12+P12+S12 -> 66 | W12: =E12+H12+K12+N12+Q12+T12 -> 268
B13: Итого по направлениям подготовки | C13: =SUM(C9:C12) -> 498 | D13: =SUM(D9:D12) -> 366 | E13: =SUM(E9:E12) -> 864 | F13: =SUM(F9:F12) -> 506 | G13: =SUM(G9:G12) -> 543 | H13: =SUM(H9:H12) -> 1049 | I13: =SUM(I9:I12) -> 513 | J13: =SUM(J9:J12) -> 519 | ... W13: =SUM(W9:W12) -> 4923
B14: В том числе:
B15: Граждане России
B16: 31.05.01 Лечебное дело | C16: 311 | D16: 137 | E16: 448 | F16: 320 | G16: 77 | H16: 397 | I16: 319 | J16: 91 | K16: 410 | L16: 278 | M16: 25 | N16: 303 | O16: 274 | P16: 14 | Q16: 288 | R16: 262 | S16: 30 | T16: 292 | U16: =C16+F16+I16+L16+O16+R16 -> 1764 | V16: =D16+G16+J16+M16+P16+S16 -> 374 | W16: =E16+H16+K16+N16+Q16+T16 -> 2138
B17: 31.05.02 Педиатрия | C17: 99 | D17: 24 | E17: 123 | F17: 97 | G17: 51 | H17: 148 | I17: 98 | J17: 57 | K17: 155 | L17: 74 | M17: 6 | N17: 80 | O17: 67 | P17: 9 | Q17: 76 | R17: 64 | S17: 10 | T17: 74 | U17: =C17+F17+I17+L17+O17+R17 -> 499 | V17: =D17+G17+J17+M17+P17+S17 -> 157 | W17: =E17+H17+K17+N17+Q17+T17 -> 656
B18: 31.05.03 Стоматология | C18: 24 | D18: 119 | E18: 143 | F18: 30 | G18: 97 | H18: 127 | I18: 30 | J18: 107 | K18: 137 | L18: 30 | M18: 50 | N18: 80 | O18: 30 | P18: 60 | Q18: 90 | U18: =C18+F18+I18+L18+O18+R18 -> 144 | V18: =D18+G18+J18+M18+P18+S18 -> 433 | W18: =E18+H18+K18+N18+Q18+T18 -> 577
B19: 33.05.01 Фармация | C19: 34 | D19: 12 | E19: 46 | F19: 43 | G19: 17 | H19: 60 | I19: 44 | J19: 22 | K19: 66 | L19: 36 | M19: 3 | N19: 39 | O19: 38 | P19: 7 | Q19: 45 | U19: =C19+F19+I19+L19+O19+R19 -> 195 | V19: =D19+G19+J19+M19+P19+S19 -> 61 | W19: =E19+H19+K19+N19+Q19+T19 -> 256
B20: Итого граждане России | C20: =SUM(C16:C19) -> 468 | D20: =SUM(D16:D19) -> 292 | E20: =SUM(E16:E19) -> 760 | F20: =SUM(F16:F19) -> 490 | G20: =SUM(G16:G19) -> 242 | H20: =SUM(H16:H19) -> 732 | I20: =SUM(I16:I19) -> 491 | J20: =SUM(J16:J19) -> 277 | ... W20: =SUM(W16:W19) -> 3627
B21: Граждане иностранных государств (вкл. Украину)
B22: 31.05.01 Лечебное дело | C22: 23 | D22: 58 | E22: 81 | F22: 13 | G22: 290 | H22: 303 | I22: 16 | J22: 228 | K22: 244 | L22: 14 | M22: 206 | N22: 220 | O22: 18 | P22: 145 | Q22: 163 | R22: 19 | S22: 175 | T22: 194 | U22: =C22+F22+I22+L22+O22+R22 -> 103 | V22: =D22+G22+J22+M22+P22+S22 -> 1102 | W22: =E22+H22+K22+N22+Q22+T22 -> 1205
B23: 31.05.02 Педиатрия | C23: 1 | D23: 1 | E23: 2 | F23: 1 | G23: 1 | H23: 2 | I23: 0 | J23: 1 | K23: 1 | L23: 2 | M23: 1 | N23: 3 | O23: 1 | P23: 0 | Q23: 1 | R23: 1 | S23: 0 | T23: 1 | U23: =C23+F23+I23+L23+O23+R23 -> 6 | V23: =D23+G23+J23+M23+P23+S23 -> 4 | W23: =E23+H23+K23+N23+Q23+T23 -> 10
B24: 31.05.03 Стоматология | C24: 6 | D24: 12 | E24: 18 | F24: 1 | G24: 10 | H24: 11 | I24: 5 | J24: 13 | K24: 18 | L24: 1 | M24: 9 | N24: 10 | O24: 2 | P24: 10 | Q24: 12 | U24: =C24+F24+I24+L24+O24+R24 -> 15 | V24: =D24+G24+J24+M24+P24+S24 -> 54 | W24: =E24+H24+K24+N24+Q24+T24 -> 69
B25: 33.05.01 Фармация | C25: 0 | D25: 3 | E25: 3 | F25: 1 | G25: 0 | H25: 1 | I25: 1 | J25: 0 | K25: 1 | L25: 1 | M25: 2 | N25: 3 | O25: 4 | P25: 0 | Q25: 4 | U25: =C25+F25+I25+L25+O25+R25 -> 7 | V25: =D25+G25+J25+M25+P25+S25 -> 5 | W25: =E25+H25+K25+N25+Q25+T25 -> 12
B26: Итого граждане иностранных государств | C26: =SUM(C22:C25) -> 30 | D26: =SUM(D22:D25) -> 74 | E26: =SUM(E22:E25) -> 104 | F26: =SUM(F22:F25) -> 16 | G26: =SUM(G22:G25) -> 301 | H26: =SUM(H22:H25) -> 317 | I26: =SUM(I22:I25) -> 22 | J26: =SUM(J22:J25) -> 242 | ... W26: =SUM(W22:W25) -> 1296
B27: Всего: | C27: =C20+C26 -> 498 | D27: =D20+D26 -> 366 | E27: =E20+E26 -> 864 | F27: =F20+F26 -> 506 | G27: =G20+G26 -> 543 | H27: =H20+H26 -> 1049 | I27: =I20+I26 -> 513 | J27: =J20+J26 -> 519 | ... W27: =W20+W26 -> 4923

Sheet МАГ ЗФО МедА ГОСУПР
A2: Название подразделения Медицинская академия имени С.И. Георгиевского
A3: Контингент заочной формы обучения на 01.10.2020 г.(Магистры)
A5: Факультет/направление подготовки | B5: 1 год обучения | E5: 2 год обучения | H5: 3 год обучения | K5: Всего магистры
B6: МАГИСТР | E6: МАГИСТР | H6: МАГИСТР
B7: За счет бюджетных ассигнований | C7: На основе догов. о платных образов. услугах | D7: ВСЕГО | E7: За счет бюджетных ассигнований | F7: На основе догов. о платных образов. услугах | G7: ВСЕГО | H7: За счет бюджетных ассигнований | I7: На основе догов. о платных образов. услугах | J7: ВСЕГО | K7: За счет бюджетных ассигнований | L7: На основе догов. о платных образов. услугах | M7: ВСЕГО
A8: Свод по направлениям подготовки
A9: 38.04.04 Государственное и муниципальное управление | B9: =B13+B17 -> 0 | C9: 0 | D9: 0 | E9: =E13+E17 -> 0 | F9: 0 | G9: 0 | H9: 0 | I9: 13 | J9: 13 | K9: =B9+E9+H9 -> 0 | L9: =C9+F9+I9 -> 13 | M9: =D9+G9+J9 -> 13
A10: Итого по направлениям подготовки: | B10: =SUM(B8:B9) -> 0 | C10: =SUM(C8:C9) -> 0 | D10: =SUM(D8:D9) -> 0 | E10: =SUM(E8:E9) -> 0 | F10: 0 | G10: 0 | H10: =SUM(H8:H9) -> 0 | I10: 13 | J10: 13 | K10: =SUM(K8:K9) -> 0 | L10: =SUM(L8:L9) -> 13 | M10: =SUM(M8:M9) -> 13
A11: В том числе:
A12: Граждане России
A13: 38.04.04 Государственное и муниципальное управление | B13: 0 | C13: 0 | D13: 0 | E13: 0 | F13: 0 | G13: 0 | H13: 0 | I13: 13 | J13: 13 | K13: =B13+E13+H13 -> 0 | L13: =C13+F13+I13 -> 13 | M13: =D13+G13+J13 -> 13
A14: Итого граждане России | B14: =SUM(B13:B13) -> 0 | C14: =SUM(C13:C13) -> 0 | D14: =SUM(D13:D13) -> 0 | E14: =SUM(E13:E13) -> 0 | F14: 0 | G14: 0 | H14: =SUM(H13:H13) -> 0 | I14: 13 | J14: 13 | K14: =SUM(K13:K13) -> 0 | L14: =SUM(L13:L13) -> 13 | M14: =SUM(M13:M13) -> 13
A15: Граждане иностранных государств (вкл. Украину)
A16: 38.04.04 Государственное и муниципальное управление | B16: 0 | C16: 0 | D16: 0 | E16: 0 | F16: 0 | G16: 0 | H16: 0 | I16: 0 | J16: 0 | K16: =B16+E16+H16 -> 0 | L16: =C16+F16+I16 -> 0 | M16: =D16+G16+J16 -> 0
A17: Итого граждане иностранных государств | B17: =SUM(B16:B16) -> 0 | C17: =SUM(C16:C16) -> 0 | D17: =SUM(D16:D16) -> 0 | E17: =SUM(E16:E16) -> 0 | F17: 0 | G17: 0 | H17: =SUM(H16:H16) -> 0 | I17: =SUM(I16:I16) -> 0 | J17: =SUM(J16:J16) -> 0 | K17: =SUM(K16:K16) -> 0 | L17: =SUM(L16:L16) -> 0 | M17: =SUM(M16:M16) -> 0
A18: ИТОГО по подразделению граждане России | B18: =B14 -> 0 | C18: =C14 -> 0 | D18: =D14 -> 0 | E18: =E14 -> 0 | F18: =F14 -> 0 | G18: =G14 -> 0 | H18: =H14 -> 0 | I18: =I14 -> 13 | ... M18: =M14 -> 13
A19: ИТОГО по подразделению иностранные граждане | B19: =B17 -> 0 | C19: =C17 -> 0 | D19: =D17 -> 0 | E19: =E17 -> 0 | F19: =F17 -> 0 | G19: =G17 -> 0 | H19: =H17 -> 0 | I19: =I17 -> 0 | ... M19: =M17 -> 0
A20: Итого | B20: =SUM(B18:B19) -> 0 | C20: =SUM(C18:C19) -> 0 | D20: =SUM(D18:D19) -> 0 | E20: =SUM(E18:E19) -> 0 | F20: =SUM(F18:F19) -> 0 | G20: =SUM(G18:G19) -> 0 | H20: =SUM(H18:H19) -> 0 | I20: =SUM(I18:I19) -> 13 | ... M20: =SUM(M18:M19) -> 13

Sheet Бакалавр ОФО АСИА
A1: АКАДЕМИЯ СТРОИТЕЛЬСТВА ИАРХИТЕКТУРЫ
A3: Контингент очной формы обучения на 01.10.2020 г.(Бакалавры)
A5: Факультет/направление подготовки | B5: 1 | E5: 2 | H5: 3 | K5: 4 | N5: 5 | Q5: Всего бакалавры
B7: За счет бюджетных ассигнований | C7: На основе догов. о платных образов. услугах | D7: ВСЕГО | E7: За счет бюджетных ассигнований | F7: На основе догов. о платных образов. услугах | G7: ВСЕГО | H7: За счет бюджетных ассигнований | I7: На основе догов. о платных образов. услугах | J7: ВСЕГО | K7: За счет бюджетных ассигнований | L7: На основе догов. о платных образов. услугах | M7: ВСЕГО | N7: За счет бюджетных ассигнований | O7: На основе догов. о платных образов. услугах | P7: ВСЕГО | Q7: За счет бюджетных ассигнований | R7: На основе догов. о платных образов. услугах | S7: ВСЕГО
A8: Свод по направлениям подготовки
A9: 07.03.04 Градостроительство | B9: =B22+B16 -> 56 | C9: =C22+C16 -> 10 | D9: =D22+D16 -> 66 | E9: =E22+E16 -> 54 | F9: =F22+F16 -> 19 | G9: =G22+G16 -> 73 | H9: =H22+H16 -> 65 | I9: =I22+I16 -> 12 | ... M9: =M22+M16 -> 66 | N9: =SUM(N16+N22) -> 48 | O9: =SUM(O16+O22) -> 16 | P9: =SUM(P16+P22) -> 64 | Q9: =B9+E9+H9+K9+N9 -> 278 | R9: =C9+F9+I9+L9+O9 -> 68 | S9: =SUM(Q9:R9) -> 346
A10: 08.03.01Строительство | B10: =B23+B17 -> 116 | C10: =C23+C17 -> 2 | D10: =D23+D17 -> 118 | E10: =E23+E17 -> 148 | F10: =F23+F17 -> 3 | G10: =G23+G17 -> 151 | H10: =H23+H17 -> 159 | I10: =I23+I17 -> 0 | ... M10: =M23+M17 -> 165 | N10: 0 | O10: 0 | P10: 0 | Q10: =B10+E10+H10+K10 -> 583 | R10: =C10+F10+I10+L10 -> 10 | S10: =SUM(Q10:R10) -> 593
A11: 15.03.04 Автоматизация технологических процессов и производств | B11: =B24+B18 -> 4 | C11: =C24+C18 -> 1 | D11: =D24+D18 -> 5 | E11: =E24+E18 -> 10 | F11: =F24+F18 -> 0 | G11: =G24+G18 -> 10 | H11: 0 | I11: 0 | J11: 0 | K11: 0 | L11: 0 | M11: 0 | N11: 0 | O11: 0 | P11: 0 | Q11: =B11+E11+H11+K11 -> 14 | R11: =C11+F11+I11+L11 -> 1 | S11: =SUM(Q11:R11) -> 15
A12: 20.03.02 Природообустройство и водопользование | B12: =B19+B25 -> 12 | C12: =C25+C18 -> 0 | D12: =D25+D19 -> 12 | E12: =E25+E19 -> 6 | F12: =F25+F19 -> 0 | G12: =G25+G19 -> 6 | H12: =H25+H19 -> 22 | I12: =I25+I19 -> 0 | J12: =J25+J19 -> 22 | K12: =K25+K19 -> 19 | ... M12: =M25+M19 -> 19 | N12: 0 | O12: 0 | P12: 0 | Q12: =B12+E12+H12+K12 -> 59 | R12: =C12+F12+I12+L12 -> 0 | S12: =SUM(Q12:R12) -> 59
A13: Итого по направлениям подготовки: | B13: =SUM(B9:B12) -> 188 | C13: =SUM(C9:C12) -> 13 | D13: =SUM(D9:D12) -> 201 | E13: =SUM(E9:E12) -> 218 | F13: =SUM(F9:F12) -> 22 | G13: =SUM(G9:G12) -> 240 | H13: =SUM(H9:H12) -> 246 | I13: =SUM(I9:I12) -> 12 | ... M13: =SUM(M9:M12) -> 250 | N13: =SUM(N9) -> 48 | O13: =SUM(O9) -> 16 | P13: =SUM(P9) -> 64 | Q13: =SUM(Q9:Q12) -> 934 | R13: =SUM(R9:R12) -> 79 | S13: =SUM(S9:S12) -> 1013
A14: В том числе:
A15: Граждане России
A16: 07.03.04 Градостроительство | B16: 55 | C16: 9 | D16: =SUM(B16:C16) -> 64 | E16: 52 | F16: 18 | G16: =SUM(E16:F16) -> 70 | H16: 64 | I16: 12 | J16: =SUM(H16:I16) -> 76 | K16: 54 | L16: 8 | M16: =SUM(K16:L16) -> 62 | N16: 47 | O16: 13 | P16: =SUM(N16:O16) -> 60 | Q16: =B16+E16+H16+K16+N16 -> 272 | R16: =C16+F16+I16+L16+O16 -> 60 | S16: =SUM(Q16:R16) -> 332
A17: 08.03.01Строительство | B17: 114 | C17: 0 | D17: =SUM(B17:C17) -> 114 | E17: 145 | F17: 1 | G17: =SUM(E17:F17) -> 146 | H17: 154 | J17: =SUM(H17:I17) -> 154 | K17: 159 | L17: 3 | M17: =SUM(K17:L17) -> 162 | Q17: =B17+E17+H17+K17 -> 572 | R17: =C17+F17+I17+L17 -> 4 | S17: =SUM(Q17:R17) -> 576
A18: 15.03.04 Автоматизация технологических процессов и производств | B18: 4 | C18: 0 | D18: =SUM(B18:C18) -> 4 | E18: 10 | F18: 0 | G18: =SUM(E18:F18) -> 10 | H18: 0 | I18: 0 | J18: =SUM(H18:I18) -> 0 | K18: 0 | L18: 0 | M18: =SUM(K18:L18) -> 0 | Q18: =B18+E18+H18+K18 -> 14 | R18: =C18+F18+I18+L18 -> 0 | S18: =SUM(Q18:R18) -> 14
A19: 20.03.02 Природообустройство и водопользование | B19: 12 | C19: 0 | D19: =SUM(B19:C19) -> 12 | E19: 6 | F19: 0 | G19: =SUM(E19:F19) -> 6 | H19: 22 | I19: 0 | J19: =SUM(H19:I19) -> 22 | K19: 18 | L19: 0 | M19: =SUM(K19:L19) -> 18 | Q19: =B19+E19+H19+K19 -> 58 | R19: =C19+F19+I19+L19 -> 0 | S19: =SUM(Q19:R19) -> 58
A20: Итого граждане России | B20: =SUM(B16:B19) -> 185 | C20: =SUM(C16:C19) -> 9 | D20: =SUM(D16:D19) -> 194 | E20: =SUM(E16:E19) -> 213 | F20: =SUM(F16:F19) -> 19 | G20: =SUM(G16:G19) -> 232 | H20: =SUM(H16:H19) -> 240 | I20: =SUM(I16:I19) -> 12 | ... O20: =SUM(O16:O19) -> 13 | P20: =SUM(N20:O20) -> 60 | Q20: =B20+E20+H20+K20+N20 -> 916 | R20: =C20+F20+I20+L20+O20 -> 64 | S20: =SUM(Q20:R20) -> 980
A21: Граждане иностранных государств (вкл. Украину) | Q21: =B21+E21+H21+K21 -> 0 | R21: =C21+F21+I21+L21 -> 0 | S21: =SUM(Q21:R21) -> 0
A22: 07.03.04 Градостроительство | B22: 1 | C22: 1 | D22: =SUM(B22:C22) -> 2 | E22: 2 | F22: 1 | G22: =SUM(E22:F22) -> 3 | H22: 1 | I22: 0 | J22: =SUM(H22:I22) -> 1 | K22: 1 | L22: 3 | M22: =SUM(K22:L22) -> 4 | N22: 1 | O22: 3 | P22: =SUM(N22:O22) -> 4 | Q22: =B22+E22+H22+K22+N22 -> 6 | R22: =C22+F22+I22+L22+O22 -> 8 | S22: =SUM(Q22:R22) -> 14
A23: 08.03.01Строительство | B23: 2 | C23: 2 | D23: =SUM(B23:C23) -> 4 | E23: 3 | F23: 2 | G23: =SUM(E23:F23) -> 5 | H23: 5 | I23: 0 | J23: =SUM(H23:I23) -> 5 | K23: 1 | L23: 2 | M23: =SUM(K23:L23) -> 3 | Q23: =B23+E23+H23+K23 -> 11 | R23: =C23+F23+I23+L23 -> 6 | S23: =SUM(Q23:R23) -> 17
A24: 13.03.02 Электроэнергетика и электротехника | C24: 1 | D24: =SUM(C24) -> 1 | Q24: =B24+E24+H24+K24 -> 0 | R24: =C24+F24+I24+L24 -> 1 | S24: =SUM(Q24:R24) -> 1
A25: 20.03.02 Природообустройство и водопользование | B25: 0 | C25: 0 | D25: =SUM(B25:C25) -> 0 | E25: 0 | F25: 0 | G25: =SUM(E25:F25) -> 0 | H25: 0 | I25: 0 | J25: =SUM(H25:I25) -> 0 | K25: 1 | L25: 0 | M25: =SUM(K25:L25) -> 1 | Q25: =B25+E25+H25+K25 -> 1 | R25: =C25+F25+I25+L25 -> 0 | S25: =SUM(Q25:R25) -> 1
A26: Итого граждане иностранных государств | B26: =SUM(B22:B25) -> 3 | C26: =SUM(C22:C25) -> 4 | D26: =SUM(D22:D25) -> 7 | E26: =SUM(E22:E25) -> 5 | F26: =SUM(F22:F25) -> 3 | G26: =SUM(G22:G25) -> 8 | H26: =SUM(H22:H25) -> 6 | I26: =SUM(I22:I25) -> 0 | ... O26: =SUM(O22:O25) -> 3 | P26: =SUM(N26:O26) -> 4 | Q26: =SUM(Q21:Q25) -> 18 | R26: =SUM(R21:R25) -> 15 | S26: =SUM(S21:S25) -> 33
A27: ИТОГО по подразделению граждане России | B27: =B20 -> 185 | C27: =C20 -> 9 | D27: =D20 -> 194 | E27: =E20 -> 213 | F27: =F20 -> 19 | G27: =G20 -> 232 | H27: =H20 -> 240 | I27: =I20 -> 12 | ... M27: =M20 -> 242 | N27: =SUM(N20) -> 47 | O27: =SUM(O20) -> 13 | P27: =SUM(N27:O27) -> 60 | Q27: =Q20 -> 916 | R27: =R20 -> 64 | S27: =Q27+R27 -> 980
A28: ИТОГО по подразделению иностранные граждане | B28: =B26 -> 3 | C28: =C26 -> 4 | D28: =D26 -> 7 | E28: =E26 -> 5 | F28: =F26 -> 3 | G28: =G26 -> 8 | H28: =H26 -> 6 | I28: =I26 -> 0 | ... M28: =M26 -> 8 | N28: =SUM(N26) -> 1 | O28: =SUM(O26) -> 3 | P28: =SUM(N28:O28) -> 4 | Q28: =Q26 -> 18 | R28: =R26 -> 15 | S28: =S26 -> 33
A29: Итого | B29: =SUM(B27:B28) -> 188 | C29: =SUM(C27:C28) -> 13 | D29: =SUM(D27:D28) -> 201 | E29: =SUM(E27:E28) -> 218 | F29: =SUM(F27:F28) -> 22 | G29: =SUM(G27:G28) -> 240 | H29: =SUM(H27:H28) -> 246 | I29: =SUM(I27:I28) -> 12 | ... S29: =SUM(S27:S28) -> 1013

Sheet Бакалавр ЗФО АСИА
A2: АКАДЕМИЯ СТРОИТЕЛЬСТВА И АРХИТЕКТУРЫ
A3: Контингент заочная форма обучения 01.10.2020 г.(Бакалавры)
B5: Факультет/направление подготовки | C5: 1 | F5: 2 | I5: 3 | L5: 4 | O5: 5 | R5: Всего бакалавры
C7: За счет бюджетных ассигнований | D7: На основе догов. о платных образов. услугах | E7: ВСЕГО | F7: За счет бюджетных ассигнований | G7: На основе догов. о платных образов. услугах | H7: ВСЕГО | I7: За счет бюджетных ассигнований | J7: На основе догов. о платных образов. услугах | K7: ВСЕГО | L7: За счет бюджетных ассигнований | M7: На основе догов. о платных образов. услугах | N7: ВСЕГО | O7: За счет бюджетных ассигнований | P7: На основе догов. о платных образов. услугах | Q7: ВСЕГО | R7: За счет бюджетных ассигнований | S7: На основе догов. о платных образов. услугах | T7: ВСЕГО
B8: Свод по направлениям подготовки
B9: 08.03.01 Строительство | C9: =C23+C16 -> 0 | D9: =D23+D16 -> 41 | E9: =E23+E16 -> 41 | F9: =F23+F16 -> 0 | G9: =G23+G16 -> 37 | H9: =H23+H16 -> 37 | I9: =I23+I16 -> 0 | J9: =J23+J16 -> 60 | ... T9: =T23+T16 -> 270
B10: 13.03.02 Электроэнергетика и электротехника | C10: =C24+C17 -> 0 | D10: =D24+D17 -> 0 | E10: =E24+E17 -> 0 | F10: =F24+F17 -> 0 | G10: =G24+G17 -> 0 | H10: =H24+H17 -> 0 | I10: =I24+I17 -> 0 | J10: =J24+J17 -> 0 | ... T10: =T24+T17 -> 0
B11: 20.03.02 Природообустройство и водопользование | C11: =C25+C18 -> 0 | D11: =D25+D18 -> 0 | E11: =E25+E18 -> 0 | F11: =F25+F18 -> 0 | G11: =G25+G18 -> 0 | H11: =H25+H18 -> 0 | I11: =I25+I18 -> 0 | J11: =J25+J18 -> 2 | ... T11: =T25+T18 -> 5
C12: =C27+C19 -> 0 | D12: =D27+D19 -> 0 | E12: =E27+E19 -> 0 | F12: =F27+F19 -> 0 | G12: =G27+G19 -> 0 | H12: =H27+H19 -> 0 | I12: =I27+I19 -> 0 | J12: =J27+J19 -> 0 | ... Q12: =Q27+Q19 -> 0 | R12: =C12+F12+I12+L12+O12 -> 0 | S12: =D12+G12+J12+M12+P12 -> 0 | T12: =SUM(R12:S12) -> 0
B13: Итого по направлениям подготовки | C13: =SUM(C9:C12) -> 0 | D13: =SUM(D9:D12) -> 41 | E13: =SUM(E9:E12) -> 41 | F13: =SUM(F9:F12) -> 0 | G13: =SUM(G9:G12) -> 37 | H13: =SUM(H9:H12) -> 37 | I13: =SUM(I9+I11) -> 0 | J13: =SUM(J9:J12) -> 62 | K13: =SUM(K9:K12) -> 62 | L13: =SUM(L9:L12) -> 0 | M13: =SUM(M9:M12) -> 53 | N13: =SUM(N9:N12) -> 53 | O13: =SUM(O9:O12) -> 2 | P13: =SUM(P9:P12) -> 80 | Q13: =SUM(Q9:Q12) -> 82 | ... T13: =SUM(T9:T12) -> 275
B14: В том числе:
B15: Граждане России
B16: 08.03.01 Строительство | D16: 34 | E16: =SUM(C16:D16) -> 34 | G16: 36 | H16: =SUM(F16:G16) -> 36 | J16: 59 | K16: =SUM(I16:J16) -> 59 | M16: 52 | N16: =SUM(L16:M16) -> 52 | O16: 1 | P16: 78 | Q16: =SUM(O16:P16) -> 79 | R16: =C16+F16+I16+L16+O16 -> 1 | S16: =D16+G16+J16+M16+P16 -> 259 | T16: =SUM(R16:S16) -> 260
B17: 13.03.02 Электроэнергетика и электротехника | E17: =SUM(C17:D17) -> 0 | H17: =SUM(F17:G17) -> 0 | K17: =SUM(I17:J17) -> 0 | N17: =SUM(L17:M17) -> 0 | Q17: =SUM(O17:P17) -> 0 | R17: =C17+F17+I17+L17+O17 -> 0 | S17: =D17+G17+J17+M17+P17 -> 0 | T17: =SUM(R17:S17) -> 0
B18: 20.03.02 Природообустройство и водопользование | E18: =SUM(C18:D18) -> 0 | H18: =SUM(F18:G18) -> 0 | J18: 2 | K18: =SUM(I18:J18) -> 2 | N18: =SUM(L18:M18) -> 0 | O18: 1 | P18: 2 | Q18: =SUM(O18:P18) -> 3 | R18: =C18+F18+I18+L18+O18 -> 1 | S18: =D18+G18+J18+M18+P18 -> 4 | T18: =SUM(R18:S18) -> 5
C19: 0 | D19: 0 | E19: =SUM(C19:D19) -> 0 | F19: 0 | G19: 0 | H19: =SUM(F19:G19) -> 0 | I19: 0 | J19: 0 | K19: =SUM(I19:J19) -> 0 | L19: 0 | M19: 0 | N19: =SUM(L19:M19) -> 0 | O19: 0 | P19: 0 | Q19: =SUM(O19:P19) -> 0 | R19: =C19+F19+I19+L19+O19 -> 0 | S19: =D19+G19+J19+M19+P19 -> 0 | T19: =SUM(R19:S19) -> 0
C20: 0 | D20: 0 | E20: =SUM(C20:D20) -> 0 | F20: 0 | G20: 0 | H20: =SUM(F20:G20) -> 0 | I20: 0 | J20: 0 | K20: =SUM(I20:J20) -> 0 | L20: 0 | M20: 0 | N20: =SUM(L20:M20) -> 0 | O20: 0 | P20: 0 | Q20: =SUM(O20:P20) -> 0 | R20: =C20+F20+I20+L20+O20 -> 0 | S20: =D20+G20+J20+M20+P20 -> 0 | T20: =SUM(R20:S20) -> 0
B21: Итого граждане России | C21: =SUM(C16:C20) -> 0 | D21: =SUM(D16:D20) -> 34 | E21: =SUM(E16:E20) -> 34 | F21: =SUM(F16:F20) -> 0 | G21: =SUM(G16:G20) -> 36 | H21: =SUM(H16:H20) -> 36 | I21: =SUM(I16:I20) -> 0 | J21: =SUM(J16:J20) -> 61 | ... T21: =SUM(T16:T20) -> 265
B22: Граждане иностранных государств (вкл. Украину)
B23: 08.03.01 Строительство | C23: 0 | D23: 7 | E23: =SUM(C23:D23) -> 7 | F23: 0 | G23: 1 | H23: =SUM(F23:G23) -> 1 | I23: 0 | J23: 1 | K23: =SUM(I23:J23) -> 1 | L23: 0 | M23: 1 | N23: =SUM(L23:M23) -> 1 | O23: 0 | Q23: =SUM(O23:P23) -> 0 | R23: =C23+F23+I23+L23+O23 -> 0 | S23: =D23+G23+J23+M23+P23 -> 10 | T23: =SUM(R23:S23) -> 10
B24: 13.03.02 Электроэнергетика и электротехника | C24: 0 | D24: 0 | E24: =SUM(C24:D24) -> 0 | F24: 0 | G24: 0 | H24: =SUM(F24:G24) -> 0 | I24: 0 | J24: 0 | K24: =SUM(I24:J24) -> 0 | L24: 0 | M24: 0 | N24: =SUM(L24:M24) -> 0 | O24: 0 | P24: 0 | Q24: =SUM(O24:P24) -> 0 | R24: =C24+F24+I24+L24+O24 -> 0 | S24: =D24+G24+J24+M24+P24 -> 0 | T24: =SUM(R24:S24) -> 0
B25: 20.03.02 Природообустройство и водопользование | C25: 0 | D25: 0 | E25: =SUM(C25:D25) -> 0 | F25: 0 | G25: 0 | H25: =SUM(F25:G25) -> 0 | I25: 0 | J25: 0 | K25: =SUM(I25:J25) -> 0 | L25: 0 | M25: 0 | N25: =SUM(L25:M25) -> 0 | O25: 0 | P25: 0 | Q25: =SUM(O25:P25) -> 0 | R25: =C25+F25+I25+L25+O25 -> 0 | S25: =D25+G25+J25+M25+P25 -> 0 | T25: =SUM(R25:S25) -> 0
C26: 0 | D26: 0 | E26: =SUM(C26:D26) -> 0 | F26: 0 | G26: 0 | H26: =SUM(F26:G26) -> 0 | I26: 0 | J26: 0 | K26: =SUM(I26:J26) -> 0 | L26: 0 | M26: 0 | N26: =SUM(L26:M26) -> 0 | O26: 0 | P26: 0 | Q26: =SUM(O26:P26) -> 0 | R26: =C26+F26+I26+L26+O26 -> 0 | S26: =D26+G26+J26+M26+P26 -> 0 | T26: =SUM(R26:S26) -> 0
C27: 0 | D27: 0 | E27: =SUM(C27:D27) -> 0 | F27: 0 | G27: 0 | H27: =SUM(F27:G27) -> 0 | I27: 0 | J27: 0 | K27: =SUM(I27:J27) -> 0 | L27: 0 | M27: 0 | N27: =SUM(L27:M27) -> 0 | O27: 0 | P27: 0 | Q27: =SUM(O27:P27) -> 0 | R27: =C27+F27+I27+L27+O27 -> 0 | S27: =D27+G27+J27+M27+P27 -> 0 | T27: =SUM(R27:S27) -> 0
B28: Итого граждане иностранных государств | C28: =SUM(C23:C27) -> 0 | D28: =SUM(D23:D27) -> 7 | E28: =SUM(E23:E27) -> 7 | F28: =SUM(F23:F27) -> 0 | G28: =SUM(G23:G27) -> 1 | H28: =SUM(H23:H27) -> 1 | I28: =SUM(I23:I27) -> 0 | J28: =SUM(J23:J27) -> 1 | ... T28: =SUM(T23:T27) -> 10
B29: ИТОГО по подразделению граждане России | C29: =C21 -> 0 | D29: =D21 -> 34 | E29: =E21 -> 34 | F29: =F21 -> 0 | G29: =G21 -> 36 | H29: =H21 -> 36 | I29: =I21 -> 0 | J29: =J21 -> 61 | ... T29: =T21 -> 265
B30: ИТОГО по подразделению граждане иностранных государств | C30: =C28 -> 0 | D30: =D28 -> 7 | E30: =E28 -> 7 | F30: =F28 -> 0 | G30: =G28 -> 1 | H30: =H28 -> 1 | I30: =I28 -> 0 | J30: =J28 -> 1 | ... T30: =T28 -> 10
B31: Свод по направлениям подготовки | C31: =SUM(C29:C30) -> 0 | D31: =SUM(D29:D30) -> 41 | E31: =SUM(E29:E30) -> 41 | F31: =SUM(F29:F30) -> 0 | G31: =SUM(G29:G30) -> 37 | H31: =SUM(H29:H30) -> 37 | I31: =SUM(I29:I30) -> 0 | J31: =SUM(J29:J30) -> 62 | ... T31: =SUM(T29:T30) -> 275

Sheet МАГ ОФО АСИА
A2: АКАДЕМИЯ СТРОИТЕЛЬСТВА И АРХИТЕКТУРЫ
A3: Контингент очной формы обучения на 01.10.2020 г.(Магистры)
A5: Факультет/направление подготовки | B5: 1 год обучения | E5: 2 год обучения | H5: Всего магистры
B6: МАГИСТР | E6: МАГИСТР
B7: За счет бюджетных ассигнований | C7: На основе догов. о платных образов. услугах | D7: ВСЕГО | E7: За счет бюджетных ассигнований | F7: На основе догов. о платных образов. услугах | G7: ВСЕГО | H7: За счет бюджетных ассигнований | I7: На основе догов. о платных образов. услугах | J7: ВСЕГО
A8: Свод по направлениям подготовки
A9: 07.04.04 Градостроительство | B9: =B16+B23 -> 30 | C9: =C23+C16 -> 0 | D9: =D23+D16 -> 30 | E9: =E23+E16 -> 24 | F9: =F24+F16 -> 8 | G9: =G23+G16 -> 32 | H9: =B9+E9 -> 54 | I9: =C9+F9 -> 8 | J9: =D9+G9 -> 62
A10: 08.04.01 Строительство | B10: =B25+B17 -> 75 | C10: =C24+C17 -> 0 | D10: =D24+D17 -> 75 | E10: =+E24+E17 -> 75 | F10: =F25+F17 -> 11 | G10: =G24+G17 -> 86 | H10: =B10+E10 -> 150 | I10: =C10+F10 -> 11 | J10: =D10+G10 -> 161
A11: 13.04.02 Электроэнергетика и электротехника | B11: =B26+B18 -> 0 | C11: =C26+C18 -> 0 | D11: =D26+D18 -> 0 | F11: =F26+F18 -> 0 | H11: =B11+E11 -> 0 | I11: =C11+F11 -> 0 | J11: =D11+G11 -> 0
A12: 20.04.02 Природообустройство и водопользование | B12: =B26+B19 -> 15 | C12: =C26+C18 -> 0 | D12: =D26+D19 -> 15 | E12: =E27+E19 -> 5 | F12: =F27+F19 -> 0 | G12: =G27+G19 -> 5 | H12: =B12+E12 -> 20 | I12: =C12+F12 -> 0 | J12: =D12+G12 -> 20
A13: Итого по направлениям подготовки: | B13: =SUM(B8:B12) -> 120 | C13: =SUM(C8:C12) -> 0 | D13: =SUM(D8:D12) -> 120 | E13: =SUM(E8:E12) -> 104 | F13: =SUM(F8:F12) -> 19 | G13: =SUM(G8:G12) -> 123 | H13: =SUM(H9:H12) -> 224 | I13: =SUM(I9:I12) -> 19 | J13: =SUM(J9:J12) -> 243
A14: В том числе:
A15: Граждане России
A16: 07.04.04 Градостроительство | B16: 28 | C16: 0 | D16: =SUM(B16:C16) -> 28 | E16: 24 | F16: 8 | G16: =SUM(E16:F16) -> 32 | H16: =B16+E16 -> 52 | I16: =C16+F16 -> 8 | J16: =D16+G16 -> 60
A17: 08.04.01 Строительство | B17: 75 | C17: 0 | D17: =SUM(B17:C17) -> 75 | E17: 74 | F17: 11 | G17: =SUM(E17:F17) -> 85 | H17: =B17+E17 -> 149 | I17: =C17+F17 -> 11 | J17: =D17+G17 -> 160
A18: 13.04.02 Электроэнергетика и электротехника | D18: =SUM(B18:C18) -> 0 | G18: =SUM(E18:F18) -> 0 | H18: =B18+E18 -> 0 | I18: =C18+F18 -> 0 | J18: =D18+G18 -> 0
A19: 20.04.02 Природообустройство и водопользование | B19: 15 | C19: 0 | D19: =SUM(B19:C19) -> 15 | E19: 5 | F19: 0 | G19: =SUM(E19:F19) -> 5 | H19: =B19+E19 -> 20 | I19: =C19+F19 -> 0 | J19: =D19+G19 -> 20
B20: 0 | C20: 0 | D20: =SUM(B20:C20) -> 0 | E20: 0 | F20: 0 | G20: =SUM(E20:F20) -> 0 | H20: =B20+E20 -> 0 | I20: =C20+F20 -> 0 | J20: =D20+G20 -> 0
A21: Итого граждане России | B21: =SUM(B16:B20) -> 118 | C21: =SUM(C16:C20) -> 0 | D21: =SUM(D16:D20) -> 118 | E21: =SUM(E16:E20) -> 103 | F21: =SUM(F16:F20) -> 19 | G21: =SUM(G16:G20) -> 122 | H21: =SUM(H16:H20) -> 221 | I21: =SUM(I16:I20) -> 19 | J21: =SUM(J16:J20) -> 240
A22: Граждане иностранных государств (вкл. Украину)
A23: 07.04.04 Градостроительство | B23: 2 | C23: 0 | D23: =SUM(B23:C23) -> 2 | E23: 0 | F23: 0 | G23: =SUM(E23:F23) -> 0 | H23: =B23+E23 -> 2 | I23: =C23+F23 -> 0 | J23: =D23+G23 -> 2
A24: 08.04.01 Строительство | B24: 0 | C24: 0 | D24: =SUM(B24:C24) -> 0 | E24: 1 | F24: 0 | G24: =SUM(E24:F24) -> 1 | H24: =B24+E24 -> 1 | I24: =C24+F24 -> 0 | J24: =D24+G24 -> 1
A25: 13.04.02 Электроэнергетика и электротехника | D25: =SUM(B25:C25) -> 0 | G25: =SUM(E25:F25) -> 0 | H25: =B25+E25 -> 0 | I25: =C25+F25 -> 0 | J25: =D25+G25 -> 0
A26: 20.04.02 Природообустройство и водопользование | B26: 0 | C26: 0 | D26: =SUM(B26:C26) -> 0 | E26: 0 | F26: 0 | G26: =SUM(E26:F26) -> 0 | H26: =B26+E26 -> 0 | I26: =C26+F26 -> 0 | J26: =D26+G26 -> 0
B27: 0 | C27: 0 | D27: =SUM(B27:C27) -> 0 | E27: 0 | F27: 0 | G27: =SUM(E27:F27) -> 0 | H27: =B27+E27 -> 0 | I27: =C27+F27 -> 0 | J27: =D27+G27 -> 0
A28: Итого граждане иностранных государств | B28: =SUM(B23:B27) -> 2 | C28: =SUM(C23:C27) -> 0 | D28: =SUM(D23:D27) -> 2 | E28: =SUM(E23:E27) -> 1 | F28: =SUM(F23:F27) -> 0 | G28: =SUM(G23:G27) -> 1 | H28: =SUM(H23:H27) -> 3 | I28: =SUM(I23:I27) -> 0 | J28: =SUM(J23:J27) -> 3
A29: ИТОГО по подразделению граждане России | B29: =B21 -> 118 | C29: =C21 -> 0 | D29: =D21 -> 118 | E29: =E21 -> 103 | F29: =F21 -> 19 | G29: =G21 -> 122 | H29: =H21 -> 221 | I29: =I21 -> 19 | J29: =J21 -> 240
A30: ИТОГО по подразделению иностранные граждане | B30: =B28 -> 2 | C30: =C28 -> 0 | D30: =D28 -> 2 | E30: =E28 -> 1 | F30: =F28 -> 0 | G30: =G28 -> 1 | H30: =H28 -> 3 | I30: =I28 -> 0 | J30: =J28 -> 3
A31: Итого | B31: =SUM(B29:B30) -> 120 | C31: =SUM(C29:C30) -> 0 | D31: =SUM(D29:D30) -> 120 | E31: =SUM(E29:E30) -> 104 | F31: =SUM(F29:F30) -> 19 | G31: =SUM(G29:G30) -> 123 | H31: =SUM(H29:H30) -> 224 | I31: =SUM(I29:I30) -> 19 | J31: =SUM(J29:J30) -> 243

Sheet МАГ ЗФО АСИА
A2: АКАДЕМИЯ СТРОИТЕЛЬСТВА И АРХИТЕКТУРЫ
A3: Контингент заочной формы обучения на 01.10.2020 г.(Магистры)
A5: Факультет/направление подготовки | B5: 1 год обучения | E5: 2 год обучения | H5: 3 год обучения | K5: Всего магистры
B6: МАГИСТР | E6: МАГИСТР | H6: МАГИСТР
B7: За счет бюджетных ассигнований | C7: На основе догов. о платных образов. услугах | D7: ВСЕГО | E7: За счет бюджетных ассигнований | F7: На основе догов. о платных образов. услугах | G7: ВСЕГО | H7: За счет бюджетных ассигнований | I7: На основе догов. о платных образов. услугах | J7: ВСЕГО | K7: За счет бюджетных ассигнований | L7: На основе догов. о платных образов. услугах | M7: ВСЕГО
A8: Свод по направлениям подготовки
A9: 08.04.01 Строительство | B9: =B17+B17 -> 0 | C9: =C25+C17 -> 76 | D9: =D25+D17 -> 76 | E9: =E25+E17 -> 0 | F9: =F25+F17 -> 70 | G9: =G25+G17 -> 70 | H9: =H25+H17 -> 0 | I9: =I25+I17 -> 37 | J9: =J25+J17 -> 37 | K9: =B9+E9+H9 -> 0 | L9: =C9+F9+I9 -> 183 | M9: =D9+G9+J9 -> 183
A10: 13.04.02 Электроэнергетика и электротехника | B10: =B26+B18 -> 0 | C10: =C26+C18 -> 0 | D10: =D26+D18 -> 0 | E10: =E26+E18 -> 0 | F10: =F26+F18 -> 0 | G10: =G26+G18 -> 0 | H10: =H26+H18 -> 0 | I10: =I26+I18 -> 0 | J10: =J26+J18 -> 0 | K10: =B10+E10+H10 -> 0 | L10: =C10+F10+I10 -> 0 | M10: =D10+G10+J10 -> 0
A11: 20.04.02 Природообустройство и водопользование | B11: =B27+B19 -> 0 | C11: =C27+C19 -> 0 | D11: =D27+D19 -> 0 | E11: =E27+E19 -> 0 | F11: =F27+F19 -> 0 | G11: =G27+G19 -> 0 | H11: =H27+H19 -> 0 | I11: =I27+I19 -> 1 | J11: =J27+J19 -> 1 | K11: =B11+E11+H11 -> 0 | L11: =C11+F11+I11 -> 1 | M11: =D11+G11+J11 -> 1
E12: =E28+E20 -> 0 | F12: =F28+F20 -> 0 | G12: =G28+G20 -> 0 | H12: =H28+H20 -> 0 | I12: =I28+I20 -> 0 | J12: =J28+J20 -> 0 | K12: =B12+E12+H12 -> 0 | L12: =C12+F12+I12 -> 0 | M12: =D12+G12+J12 -> 0
B13: =B28+B20 -> 0 | C13: =C28+C20 -> 0 | D13: =D28+D20 -> 0 | E13: =E29+E21 -> 0 | F13: =F29+F21 -> 2 | G13: =G29+G21 -> 2 | H13: =H29+H21 -> 0 | I13: =I29+I21 -> 0 | J13: =J29+J21 -> 0 | K13: =B13+E13+H13 -> 0 | L13: =C13+F13+I13 -> 2 | M13: =D13+G13+J13 -> 2
A14: Итого по направлениям подготовки: | B14: =SUM(B8:B13) -> 0 | C14: =SUM(C8:C13) -> 76 | D14: =SUM(D8:D13) -> 76 | E14: =SUM(E8:E13) -> 0 | F14: =SUM(F8:F13) -> 72 | G14: =SUM(G8:G13) -> 72 | H14: =SUM(H8:H13) -> 0 | I14: =SUM(I8:I13) -> 38 | ... M14: =SUM(M8:M13) -> 186
A15: В том числе:
A16: Граждане России
A17: 08.04.01 Строительство | B17: 0 | C17: 76 | D17: =SUM(B17:C17) -> 76 | E17: 0 | F17: 70 | G17: =SUM(E17:F17) -> 70 | H17: 0 | I17: 37 | J17: =SUM(H17:I17) -> 37 | K17: =B17+E17+H17 -> 0 | L17: =C17+F17+I17 -> 183 | M17: =D17+G17+J17 -> 183
A18: 13.04.02 Электроэнергетика и электротехника | D18: =SUM(B18:C18) -> 0 | G18: =SUM(E18:F18) -> 0 | H18: 0 | I18: 0 | J18: =SUM(H18:I18) -> 0 | K18: =B18+E18+H18 -> 0 | L18: =C18+F18+I18 -> 0 | M18: =D18+G18+J18 -> 0
A19: 20.04.02 Природообустройство и водопользование | B19: 0 | C19: 0 | D19: =SUM(B19:C19) -> 0 | E19: 0 | F19: 0 | G19: =SUM(E19:F19) -> 0 | H19: 0 | I19: 1 | J19: =SUM(H19:I19) -> 1 | K19: =B19+E19+H19 -> 0 | L19: =C19+F19+I19 -> 1 | M19: =D19+G19+J19 -> 1
B20: 0 | C20: 0 | D20: =SUM(B20:C20) -> 0 | E20: 0 | F20: 0 | G20: =SUM(E20:F20) -> 0 | H20: 0 | I20: 0 | J20: =SUM(H20:I20) -> 0 | K20: =B20+E20+H20 -> 0 | L20: =C20+F20+I20 -> 0 | M20: =D20+G20+J20 -> 0
B21: 0 | C21: 0 | D21: =SUM(B21:C21) -> 0 | E21: 0 | F21: 0 | G21: =SUM(E21:F21) -> 0 | H21: 0 | I21: 0 | J21: =SUM(H21:I21) -> 0 | K21: =B21+E21+H21 -> 0 | L21: =C21+F21+I21 -> 0 | M21: =D21+G21+J21 -> 0
A22: Итого граждане России | B22: =SUM(B17:B21) -> 0 | C22: =SUM(C17:C21) -> 76 | D22: =SUM(D17:D21) -> 76 | E22: =SUM(E17:E21) -> 0 | F22: =SUM(F17:F21) -> 70 | G22: =SUM(G17:G21) -> 70 | H22: =SUM(H17:H21) -> 0 | I22: =SUM(I17:I21) -> 38 | ... M22: =SUM(M17:M21) -> 184
A23: Граждане иностранных государств (вкл. Украину)
A24: 08.04.01 Строительство | B24: 0 | C24: 0 | D24: =SUM(B24:C24) -> 0 | E24: 0 | F24: 2 | G24: =SUM(E24:F24) -> 2 | H24: 0 | I24: 0 | J24: =SUM(H24:I24) -> 0 | K24: =B24+E24+H24 -> 0 | L24: =C24+F24+I24 -> 2 | M24: =D24+G24+J24 -> 2
A25: 13.04.02 Электроэнергетика и электротехника | B25: 0 | C25: 0 | D25: =SUM(B25:C25) -> 0 | E25: 0 | F25: 0 | G25: =SUM(E25:F25) -> 0 | H25: 0 | I25: 0 | J25: =SUM(H25:I25) -> 0 | K25: =B25+E25+H25 -> 0 | L25: =C25+F25+I25 -> 0 | M25: =D25+G25+J25 -> 0
A26: 20.04.02 Природообустройство и водопользование | B26: 0 | C26: 0 | D26: =SUM(B26:C26) -> 0 | E26: 0 | F26: 0 | G26: =SUM(E26:F26) -> 0 | H26: 0 | I26: 0 | J26: =SUM(H26:I26) -> 0 | K26: =B26+E26+H26 -> 0 | L26: =C26+F26+I26 -> 0 | M26: =D26+G26+J26 -> 0
B27: 0 | C27: 0 | D27: =SUM(B27:C27) -> 0 | E27: 0 | F27: 0 | G27: =SUM(E27:F27) -> 0 | H27: 0 | I27: 0 | J27: =SUM(H27:I27) -> 0 | K27: =B27+E27+H27 -> 0 | L27: =C27+F27+I27 -> 0 | M27: =D27+G27+J27 -> 0
B28: 0 | C28: 0 | D28: =SUM(B28:C28) -> 0 | E28: 0 | F28: 0 | G28: =SUM(E28:F28) -> 0 | H28: 0 | I28: 0 | J28: =SUM(H28:I28) -> 0 | K28: =B28+E28+H28 -> 0 | L28: =C28+F28+I28 -> 0 | M28: =D28+G28+J28 -> 0
A29: Итого граждане иностранных государств | B29: =SUM(B24:B28) -> 0 | C29: =SUM(C24:C28) -> 0 | D29: =SUM(D24:D28) -> 0 | E29: =SUM(E24:E28) -> 0 | F29: =SUM(F24:F28) -> 2 | G29: =SUM(G24:G28) -> 2 | H29: =SUM(H24:H28) -> 0 | I29: =SUM(I24:I28) -> 0 | ... M29: =SUM(M24:M28) -> 2
A30: ИТОГО по подразделению граждане России | B30: =B22 -> 0 | C30: =C22 -> 76 | D30: =D22 -> 76 | E30: =E22 -> 0 | F30: =F22 -> 70 | G30: =G22 -> 70 | H30: =H22 -> 0 | I30: =I22 -> 38 | ... M30: =M22 -> 184
A31: ИТОГО по подразделению иностранные граждане | B31: =B29 -> 0 | C31: =C29 -> 0 | D31: =D29 -> 0 | E31: =E29 -> 0 | F31: =F29 -> 2 | G31: =G29 -> 2 | H31: =H29 -> 0 | I31: =I29 -> 0 | ... M31: =M29 -> 2
A32: Итого | B32: =SUM(B30:B31) -> 0 | C32: =SUM(C30:C31) -> 76 | D32: =SUM(D30:D31) -> 76 | E32: =SUM(E30:E31) -> 0 | F32: =SUM(F30:F31) -> 72 | G32: =SUM(G30:G31) -> 72 | H32: =SUM(H30:H31) -> 0 | I32: =SUM(I30:I31) -> 38 | ... M32: =SUM(M30:M31) -> 186

Sheet Бакалавр ОФО АТА
A1: АГРОТЕХНОЛОГИЧЕСКАЯ АКАДЕМИЯ КФУ
A2: Контингент Дневной формы обучения на 1.10.2020
A3: Факультет/направление подготовки | B3: выпуск 2024 | E3: выпуск 2023 | H3: выпуск 2022 | K3: выпуск 2021 | N3: Итого Бакалавры
C5: 1 | E5: 2 | H5: 3 | K5: 4
B6: За счет бюджетных ассигнований | C6: На основе догов.о платных образов.услугах | D6: ВСЕГО | E6: За счет бюджетных ассигнований | F6: На основе догов.о платных образов.услугах | G6: ВСЕГО | H6: За счет бюджетных ассигнований | I6: На основе догов.о платных образов.услугах | J6: ВСЕГО | K6: За счет бюджетных ассигнований | L6: На основе догов.о платных образов.услугах | M6: ВСЕГО | N6: За счет бюджетных ассигнований | O6: На основе догов.о платных образов.услугах | P6: ВСЕГО
A7: Свод по направлениям подготовкии
A8: 35.03.04 Агрономия | B8: =B21+B33 -> 22 | C8: =C21+C33 -> 0 | D8: =D21+D33 -> 22 | E8: =E21+E33 -> 17 | F8: =F21+F33 -> 0 | G8: =G21+G33 -> 17 | H8: =H21+H33 -> 37 | I8: =I21+I33 -> 0 | ... P8: =P21+P33 -> 107
A9: 35.03.05 Садоводство | B9: =B22+B34 -> 22 | C9: =C22+C34 -> 0 | D9: =D22+D34 -> 22 | E9: =E22+E34 -> 16 | F9: =F22+F34 -> 0 | G9: =G22+G34 -> 16 | H9: =H22+H34 -> 33 | I9: =I22+I34 -> 0 | ... P9: =P22+P34 -> 92
A10: 21.03.02 Землеустройство и кадастры | B10: =B23+B35 -> 39 | C10: =C23+C35 -> 0 | D10: =D23+D35 -> 39 | E10: =E23+E35 -> 35 | F10: =F23+F35 -> 0 | G10: =G23+G35 -> 35 | H10: =H23+H35 -> 37 | I10: =I23+I35 -> 0 | ... P10: =P23+P35 -> 147
A11: 21.03.03 Геодезия и дистанцион. | B11: =B24+B36 -> 19 | C11: =C24+C36 -> 0 | D11: =D24+D36 -> 19 | E11: =E24+E36 -> 19 | F11: =F24+F36 -> 0 | G11: =G24+G36 -> 19 | H11: =H24+H36 -> 24 | I11: =I24+I36 -> 0 | ... P11: =P24+P36 -> 84
A12: 35.03.10 Ландшафтная архитектура | B12: =B25+B37 -> 0 | C12: =C25+C37 -> 0 | D12: =D25+D37 -> 0 | E12: =E25+E37 -> 0 | F12: =F25+F37 -> 0 | G12: =G25+G37 -> 0 | H12: =H25+H37 -> 0 | I12: =I25+I37 -> 0 | ... P12: =P25+P37 -> 0
A13: 35.03.01 Лесное дело | B13: =B26+B38 -> 12 | C13: =C26+C38 -> 0 | D13: =D26+D38 -> 12 | E13: =E26+E38 -> 11 | F13: =F26+F38 -> 0 | G13: =G26+G38 -> 11 | H13: =H26+H38 -> 27 | I13: =I26+I38 -> 0 | ... P13: =P26+P38 -> 72
A14: 19.03.02 Продукты питания из растительного сырья | B14: =B27+B39 -> 31 | C14: =C27+C39 -> 0 | D14: =D27+D39 -> 31 | E14: =E27+E39 -> 36 | F14: =F27+F39 -> 0 | G14: =G27+G39 -> 36 | H14: =H27+H39 -> 34 | I14: =I27+I39 -> 0 | ... P14: =P27+P39 -> 132
A15: 19.03.03 Продукты питания животного происхождения | B15: =B28+B40 -> 8 | C15: =C28+C40 -> 0 | D15: =D28+D40 -> 8 | E15: =E28+E40 -> 13 | F15: =F28+F40 -> 0 | G15: =G28+G40 -> 13 | H15: =H28+H40 -> 17 | I15: =I28+I40 -> 0 | ... P15: =P28+P40 -> 48
A16: 35.03.06 Агроинженерия | B16: =B29+B41 -> 54 | C16: =C29+C41 -> 0 | D16: =D29+D41 -> 54 | E16: =E29+E41 -> 46 | F16: =F29+F41 -> 0 | G16: =G29+G41 -> 46 | H16: =H29+H41 -> 52 | I16: =I29+I41 -> 0 | ... P16: =P29+P41 -> 197
A17: 27.03.03 Системный анализ | B17: =B30+B42 -> 12 | C17: =C30+C42 -> 0 | D17: =D30+D42 -> 12 | E17: =E30+E42 -> 16 | F17: =F30+F42 -> 0 | G17: =G30+G42 -> 16 | H17: =H30+H42 -> 14 | I17: =I30+I42 -> 0 | ... P17: =P30+P42 -> 55
A18: Итого по направлениям подготовки: | B18: =B31+B43 -> 219 | C18: =C31+C43 -> 0 | D18: =D31+D43 -> 219 | E18: =E31+E43 -> 209 | F18: =F31+F43 -> 0 | G18: =G31+G43 -> 209 | H18: =H31+H43 -> 275 | I18: =I31+I43 -> 0 | ... P18: =P31+P43 -> 934
A19: В том числе:
A20: Граждане России
A21: 35.03.04 Агрономия | B21: 21 | C21: 0 | D21: =B21+C21 -> 21 | E21: 16 | F21: 0 | G21: =E21+F21 -> 16 | H21: 37 | I21: 0 | J21: =I21+H21 -> 37 | K21: 30 | L21: 0 | M21: =K21+L21 -> 30 | N21: =B21+E21+H21+K21 -> 104 | O21: =F21+I21+L21+C21 -> 0 | P21: =N21+O21 -> 104
A22: 35.03.05 Садоводство | B22: 22 | C22: 0 | D22: =B22+C22 -> 22 | E22: 15 | F22: 0 | G22: =E22+F22 -> 15 | H22: 32 | I22: 0 | J22: =I22+H22 -> 32 | K22: 19 | L22: 1 | M22: =K22+L22 -> 20 | N22: =B22+E22+H22+K22 -> 88 | O22: =F22+I22+L22+C22 -> 1 | P22: =N22+O22 -> 89
A23: 21.03.02 Землеустройство и кадастры | B23: 39 | C23: 0 | D23: =B23+C23 -> 39 | E23: 35 | F23: 0 | G23: =E23+F23 -> 35 | H23: 37 | I23: 0 | J23: =I23+H23 -> 37 | K23: 35 | L23: 1 | M23: =K23+L23 -> 36 | N23: =B23+E23+H23+K23 -> 146 | O23: =F23+I23+L23+C23 -> 1 | P23: =N23+O23 -> 147
A24: 21.03.03 Геодезия и дистанцион. | B24: 18 | C24: 0 | D24: =B24+C24 -> 18 | E24: 19 | F24: 0 | G24: =E24+F24 -> 19 | H24: 24 | I24: 0 | J24: =I24+H24 -> 24 | K24: 22 | L24: 0 | M24: =K24+L24 -> 22 | N24: =B24+E24+H24+K24 -> 83 | O24: =F24+I24+L24+C24 -> 0 | P24: =N24+O24 -> 83
A25: 35.03.10 Ландшафтная архитектура | B25: 0 | C25: 0 | D25: =B25+C25 -> 0 | E25: 0 | F25: 0 | G25: =E25+F25 -> 0 | H25: 0 | I25: 0 | J25: =I25+H25 -> 0 | K25: 0 | L25: 0 | M25: =K25+L25 -> 0 | N25: =B25+E25+H25+K25 -> 0 | O25: =F25+I25+L25+C25 -> 0 | P25: =N25+O25 -> 0
A26: 35.03.01 Лесное дело | B26: 12 | C26: 0 | D26: =B26+C26 -> 12 | E26: 11 | F26: 0 | G26: =E26+F26 -> 11 | H26: 27 | I26: 0 | J26: =I26+H26 -> 27 | K26: 22 | L26: 0 | M26: =K26+L26 -> 22 | N26: =B26+E26+H26+K26 -> 72 | O26: =F26+I26+L26+C26 -> 0 | P26: =N26+O26 -> 72
A27: 19.03.02 Продукты питания из растительного сырья | B27: 31 | C27: 0 | D27: =B27+C27 -> 31 | E27: 36 | F27: 0 | G27: =E27+F27 -> 36 | H27: 34 | I27: 0 | J27: =I27+H27 -> 34 | K27: 31 | L27: 0 | M27: =K27+L27 -> 31 | N27: =B27+E27+H27+K27 -> 132 | O27: =F27+I27+L27+C27 -> 0 | P27: =N27+O27 -> 132
A28: 19.03.03 Продукты питания животного происхождения | B28: 8 | C28: 0 | D28: =B28+C28 -> 8 | E28: 13 | F28: 0 | G28: =E28+F28 -> 13 | H28: 16 | I28: 0 | J28: =I28+H28 -> 16 | K28: 8 | L28: 0 | M28: =K28+L28 -> 8 | N28: =B28+E28+H28+K28 -> 45 | O28: =F28+I28+L28+C28 -> 0 | P28: =N28+O28 -> 45
A29: 35.03.10 Агроинженерия | B29: 54 | C29: 0 | D29: =B29+C29 -> 54 | E29: 44 | F29: 0 | G29: =E29+F29 -> 44 | H29: 51 | I29: 0 | J29: =I29+H29 -> 51 | K29: 44 | L29: 0 | M29: =K29+L29 -> 44 | N29: =B29+E29+H29+K29 -> 193 | O29: =F29+I29+L29+C29 -> 0 | P29: =N29+O29 -> 193
A30: 27.03.03 Системный анализ | B30: 12 | C30: 0 | D30: =B30+C30 -> 12 | E30: 16 | F30: 0 | G30: =E30+F30 -> 16 | H30: 13 | I30: 0 | J30: =I30+H30 -> 13 | K30: 13 | L30: 0 | M30: =K30+L30 -> 13 | N30: =B30+E30+H30+K30 -> 54 | O30: =F30+I30+L30+C30 -> 0 | P30: =N30+O30 -> 54
A31: Итого граждане России | B31: =B21+B22+B23+B24+B25+B26+B27+B28+B29+B30 -> 217 | C31: =C21+C22+C23+C24+C25+C26+C27+C28+C29+C30 -> 0 | D31: =D21+D22+D23+D24+D25+D26+D27+D28+D29+D30 -> 217 | E31: =E21+E22+E23+E24+E25+E26+E27+E28+E29+E30 -> 205 | F31: =F21+F22+F23+F24+F25+F26+F27+F28+F29+F30 -> 0 | G31: =G21+G22+G23+G24+G25+G26+G27+G28+G29+G30 -> 205 | H31: =H21+H22+H23+H24+H25+H26+H27+H28+H29+H30 -> 271 | I31: =I21+I22+I23+I24+I25+I26+I27+I28+I29+I30 -> 0 | ... P31: =P21+P22+P23+P24+P25+P26+P27+P28+P29+P30 -> 919
A32: Граждане иностранных государст(вкл.Украину)
A33: 35.03.04 Агрономия | B33: 1 | C33: 0 | D33: =B33+C33 -> 1 | E33: 1 | F33: 0 | G33: =E33+F33 -> 1 | H33: 0 | I33: 0 | J33: =I33+H33 -> 0 | K33: 1 | L33: 0 | M33: =K33+L33 -> 1 | N33: =B33+E33+H33+K33 -> 3 | O33: =F33+I33+L33+C33 -> 0 | P33: =N33+O33 -> 3
A34: 35.03.05 Садоводство | B34: 0 | C34: 0 | D34: =B34+C34 -> 0 | E34: 1 | F34: 0 | G34: =E34+F34 -> 1 | H34: 1 | I34: 0 | J34: =I34+H34 -> 1 | K34: 1 | L34: 0 | M34: =K34+L34 -> 1 | N34: =B34+E34+H34+K34 -> 3 | O34: =F34+I34+L34+C34 -> 0 | P34: =N34+O34 -> 3
A35: 21.03.02 Землеустройство и кадастры | B35: 0 | C35: 0 | D35: =B35+C35 -> 0 | E35: 0 | F35: 0 | G35: =E35+F35 -> 0 | H35: 0 | I35: 0 | J35: =I35+H35 -> 0 | K35: 0 | L35: 0 | M35: =K35+L35 -> 0 | N35: =B35+E35+H35+K35 -> 0 | O35: =F35+I35+L35+C35 -> 0 | P35: =N35+O35 -> 0
A36: 21.03.03 Геодезия и дистанцион. | B36: 1 | C36: 0 | D36: =B36+C36 -> 1 | E36: 0 | F36: 0 | G36: =E36+F36 -> 0 | H36: 0 | I36: 0 | J36: =I36+H36 -> 0 | K36: 0 | L36: 0 | M36: =K36+L36 -> 0 | N36: =B36+E36+H36+K36 -> 1 | O36: =F36+I36+L36+C36 -> 0 | P36: =N36+O36 -> 1
A37: 35.03.10 Ландшафтная архитектура | B37: 0 | C37: 0 | D37: =B37+C37 -> 0 | E37: 0 | F37: 0 | G37: =E37+F37 -> 0 | H37: 0 | I37: 0 | J37: =I37+H37 -> 0 | K37: 0 | L37: 0 | M37: =K37+L37 -> 0 | N37: =B37+E37+H37+K37 -> 0 | O37: =F37+I37+L37+C37 -> 0 | P37: =N37+O37 -> 0
A38: 35.03.01 Лесное дело | B38: 0 | C38: 0 | D38: =B38+C38 -> 0 | E38: 0 | F38: 0 | G38: =E38+F38 -> 0 | H38: 0 | I38: 0 | J38: =I38+H38 -> 0 | K38: 0 | L38: 0 | M38: =K38+L38 -> 0 | N38: =B38+E38+H38+K38 -> 0 | O38: =F38+I38+L38+C38 -> 0 | P38: =N38+O38 -> 0
A39: 19.03.02 Продукты питания из растительного сырья | B39: 0 | C39: 0 | D39: =B39+C39 -> 0 | E39: 0 | F39: 0 | G39: =E39+F39 -> 0 | H39: 0 | I39: 0 | J39: =I39+H39 -> 0 | K39: 0 | L39: 0 | M39: =K39+L39 -> 0 | N39: =B39+E39+H39+K39 -> 0 | O39: =F39+I39+L39+C39 -> 0 | P39: =N39+O39 -> 0
A40: 19.03.03 Продукты питания животного происхождения | B40: 0 | C40: 0 | D40: =B40+C40 -> 0 | E40: 0 | F40: 0 | G40: =E40+F40 -> 0 | H40: 1 | I40: 0 | J40: =I40+H40 -> 1 | K40: 2 | L40: 0 | M40: =K40+L40 -> 2 | N40: =B40+E40+H40+K40 -> 3 | O40: =F40+I40+L40+C40 -> 0 | P40: =N40+O40 -> 3
A41: 35.03.10 Агроинженерия | B41: 0 | C41: 0 | D41: =B41+C41 -> 0 | E41: 2 | F41: 0 | G41: =E41+F41 -> 2 | H41: 1 | I41: 0 | J41: =I41+H41 -> 1 | K41: 1 | L41: 0 | M41: =K41+L41 -> 1 | N41: =B41+E41+H41+K41 -> 4 | O41: =F41+I41+L41+C41 -> 0 | P41: =N41+O41 -> 4
A42: 27.03.03 Системный анализ | B42: 0 | C42: 0 | D42: =B42+C42 -> 0 | E42: 0 | F42: 0 | G42: =E42+F42 -> 0 | H42: 1 | I42: =I55+I70 -> 0 | J42: =I42+H42 -> 1 | K42: 0 | L42: 0 | M42: =K42+L42 -> 0 | N42: =B42+E42+H42+K42 -> 1 | O42: =F42+I42+L42+C42 -> 0 | P42: =N42+O42 -> 1
A43: Итого граждане иностранных государст(вкл.Украину) | B43: =B33+B34+B35+B36+B37+B38+B39+B40+B41+B42 -> 2 | C43: =C33+C34+C35+C36+C37+C38+C39+C40+C41+C42 -> 0 | D43: =D33+D34+D35+D36+D37+D38+D39+D40+D41+D42 -> 2 | E43: =E33+E34+E35+E36+E37+E38+E39+E40+E41+E42 -> 4 | F43: =F33+F34+F35+F36+F37+F38+F39+F40+F41+F42 -> 0 | G43: =G33+G34+G35+G36+G37+G38+G39+G40+G41+G42 -> 4 | H43: =H33+H34+H35+H36+H37+H38+H39+H40+H41+H42 -> 4 | I43: =I33+I34+I35+I36+I37+I38+I39+I40+I41+I42 -> 0 | ... P43: =P33+P34+P35+P36+P37+P38+P39+P40+P41+P42 -> 15
A44: Итого граждане России | B44: =B31 -> 217 | C44: =C31 -> 0 | D44: =D31 -> 217 | E44: =E31 -> 205 | F44: =F31 -> 0 | G44: =G31 -> 205 | H44: =H31 -> 271 | I44: =I31 -> 0 | ... P44: =P31 -> 919
A45: Итого граждане иностранных государст(вкл.Украину) | B45: =B43 -> 2 | C45: =C43 -> 0 | D45: =D43 -> 2 | E45: =E43 -> 4 | F45: =F43 -> 0 | G45: =G43 -> 4 | H45: =H43 -> 4 | I45: =I43 -> 0 | ... P45: =P43 -> 15
A46: Всего по АБиП | B46: =B44+B45 -> 219 | C46: =C44+C45 -> 0 | D46: =D44+D45 -> 219 | E46: =E44+E45 -> 209 | F46: =F44+F45 -> 0 | G46: =G44+G45 -> 209 | H46: =H44+H45 -> 275 | I46: =I44+I45 -> 0 | ... P46: =P44+P45 -> 934

Sheet Бакалавр ЗФО АTA
E1: АГРОТЕХНОЛОГИЧЕСКАЯ АКАДЕМИЯ КФУ
A2: Факультет/направление подготовки | E2: Контингент Заочной формы обучения на 1.10.2020
B3: выпуск 2025 | E3: выпуск 2024 | H3: выпуск 2023 | K3: выпуск 2022 | N3: выпуск 2021 | Q3: ВСЕГО
B5: 1 | E5: 2 | H5: 3 | K5: 4 | N5: 5
B7: За счет бюджетных ассигнований | C7: На основе догов.о платных образов.услугах | D7: ВСЕГО | E7: За счет бюджетных ассигнований | F7: На основе догов.о платных образов.услугах | G7: ВСЕГО | H7: За счет бюджетных ассигнований | I7: На основе догов.о платных образов.услугах | J7: ВСЕГО | K7: За счет бюджетных ассигнований | L7: На основе догов.о платных образов.услугах | M7: ВСЕГО | N7: За счет бюджетных ассигнований | O7: На основе догов.о платных образов.услугах | P7: ВСЕГО | Q7: За счет бюджетных ассигнований | R7: На основе догов.о платных образов.услугах | S7: ВСЕГО
A8: Свод по направлениям подготовкии
A9: 35.03.04 Агрономия | B9: =B22+B34 -> 20 | C9: =C22+C34 -> 0 | D9: =D22+D34 -> 20 | E9: =E22+E34 -> 20 | F9: =F22+F34 -> 0 | G9: =G22+G34 -> 20 | H9: =H22+H34 -> 15 | I9: =I22+I34 -> 5 | ... P9: =P22+P34 -> 21 | Q9: =E9+H9+K9+N9+B9 -> 85 | R9: =F9+I9+L9+O9+C9 -> 11 | S9: =G9+J9+M9+P9+D9 -> 96
A10: 35.03.05 Садоводство | B10: =B23+B35 -> 21 | C10: =C23+C35 -> 2 | D10: =D23+D35 -> 23 | E10: =E23+E35 -> 14 | F10: =F23+F35 -> 2 | G10: =G23+G35 -> 16 | H10: =H23+H35 -> 14 | I10: =I23+I35 -> 2 | ... P10: =P23+P35 -> 26 | Q10: =E10+H10+K10+N10+B10 -> 80 | R10: =F10+I10+L10+O10+C10 -> 11 | S10: =G10+J10+M10+P10+D10 -> 91
A11: 21.03.02 Землеустройство и кадастры | B11: =B24+B36 -> 21 | C11: =C24+C36 -> 0 | D11: =D24+D36 -> 21 | E11: =E24+E36 -> 22 | F11: =F24+F36 -> 1 | G11: =G24+G36 -> 23 | H11: =H24+H36 -> 20 | I11: =I24+I36 -> 8 | ... P11: =P24+P36 -> 26 | Q11: =E11+H11+K11+N11+B11 -> 95 | R11: =F11+I11+L11+O11+C11 -> 27 | S11: =G11+J11+M11+P11+D11 -> 122
A12: 21.03.03 Геодезия и дистанцион. | B12: =B25+B37 -> 16 | C12: =C25+C37 -> 0 | D12: =D25+D37 -> 16 | E12: =E25+E37 -> 12 | F12: =F25+F37 -> 0 | G12: =G25+G37 -> 12 | H12: =H25+H37 -> 9 | I12: =I25+I37 -> 1 | ... P12: =P25+P37 -> 7 | Q12: =E12+H12+K12+N12+B12 -> 52 | R12: =F12+I12+L12+O12+C12 -> 3 | S12: =G12+J12+M12+P12+D12 -> 55
A13: 27.03.03 Системный анализ и управление | B13: =B26+B38 -> 1 | C13: =C26+C38 -> 0 | D13: =D26+D38 -> 1 | E13: =E26+E38 -> 11 | F13: =F26+F38 -> 0 | G13: =G26+G38 -> 11 | H13: =H26+H38 -> 8 | I13: =I26+I38 -> 0 | ... P13: =P26+P38 -> 0 | Q13: =E13+H13+K13+N13+B13 -> 30 | R13: =F13+I13+L13+O13+C13 -> 1 | S13: =G13+J13+M13+P13+D13 -> 31
A14: 35.03.10 Ландшафтная архитектура | B14: =B27+B39 -> 0 | C14: =C27+C39 -> 0 | D14: =D27+D39 -> 0 | E14: =E27+E39 -> 0 | F14: =F27+F39 -> 0 | G14: =G27+G39 -> 0 | H14: =H27+H39 -> 0 | I14: =I27+I39 -> 0 | ... P14: =P27+P39 -> 0 | Q14: =E14+H14+K14+N14+B14 -> 0 | R14: =F14+I14+L14+O14+C14 -> 0 | S14: =G14+J14+M14+P14+D14 -> 0
A15: 35.03.01 Лесное дело | B15: =B28+B40 -> 15 | C15: =C28+C40 -> 1 | D15: =D28+D40 -> 16 | E15: =E28+E40 -> 10 | F15: =F28+F40 -> 0 | G15: =G28+G40 -> 10 | H15: =H28+H40 -> 13 | I15: =I28+I40 -> 3 | ... P15: =P28+P40 -> 21 | Q15: =E15+H15+K15+N15+B15 -> 63 | R15: =F15+I15+L15+O15+C15 -> 20 | S15: =G15+J15+M15+P15+D15 -> 83
A16: 19.03.02 Продукты питания из растительного сырья | B16: =B29+B41 -> 24 | C16: =C29+C41 -> 0 | D16: =D29+D41 -> 24 | E16: =E29+E41 -> 12 | F16: =F29+F41 -> 4 | G16: =G29+G41 -> 16 | H16: =H29+H41 -> 11 | I16: =I29+I41 -> 4 | ... P16: =P29+P41 -> 17 | Q16: =E16+H16+K16+N16+B16 -> 66 | R16: =F16+I16+L16+O16+C16 -> 22 | S16: =G16+J16+M16+P16+D16 -> 88
A17: 19.03.02 Продукты питания животного происхождения | B17: =B30+B42 -> 12 | C17: =C30+C42 -> 1 | D17: =D30+D42 -> 13 | E17: =E30+E42 -> 9 | F17: =F30+F42 -> 0 | G17: =G30+G42 -> 9 | H17: =H30+H42 -> 8 | I17: =I30+I42 -> 2 | ... P17: =P30+P42 -> 9 | Q17: =E17+H17+K17+N17+B17 -> 44 | R17: =F17+I17+L17+O17+C17 -> 4 | S17: =G17+J17+M17+P17+D17 -> 48
A18: 35.03.06 Агроинженерия | B18: =B31+B43 -> 27 | C18: =C31+C43 -> 2 | D18: =D31+D43 -> 29 | E18: =E31+E43 -> 27 | F18: =F31+F43 -> 4 | G18: =G31+G43 -> 31 | H18: =H31+H43 -> 22 | I18: =I31+I43 -> 17 | ... P18: =P31+P43 -> 29 | Q18: =E18+H18+K18+N18+B18 -> 114 | R18: =F18+I18+L18+O18+C18 -> 42 | S18: =G18+J18+M18+P18+D18 -> 156
A19: Итого по направлениям подготовки: | B19: =SUM(B9:B18) -> 157 | C19: =SUM(C9:C18) -> 6 | D19: =SUM(D9:D18) -> 163 | E19: =SUM(E9:E18) -> 137 | F19: =SUM(F9:F18) -> 11 | G19: =SUM(G9:G18) -> 148 | H19: =SUM(H9:H18) -> 120 | I19: =SUM(I9:I18) -> 42 | ... P19: =SUM(P9:P18) -> 156 | Q19: =E19+H19+K19+N19+B19 -> 629 | R19: =F19+I19+L19+O19+C19 -> 141 | S19: =G19+J19+M19+P19+D19 -> 770
A20: В том числе:
A21: Граждане России
A22: 35.03.04 Агрономия | B22: 20 | C22: 0 | D22: =B22+C22 -> 20 | E22: 20 | F22: 0 | G22: =E22+F22 -> 20 | H22: 14 | I22: 5 | J22: =H22+I22 -> 19 | K22: 10 | L22: 5 | M22: =K22+L22 -> 15 | N22: 20 | O22: 1 | P22: =N22+O22 -> 21 | Q22: =E22+H22+K22+N22+B22 -> 84 | R22: =F22+I22+L22+O22+C22 -> 11 | S22: =G22+J22+M22+P22+D22 -> 95
A23: 35.03.05 Садоводство | B23: 21 | C23: 2 | D23: =B23+C23 -> 23 | E23: 14 | F23: 2 | G23: =E23+F23 -> 16 | H23: 14 | I23: 2 | J23: =H23+I23 -> 16 | K23: 9 | L23: 1 | M23: =K23+L23 -> 10 | N23: 22 | O23: 4 | P23: =N23+O23 -> 26 | Q23: =E23+H23+K23+N23+B23 -> 80 | R23: =F23+I23+L23+O23+C23 -> 11 | S23: =G23+J23+M23+P23+D23 -> 91
A24: 21.03.02 Землеустройство и кадастры | B24: 21 | C24: 0 | D24: =B24+C24 -> 21 | E24: 21 | F24: 1 | G24: =E24+F24 -> 22 | H24: 20 | I24: 8 | J24: =H24+I24 -> 28 | K24: 18 | L24: 6 | M24: =K24+L24 -> 24 | N24: 14 | O24: 12 | P24: =N24+O24 -> 26 | Q24: =E24+H24+K24+N24+B24 -> 94 | R24: =F24+I24+L24+O24+C24 -> 27 | S24: =G24+J24+M24+P24+D24 -> 121
A25: 21.03.03 Геодезия и дистанцион. | B25: 14 | C25: 0 | D25: =B25+C25 -> 14 | E25: 12 | F25: 0 | G25: =E25+F25 -> 12 | H25: 9 | I25: 0 | J25: =H25+I25 -> 9 | K25: 9 | L25: 0 | M25: =K25+L25 -> 9 | N25: 5 | O25: 2 | P25: =N25+O25 -> 7 | Q25: =E25+H25+K25+N25+B25 -> 49 | R25: =F25+I25+L25+O25+C25 -> 2 | S25: =G25+J25+M25+P25+D25 -> 51
A26: 27.03.03 Системный анализ и управление | B26: 1 | C26: 0 | D26: =B26+C26 -> 1 | E26: 11 | F26: 0 | G26: =E26+F26 -> 11 | H26: 8 | I26: 0 | J26: =H26+I26 -> 8 | K26: 10 | L26: 1 | M26: =K26+L26 -> 11 | N26: 0 | O26: 0 | P26: =N26+O26 -> 0 | Q26: =E26+H26+K26+N26+B26 -> 30 | R26: =F26+I26+L26+O26+C26 -> 1 | S26: =G26+J26+M26+P26+D26 -> 31
A27: 35.03.10 Ландшафтная архитектура | B27: 0 | C27: 0 | D27: =B27+C27 -> 0 | E27: 0 | F27: 0 | G27: =E27+F27 -> 0 | H27: 0 | I27: 0 | J27: =H27+I27 -> 0 | K27: 0 | L27: 0 | M27: =K27+L27 -> 0 | N27: 0 | O27: 0 | P27: =N27+O27 -> 0 | Q27: =E27+H27+K27+N27+B27 -> 0 | R27: =F27+I27+L27+O27+C27 -> 0 | S27: =G27+J27+M27+P27+D27 -> 0
A28: 35.03.01 Лесное дело | B28: 15 | C28: 1 | D28: =B28+C28 -> 16 | E28: 10 | F28: 0 | G28: =E28+F28 -> 10 | H28: 13 | I28: 3 | J28: =H28+I28 -> 16 | K28: 12 | L28: 8 | M28: =K28+L28 -> 20 | N28: 13 | O28: 8 | P28: =N28+O28 -> 21 | Q28: =E28+H28+K28+N28+B28 -> 63 | R28: =F28+I28+L28+O28+C28 -> 20 | S28: =G28+J28+M28+P28+D28 -> 83
A29: 19.03.02 Продукты питания из растительного сырья | B29: 24 | C29: 0 | D29: =B29+C29 -> 24 | E29: 12 | F29: 4 | G29: =E29+F29 -> 16 | H29: 11 | I29: 3 | J29: =H29+I29 -> 14 | K29: 11 | L29: 5 | M29: =K29+L29 -> 16 | N29: 8 | O29: 9 | P29: =O29+N29 -> 17 | Q29: =E29+H29+K29+N29+B29 -> 66 | R29: =F29+I29+L29+O29+C29 -> 21 | S29: =G29+J29+M29+P29+D29 -> 87
A30: 21.03.02 Продукты питания животного происхождения | B30: 12 | C30: 1 | D30: =B30+C30 -> 13 | E30: 9 | F30: 0 | G30: =E30+F30 -> 9 | H30: 7 | I30: 2 | J30: =H30+I30 -> 9 | K30: 7 | L30: 0 | M30: =K30+L30 -> 7 | N30: 8 | O30: 1 | P30: =O30+N30 -> 9 | Q30: =E30+H30+K30+N30+B30 -> 43 | R30: =F30+I30+L30+O30+C30 -> 4 | S30: =G30+J30+M30+P30+D30 -> 47
A31: 35.03.06 Агроинженерия | B31: 27 | C31: 2 | D31: =B31+C31 -> 29 | E31: 27 | F31: 4 | G31: =E31+F31 -> 31 | H31: 22 | I31: 17 | J31: =H31+I31 -> 39 | K31: 22 | L31: 5 | M31: =K31+L31 -> 27 | N31: 16 | O31: 13 | P31: =O31+N31 -> 29 | Q31: =E31+H31+K31+N31+B31 -> 114 | R31: =F31+I31+L31+O31+C31 -> 41 | S31: =G31+J31+M31+P31+D31 -> 155
A32: Итого граждане России | B32: =SUM(B21:B31) -> 155 | C32: =SUM(C21:C31) -> 6 | D32: =B32+C32 -> 161 | E32: =SUM(E22:E31) -> 136 | F32: =SUM(F22:F31) -> 11 | G32: =SUM(G22:G31) -> 147 | H32: =SUM(H22:H31) -> 118 | I32: =SUM(I22:I31) -> 40 | J32: =SUM(J22:J31) -> 158 | K32: =SUM(K22:K31) -> 108 | L32: =SUM(L22:L31) -> 31 | ... P32: =SUM(P22:P31) -> 156 | Q32: =E32+H32+K32+N32+B32 -> 623 | R32: =F32+I32+L32+O32+C32 -> 138 | S32: =G32+J32+M32+P32+D32 -> 761
A33: Граждане иностранных государст(вкл.Украину)
A34: 35.03.04 Агрономия | B34: 0 | C34: 0 | D34: =B34+C34 -> 0 | E34: 0 | F34: 0 | G34: =E34+F34 -> 0 | H34: 1 | I34: 0 | J34: =H34+I34 -> 1 | K34: 0 | L34: 0 | M34: =K34+L34 -> 0 | N34: 0 | O34: 0 | P34: =N34+O34 -> 0 | Q34: =E34+H34+K34+N34+B34 -> 1 | R34: =F34+I34+L34+O34+C34 -> 0 | S34: =G34+J34+M34+P34+D34 -> 1
A35: 35.03.05 Садоводство | B35: 0 | C35: 0 | D35: =B35+C35 -> 0 | E35: 0 | F35: 0 | G35: =E35+F35 -> 0 | H35: 0 | I35: 0 | J35: =H35+I35 -> 0 | K35: 0 | L35: 0 | M35: =K35+L35 -> 0 | N35: 0 | O35: 0 | P35: =N35+O35 -> 0 | Q35: =E35+H35+K35+N35+B35 -> 0 | R35: =F35+I35+L35+O35+C35 -> 0 | S35: =G35+J35+M35+P35+D35 -> 0
A36: 21.03.02 Землеустройство и кадастры | B36: 0 | C36: 0 | D36: =B36+C36 -> 0 | E36: 1 | F36: 0 | G36: =E36+F36 -> 1 | H36: 0 | I36: 0 | J36: =H36+I36 -> 0 | K36: 0 | L36: 0 | M36: =K36+L36 -> 0 | N36: 0 | O36: 0 | P36: =N36+O36 -> 0 | Q36: =E36+H36+K36+N36+B36 -> 1 | R36: =F36+I36+L36+O36+C36 -> 0 | S36: =G36+J36+M36+P36+D36 -> 1
A37: 21.03.03 Геодезия и дистанцион. | B37: 2 | C37: 0 | D37: =B37+C37 -> 2 | E37: 0 | F37: 0 | G37: =E37+F37 -> 0 | H37: 0 | I37: 1 | J37: =H37+I37 -> 1 | K37: 1 | L37: 0 | M37: =K37+L37 -> 1 | N37: 0 | O37: 0 | P37: =N37+O37 -> 0 | Q37: =E37+H37+K37+N37+B37 -> 3 | R37: =F37+I37+L37+O37+C37 -> 1 | S37: =G37+J37+M37+P37+D37 -> 4
A38: 27.03.03 Системный анализ и управление | B38: 0 | C38: 0 | D38: =B38+C38 -> 0 | E38: 0 | F38: 0 | G38: =F38+E38 -> 0 | H38: 0 | I38: 0 | J38: =H38+I38 -> 0 | K38: 0 | L38: 0 | M38: =K38+L38 -> 0 | N38: 0 | O38: 0 | P38: =N38+O38 -> 0 | Q38: =E38+H38+K38+N38+B38 -> 0 | R38: =F38+I38+L38+O38+C38 -> 0 | S38: =G38+J38+M38+P38+D38 -> 0
A39: 35.03.10 Ландшафтная архитектура | B39: 0 | C39: 0 | D39: =B39+C39 -> 0 | E39: =G39-F39 -> 0 | F39: 0 | G39: 0 | H39: =J39-I39 -> 0 | I39: 0 | J39: 0 | K39: 0 | L39: 0 | M39: =K39+L39 -> 0 | N39: 0 | O39: 0 | P39: =N39+O39 -> 0 | Q39: =E39+H39+K39+N39+B39 -> 0 | R39: =F39+I39+L39+O39+C39 -> 0 | S39: =G39+J39+M39+P39+D39 -> 0
A40: 35.03.01 Лесное дело | B40: 0 | C40: 0 | D40: =B40+C40 -> 0 | E40: 0 | F40: 0 | G40: =+E40+F40 -> 0 | H40: 0 | I40: 0 | J40: =H40+I40 -> 0 | K40: 0 | L40: 0 | M40: =K40+L40 -> 0 | N40: 0 | O40: 0 | P40: =N40+O40 -> 0 | Q40: =E40+H40+K40+N40+B40 -> 0 | R40: =F40+I40+L40+O40+C40 -> 0 | S40: =G40+J40+M40+P40+D40 -> 0
A41: 19.03.02 Продукты питания из растительного сырья | B41: 0 | C41: 0 | D41: =B41+C41 -> 0 | E41: 0 | F41: 0 | G41: =+E41+F41 -> 0 | H41: 0 | I41: 1 | J41: =H41+I41 -> 1 | K41: 0 | L41: 0 | M41: =K41+L41 -> 0 | N41: 0 | O41: 0 | P41: =N41+O41 -> 0 | Q41: =E41+H41+K41+N41+B41 -> 0 | R41: =F41+I41+L41+O41+C41 -> 1 | S41: =G41+J41+M41+P41+D41 -> 1
A42: 21.03.02 Продукты питания животного происхождения | B42: 0 | C42: 0 | D42: =B42+C42 -> 0 | E42: 0 | F42: 0 | G42: =E42+F42 -> 0 | H42: 1 | I42: 0 | J42: =H42+I42 -> 1 | K42: 0 | L42: 0 | M42: =K42+L42 -> 0 | N42: 0 | O42: 0 | P42: =N42+O42 -> 0 | Q42: =E42+H42+K42+N42+B42 -> 1 | R42: =F42+I42+L42+O42+C42 -> 0 | S42: =G42+J42+M42+P42+D42 -> 1
A43: 35.03.06 Агроинженерия | B43: 0 | C43: 0 | D43: =B43+C43 -> 0 | E43: 0 | F43: 0 | G43: =E43+F43 -> 0 | H43: 0 | I43: 0 | J43: =H43+I43 -> 0 | K43: 0 | L43: 1 | M43: =K43+L43 -> 1 | N43: 0 | O43: 0 | P43: =N43+O43 -> 0 | Q43: =E43+H43+K43+N43+B43 -> 0 | R43: =F43+I43+L43+O43+C43 -> 1 | S43: =G43+J43+M43+P43+D43 -> 1
A44: Итого граждане иностранных государст(вкл.Украину) | B44: =SUM(B34:B43) -> 2 | C44: =SUM(C34:C43) -> 0 | D44: =SUM(D34:D43) -> 2 | E44: =SUM(E34:E43) -> 1 | F44: =SUM(F34:F43) -> 0 | G44: =SUM(G34:G43) -> 1 | H44: =SUM(H34:H43) -> 2 | I44: =SUM(I34:I43) -> 2 | ... P44: =SUM(P34:P43) -> 0 | Q44: =E44+H44+K44+N44+B44 -> 6 | R44: =F44+I44+L44+O44+C44 -> 3 | S44: =G44+J44+M44+P44+D44 -> 9
A45: Итого граждан России: | B45: =B32 -> 155 | C45: =C32 -> 6 | D45: =D32 -> 161 | E45: =E32 -> 136 | F45: =F32 -> 11 | G45: =G32 -> 147 | H45: =H32 -> 118 | I45: =I32 -> 40 | ... P45: =P32 -> 156 | Q45: =E45+H45+K45+N45+B45 -> 623 | R45: =F45+I45+L45+O45+C45 -> 138 | S45: =G45+J45+M45+P45+D45 -> 761
A46: Граждане иностранных государст(вкл.Украину) | B46: =B44 -> 2 | C46: =C44 -> 0 | D46: =D44 -> 2 | E46: =E44 -> 1 | F46: =F44 -> 0 | G46: =G44 -> 1 | H46: =H44 -> 2 | I46: =I44 -> 2 | ... P46: =P44 -> 0 | Q46: =E46+H46+K46+N46+B46 -> 6 | R46: =F46+I46+L46+O46+C46 -> 3 | S46: =G46+J46+M46+P46+D46 -> 9
A47: Всего по АБиП | B47: =SUM(B45:B46) -> 157 | C47: =SUM(C45:C46) -> 6 | D47: =SUM(D45:D46) -> 163 | E47: =SUM(E45:E46) -> 137 | F47: =SUM(F45:F46) -> 11 | G47: =SUM(G45:G46) -> 148 | H47: =SUM(H45:H46) -> 120 | I47: =SUM(I45:I46) -> 42 | ... P47: =SUM(P45:P46) -> 156 | Q47: =E47+H47+K47+N47+B47 -> 629 | R47: =F47+I47+L47+O47+C47 -> 141 | S47: =SUM(S45:S46) -> 770

Sheet Специалист ОФО АTA
A1: АГРОТЕХНОЛОГИЧЕСКАЯ АКАДЕМИЯ КФУ
A2: Контингент Дневной формы обучения на 1.10.2020 (специалитет)
B3: выпуск 2025 | E3: выпуск 2024 | H3: выпуск 2023 | K3: выпуск 2022 | N3: выпуск 2021 | Q3: ВСЕГО специалитет
A4: Факультет/направление подготовки | B4: 1 | E4: 2 | H4: 3 | K4: 4 | N4: 5
B5: специалисты | E5: специалисты | H5: специалисты | K5: специалисты | N5: специалисты
B6: За счет бюджетных ассигнований | C6: На основе догов.о платных образов.услугах | D6: ВСЕГО | E6: За счет бюджетных ассигнований | F6: На основе догов.о платных образов.услугах | G6: ВСЕГО | H6: За счет бюджетных ассигнований | I6: На основе догов.о платных образов.услугах | J6: ВСЕГО | K6: За счет бюджетных ассигнований | L6: На основе догов.о платных образов.услугах | M6: ВСЕГО | N6: За счет бюджетных ассигнований | O6: На основе догов.о платных образов.услугах | P6: ВСЕГО | Q6: За счет бюджетных ассигнований | R6: На основе догов.о платных образов.услугах | S6: ВСЕГО
A7: Факультет ветеринарной медицины
A8: 36.05.01 Ветеринария | B8: 88 | C8: 0 | D8: =C8+B8 -> 88 | E8: 90 | F8: 7 | G8: =F8+E8 -> 97 | H8: 78 | I8: 4 | J8: =H8+I8 -> 82 | K8: 66 | L8: 2 | M8: =K8+L8 -> 68 | N8: 68 | O8: 3 | P8: =N8+O8 -> 71 | Q8: =B8+E8+H8+K8+N8 -> 390 | R8: =I8+L8+O8+C8+F8 -> 16 | S8: =R8+Q8 -> 406
A9: Итого граждане России | B9: =B8 -> 88 | C9: =C8 -> 0 | D9: =D8 -> 88 | E9: =E8 -> 90 | F9: =F8 -> 7 | G9: =G8 -> 97 | H9: =H8 -> 78 | I9: =I8 -> 4 | ... P9: =P8 -> 71 | Q9: =H9+K9+N9+E9+B9 -> 390 | R9: =I9+L9+O9+C9+F9 -> 16 | S9: =R9+Q9 -> 406
A10: 36.05.01 Ветеринария | B10: 1 | C10: 0 | D10: =B10+C10 -> 1 | E10: 0 | F10: 0 | G10: =E10+F10 -> 0 | H10: 2 | I10: 0 | J10: =H10+I10 -> 2 | K10: 2 | L10: 0 | M10: =K10+L10 -> 2 | N10: 2 | O10: 1 | P10: =N10+O10 -> 3 | Q10: =B10+E10+H10+K10+N10 -> 7 | R10: =I10+L10+O10+F10+C10 -> 1 | S10: =R10+Q10 -> 8
A11: Итого граждане иностранных государст(вкл.Украину) | B11: =B10 -> 1 | C11: =C10 -> 0 | D11: =D10 -> 1 | E11: =E10 -> 0 | F11: =F10 -> 0 | G11: =G10 -> 0 | H11: =H10 -> 2 | I11: =I10 -> 0 | ... P11: =P10 -> 3 | Q11: =H11+K11+N11+E11+B11 -> 7 | R11: =I11+L11+O11+F11+C11 -> 1 | S11: =R11+Q11 -> 8
A12: Итого по факультету | B12: =B11+B9 -> 89 | C12: =C11+C9 -> 0 | D12: =D11+D9 -> 89 | E12: =E8+E10 -> 90 | F12: =F9+F11 -> 7 | G12: =G11+G9 -> 97 | H12: =H11+H9 -> 80 | I12: =I11+I9 -> 4 | J12: =J11+J9 -> 84 | K12: =K11+K9 -> 68 | L12: =L11+L9 -> 2 | M12: =M11+M9 -> 70 | N12: =N11+N9 -> 70 | ... P12: =P11+P9 -> 74 | Q12: =H12+K12+N12+E12+B12 -> 397 | R12: =I12+L12+O12+F12+C12 -> 17 | S12: =R12+Q12 -> 414

Sheet МАГ ОФО АTA
A1: АГРОТЕХНОЛОГИЧЕСКАЯ АКАДЕМИЯ КФУ
A2: Контингент Дневной формы обучения на 1.10.2020
A3: Факультет/направление подготовки | B3: выпуск 2022 | E3: выпуск 2021
B4: 1 | E4: 2 | H4: Итого магистров
B6: магистр | E6: магистр
B7: За счет бюджетных ассигнований | C7: На основе догов.о платных образов.услугах | D7: ВСЕГО | E7: За счет бюджетных ассигнований | F7: На основе догов.о платных образов.услугах | G7: ВСЕГО | H7: За счет бюджетных ассигнований | I7: На основе догов.о платных образов.услугах | J7: ВСЕГО
A8: Свод по направлениям подготовкии
A9: 35.04.04 Агрономия | B9: =B20+B30 -> 23 | C9: =C20+C30 -> 0 | D9: =D20+D30 -> 23 | E9: =E20+E30 -> 23 | F9: =F20+F30 -> 0 | G9: =G20+G30 -> 23 | H9: =E9+B9 -> 46 | I9: =F9+C9 -> 0 | J9: =G9+D9 -> 46
A10: 35.04.05 Садоводство | B10: =B21+B31 -> 20 | C10: =C21+C31 -> 0 | D10: =D21+D31 -> 20 | E10: =E21+E31 -> 20 | F10: =F21+F31 -> 0 | G10: =G21+G31 -> 20 | H10: =E10+B10 -> 40 | I10: =F10+C10 -> 0 | J10: =G10+D10 -> 40
A11: 21.04.02 Землеустройство и кадастры | B11: =B22+B32 -> 22 | C11: =C22+C32 -> 0 | D11: =D22+D32 -> 22 | E11: =E22+E32 -> 30 | F11: =F22+F32 -> 1 | G11: =G22+G32 -> 31 | H11: =E11+B11 -> 52 | I11: =F11+C11 -> 1 | J11: =G11+D11 -> 53
A12: 35.04.09 Ландшафтная архитектура | B12: =B23+B33 -> 0 | C12: =C23+C33 -> 0 | D12: =D23+D33 -> 0 | E12: =E23+E33 -> 0 | F12: =F23+F33 -> 0 | G12: =G23+G33 -> 0 | H12: =E12+B12 -> 0 | I12: =F12+C12 -> 0 | J12: =G12+D12 -> 0
A13: 35.04.01 Лесное дело | B13: =B24+B34 -> 10 | C13: =C24+C34 -> 0 | D13: =D24+D34 -> 10 | E13: =E24+E34 -> 9 | F13: =F24+F34 -> 0 | G13: =G24+G34 -> 9 | H13: =E13+B13 -> 19 | I13: =F13+C13 -> 0 | J13: =G13+D13 -> 19
A14: 19.04.02 Продукты питания из растительного сырья | B14: =B25+B35 -> 22 | C14: =C25+C35 -> 0 | D14: =D25+D35 -> 22 | E14: =E25+E35 -> 17 | F14: =F25+F35 -> 1 | G14: =G25+G35 -> 18 | H14: =E14+B14 -> 39 | I14: =F14+C14 -> 1 | J14: =G14+D14 -> 40
A15: 19.04.03 Продукты питания животного происхождения | B15: =B26+B36 -> 11 | C15: =C26+C36 -> 0 | D15: =D26+D36 -> 11 | E15: =E26+E36 -> 6 | F15: =F26+F36 -> 0 | G15: =G26+G36 -> 6 | H15: =E15+B15 -> 17 | I15: =F15+C15 -> 0 | J15: =G15+D15 -> 17
A16: 35.04.06 Агроинженерия | B16: =B27+B37 -> 22 | C16: =C27+C37 -> 0 | D16: =D27+D37 -> 22 | E16: =E27+E37 -> 22 | F16: =F27+F37 -> 0 | G16: =G27+G37 -> 22 | H16: =E16+B16 -> 44 | I16: =F16+C16 -> 0 | J16: =G16+D16 -> 44
A17: Итого по направлениям подготовки: | B17: =SUM(B8:B16) -> 130 | C17: =SUM(C8:C16) -> 0 | D17: =SUM(D8:D16) -> 130 | E17: =SUM(E8:E16) -> 127 | F17: =SUM(F8:F16) -> 2 | G17: =SUM(G8:G16) -> 129 | H17: =E17+B17 -> 257 | I17: =F17+C17 -> 2 | J17: =G17+D17 -> 259
A18: В том числе:
A19: Граждане России
A20: 35.04.04 Агрономия | B20: 23 | C20: 0 | D20: =C20+B20 -> 23 | E20: 23 | F20: 0 | G20: =F20+E20 -> 23 | H20: =B20+E20 -> 46 | I20: =C20+F20 -> 0 | J20: =G20+D20 -> 46
A21: 35.04.05 Садоводство | B21: 19 | C21: 0 | D21: =C21+B21 -> 19 | E21: 20 | F21: 0 | G21: =F21+E21 -> 20 | H21: =B21+E21 -> 39 | I21: =C21+F21 -> 0 | J21: =G21+D21 -> 39
A22: 21.04.02 Землеустройство и кадастры | B22: 22 | C22: 0 | D22: =C22+B22 -> 22 | E22: 30 | F22: 1 | G22: =F22+E22 -> 31 | H22: =B22+E22 -> 52 | I22: =C22+F22 -> 1 | J22: =G22+D22 -> 53
A23: 35.03.10 Ландшафтная архитектура | B23: 0 | C23: 0 | D23: =C23+B23 -> 0 | E23: 0 | F23: 0 | G23: =F23+E23 -> 0 | H23: =B23+E23 -> 0 | I23: =C23+F23 -> 0 | J23: =G23+D23 -> 0
A24: 35.04.01 Лесное дело | B24: 10 | C24: 0 | D24: =C24+B24 -> 10 | E24: 9 | F24: 0 | G24: =F24+E24 -> 9 | H24: =B24+E24 -> 19 | I24: =C24+F24 -> 0 | J24: =G24+D24 -> 19
A25: 19.04.02 Продукты питания из растительного сырья | B25: 22 | C25: 0 | D25: =C25+B25 -> 22 | E25: 17 | F25: 1 | G25: =F25+E25 -> 18 | H25: =B25+E25 -> 39 | I25: =C25+F25 -> 1 | J25: =G25+D25 -> 40
A26: 19.04.03 Продукты питания животного происхождения | B26: 11 | C26: 0 | D26: =C26+B26 -> 11 | E26: 6 | F26: 0 | G26: =F26+E26 -> 6 | H26: =B26+E26 -> 17 | I26: =C26+F26 -> 0 | J26: =G26+D26 -> 17
A27: 35.04.06 Агроинженерия | B27: 22 | C27: 0 | D27: =C27+B27 -> 22 | E27: 22 | F27: 0 | G27: =F27+E27 -> 22 | H27: =B27+E27 -> 44 | I27: =C27+F27 -> 0 | J27: =G27+D27 -> 44
A28: Итого граждане России | B28: =SUM(B20:B27) -> 129 | C28: =SUM(C20:C27) -> 0 | D28: =SUM(D20:D27) -> 129 | E28: =SUM(E20:E27) -> 127 | F28: =SUM(F20:F27) -> 2 | G28: =SUM(G20:G27) -> 129 | H28: =E28+B28 -> 256 | I28: =F28+C28 -> 2 | J28: =G28+D28 -> 258
A29: Граждане иностранных государст(вкл.Украину)
A30: 35.04.04 Агрономия | B30: 0 | C30: 0 | D30: =B30+C30 -> 0 | E30: 0 | F30: 0 | G30: =E30+F30 -> 0 | H30: =B30+E30 -> 0 | I30: =C30+F30 -> 0 | J30: =G30+D30 -> 0
A31: 35.04.05 Садоводство | B31: 1 | C31: 0 | D31: =B31+C31 -> 1 | E31: 0 | F31: 0 | G31: =E31+F31 -> 0 | H31: =B31+E31 -> 1 | I31: =C31+F31 -> 0 | J31: =G31+D31 -> 1
A32: 21.04.02 Землеустройство и кадастры | B32: 0 | C32: 0 | D32: =B32+C32 -> 0 | E32: 0 | F32: 0 | G32: =E32+F32 -> 0 | H32: =B32+E32 -> 0 | I32: =C32+F32 -> 0 | J32: =G32+D32 -> 0
A33: 35.03.10 Ландшафтная архитектура | B33: 0 | C33: 0 | D33: =B33+C33 -> 0 | E33: 0 | F33: 0 | G33: =E33+F33 -> 0 | H33: =B33+E33 -> 0 | I33: =C33+F33 -> 0 | J33: =G33+D33 -> 0
A34: 35.04.01 Лесное дело | B34: 0 | C34: 0 | D34: =B34+C34 -> 0 | E34: 0 | F34: 0 | G34: =E34+F34 -> 0 | H34: =B34+E34 -> 0 | I34: =C34+F34 -> 0 | J34: =G34+D34 -> 0
A35: 19.04.02 Продукты питания из растительного сырья | B35: 0 | C35: 0 | D35: =B35+C35 -> 0 | E35: 0 | F35: 0 | G35: =E35+F35 -> 0 | H35: =B35+E35 -> 0 | I35: =C35+F35 -> 0 | J35: =G35+D35 -> 0
A36: 19.04.03 Продукты питания животного происхождения | B36: 0 | C36: 0 | D36: =B36+C36 -> 0 | E36: 0 | F36: 0 | G36: =E36+F36 -> 0 | H36: =B36+E36 -> 0 | I36: =C36+F36 -> 0 | J36: =G36+D36 -> 0
A37: 35.04.06 Агроинженерия | B37: 0 | C37: 0 | D37: =B37+C37 -> 0 | E37: 0 | F37: 0 | G37: =E37+F37 -> 0 | H37: =B37+E37 -> 0 | I37: =C37+F37 -> 0 | J37: =G37+D37 -> 0
A38: Итого граждане иностранных государст(вкл.Украину) | B38: =SUM(B30:B37) -> 1 | C38: =SUM(C30:C37) -> 0 | D38: =SUM(D30:D37) -> 1 | E38: =SUM(E30:E37) -> 0 | F38: =SUM(F30:F37) -> 0 | G38: =SUM(G30:G37) -> 0 | H38: =B38+E38 -> 1 | I38: =C38+F38 -> 0 | J38: =G38+D38 -> 1
A39: Итого граждан России: | B39: =B28 -> 129 | C39: =C28 -> 0 | D39: =D28 -> 129 | E39: =E28 -> 127 | F39: =F28 -> 2 | G39: =G28 -> 129 | H39: =H28 -> 256 | I39: =I28 -> 2 | J39: =G39+D39 -> 258
A40: Итого граждане иностранных государст(вкл.Украину) | B40: =B38 -> 1 | C40: =C38 -> 0 | D40: =D38 -> 1 | E40: =E38 -> 0 | F40: =F38 -> 0 | G40: =G38 -> 0 | H40: =H38 -> 1 | I40: =I38 -> 0 | J40: =G40+D40 -> 1
A41: Всего по АБиП | B41: =B40+B39 -> 130 | C41: =C40+C39 -> 0 | D41: =D40+D39 -> 130 | E41: =E40+E39 -> 127 | F41: =F40+F39 -> 2 | G41: =G40+G39 -> 129 | H41: =E41+B41 -> 257 | I41: =F41+C41 -> 2 | J41: =G41+D41 -> 259

Sheet МАГ ЗФО АTA
A1: АГРОТЕХНОЛОГИЧЕСКАЯ АКАДЕМИЯ КФУ
A2: Контингент Заочной формы обучения на 1.10.2020
A3: Факультет/направление подготовки | B3: выпуск 2022 | E3: выпуск 2021 | H3: выпуск 2020
B4: 1 | E4: 2 | H4: 3 | K4: Итого магистров
B5: магистр | E5: магистр | H5: магистр
B6: За счет бюджетных ассигнований | C6: На основе догов.о платных образов.услугах | D6: ВСЕГО | E6: За счет бюджетных ассигнований | F6: На основе догов.о платных образов.услугах | G6: ВСЕГО | H6: За счет бюджетных ассигнований | I6: На основе догов.о платных образов.услугах | J6: ВСЕГО | K6: За счет бюджетных ассигнований | L6: На основе догов.о платных образов.услугах | M6: ВСЕГО
A7: Свод по направлениям подготовкии
A8: 35.04.04 Агрономия | B8: =B19+B29 -> 15 | C8: =C19+C29 -> 1 | D8: =D19+D29 -> 16 | E8: =E19+E29 -> 15 | F8: =F19+F29 -> 4 | G8: =G19+G29 -> 19 | H8: =H19+H29 -> 13 | I8: =I19+I29 -> 1 | J8: =J19+J29 -> 14 | K8: =E8+B8+H8 -> 43 | L8: =F8+C8+I8 -> 6 | M8: =K8+L8 -> 49
A9: 35.04.05 Садоводство | B9: =B20+B30 -> 15 | C9: =C20+C30 -> 8 | D9: =D20+D30 -> 23 | E9: =E20+E30 -> 13 | F9: =F20+F30 -> 1 | G9: =G20+G30 -> 14 | H9: =H20+H30 -> 11 | I9: =I20+I30 -> 1 | J9: =J20+J30 -> 12 | K9: =E9+B9+H9 -> 39 | L9: =F9+C9+I9 -> 10 | M9: =K9+L9 -> 49
A10: 21.04.02 Землеустройство и кадастры | B10: =B21+B31 -> 2 | C10: =C21+C31 -> 15 | D10: =D21+D31 -> 17 | E10: =E21+E31 -> 11 | F10: =F21+F31 -> 8 | G10: =G21+G31 -> 19 | H10: =H21+H31 -> 15 | I10: =I21+I31 -> 10 | J10: =J21+J31 -> 25 | K10: =E10+B10+H10 -> 28 | L10: =F10+C10+I10 -> 33 | M10: =K10+L10 -> 61
A11: 35.04.09 Ландшафтная архитектура | B11: =B22+B32 -> 0 | C11: =C22+C32 -> 0 | D11: =D22+D32 -> 0 | E11: =E22+E32 -> 0 | F11: =F22+F32 -> 0 | G11: =G22+G32 -> 0 | H11: =H22+H32 -> 0 | I11: =I22+I32 -> 0 | J11: =J22+J32 -> 0 | K11: =E11+B11+H11 -> 0 | L11: =F11+C11+I11 -> 0 | M11: =K11+L11 -> 0
A12: 35.04.01 Лесное дело | B12: =B23+B33 -> 10 | C12: =C23+C33 -> 5 | D12: =D23+D33 -> 15 | E12: =E23+E33 -> 12 | F12: =F23+F33 -> 3 | G12: =G23+G33 -> 15 | H12: =H23+H33 -> 7 | I12: =I23+I33 -> 0 | J12: =J23+J33 -> 7 | K12: =E12+B12+H12 -> 29 | L12: =F12+C12+I12 -> 8 | M12: =K12+L12 -> 37
A13: 19.04.02 Продукты питания из растительного сырья | B13: =B24+B34 -> 0 | C13: =C24+C34 -> 5 | D13: =D24+D34 -> 5 | E13: =E24+E34 -> 10 | F13: =F24+F34 -> 4 | G13: =G24+G34 -> 14 | H13: =H24+H34 -> 12 | I13: =I24+I34 -> 3 | J13: =J24+J34 -> 15 | K13: =E13+B13+H13 -> 22 | L13: =F13+C13+I13 -> 12 | M13: =K13+L13 -> 34
A14: 19.04.03 Продукты питания животного происхождения | B14: =B25+B35 -> 0 | C14: =C25+C35 -> 2 | D14: =D25+D35 -> 2 | E14: =E25+E35 -> 9 | F14: =F25+F35 -> 0 | G14: =G25+G35 -> 9 | H14: =H25+H35 -> 8 | I14: =I25+I35 -> 0 | J14: =J25+J35 -> 8 | K14: =E14+B14+H14 -> 17 | L14: =F14+C14+I14 -> 2 | M14: =K14+L14 -> 19
A15: 35.04.06 Агроинженерия | B15: =B26+B36 -> 20 | C15: =C26+C36 -> 4 | D15: =D26+D36 -> 24 | E15: =E26+E36 -> 23 | F15: =F26+F36 -> 5 | G15: =G26+G36 -> 28 | H15: =H26+H36 -> 20 | I15: =I26+I36 -> 4 | J15: =J26+J36 -> 24 | K15: =E15+B15+H15 -> 63 | L15: =F15+C15+I15 -> 13 | M15: =K15+L15 -> 76
A16: Итого по направлениям подготовки: | B16: =SUM(B8:B15) -> 62 | C16: =SUM(C7:C15) -> 40 | D16: =SUM(D7:D15) -> 102 | E16: =SUM(E7:E15) -> 93 | F16: =SUM(F7:F15) -> 25 | G16: =SUM(G7:G15) -> 118 | H16: =SUM(H8:H15) -> 86 | I16: =SUM(I8:I15) -> 19 | J16: =SUM(J7:J15) -> 105 | K16: =E16+B16+H16 -> 241 | L16: =C16+F16+I16 -> 84 | M16: =K16+L16 -> 325
A17: В том числе:
A18: Граждане России
A19: 35.04.04 Агрономия | B19: 15 | C19: 1 | D19: =C19+B19 -> 16 | E19: 15 | F19: 4 | G19: =E19+F19 -> 19 | H19: 13 | I19: 1 | J19: =H19+I19 -> 14 | K19: =E19+B19+H19 -> 43 | L19: =F19+C19+I19 -> 6 | M19: =K19+L19 -> 49
A20: 35.04.05 Садоводство | B20: 15 | C20: 8 | D20: =C20+B20 -> 23 | E20: 12 | F20: 1 | G20: =E20+F20 -> 13 | H20: 11 | I20: 1 | J20: =H20+I20 -> 12 | K20: =E20+B20+H20 -> 38 | L20: =F20+C20+I20 -> 10 | M20: =K20+L20 -> 48
A21: 21.04.02 Землеустройство и кадастры | B21: 2 | C21: 15 | D21: =C21+B21 -> 17 | E21: 11 | F21: 8 | G21: =E21+F21 -> 19 | H21: 15 | I21: 10 | J21: =H21+I21 -> 25 | K21: =E21+B21+H21 -> 28 | L21: =F21+C21+I21 -> 33 | M21: =K21+L21 -> 61
A22: 35.04.09 Ландшафтная архитектура | B22: 0 | C22: 0 | D22: =C22+B22 -> 0 | E22: 0 | F22: 0 | G22: =E22+F22 -> 0 | H22: 0 | I22: 0 | J22: =H22+I22 -> 0 | K22: =E22+B22+H22 -> 0 | L22: =F22+C22+I22 -> 0 | M22: =K22+L22 -> 0
A23: 35.04.01 Лесное дело | B23: 10 | C23: 5 | D23: =C23+B23 -> 15 | E23: 12 | F23: 3 | G23: =E23+F23 -> 15 | H23: 7 | I23: 0 | J23: =H23+I23 -> 7 | K23: =E23+B23+H23 -> 29 | L23: =F23+C23+I23 -> 8 | M23: =K23+L23 -> 37
A24: 19.04.02 Продукты питания из растительного сырья | B24: 0 | C24: 5 | D24: =C24+B24 -> 5 | E24: 10 | F24: 4 | G24: =E24+F24 -> 14 | H24: 11 | I24: 3 | J24: =H24+I24 -> 14 | K24: =E24+B24+H24 -> 21 | L24: =F24+C24+I24 -> 12 | M24: =K24+L24 -> 33
A25: 19.04.03 Продукты питания животного происхождения | B25: 0 | C25: 2 | D25: =C25+B25 -> 2 | E25: 9 | F25: 0 | G25: =E25+F25 -> 9 | H25: 8 | I25: 0 | J25: =H25+I25 -> 8 | K25: =E25+B25+H25 -> 17 | L25: =F25+C25+I25 -> 2 | M25: =K25+L25 -> 19
A26: 35.04.06 Агроинженерия | B26: 20 | C26: 4 | D26: =C26+B26 -> 24 | E26: 23 | F26: 5 | G26: =E26+F26 -> 28 | H26: 20 | I26: 4 | J26: =H26+I26 -> 24 | K26: =E26+B26+H26 -> 63 | L26: =F26+C26+I26 -> 13 | M26: =K26+L26 -> 76
A27: Итого граждане России | B27: =SUM(B19:B26) -> 62 | C27: =SUM(C19:C26) -> 40 | D27: =SUM(D19:D26) -> 102 | E27: =SUM(E19:E26) -> 92 | F27: =SUM(F19:F26) -> 25 | G27: =SUM(G19:G26) -> 117 | H27: =SUM(H19:H26) -> 85 | I27: =SUM(I19:I26) -> 19 | J27: =SUM(J19:J26) -> 104 | K27: =E27+B27+H27 -> 239 | L27: =F27+C27+I27 -> 84 | M27: =K27+L27 -> 323
A28: Граждане иностранных государст(вкл.Украину)
A29: 35.04.04 Агрономия | B29: 0 | C29: 0 | D29: =B29+C29 -> 0 | E29: 0 | F29: 0 | G29: =E29+F29 -> 0 | H29: 0 | I29: 0 | J29: 0 | K29: =E29+B29+H29 -> 0 | L29: =F29+C29+I29 -> 0 | M29: =K29+L29 -> 0
A30: 35.04.05 Садоводство | B30: 0 | C30: 0 | D30: =B30+C30 -> 0 | E30: 1 | F30: 0 | G30: =E30+F30 -> 1 | H30: 0 | I30: 0 | J30: =H30+I30 -> 0 | K30: =E30+B30+H30 -> 1 | L30: =F30+C30+I30 -> 0 | M30: =K30+L30 -> 1
A31: 21.04.02 Землеустройство и кадастры | B31: 0 | C31: 0 | D31: =B31+C31 -> 0 | E31: 0 | F31: 0 | G31: =E31+F31 -> 0 | H31: 0 | I31: 0 | J31: =H31+I31 -> 0 | K31: =E31+B31+H31 -> 0 | L31: =F31+C31+I31 -> 0 | M31: =K31+L31 -> 0
A32: 35.04.09 Ландшафтная архитектура | B32: 0 | C32: 0 | D32: =B32+C32 -> 0 | E32: 0 | F32: 0 | G32: =E32+F32 -> 0 | H32: 0 | I32: 0 | J32: 0 | K32: =E32+B32+H32 -> 0 | L32: =F32+C32+I32 -> 0 | M32: =K32+L32 -> 0
A33: 35.04.01 Лесное дело | B33: 0 | C33: 0 | D33: =B33+C33 -> 0 | E33: 0 | F33: 0 | G33: =E33+F33 -> 0 | H33: 0 | I33: 0 | J33: =H33+I33 -> 0 | K33: =E33+B33+H33 -> 0 | L33: =F33+C33+I33 -> 0 | M33: =K33+L33 -> 0
A34: 19.04.02 Продукты питания из растительного сырья | B34: 0 | C34: 0 | D34: =B34+C34 -> 0 | E34: 0 | F34: 0 | G34: =E34+F34 -> 0 | H34: 1 | I34: 0 | J34: =H34+I34 -> 1 | K34: =E34+B34+H34 -> 1 | L34: =F34+C34+I34 -> 0 | M34: =K34+L34 -> 1
A35: 19.04.03 Продукты питания животного происхождения | B35: 0 | C35: 0 | D35: =B35+C35 -> 0 | E35: 0 | F35: 0 | G35: 0 | H35: 0 | I35: 0 | J35: =H35+I35 -> 0 | K35: =E35+B35+H35 -> 0 | L35: =F35+C35+I35 -> 0 | M35: =K35+L35 -> 0
A36: 35.04.06 Агроинженерия | B36: 0 | C36: 0 | D36: =B36+C36 -> 0 | E36: 0 | F36: 0 | G36: 0 | H36: 0 | I36: 0 | J36: 0 | K36: =E36+B36+H36 -> 0 | L36: =F36+C36+I36 -> 0 | M36: =K36+L36 -> 0
A37: Итого граждане иностранных государст(вкл.Украину) | B37: =SUM(B29:B36) -> 0 | C37: =SUM(C29:C36) -> 0 | D37: =SUM(D29:D36) -> 0 | E37: =SUM(E29:E36) -> 1 | F37: =SUM(F29:F36) -> 0 | G37: =SUM(G29:G36) -> 1 | H37: =SUM(H29:H36) -> 1 | I37: =SUM(I29:I36) -> 0 | J37: =SUM(J29:J36) -> 1 | K37: =E37+B37+H37 -> 2 | L37: =F37+C37+I37 -> 0 | M37: =K37+L37 -> 2
A38: Итого граждан России: | B38: =B27 -> 62 | C38: =C27 -> 40 | D38: =D27 -> 102 | E38: =E27 -> 92 | F38: =F27 -> 25 | G38: =G27 -> 117 | H38: =H27 -> 85 | I38: =I27 -> 19 | J38: =J27 -> 104 | K38: =E38+B38+H38 -> 239 | L38: =F38+C38+I38 -> 84 | M38: =K38+L38 -> 323
A39: Итого граждане иностранных государст(вкл.Украину) | B39: =B37 -> 0 | C39: =C37 -> 0 | D39: =D37 -> 0 | E39: =E37 -> 1 | F39: =F37 -> 0 | G39: =G37 -> 1 | H39: =H37 -> 1 | I39: =I37 -> 0 | J39: =J37 -> 1 | K39: =E39+B39+H39 -> 2 | L39: =F39+C39+I39 -> 0 | M39: =K39+L39 -> 2
A40: Всего по АБиП | B40: =B39+B38 -> 62 | C40: =C39+C38 -> 40 | D40: =D39+D38 -> 102 | E40: =E39+E38 -> 93 | F40: =F39+F38 -> 25 | G40: =G39+G38 -> 118 | H40: =H39+H38 -> 86 | I40: =I39+I38 -> 19 | J40: =J39+J38 -> 105 | K40: =E40+B40+H40 -> 241 | L40: =F40+C40+I40 -> 84 | M40: =K40+L40 -> 325
A46: исп. Гобаченоко Т.А.

Sheet Бакалавр ОФО ИЭиУ
A1: ФГАОУ ВО "КФУ им. В.И. Вернадского"
A2: ИНСТИТУТ ЭКОНОМИКИ И УПРАВЛЕНИЯ
A3: Контингент очной формы обучения на 01.10.2020 г. (Бакалавры)
A5: Факультет/направление подготовки | B5: 1 | E5: 2 | H5: 3 | K5: 4 | N5: Всего бакалавры
B7: За счет бюджетных ассигнований | C7: На основе догов. о платных образов. услугах | D7: ВСЕГО | E7: За счет бюджетных ассигнований | F7: На основе догов. о платных образов. услугах | G7: ВСЕГО | H7: За счет бюджетных ассигнований | I7: На основе догов. о платных образов. услугах | J7: ВСЕГО | K7: За счет бюджетных ассигнований | L7: На основе догов. о платных образов. услугах | M7: ВСЕГО | N7: За счет бюджетных ассигнований | O7: На основе догов. о платных образов. услугах | P7: ВСЕГО
A8: Свод по направлениям подготовки
A9: 38.03.01 Экономика | B9: =B18+B26 -> 125 | C9: =C18+C26 -> 8 | D9: =B9+C9 -> 133 | E9: =E18+E26 -> 94 | F9: =F18+F26 -> 10 | G9: =E9+F9 -> 104 | H9: =H18+H26 -> 97 | I9: =I18+I26 -> 25 | J9: =H9+I9 -> 122 | K9: =K18+K26 -> 100 | L9: =L18+L26 -> 31 | M9: =K9+L9 -> 131 | N9: =SUM(B9+E9+H9+K9) -> 416 | O9: =SUM(C9+F9+I9+L9) -> 74 | P9: =SUM(N9:O9) -> 490
A10: 38.03.02 Менеджмент | B10: =B19+B27 -> 42 | C10: =C19+C27 -> 2 | D10: =B10+C10 -> 44 | E10: =E19+E27 -> 45 | F10: =F19+F27 -> 3 | G10: =E10+F10 -> 48 | H10: =H19+H27 -> 46 | I10: =I19+I27 -> 8 | J10: =H10+I10 -> 54 | K10: =K19+K27 -> 49 | L10: =L19+L27 -> 7 | M10: =K10+L10 -> 56 | N10: =SUM(B10+E10+H10+K10) -> 182 | O10: =SUM(C10+F10+I10+L10) -> 20 | P10: =SUM(N10:O10) -> 202
A11: 38.03.03 Управление персоналом | B11: =B20+B28 -> 26 | C11: =C20+C28 -> 5 | D11: =B11+C11 -> 31 | E11: =E20+E28 -> 34 | F11: =F20+F28 -> 0 | G11: =E11+F11 -> 34 | H11: =H20+H28 -> 27 | I11: =I20+I28 -> 6 | J11: =H11+I11 -> 33 | K11: =K20+K28 -> 31 | L11: =L20+L28 -> 3 | M11: =K11+L11 -> 34 | N11: =SUM(B11+E11+H11+K11) -> 118 | O11: =SUM(C11+F11+I11+L11) -> 14 | P11: =SUM(N11:O11) -> 132
A12: 38.03.04 Государственное и муниципальное управление | B12: =B21+B29 -> 44 | C12: =C21+C29 -> 12 | D12: =B12+C12 -> 56 | E12: =E21+E29 -> 40 | F12: =F21+F29 -> 4 | G12: =E12+F12 -> 44 | H12: =H21+H29 -> 40 | I12: =I21+I29 -> 18 | J12: =H12+I12 -> 58 | K12: =K21+K29 -> 30 | L12: =L21+L29 -> 14 | M12: =K12+L12 -> 44 | N12: =SUM(B12+E12+H12+K12) -> 154 | O12: =SUM(C12+F12+I12+L12) -> 48 | P12: =SUM(N12:O12) -> 202
A13: 38.03.05 Бизнес-информатика | B13: =B22+B30 -> 27 | C13: =C22+C30 -> 7 | D13: =B13+C13 -> 34 | E13: =E22+E30 -> 24 | F13: =F22+F30 -> 5 | G13: =E13+F13 -> 29 | H13: =H22+H30 -> 19 | I13: =I22+I30 -> 4 | J13: =H13+I13 -> 23 | K13: =K22+K30 -> 21 | L13: =L22+L30 -> 0 | M13: =K13+L13 -> 21 | N13: =SUM(B13+E13+H13+K13) -> 91 | O13: =SUM(C13+F13+I13+L13) -> 16 | P13: =SUM(N13:O13) -> 107
A14: 38.03.06 Торговое дело | B14: =B23+B31 -> 29 | C14: =C23+C31 -> 2 | D14: =B14+C14 -> 31 | E14: =E23+E31 -> 25 | F14: =F23+F31 -> 1 | G14: =E14+F14 -> 26 | H14: =H23+H31 -> 33 | I14: =I23+I31 -> 5 | J14: =H14+I14 -> 38 | K14: =K23+K31 -> 29 | L14: =L23+L31 -> 4 | M14: =K14+L14 -> 33 | N14: =SUM(B14+E14+H14+K14) -> 116 | O14: =SUM(C14+F14+I14+L14) -> 12 | P14: =SUM(N14:O14) -> 128
A15: Итого по направлениям подготовки: | B15: =SUM(B9:B14) -> 293 | C15: =SUM(C9:C14) -> 36 | D15: =SUM(D9:D14) -> 329 | E15: =SUM(E9:E14) -> 262 | F15: =SUM(F9:F14) -> 23 | G15: =SUM(G9:G14) -> 285 | H15: =SUM(H9:H14) -> 262 | I15: =SUM(I9:I14) -> 66 | ... P15: =SUM(P9:P14) -> 1261
A16: В том числе:
A17: Граждане России
A18: 38.03.01 Экономика | B18: 124 | C18: 7 | D18: =SUM(B18:C18) -> 131 | E18: 92 | F18: 10 | G18: =SUM(E18:F18) -> 102 | H18: 96 | I18: 25 | J18: =SUM(H18:I18) -> 121 | K18: 98 | L18: 29 | M18: =SUM(K18:L18) -> 127 | N18: =SUM(B18+E18+H18+K18) -> 410 | O18: =SUM(C18+F18+I18+L18) -> 71 | P18: =SUM(N18:O18) -> 481
A19: 38.03.02 Менеджмент | B19: 40 | C19: 2 | D19: =SUM(B19:C19) -> 42 | E19: 45 | F19: 3 | G19: =SUM(E19:F19) -> 48 | H19: 45 | I19: 8 | J19: =SUM(H19:I19) -> 53 | K19: 47 | L19: 7 | M19: =SUM(K19:L19) -> 54 | N19: =SUM(B19+E19+H19+K19) -> 177 | O19: =SUM(C19+F19+I19+L19) -> 20 | P19: =SUM(N19:O19) -> 197
A20: 38.03.03 Управление персоналом | B20: 26 | C20: 5 | D20: =SUM(B20:C20) -> 31 | E20: 34 | F20: 0 | G20: =SUM(E20:F20) -> 34 | H20: 27 | I20: 6 | J20: =SUM(H20:I20) -> 33 | K20: 31 | L20: 3 | M20: =SUM(K20:L20) -> 34 | N20: =SUM(B20+E20+H20+K20) -> 118 | O20: =SUM(C20+F20+I20+L20) -> 14 | P20: =SUM(N20:O20) -> 132
A21: 38.03.04 Государственное и муниципальное управление | B21: 44 | C21: 12 | D21: =SUM(B21:C21) -> 56 | E21: 39 | F21: 4 | G21: =SUM(E21:F21) -> 43 | H21: 40 | I21: 18 | J21: =SUM(H21:I21) -> 58 | K21: 30 | L21: 13 | M21: =SUM(K21:L21) -> 43 | N21: =SUM(B21+E21+H21+K21) -> 153 | O21: =SUM(C21+F21+I21+L21) -> 47 | P21: =SUM(N21:O21) -> 200
A22: 38.03.05 Бизнес-информатика | B22: 24 | C22: 7 | D22: =SUM(B22:C22) -> 31 | E22: 24 | F22: 4 | G22: =SUM(E22:F22) -> 28 | H22: 18 | I22: 4 | J22: =SUM(H22:I22) -> 22 | K22: 20 | L22: 0 | M22: =SUM(K22:L22) -> 20 | N22: =SUM(B22+E22+H22+K22) -> 86 | O22: =SUM(C22+F22+I22+L22) -> 15 | P22: =SUM(N22:O22) -> 101
A23: 38.03.06 Торговое дело | B23: 29 | C23: 2 | D23: =SUM(B23:C23) -> 31 | E23: 25 | F23: 1 | G23: =SUM(E23:F23) -> 26 | H23: 32 | I23: 5 | J23: =SUM(H23:I23) -> 37 | K23: 29 | L23: 4 | M23: =SUM(K23:L23) -> 33 | N23: =SUM(B23+E23+H23+K23) -> 115 | O23: =SUM(C23+F23+I23+L23) -> 12 | P23: =SUM(N23:O23) -> 127
A24: Итого граждан России | B24: =SUM(B18:B23) -> 287 | C24: =SUM(C18:C23) -> 35 | D24: =SUM(D18:D23) -> 322 | E24: =SUM(E18:E23) -> 259 | F24: =SUM(F18:F23) -> 22 | G24: =SUM(G18:G23) -> 281 | H24: =SUM(H18:H23) -> 258 | I24: =SUM(I18:I23) -> 66 | ... P24: =SUM(P18:P23) -> 1238
A25: Граждане иностранных государств (вкл. Украину) | N25: =SUM(B25+E25+H25+K25) -> 0 | O25: =SUM(C25+F25+I25+L25) -> 0 | P25: =SUM(N25:O25) -> 0
A26: 38.03.01 Экономика | B26: 1 | C26: 1 | D26: =SUM(B26:C26) -> 2 | E26: 2 | F26: 0 | G26: =SUM(E26:F26) -> 2 | H26: 1 | I26: 0 | J26: =SUM(H26:I26) -> 1 | K26: 2 | L26: 2 | M26: =SUM(K26:L26) -> 4 | N26: =SUM(B26+E26+H26+K26) -> 6 | O26: =SUM(C26+F26+I26+L26) -> 3 | P26: =SUM(N26:O26) -> 9
A27: 38.03.02 Менеджмент | B27: 2 | C27: 0 | D27: =SUM(B27:C27) -> 2 | E27: 0 | F27: 0 | G27: =SUM(E27:F27) -> 0 | H27: 1 | I27: 0 | J27: =SUM(H27:I27) -> 1 | K27: 2 | L27: 0 | M27: =SUM(K27:L27) -> 2 | N27: =SUM(B27+E27+H27+K27) -> 5 | O27: =SUM(C27+F27+I27+L27) -> 0 | P27: =SUM(N27:O27) -> 5
A28: 38.03.03 Управление персоналом | B28: 0 | C28: 0 | D28: =SUM(B28:C28) -> 0 | E28: 0 | F28: 0 | G28: =SUM(E28:F28) -> 0 | H28: 0 | I28: 0 | J28: =SUM(H28:I28) -> 0 | K28: 0 | L28: 0 | M28: =SUM(K28:L28) -> 0 | N28: =SUM(B28+E28+H28+K28) -> 0 | O28: =SUM(C28+F28+I28+L28) -> 0 | P28: =SUM(N28:O28) -> 0
A29: 38.03.04 Государственное и муниципальное управление | B29: 0 | C29: 0 | D29: =SUM(B29:C29) -> 0 | E29: 1 | F29: 0 | G29: =SUM(E29:F29) -> 1 | H29: 0 | I29: 0 | J29: =SUM(H29:I29) -> 0 | K29: 0 | L29: 1 | M29: =SUM(K29:L29) -> 1 | N29: =SUM(B29+E29+H29+K29) -> 1 | O29: =SUM(C29+F29+I29+L29) -> 1 | P29: =SUM(N29:O29) -> 2
A30: 38.03.05 Бизнес-информатика | B30: 3 | C30: 0 | D30: =SUM(B30:C30) -> 3 | E30: 0 | F30: 1 | G30: =SUM(E30:F30) -> 1 | H30: 1 | I30: 0 | J30: =SUM(H30:I30) -> 1 | K30: 1 | L30: 0 | M30: =SUM(K30:L30) -> 1 | N30: =SUM(B30+E30+H30+K30) -> 5 | O30: =SUM(C30+F30+I30+L30) -> 1 | P30: =SUM(N30:O30) -> 6
A31: 38.03.06 Торговое дело | B31: 0 | C31: 0 | D31: =SUM(B31:C31) -> 0 | E31: 0 | F31: 0 | G31: =SUM(E31:F31) -> 0 | H31: 1 | I31: 0 | J31: =SUM(H31:I31) -> 1 | K31: 0 | L31: 0 | M31: =SUM(K31:L31) -> 0 | N31: =SUM(B31+E31+H31+K31) -> 1 | O31: =SUM(C31+F31+I31+L31) -> 0 | P31: =SUM(N31:O31) -> 1
A32: Итого граждане иностранных государств | B32: =SUM(B26:B31) -> 6 | C32: =SUM(C26:C31) -> 1 | D32: =SUM(D26:D31) -> 7 | E32: =SUM(E26:E31) -> 3 | F32: =SUM(F26:F31) -> 1 | G32: =SUM(G26:G31) -> 4 | H32: =SUM(H26:H31) -> 4 | I32: =SUM(I26:I31) -> 0 | ... P32: =SUM(P26:P31) -> 23
A33: ИТОГО по подразделению граждане России | B33: =B24 -> 287 | C33: =C24 -> 35 | D33: =D24 -> 322 | E33: =E24 -> 259 | F33: =F24 -> 22 | G33: =G24 -> 281 | H33: =H24 -> 258 | I33: =I24 -> 66 | ... P33: =P24 -> 1238
A34: ИТОГО по подразделению иностранные граждане | B34: =B32 -> 6 | C34: =C32 -> 1 | D34: =D32 -> 7 | E34: =E32 -> 3 | F34: =F32 -> 1 | G34: =G32 -> 4 | H34: =H32 -> 4 | I34: =I32 -> 0 | ... P34: =P32 -> 23
A35: Итого | B35: =SUM(B33:B34) -> 293 | C35: =SUM(C33:C34) -> 36 | D35: =SUM(D33:D34) -> 329 | E35: =SUM(E33:E34) -> 262 | F35: =SUM(F33:F34) -> 23 | G35: =SUM(G33:G34) -> 285 | H35: =SUM(H33:H34) -> 262 | I35: =SUM(I33:I34) -> 66 | ... O35: =SUM(O33:O34) -> 184 | P35: =P33+P34 -> 1261

Sheet Бакалав ЗФО ИЭиУ
A2: ФГАОУ ВО "КФУ им. Вернадского"
A3: ИНСТИТУТ ЭКОНОМИКИ И УПРАВЛЕНИЯ
A4: (структурное подразделение)
A5: Контингент заочная форма обучения на 01.10.2020 г. (Бакалавры)
A7: Факультет/направление подготовки | B7: 1 | E7: 2 | H7: 3 | K7: 4 | N7: 5 | Q7: Всего бакалавры
B9: За счет бюджетных ассигнований | C9: На основе догов. о платных образов. услугах | D9: ВСЕГО | E9: За счет бюджетных ассигнований | F9: На основе догов. о платных образов. услугах | G9: ВСЕГО | H9: За счет бюджетных ассигнований | I9: На основе догов. о платных образов. услугах | J9: ВСЕГО | K9: За счет бюджетных ассигнований | L9: На основе догов. о платных образов. услугах | M9: ВСЕГО | N9: За счет бюджетных ассигнований | O9: На основе догов. о платных образов. услугах | P9: ВСЕГО | Q9: За счет бюджетных ассигнований | R9: На основе догов. о платных образов. услугах | S9: ВСЕГО
A10: Свод по направлениям подготовки
A11: 38.03.01 Экономика | B11: =B20+B28 -> 0 | C11: =C20+C28 -> 23 | D11: =B11+C11 -> 23 | E11: =E20+E28 -> 2 | F11: =F20+F28 -> 23 | G11: =E11+F11 -> 25 | H11: =H20+H28 -> 17 | I11: =I20+I28 -> 51 | J11: =H11+I11 -> 68 | K11: =K20+K28 -> 25 | L11: =L20+L28 -> 24 | M11: =K11+L11 -> 49 | N11: =N20+N28 -> 32 | O11: =O20+O28 -> 30 | P11: =P20+P28 -> 62 | Q11: =SUM(B11+E11+H11+K11+N11) -> 76 | R11: =SUM(C11+F11+I11+L11+O11) -> 151 | S11: =SUM(Q11:R11) -> 227
A12: 38.03.02 Менеджмент | B12: =B21+B29 -> 0 | C12: =C21+C29 -> 0 | D12: =B12+C12 -> 0 | E12: =E21+E29 -> 1 | F12: =F21+F29 -> 1 | G12: =E12+F12 -> 2 | H12: =H21+H29 -> 10 | I12: =I21+I29 -> 11 | J12: =H12+I12 -> 21 | K12: =K21+K29 -> 9 | L12: =L21+L29 -> 6 | M12: =K12+L12 -> 15 | N12: =N21+N29 -> 18 | O12: =O21+O29 -> 16 | P12: =P21+P29 -> 34 | Q12: =SUM(B12+E12+H12+K12+N12) -> 38 | R12: =SUM(C12+F12+I12+L12+O12) -> 34 | S12: =SUM(Q12:R12) -> 72
A13: 38.03.03 Управление персоналом | B13: =B22+B30 -> 0 | C13: =C22+C30 -> 0 | D13: =B13+C13 -> 0 | E13: =E22+E30 -> 0 | F13: =F22+F30 -> 0 | G13: =E13+F13 -> 0 | H13: =H22+H30 -> 5 | I13: =I22+I30 -> 12 | J13: =H13+I13 -> 17 | K13: =K22+K30 -> 3 | L13: =L22+L30 -> 13 | M13: =K13+L13 -> 16 | N13: =N22+N30 -> 8 | O13: =O22+O30 -> 11 | P13: =P22+P30 -> 19 | Q13: =SUM(B13+E13+H13+K13+N13) -> 16 | R13: =SUM(C13+F13+I13+L13+O13) -> 36 | S13: =SUM(Q13:R13) -> 52
A14: 38.03.04 Государственное и муниципальное управление | B14: =B23+B31 -> 0 | C14: =C23+C31 -> 21 | D14: =B14+C14 -> 21 | E14: =E23+E31 -> 0 | F14: =F23+F31 -> 32 | G14: =E14+F14 -> 32 | H14: =H23+H31 -> 6 | I14: =I23+I31 -> 16 | J14: =H14+I14 -> 22 | K14: =K23+K31 -> 5 | L14: =L23+L31 -> 17 | M14: =K14+L14 -> 22 | N14: =N23+N31 -> 7 | O14: =O23+O31 -> 20 | P14: =P23+P31 -> 27 | Q14: =SUM(B14+E14+H14+K14+N14) -> 18 | R14: =SUM(C14+F14+I14+L14+O14) -> 106 | S14: =SUM(Q14:R14) -> 124
A15: 38.03.05 Бизнес-информатика | B15: =B24+B32 -> 0 | C15: =C24+C32 -> 0 | D15: =B15+C15 -> 0 | E15: =E24+E32 -> 0 | F15: =F24+F32 -> 0 | G15: =E15+F15 -> 0 | H15: =H24+H32 -> 0 | I15: =I24+I32 -> 0 | J15: =H15+I15 -> 0 | K15: =K24+K32 -> 4 | L15: =L24+L32 -> 4 | M15: =K15+L15 -> 8 | N15: =N24+N32 -> 4 | O15: =O24+O32 -> 1 | P15: =P24+P32 -> 5 | Q15: =SUM(B15+E15+H15+K15+N15) -> 8 | R15: =SUM(C15+F15+I15+L15+O15) -> 5 | S15: =SUM(Q15:R15) -> 13
A16: 38.03.06 Торговое дело | B16: =B25+B33 -> 0 | C16: =C25+C33 -> 0 | D16: =B16+C16 -> 0 | E16: =E25+E33 -> 1 | F16: =F25+F33 -> 0 | G16: =E16+F16 -> 1 | H16: =H25+H33 -> 3 | I16: =I25+I33 -> 5 | J16: =H16+I16 -> 8 | K16: =K25+K33 -> 5 | L16: =L25+L33 -> 1 | M16: =K16+L16 -> 6 | N16: =N25+N33 -> 13 | O16: =O25+O33 -> 4 | P16: =P25+P33 -> 17 | Q16: =SUM(B16+E16+H16+K16+N16) -> 22 | R16: =SUM(C16+F16+I16+L16+O16) -> 10 | S16: =SUM(Q16:R16) -> 32
A17: Итого по направлениям подготовки | B17: =SUM(B11:B16) -> 0 | C17: =SUM(C11:C16) -> 44 | D17: =SUM(D11:D16) -> 44 | E17: =SUM(E11:E16) -> 4 | F17: =SUM(F11:F16) -> 56 | G17: =SUM(G11:G16) -> 60 | H17: =SUM(H11:H16) -> 41 | I17: =SUM(I11:I16) -> 95 | ... T17: =SUM(T11:T16) -> 0
A18: В том числе:
A19: Граждане России
A20: 38.03.01 Экономика | B20: 0 | C20: 23 | D20: =SUM(B20:C20) -> 23 | E20: 2 | F20: 23 | G20: =SUM(E20:F20) -> 25 | H20: 17 | I20: 49 | J20: =SUM(H20:I20) -> 66 | K20: 24 | L20: 24 | M20: =SUM(K20:L20) -> 48 | N20: 32 | O20: 30 | P20: =N20+O20 -> 62 | Q20: =SUM(B20+E20+H20+K20+N20) -> 75 | R20: =SUM(C20+F20+I20+L20+O20) -> 149 | S20: =SUM(Q20:R20) -> 224
A21: 38.03.02 Менеджмент | B21: 0 | C21: 0 | D21: =SUM(B21:C21) -> 0 | E21: 1 | F21: 1 | G21: =SUM(E21:F21) -> 2 | H21: 10 | I21: 11 | J21: =SUM(H21:I21) -> 21 | K21: 9 | L21: 6 | M21: =SUM(K21:L21) -> 15 | N21: 18 | O21: 16 | P21: =N21+O21 -> 34 | Q21: =SUM(B21+E21+H21+K21+N21) -> 38 | R21: =SUM(C21+F21+I21+L21+O21) -> 34 | S21: =SUM(Q21:R21) -> 72
A22: 38.03.03 Управление персоналом | B22: 0 | C22: 0 | D22: =SUM(B22:C22) -> 0 | E22: 0 | F22: 0 | G22: =SUM(E22:F22) -> 0 | H22: 4 | I22: 11 | J22: =SUM(H22:I22) -> 15 | K22: 3 | L22: 12 | M22: =SUM(K22:L22) -> 15 | N22: 8 | O22: 11 | P22: =N22+O22 -> 19 | Q22: =SUM(B22+E22+H22+K22+N22) -> 15 | R22: =SUM(C22+F22+I22+L22+O22) -> 34 | S22: =SUM(Q22:R22) -> 49
A23: 38.03.04 Государственное и муниципальное управление | B23: 0 | C23: 20 | D23: =SUM(B23:C23) -> 20 | E23: 0 | F23: 30 | G23: =SUM(E23:F23) -> 30 | H23: 6 | I23: 16 | J23: =SUM(H23:I23) -> 22 | K23: 3 | L23: 17 | M23: =SUM(K23:L23) -> 20 | N23: 7 | O23: 20 | P23: =N23+O23 -> 27 | Q23: =SUM(B23+E23+H23+K23+N23) -> 16 | R23: =SUM(C23+F23+I23+L23+O23) -> 103 | S23: =SUM(Q23:R23) -> 119
A24: 38.03.05 Бизнес-информатика | B24: 0 | C24: 0 | D24: =SUM(B24:C24) -> 0 | E24: 0 | F24: 0 | G24: =SUM(E24:F24) -> 0 | H24: 0 | I24: 0 | J24: =SUM(H24:I24) -> 0 | K24: 3 | L24: 4 | M24: =SUM(K24:L24) -> 7 | N24: 4 | O24: 1 | P24: =N24+O24 -> 5 | Q24: =SUM(B24+E24+H24+K24+N24) -> 7 | R24: =SUM(C24+F24+I24+L24+O24) -> 5 | S24: =SUM(Q24:R24) -> 12
A25: 38.03.06 Торговое дело | B25: 0 | C25: 0 | D25: =SUM(B25:C25) -> 0 | E25: 1 | F25: 0 | G25: =SUM(E25:F25) -> 1 | H25: 2 | I25: 5 | J25: =SUM(H25:I25) -> 7 | K25: 5 | L25: 1 | M25: =SUM(K25:L25) -> 6 | N25: 13 | O25: 4 | P25: =N25+O25 -> 17 | Q25: =SUM(B25+E25+H25+K25+N25) -> 21 | R25: =SUM(C25+F25+I25+L25+O25) -> 10 | S25: =SUM(Q25:R25) -> 31
A26: Итого граждане России | B26: =SUM(B20:B25) -> 0 | C26: =SUM(C20:C25) -> 43 | D26: =SUM(D20:D25) -> 43 | E26: =SUM(E20:E25) -> 4 | F26: =SUM(F20:F25) -> 54 | G26: =SUM(G20:G25) -> 58 | H26: =SUM(H20:H25) -> 39 | I26: =SUM(I20:I25) -> 92 | ... T26: =SUM(T20:T25) -> 0
A27: Граждане иностранных государств (вкл. Украину)
A28: 38.03.01 Экономика | B28: 0 | C28: 0 | D28: =SUM(B28:C28) -> 0 | E28: 0 | F28: 0 | G28: =SUM(E28:F28) -> 0 | H28: 0 | I28: 2 | J28: =SUM(H28:I28) -> 2 | K28: 1 | L28: 0 | M28: =SUM(K28:L28) -> 1 | N28: 0 | O28: 0 | P28: =N28+O28 -> 0 | Q28: =B28+E28+H28+K28+N28 -> 1 | R28: =C28+F28+I28+L28+O28 -> 2 | S28: =SUM(Q28:R28) -> 3
A29: 38.03.02 Менеджмент | B29: 0 | C29: 0 | D29: =SUM(B29:C29) -> 0 | E29: 0 | F29: 0 | G29: =SUM(E29:F29) -> 0 | H29: 0 | I29: 0 | J29: =SUM(H29:I29) -> 0 | K29: 0 | L29: 0 | M29: =SUM(K29:L29) -> 0 | N29: 0 | O29: 0 | P29: =N29+O29 -> 0 | Q29: =B29+E29+H29+K29+N29 -> 0 | R29: =C29+F29+I29+L29+O29 -> 0 | S29: =SUM(Q29:R29) -> 0
A30: 38.03.03 Управление персоналом | B30: 0 | C30: 0 | D30: =SUM(B30:C30) -> 0 | E30: 0 | F30: 0 | G30: =SUM(E30:F30) -> 0 | H30: 1 | I30: 1 | J30: =SUM(H30:I30) -> 2 | K30: 0 | L30: 1 | M30: =SUM(K30:L30) -> 1 | N30: 0 | O30: 0 | P30: =N30+O30 -> 0 | Q30: =B30+E30+H30+K30+N30 -> 1 | R30: =C30+F30+I30+L30+O30 -> 2 | S30: =SUM(Q30:R30) -> 3
A31: 38.03.04 Государственное и муниципальное управление | B31: 0 | C31: 1 | D31: =SUM(B31:C31) -> 1 | E31: 0 | F31: 2 | G31: =SUM(E31:F31) -> 2 | H31: 0 | I31: 0 | J31: =SUM(H31:I31) -> 0 | K31: 2 | L31: 0 | M31: =SUM(K31:L31) -> 2 | N31: 0 | O31: 0 | P31: =N31+O31 -> 0 | Q31: =B31+E31+H31+K31+N31 -> 2 | R31: =C31+F31+I31+L31+O31 -> 3 | S31: =SUM(Q31:R31) -> 5
A32: 38.03.05 Бизнес-информатика | B32: 0 | C32: 0 | D32: =SUM(B32:C32) -> 0 | E32: 0 | F32: 0 | G32: =SUM(E32:F32) -> 0 | H32: 0 | I32: 0 | J32: =SUM(H32:I32) -> 0 | K32: 1 | L32: 0 | M32: =SUM(K32:L32) -> 1 | N32: 0 | O32: 0 | P32: =N32+O32 -> 0 | Q32: =B32+E32+H32+K32+N32 -> 1 | R32: =C32+F32+I32+L32+O32 -> 0 | S32: =SUM(Q32:R32) -> 1
A33: 38.03.06 Торговое дело | B33: 0 | C33: 0 | D33: =SUM(B33:C33) -> 0 | E33: 0 | F33: 0 | G33: =SUM(E33:F33) -> 0 | H33: 1 | I33: 0 | J33: =SUM(H33:I33) -> 1 | K33: 0 | L33: 0 | M33: =SUM(K33:L33) -> 0 | N33: 0 | O33: 0 | P33: =N33+O33 -> 0 | Q33: =B33+E33+H33+K33+N33 -> 1 | R33: =C33+F33+I33+L33+O33 -> 0 | S33: =SUM(Q33:R33) -> 1
A34: Итого граждане иностранных государств | B34: =SUM(B28:B33) -> 0 | C34: =SUM(C28:C33) -> 1 | D34: =SUM(D28:D33) -> 1 | E34: =SUM(E28:E33) -> 0 | F34: =SUM(F28:F33) -> 2 | G34: =SUM(G28:G33) -> 2 | H34: =SUM(H28:H33) -> 2 | I34: =SUM(I28:I33) -> 3 | ... S34: =SUM(S28:S33) -> 13
A35: ИТОГО по подразделению граждане России | B35: =B26 -> 0 | C35: =C26 -> 43 | D35: =D26 -> 43 | E35: =E26 -> 4 | F35: =F26 -> 54 | G35: =G26 -> 58 | H35: =H26 -> 39 | I35: =I26 -> 92 | ... S35: =S26 -> 507
A36: ИТОГО по подразделению граждане иностранных государств | B36: =B34 -> 0 | C36: =C34 -> 1 | D36: =D34 -> 1 | E36: =E34 -> 0 | F36: =F34 -> 2 | G36: =G34 -> 2 | H36: =H34 -> 2 | I36: =I34 -> 3 | ... S36: =S34 -> 13
A37: Свод по направлениям подготовки | B37: =SUM(B35:B36) -> 0 | C37: =SUM(C35:C36) -> 44 | D37: =SUM(D35:D36) -> 44 | E37: =SUM(E35:E36) -> 4 | F37: =SUM(F35:F36) -> 56 | G37: =SUM(G35:G36) -> 60 | H37: =SUM(H35:H36) -> 41 | I37: =SUM(I35:I36) -> 95 | ... S37: =SUM(S35:S36) -> 520

Sheet МАГ ОФО ИЭиУ
A2: ФГАОУ ВО "КФУ им. В.И. Вернадского"
A3: ИНСТИТУТ ЭКОНОМИКИ И УПРАВЛЕНИЯ
A4: (структурное подразделение)
A5: Контингент очной формы обучения на 01.10.2020 г. (Магистры)
A7: Факультет/направление подготовки | B7: 1 год обучения | E7: 2 год обучения | H7: Всего магистры
B8: МАГИСТР | E8: МАГИСТР
B9: За счет бюджетных ассигнований | C9: На основе догов. о платных образов. услугах | D9: ВСЕГО | E9: За счет бюджетных ассигнований | F9: На основе догов. о платных образов. услугах | G9: ВСЕГО | H9: За счет бюджетных ассигнований | I9: На основе догов. о платных образов. услугах | J9: ВСЕГО
A10: Свод по направлениям подготовки
A11: 38.04.01 Экономика | B11: =B21+B30 -> 55 | C11: =C21+C30 -> 3 | D11: =D21+D30 -> 58 | E11: =E21+E30 -> 72 | F11: =F21+F30 -> 1 | G11: =G21+G30 -> 73 | H11: =SUM(B11+E11) -> 127 | I11: =SUM(C11+F11) -> 4 | J11: =SUM(H11:I11) -> 131
A12: 38.04.02 Менеджмент | B12: =B22+B31 -> 20 | C12: =C22+C31 -> 1 | D12: =D22+D31 -> 21 | E12: =E22+E31 -> 25 | F12: =F22+F31 -> 0 | G12: =G22+G31 -> 25 | H12: =SUM(B12+E12) -> 45 | I12: =SUM(C12+F12) -> 1 | J12: =SUM(H12:I12) -> 46
A13: 38.04.03 Управление персоналом | B13: =B23+B32 -> 15 | C13: =C23+C32 -> 1 | D13: =D23+D32 -> 16 | E13: =E23+E32 -> 20 | F13: =F23+F32 -> 0 | G13: =G23+G32 -> 20 | H13: =SUM(B13+E13) -> 35 | I13: =SUM(C13+F13) -> 1 | J13: =SUM(H13:I13) -> 36
A14: 38.04.04 Государственное и муниципальное управление | B14: =B24+B33 -> 20 | C14: =C24+C33 -> 1 | D14: =D24+D33 -> 21 | E14: =E24+E33 -> 30 | F14: =F24+F33 -> 1 | G14: =G24+G33 -> 31 | H14: =SUM(B14+E14) -> 50 | I14: =SUM(C14+F14) -> 2 | J14: =SUM(H14:I14) -> 52
A15: 38.04.05 Бизнес-информатика | B15: =B25+B34 -> 15 | C15: =C25+C34 -> 2 | D15: =D25+D34 -> 17 | E15: =E25+E34 -> 20 | F15: =F25+F34 -> 3 | G15: =G25+G34 -> 23 | H15: =SUM(B15+E15) -> 35 | I15: =SUM(C15+F15) -> 5 | J15: =SUM(H15:I15) -> 40
A16: 38.04.06 Торговое дело | B16: =B26+B35 -> 18 | C16: =C26+C35 -> 1 | D16: =D26+D35 -> 19 | E16: =E26+E35 -> 19 | F16: =F26+F35 -> 0 | G16: =G26+G35 -> 19 | H16: =SUM(B16+E16) -> 37 | I16: =SUM(C16+F16) -> 1 | J16: =SUM(H16:I16) -> 38
A17: 38.04.08 Финансы и кредит | B17: =B27+B36 -> 22 | C17: =C27+C36 -> 0 | D17: =D27+D36 -> 22 | E17: =E27+E36 -> 49 | F17: =F27+F36 -> 0 | G17: =G27+G36 -> 49 | H17: =SUM(B17+E17) -> 71 | I17: =SUM(C17+F17) -> 0 | J17: =SUM(H17:I17) -> 71
A18: Итого по направлениям подготовки: | B18: =SUM(B10:B17) -> 165 | C18: =SUM(C10:C17) -> 9 | D18: =SUM(D10:D17) -> 174 | E18: =SUM(E10:E17) -> 235 | F18: =SUM(F10:F17) -> 5 | G18: =SUM(G10:G17) -> 240 | H18: =SUM(H10:H17) -> 400 | I18: =SUM(I10:I17) -> 14 | J18: =SUM(J10:J17) -> 414
A19: В том числе:
A20: Граждане России
A21: 38.04.01 Экономика | B21: 53 | C21: 3 | D21: =SUM(B21:C21) -> 56 | E21: 71 | F21: 1 | G21: =SUM(E21:F21) -> 72 | H21: =SUM(B21+E21) -> 124 | I21: =SUM(C21+F21) -> 4 | J21: =SUM(H21:I21) -> 128
A22: 38.04.02 Менеджмент | B22: 19 | C22: 0 | D22: =SUM(B22:C22) -> 19 | E22: 24 | F22: 0 | G22: =SUM(E22:F22) -> 24 | H22: =SUM(B22+E22) -> 43 | I22: =SUM(C22+F22) -> 0 | J22: =SUM(H22:I22) -> 43
A23: 38.04.03 Управление персоналом | B23: 14 | C23: 1 | D23: =SUM(B23:C23) -> 15 | E23: 20 | F23: 0 | G23: =SUM(E23:F23) -> 20 | H23: =SUM(B23+E23) -> 34 | I23: =SUM(C23+F23) -> 1 | J23: =SUM(H23:I23) -> 35
A24: 38.04.04 Государственное и муниципальное управление | B24: 20 | C24: 1 | D24: =SUM(B24:C24) -> 21 | E24: 30 | F24: 1 | G24: =SUM(E24:F24) -> 31 | H24: =SUM(B24+E24) -> 50 | I24: =SUM(C24+F24) -> 2 | J24: =SUM(H24:I24) -> 52
A25: 38.04.05 Бизнес-информатика | B25: 14 | C25: 2 | D25: =SUM(B25:C25) -> 16 | E25: 20 | F25: 3 | G25: =SUM(E25:F25) -> 23 | H25: =SUM(B25+E25) -> 34 | I25: =SUM(C25+F25) -> 5 | J25: =SUM(H25:I25) -> 39
A26: 38.04.06 Торговое дело | B26: 18 | C26: 1 | D26: =SUM(B26:C26) -> 19 | E26: 18 | F26: 0 | G26: =SUM(E26:F26) -> 18 | H26: =SUM(B26+E26) -> 36 | I26: =SUM(C26+F26) -> 1 | J26: =SUM(H26:I26) -> 37
A27: 38.04.08 Финансы и кредит | B27: 21 | C27: 0 | D27: =SUM(B27:C27) -> 21 | E27: 48 | F27: 0 | G27: =SUM(E27:F27) -> 48 | H27: =SUM(B27+E27) -> 69 | I27: =SUM(C27+F27) -> 0 | J27: =SUM(H27:I27) -> 69
A28: Итого граждане России | B28: =SUM(B21:B27) -> 159 | C28: =SUM(C21:C27) -> 8 | D28: =SUM(D21:D27) -> 167 | E28: =SUM(E21:E27) -> 231 | F28: =SUM(F21:F27) -> 5 | G28: =SUM(G21:G27) -> 236 | H28: =SUM(H21:H27) -> 390 | I28: =SUM(I21:I27) -> 13 | J28: =SUM(J21:J27) -> 403
A29: Граждане иностранных государств (вкл. Украину)
A30: 38.04.01 Экономика | B30: 2 | C30: 0 | D30: =SUM(B30:C30) -> 2 | E30: 1 | F30: 0 | G30: =SUM(E30:F30) -> 1 | H30: =SUM(B30+E30) -> 3 | I30: =SUM(C30+F30) -> 0 | J30: =D30+G30 -> 3
A31: 38.04.02 Менеджмент | B31: 1 | C31: 1 | D31: =SUM(B31:C31) -> 2 | E31: 1 | F31: 0 | G31: =SUM(E31:F31) -> 1 | H31: =B31+E31 -> 2 | I31: =C31+F31 -> 1 | J31: =D31+G31 -> 3
A32: 38.04.03 Управление персоналом | B32: 1 | C32: 0 | D32: =SUM(B32:C32) -> 1 | E32: 0 | F32: 0 | G32: =SUM(E32:F32) -> 0 | H32: =B32+E32 -> 1 | I32: =C32+F32 -> 0 | J32: =D32+G32 -> 1
A33: 38.04.04 Государственное и муниципальное управление | B33: 0 | C33: 0 | D33: =SUM(B33:C33) -> 0 | E33: 0 | F33: 0 | G33: =SUM(E33:F33) -> 0 | H33: =B33+E33 -> 0 | I33: =C33+F33 -> 0 | J33: =D33+G33 -> 0
A34: 38.04.05 Бизнес-информатика | B34: 1 | C34: 0 | D34: =SUM(B34:C34) -> 1 | E34: 0 | F34: 0 | G34: =SUM(E34:F34) -> 0 | H34: =B34+E34 -> 1 | I34: =C34+F34 -> 0 | J34: =D34+G34 -> 1
A35: 38.04.06 Торговое дело | B35: 0 | C35: 0 | D35: =SUM(B35:C35) -> 0 | E35: 1 | F35: 0 | G35: =SUM(E35:F35) -> 1 | H35: =B35+E35 -> 1 | I35: =C35+F35 -> 0 | J35: =D35+G35 -> 1
A36: 38.04.08 Финансы и кредит | B36: 1 | C36: 0 | D36: =SUM(B36:C36) -> 1 | E36: 1 | F36: 0 | G36: =SUM(E36:F36) -> 1 | H36: =B36+E36 -> 2 | I36: =C36+F36 -> 0 | J36: =D36+G36 -> 2
A37: Итого граждане иностранных государств | B37: =SUM(B30:B36) -> 6 | C37: =SUM(C30:C36) -> 1 | D37: =SUM(D30:D36) -> 7 | E37: =SUM(E30:E36) -> 4 | F37: =SUM(F30:F36) -> 0 | G37: =SUM(G30:G36) -> 4 | H37: =SUM(H30:H36) -> 10 | I37: =SUM(I30:I36) -> 1 | J37: =SUM(J30:J36) -> 11
A38: ИТОГО по подразделению граждане России | B38: =B28 -> 159 | C38: =C28 -> 8 | D38: =D28 -> 167 | E38: =E28 -> 231 | F38: =F28 -> 5 | G38: =G28 -> 236 | H38: =H28 -> 390 | I38: =I28 -> 13 | J38: =J28 -> 403
A39: ИТОГО по подразделению иностранные граждане | B39: =B37 -> 6 | C39: =C37 -> 1 | D39: =D37 -> 7 | E39: =E37 -> 4 | F39: =F37 -> 0 | G39: =G37 -> 4 | H39: =H37 -> 10 | I39: =I37 -> 1 | J39: =J37 -> 11
A40: Итого | B40: =SUM(B38:B39) -> 165 | C40: =SUM(C38:C39) -> 9 | D40: =SUM(D38:D39) -> 174 | E40: =SUM(E38:E39) -> 235 | F40: =SUM(F38:F39) -> 5 | G40: =SUM(G38:G39) -> 240 | H40: =SUM(H38:H39) -> 400 | I40: =SUM(I38:I39) -> 14 | J40: =SUM(J38:J39) -> 414
A41: Начальник отдела организации и мониторинга учебного процесса ____________________ Н.В. Новохатскася
A42: Директор института экономики и управления ____________________ В.Е. Реутов

Sheet МАГ ЗФО ИЭиУ
A2: ФГАОУ ВО "КФУ им. В.И. Вернадского"
A3: ИНСТИТУТ ЭКОНОМИКИ И УПРАВЛЕНИЯ
A4: (структурное подразделение)
A5: Контингент заочной формы обучения на 01.10.2020 г. (Магистры)
A7: Факультет/направление подготовки | B7: 1 год обучения | E7: 2 год обучения | H7: 3 год обучения | K7: Всего магистры
B8: МАГИСТР | E8: МАГИСТР | H8: МАГИСТР
B9: За счет бюджетных ассигнований | C9: На основе догов. о платных образов. услугах | D9: ВСЕГО | E9: За счет бюджетных ассигнований | F9: На основе догов. о платных образов. услугах | G9: ВСЕГО | H9: За счет бюджетных ассигнований | I9: На основе догов. о платных образов. услугах | J9: ВСЕГО | K9: За счет бюджетных ассигнований | L9: На основе догов. о платных образов. услугах | M9: ВСЕГО
A10: Свод по направлениям подготовки
A11: 38.04.01 Экономика | B11: =B21+B30 -> 13 | C11: =C21+C30 -> 28 | D11: =B11+C11 -> 41 | E11: =E21+E30 -> 24 | F11: =F21+F30 -> 22 | G11: =E11+F11 -> 46 | H11: =H21+H30 -> 29 | I11: =I21+I30 -> 22 | J11: =H11+I11 -> 51 | K11: =SUM(B11+E11+H11) -> 66 | L11: =SUM(C11+F11+I11) -> 72 | M11: =SUM(K11:L11) -> 138
A12: 38.04.02 Менеджмент | B12: =B22+B31 -> 0 | C12: =C22+C31 -> 26 | D12: =B12+C12 -> 26 | E12: =E22+E31 -> 0 | F12: =F22+F31 -> 7 | G12: =E12+F12 -> 7 | H12: =H22+H31 -> 0 | I12: =I22+I31 -> 19 | J12: =H12+I12 -> 19 | K12: =SUM(B12+E12+H12) -> 0 | L12: =SUM(C12+F12+I12) -> 52 | M12: =SUM(K12:L12) -> 52
A13: 38.04.03 Управление персоналом | B13: =B23+B32 -> 0 | C13: =C23+C32 -> 0 | D13: =B13+C13 -> 0 | E13: =E23+E32 -> 0 | F13: =F23+F32 -> 8 | G13: =E13+F13 -> 8 | H13: =H23+H32 -> 5 | I13: =I23+I32 -> 16 | J13: =H13+I13 -> 21 | K13: =SUM(B13+E13+H13) -> 5 | L13: =SUM(C13+F13+I13) -> 24 | M13: =SUM(K13:L13) -> 29
A14: 38.04.04 Государственное и муниципальное управление | B14: =B24+B33 -> 0 | C14: =C24+C33 -> 51 | D14: =B14+C14 -> 51 | E14: =E24+E33 -> 6 | F14: =F24+F33 -> 72 | G14: =E14+F14 -> 78 | H14: =H24+H33 -> 5 | I14: =I24+I33 -> 70 | J14: =H14+I14 -> 75 | K14: =SUM(B14+E14+H14) -> 11 | L14: =SUM(C14+F14+I14) -> 193 | M14: =SUM(K14:L14) -> 204
A15: 38.04.05 Бизнес-информатика | B15: =B25+B34 -> 0 | C15: =C25+C34 -> 0 | D15: =B15+C15 -> 0 | E15: =E25+E34 -> 0 | F15: =F25+F34 -> 0 | G15: =E15+F15 -> 0 | H15: =H25+H34 -> 5 | I15: =I25+I34 -> 1 | J15: =H15+I15 -> 6 | K15: =SUM(B15+E15+H15) -> 5 | L15: =SUM(C15+F15+I15) -> 1 | M15: =SUM(K15:L15) -> 6
A16: 38.04.06 Торговое дело | B16: =B26+B35 -> 0 | C16: =C26+C35 -> 0 | D16: =B16+C16 -> 0 | E16: =E26+E35 -> 0 | F16: =F26+F35 -> 0 | G16: =E16+F16 -> 0 | H16: =H26+H35 -> 0 | I16: =I26+I35 -> 0 | J16: =H16+I16 -> 0 | K16: =SUM(B16+E16+H16) -> 0 | L16: =SUM(C16+F16+I16) -> 0 | M16: =SUM(K16:L16) -> 0
A17: 38.04.08 Финансы и кредит | B17: =B27+B36 -> 10 | C17: =C27+C36 -> 7 | D17: =B17+C17 -> 17 | E17: =E27+E36 -> 15 | F17: =F27+F36 -> 2 | G17: =E17+F17 -> 17 | H17: =H27+H36 -> 25 | I17: =I27+I36 -> 9 | J17: =H17+I17 -> 34 | K17: =SUM(B17+E17+H17) -> 50 | L17: =SUM(C17+F17+I17) -> 18 | M17: =SUM(K17:L17) -> 68
A18: Итого по направлениям подготовки: | B18: =SUM(B11:B17) -> 23 | C18: =SUM(C11:C17) -> 112 | D18: =SUM(D11:D17) -> 135 | E18: =SUM(E11:E17) -> 45 | F18: =SUM(F11:F17) -> 111 | G18: =SUM(G11:G17) -> 156 | H18: =SUM(H11:H17) -> 69 | I18: =SUM(I11:I17) -> 137 | ... M18: =SUM(M11:M17) -> 497
A19: В том числе:
A20: Граждане России
A21: 38.04.01 Экономика | B21: 13 | C21: 27 | D21: =SUM(B21:C21) -> 40 | E21: 24 | F21: 22 | G21: =SUM(E21:F21) -> 46 | H21: 29 | I21: 22 | J21: =SUM(H21:I21) -> 51 | K21: =B21+E21+H21 -> 66 | L21: =C21+F21+I21 -> 71 | M21: =D21+G21+J21 -> 137
A22: 38.04.02 Менеджмент | B22: 0 | C22: 26 | D22: =SUM(B22:C22) -> 26 | E22: 0 | F22: 7 | G22: =SUM(E22:F22) -> 7 | H22: 0 | I22: 19 | J22: =SUM(H22:I22) -> 19 | K22: =B22+E22+H22 -> 0 | L22: =C22+F22+I22 -> 52 | M22: =D22+G22+J22 -> 52
A23: 38.04.03 Управление персоналом | B23: 0 | C23: 0 | D23: =SUM(B23:C23) -> 0 | E23: 0 | F23: 8 | G23: =SUM(E23:F23) -> 8 | H23: 5 | I23: 14 | J23: =SUM(H23:I23) -> 19 | K23: =B23+E23+H23 -> 5 | L23: =C23+F23+I23 -> 22 | M23: =D23+G23+J23 -> 27
A24: 38.04.04 Государственное и муниципальное управление | B24: 0 | C24: 51 | D24: =SUM(B24:C24) -> 51 | E24: 5 | F24: 71 | G24: =SUM(E24:F24) -> 76 | H24: 5 | I24: 70 | J24: =SUM(H24:I24) -> 75 | K24: =B24+E24+H24 -> 10 | L24: =C24+F24+I24 -> 192 | M24: =D24+G24+J24 -> 202
A25: 38.04.05 Бизнес-информатика | B25: 0 | C25: 0 | D25: =SUM(B25:C25) -> 0 | E25: 0 | F25: 0 | G25: =SUM(E25:F25) -> 0 | H25: 4 | I25: 1 | J25: =SUM(H25:I25) -> 5 | K25: =B25+E25+H25 -> 4 | L25: =C25+F25+I25 -> 1 | M25: =D25+G25+J25 -> 5
A26: 38.04.06 Торговое дело | B26: 0 | C26: 0 | D26: =SUM(B26:C26) -> 0 | E26: 0 | F26: 0 | G26: =SUM(E26:F26) -> 0 | H26: 0 | I26: 0 | J26: =SUM(H26:I26) -> 0 | K26: =B26+E26+H26 -> 0 | L26: =C26+F26+I26 -> 0 | M26: =D26+G26+J26 -> 0
A27: 38.04.08 Финансы и кредит | B27: 10 | C27: 7 | D27: =SUM(B27:C27) -> 17 | E27: 15 | F27: 2 | G27: =SUM(E27:F27) -> 17 | H27: 22 | I27: 8 | J27: =SUM(H27:I27) -> 30 | K27: =B27+E27+H27 -> 47 | L27: =C27+F27+I27 -> 17 | M27: =D27+G27+J27 -> 64
A28: Итого граждане России | B28: =SUM(B21:B27) -> 23 | C28: =SUM(C21:C27) -> 111 | D28: =SUM(D21:D27) -> 134 | E28: =SUM(E21:E27) -> 44 | F28: =SUM(F21:F27) -> 110 | G28: =SUM(G21:G27) -> 154 | H28: =SUM(H21:H27) -> 65 | I28: =SUM(I21:I27) -> 134 | ... M28: =SUM(M21:M27) -> 487
A29: Граждане иностранных государств (вкл. Украину)
A30: 38.04.01 Экономика | B30: 0 | C30: 1 | D30: =SUM(B30:C30) -> 1 | E30: 0 | F30: 0 | G30: =SUM(E30:F30) -> 0 | H30: 0 | I30: 0 | J30: =SUM(H30:I30) -> 0 | K30: =B30+E30+H30 -> 0 | L30: =C30+F30+I30 -> 1 | M30: =D30+G30+J30 -> 1
A31: 38.04.02 Менеджмент | B31: 0 | C31: 0 | D31: =SUM(B31:C31) -> 0 | E31: 0 | F31: 0 | G31: =SUM(E31:F31) -> 0 | H31: 0 | I31: 0 | J31: =SUM(H31:I31) -> 0 | K31: =B31+E31+H31 -> 0 | L31: =C31+F31+I31 -> 0 | M31: =D31+G31+J31 -> 0
A32: 38.04.03 Управление персоналом | B32: 0 | C32: 0 | D32: =SUM(B32:C32) -> 0 | E32: 0 | F32: 0 | G32: =SUM(E32:F32) -> 0 | H32: 0 | I32: 2 | J32: =SUM(H32:I32) -> 2 | K32: =B32+E32+H32 -> 0 | L32: =C32+F32+I32 -> 2 | M32: =D32+G32+J32 -> 2
A33: 38.04.04 Государственное и муниципальное управление | B33: 0 | C33: 0 | D33: =SUM(B33:C33) -> 0 | E33: 1 | F33: 1 | G33: =SUM(E33:F33) -> 2 | H33: 0 | I33: 0 | J33: =SUM(H33:I33) -> 0 | K33: =B33+E33+H33 -> 1 | L33: =C33+F33+I33 -> 1 | M33: =D33+G33+J33 -> 2
A34: 38.04.05 Бизнес-информатика | B34: 0 | C34: 0 | D34: =SUM(B34:C34) -> 0 | E34: 0 | F34: 0 | G34: =SUM(E34:F34) -> 0 | H34: 1 | I34: 0 | J34: =SUM(H34:I34) -> 1 | K34: =B34+E34+H34 -> 1 | L34: =C34+F34+I34 -> 0 | M34: =D34+G34+J34 -> 1
A35: 38.04.06 Торговое дело | B35: 0 | C35: 0 | D35: =SUM(B35:C35) -> 0 | E35: 0 | F35: 0 | G35: =SUM(E35:F35) -> 0 | H35: 0 | I35: 0 | J35: =SUM(H35:I35) -> 0 | K35: =B35+E35+H35 -> 0 | L35: =C35+F35+I35 -> 0 | M35: =D35+G35+J35 -> 0
A36: 38.04.08 Финансы и кредит | B36: 0 | C36: 0 | D36: =SUM(B36:C36) -> 0 | E36: 0 | F36: 0 | G36: =SUM(E36:F36) -> 0 | H36: 3 | I36: 1 | J36: =SUM(H36:I36) -> 4 | K36: =B36+E36+H36 -> 3 | L36: =C36+F36+I36 -> 1 | M36: =D36+G36+J36 -> 4
A37: Итого граждане иностранных государств | B37: =SUM(B30:B36) -> 0 | C37: =SUM(C30:C36) -> 1 | D37: =SUM(D30:D36) -> 1 | E37: =SUM(E30:E36) -> 1 | F37: =SUM(F30:F36) -> 1 | G37: =SUM(G30:G36) -> 2 | H37: =SUM(H30:H36) -> 4 | I37: =SUM(I30:I36) -> 3 | ... M37: =SUM(M30:M36) -> 10
A38: ИТОГО по подразделению граждане России | B38: =B28 -> 23 | C38: =C28 -> 111 | D38: =D28 -> 134 | E38: =E28 -> 44 | F38: =F28 -> 110 | G38: =G28 -> 154 | H38: =H28 -> 65 | I38: =I28 -> 134 | ... M38: =M28 -> 487
A39: ИТОГО по подразделению иностранные граждане | B39: =B37 -> 0 | C39: =C37 -> 1 | D39: =D37 -> 1 | E39: =E37 -> 1 | F39: =F37 -> 1 | G39: =G37 -> 2 | H39: =H37 -> 4 | I39: =I37 -> 3 | ... M39: =M37 -> 10
A40: Итого | B40: =SUM(B38:B39) -> 23 | C40: =SUM(C38:C39) -> 112 | D40: =SUM(D38:D39) -> 135 | E40: =SUM(E38:E39) -> 45 | F40: =SUM(F38:F39) -> 111 | G40: =SUM(G38:G39) -> 156 | H40: =SUM(H38:H39) -> 69 | I40: =SUM(I38:I39) -> 137 | ... M40: =SUM(M38:M39) -> 497

Sheet Бак ОФО ГПА
B1: =[1]СПО!B1 -> Гуманитарно-педагогическая академия (филиал) ФГАОУ ВО «КФУ им. В. И. Вернадского» в г. Ялте
B3: Контингент очной формы обучения на | G3: =[1]СПО!F3 -> 01.06.2017 г. | I3: (Бакалавры)
B5: Факультет/направление подготовки | D5: 1 | G5: 2 | J5: 3 | M5: 4 | P5: 5 | S5: Всего бакалавры
D7: За счет бюджетных ассигнований | E7: На основе догов. о платных образов. услугах | F7: ВСЕГО | G7: За счет бюджетных ассигнований | H7: На основе догов. о платных образов. услугах | I7: ВСЕГО | J7: За счет бюджетных ассигнований | K7: На основе догов. о платных образов. услугах | L7: ВСЕГО | M7: За счет бюджетных ассигнований | N7: На основе догов. о платных образов. услугах | O7: ВСЕГО | P7: За счет бюджетных ассигнований | Q7: На основе догов. о платных образов. услугах | R7: ВСЕГО | S7: За счет бюджетных ассигнований | T7: На основе догов. о платных образов. услугах | U7: ВСЕГО
B8: Свод по направлениям подготовки | D8: =SUM(D9:D30) -> 320 | E8: =SUM(E9:E30) -> 14 | F8: =SUM(F9:F30) -> 334 | G8: =SUM(G9:G30) -> 278 | H8: =SUM(H9:H30) -> 13 | I8: =SUM(I9:I30) -> 291 | J8: =SUM(J9:J30) -> 285 | K8: =SUM(K9:K30) -> 56 | ... U8: =SUM(U9:U30) -> 1209
A9: 1 | B9: 01.03.01 | C9: Математика | D9: 0 | E9: 0 | F9: 0 | G9: 0 | H9: 0 | I9: 0 | J9: 0 | K9: 0 | L9: 0 | M9: 0 | N9: 0 | O9: 0 | P9: 0 | Q9: 0 | R9: 0 | S9: 0 | T9: 0 | U9: 0
B10: 09.03.03 | C10: Прикладная информатика | D10: 19 | E10: 0 | F10: 19 | G10: 20 | H10: 0 | I10: 20 | J10: 17 | K10: 3 | L10: 20 | M10: 13 | N10: 0 | O10: 13 | P10: 0 | Q10: 0 | R10: 0 | S10: 69 | T10: 3 | U10: 72
B11: 37.03.01 | C11: Психология | D11: 13 | E11: 0 | F11: 13 | G11: 13 | H11: 1 | I11: 14 | J11: 17 | K11: 2 | L11: 19 | M11: 22 | N11: 2 | O11: 24 | P11: 0 | Q11: 0 | R11: 0 | S11: 65 | T11: 5 | U11: 70
B12: 38.03.01 | C12: Экономика | D12: 17 | E12: 4 | F12: 21 | G12: 35 | H12: 0 | I12: 35 | J12: 14 | K12: 3 | L12: 17 | M12: 23 | N12: 3 | O12: 26 | P12: 0 | Q12: 0 | R12: 0 | S12: 89 | T12: 10 | U12: 99
B13: 38.03.02 | C13: Менеджмент | D13: 18 | E13: 0 | F13: 18 | G13: 23 | H13: 1 | I13: 24 | J13: 20 | K13: 16 | L13: 36 | M13: 13 | N13: 2 | O13: 15 | P13: 0 | Q13: 0 | R13: 0 | S13: 74 | T13: 19 | U13: 93
B14: 43.03.02 | C14: Туризм | D14: 19 | E14: 1 | F14: 20 | G14: 8 | H14: 3 | I14: 11 | J14: 17 | K14: 2 | L14: 19 | M14: 11 | N14: 0 | O14: 11 | P14: 0 | Q14: 0 | R14: 0 | S14: 55 | T14: 6 | U14: 61
B15: 44.03.01 | C15: Педагогическое образование | D15: 52 | E15: 0 | F15: 52 | G15: 41 | H15: 0 | I15: 41 | J15: 45 | K15: 0 | L15: 45 | M15: 5 | N15: 0 | O15: 5 | P15: 0 | Q15: 0 | R15: 0 | S15: 143 | T15: 0 | U15: 143
B16: 44.03.02 | C16: Психолого-педагогическое образование | D16: 15 | E16: 0 | F16: 15 | G16: 12 | H16: 0 | I16: 12 | J16: 15 | K16: 1 | L16: 16 | M16: 7 | N16: 0 | O16: 7 | P16: 0 | Q16: 0 | R16: 0 | S16: 49 | T16: 1 | U16: 50
B17: 44.03.05 | C17: Педагогическое образование (с двумя профилями подготовки) | D17: 16 | E17: 0 | F17: 16 | G17: 12 | H17: 0 | I17: 12 | J17: 15 | K17: 2 | L17: 17 | M17: 25 | N17: 2 | O17: 27 | P17: 14 | Q17: 0 | R17: 14 | S17: 82 | T17: 4 | U17: 86
B18: 45.03.01 | C18: Филология | D18: 50 | E18: 5 | F18: 55 | G18: 36 | H18: 4 | I18: 40 | J18: 40 | K18: 9 | L18: 49 | M18: 30 | N18: 4 | O18: 34 | P18: 0 | Q18: 0 | R18: 0 | S18: 156 | T18: 22 | U18: 178
B19: 46.03.01 | C19: История | D19: 14 | E19: 0 | F19: 14 | G19: 9 | H19: 0 | I19: 9 | J19: 8 | K19: 1 | L19: 9 | M19: 9 | N19: 0 | O19: 9 | P19: 0 | Q19: 0 | R19: 0 | S19: 40 | T19: 1 | U19: 41
B20: 47.03.01 | C20: Философия | D20: 10 | E20: 0 | F20: 10 | G20: 0 | H20: 0 | I20: 0 | J20: 6 | K20: 0 | L20: 6 | M20: 0 | N20: 0 | O20: 0 | P20: 0 | Q20: 0 | R20: 0 | S20: 16 | T20: 0 | U20: 16
B21: 49.03.02 | C21: Физическая культура для лиц с отклонениями в состоянии здоровья (адаптивная физическая культура) | D21: 15 | E21: 1 | F21: 16 | G21: 16 | H21: 1 | I21: 17 | J21: 7 | K21: 0 | L21: 7 | M21: 11 | N21: 4 | O21: 15 | P21: 0 | Q21: 0 | R21: 0 | S21: 49 | T21: 6 | U21: 55
... B30: 54.03.02 | C30: Декоративно-прикладное искусство и народные промыслы | D30: 11 | E30: 0 | F30: 11 | G30: 4 | H30: 0 | I30: 4 | J30: 15 | K30: 0 | L30: 15 | M30: 5 | N30: 0 | O30: 5 | P30: 0 | Q30: 0 | R30: 0 | S30: 35 | T30: 0 | U30: 35
B31: Итого по направлениям подготовки | D31: =SUM(D9:D30) -> 320 | E31: =SUM(E9:E30) -> 14 | F31: =SUM(F9:F30) -> 334 | G31: =SUM(G9:G30) -> 278 | H31: =SUM(H9:H30) -> 13 | I31: =SUM(I9:I30) -> 291 | J31: =SUM(J9:J30) -> 285 | K31: =SUM(K9:K30) -> 56 | ... U31: =SUM(U9:U30) -> 1209
B32: В том числе:
B33: Граждане России
B34: 01.03.01 | C34: Математика | D34: 0 | E34: 0 | F34: 0 | G34: 0 | H34: 0 | I34: 0 | J34: 0 | K34: 0 | L34: 0 | M34: 0 | N34: 0 | O34: 0 | P34: 0 | Q34: 0 | R34: 0 | S34: 0 | T34: 0 | U34: 0
B35: 09.03.03 | C35: Прикладная информатика | D35: 17 | E35: 0 | F35: 17 | G35: 19 | H35: 0 | I35: 19 | J35: 17 | K35: 2 | L35: 19 | M35: 12 | N35: 0 | O35: 12 | P35: 0 | Q35: 0 | R35: 0 | S35: 65 | T35: 2 | U35: 67
B36: 37.03.01 | C36: Психология | D36: 13 | E36: 0 | F36: 13 | G36: 13 | H36: 1 | I36: 14 | J36: 17 | K36: 2 | L36: 19 | M36: 21 | N36: 2 | O36: 23 | P36: 0 | Q36: 0 | R36: 0 | S36: 64 | T36: 5 | U36: 69
B37: 38.03.01 | C37: Экономика | D37: 17 | E37: 4 | F37: 21 | G37: 33 | H37: 0 | I37: 33 | J37: 12 | K37: 1 | L37: 13 | M37: 21 | N37: 3 | O37: 24 | P37: 0 | Q37: 0 | R37: 0 | S37: 83 | T37: 8 | U37: 91
B38: 38.03.02 | C38: Менеджмент | D38: 17 | E38: 0 | F38: 17 | G38: 23 | H38: 1 | I38: 24 | J38: 18 | K38: 12 | L38: 30 | M38: 13 | N38: 2 | O38: 15 | P38: 0 | Q38: 0 | R38: 0 | S38: 71 | T38: 15 | U38: 86
B39: 43.03.02 | C39: Туризм | D39: 19 | E39: 0 | F39: 19 | G39: 8 | H39: 3 | I39: 11 | J39: 17 | K39: 2 | L39: 19 | M39: 10 | N39: 0 | O39: 10 | P39: 0 | Q39: 0 | R39: 0 | S39: 54 | T39: 5 | U39: 59
B40: 44.03.01 | C40: Педагогическое образование | D40: 51 | E40: 0 | F40: 51 | G40: 41 | H40: 0 | I40: 41 | J40: 43 | K40: 0 | L40: 43 | M40: 5 | N40: 0 | O40: 5 | P40: 0 | Q40: 0 | R40: 0 | S40: 140 | T40: 0 | U40: 140
B41: 44.03.02 | C41: Психолого-педагогическое образование | D41: 15 | E41: 0 | F41: 15 | G41: 12 | H41: 0 | I41: 12 | J41: 15 | K41: 1 | L41: 16 | M41: 7 | N41: 0 | O41: 7 | P41: 0 | Q41: 0 | R41: 0 | S41: 49 | T41: 1 | U41: 50
B42: 44.03.05 | C42: Педагогическое образование (с двумя профилями подготовки) | D42: 16 | E42: 0 | F42: 16 | G42: 12 | H42: 0 | I42: 12 | J42: 15 | K42: 0 | L42: 15 | M42: 25 | N42: 2 | O42: 27 | P42: 14 | Q42: 0 | R42: 14 | S42: 82 | T42: 2 | U42: 84
B43: 45.03.01 | C43: Филология | D43: 49 | E43: 4 | F43: 53 | G43: 34 | H43: 3 | I43: 37 | J43: 37 | K43: 9 | L43: 46 | M43: 24 | N43: 4 | O43: 28 | P43: 0 | Q43: 0 | R43: 0 | S43: 144 | T43: 20 | U43: 164
B44: 46.03.01 | C44: История | D44: 14 | E44: 0 | F44: 14 | G44: 9 | H44: 0 | I44: 9 | J44: 7 | K44: 1 | L44: 8 | M44: 9 | N44: 0 | O44: 9 | P44: 0 | Q44: 0 | R44: 0 | S44: 39 | T44: 1 | U44: 40
B45: 47.03.01 | C45: Философия | D45: 10 | E45: 0 | F45: 10 | G45: 0 | H45: 0 | I45: 0 | J45: 6 | K45: 0 | L45: 6 | M45: 0 | N45: 0 | O45: 0 | P45: 0 | Q45: 0 | R45: 0 | S45: 16 | T45: 0 | U45: 16
... B55: 54.03.02 | C55: Декоративно-прикладное искусство и народные промыслы | D55: 11 | E55: 0 | F55: 11 | G55: 4 | H55: 0 | I55: 4 | J55: 15 | K55: 0 | L55: 15 | M55: 5 | N55: 0 | O55: 5 | P55: 0 | Q55: 0 | R55: 0 | S55: 35 | T55: 0 | U55: 35
B56: Итого граждане России | D56: =SUM(D34:D55) -> 314 | E56: =SUM(E34:E55) -> 10 | F56: =SUM(F34:F55) -> 324 | G56: =SUM(G34:G55) -> 272 | H56: =SUM(H34:H55) -> 12 | I56: =SUM(I34:I55) -> 284 | J56: =SUM(J34:J55) -> 273 | K56: =SUM(K34:K55) -> 47 | ... U56: =SUM(U34:U55) -> 1147
B57: Граждане иностранных государств (вкл. Украину)
B58: 09.03.03 | C58: Прикладная информатика | D58: 2 | E58: 0 | F58: 2 | G58: 1 | H58: 0 | I58: 1 | J58: 0 | K58: 1 | L58: 1 | M58: 1 | N58: 0 | O58: 1 | P58: 0 | Q58: 0 | R58: 0 | S58: 4 | T58: 1 | U58: 5
B59: 37.03.01 | C59: Психология | D59: 0 | E59: 0 | F59: 0 | G59: 0 | H59: 0 | I59: 0 | J59: 0 | K59: 0 | L59: 0 | M59: 1 | N59: 0 | O59: 1 | P59: 0 | Q59: 0 | R59: 0 | S59: 1 | T59: 0 | U59: 1
B60: 38.03.01 | C60: Экономика | D60: 0 | E60: 0 | F60: 0 | G60: 2 | H60: 0 | I60: 2 | J60: 2 | K60: 2 | L60: 4 | M60: 2 | N60: 0 | O60: 2 | P60: 0 | Q60: 0 | R60: 0 | S60: 6 | T60: 2 | U60: 8
B61: 38.03.02 | C61: Менеджмент | D61: 1 | E61: 0 | F61: 1 | G61: 0 | H61: 0 | I61: 0 | J61: 2 | K61: 4 | L61: 6 | M61: 0 | N61: 0 | O61: 0 | P61: 0 | Q61: 0 | R61: 0 | S61: 3 | T61: 4 | U61: 7
B62: 43.03.02 | C62: Туризм | D62: 0 | E62: 1 | F62: 1 | G62: 0 | H62: 0 | I62: 0 | J62: 0 | K62: 0 | L62: 0 | M62: 1 | N62: 0 | O62: 1 | P62: 0 | Q62: 0 | R62: 0 | S62: 1 | T62: 1 | U62: 2
B63: 44.03.01 | C63: Педагогическое образование | D63: 1 | E63: 0 | F63: 1 | G63: 0 | H63: 0 | I63: 0 | J63: 2 | K63: 0 | L63: 2 | M63: 0 | N63: 0 | O63: 0 | P63: 0 | Q63: 0 | R63: 0 | S63: 3 | T63: 0 | U63: 3
B64: 44.03.05 | C64: Педагогическое образование (с двумя профилями подготовки) | D64: 0 | E64: 0 | F64: 0 | G64: 0 | H64: 0 | I64: 0 | J64: 0 | K64: 2 | L64: 2 | M64: 0 | N64: 0 | O64: 0 | P64: 0 | Q64: 0 | R64: 0 | S64: 0 | T64: 2 | U64: 2
B65: 45.03.01 | C65: Филология | D65: 1 | E65: 1 | F65: 2 | G65: 2 | H65: 1 | I65: 3 | J65: 3 | K65: 0 | L65: 3 | M65: 6 | N65: 0 | O65: 6 | P65: 0 | Q65: 0 | R65: 0 | S65: 12 | T65: 2 | U65: 14
B66: 46.03.01 | C66: История | D66: 0 | E66: 0 | F66: 0 | G66: 0 | H66: 0 | I66: 0 | J66: 1 | K66: 0 | L66: 1 | M66: 0 | N66: 0 | O66: 0 | P66: 0 | Q66: 0 | R66: 0 | S66: 1 | T66: 0 | U66: 1
B67: 49.03.02 | C67: Физическая культура для лиц с отклонениями в состоянии здоровья (адаптивная физическая культура) | D67: 0 | E67: 0 | F67: 0 | G67: 0 | H67: 0 | I67: 0 | J67: 0 | K67: 0 | L67: 0 | M67: 0 | N67: 2 | O67: 2 | P67: 0 | Q67: 0 | R67: 0 | S67: 0 | T67: 2 | U67: 2
B68: 52.03.01 | C68: Хореография | D68: 0 | E68: 0 | F68: 0 | G68: 0 | H68: 0 | I68: 0 | J68: 2 | K68: 0 | L68: 2 | M68: 1 | N68: 0 | O68: 1 | P68: 0 | Q68: 0 | R68: 0 | S68: 3 | T68: 0 | U68: 3
B69: 53.03.01 | C69: Музыкальное искусство эстрады | D69: 0 | E69: 2 | F69: 2 | G69: 0 | H69: 0 | I69: 0 | J69: 0 | K69: 0 | L69: 0 | M69: 1 | N69: 0 | O69: 1 | P69: 0 | Q69: 0 | R69: 0 | S69: 1 | T69: 2 | U69: 3
... B73: 54.03.01 | C73: Дизайн | D73: 1 | E73: 0 | F73: 1 | G73: 1 | H73: 0 | I73: 1 | J73: 0 | K73: 0 | L73: 0 | M73: 1 | N73: 0 | O73: 1 | P73: 0 | Q73: 0 | R73: 0 | S73: 3 | T73: 0 | U73: 3
B74: Итого граждане иностранных государств | D74: =SUM(D58:D73) -> 6 | E74: =SUM(E58:E73) -> 4 | F74: =SUM(F58:F73) -> 10 | G74: =SUM(G58:G73) -> 6 | H74: =SUM(H58:H73) -> 1 | I74: =SUM(I58:I73) -> 7 | J74: =SUM(J58:J73) -> 12 | K74: =SUM(K58:K73) -> 9 | ... O74: =SUM(O58:O73) -> 24 | P74: 0 | Q74: =SUM(Q34:Q55) -> 0 | R74: 0 | S74: =SUM(S58:S73) -> 41 | T74: =SUM(T58:T73) -> 21 | U74: =SUM(S74:T74) -> 62
B75: ИТОГО по подразделению граждане России | D75: =SUM(D34:D55) -> 314 | E75: =SUM(E34:E55) -> 10 | F75: =SUM(F34:F55) -> 324 | G75: =SUM(G34:G55) -> 272 | H75: =SUM(H34:H55) -> 12 | I75: =SUM(I34:I55) -> 284 | J75: =SUM(J34:J55) -> 273 | K75: =SUM(K34:K55) -> 47 | ... U75: =SUM(U34:U55) -> 1147
B76: ИТОГО по подразделению граждане иностранных государств | D76: =D74 -> 6 | E76: =E74 -> 4 | F76: =F74 -> 10 | G76: =G74 -> 6 | H76: =H74 -> 1 | I76: =I74 -> 7 | J76: =J74 -> 12 | K76: =K74 -> 9 | ... O76: =O74 -> 24 | P76: 0 | Q76: =Q74+Q75 -> 0 | R76: 0 | S76: =S74 -> 41 | T76: =T74 -> 21 | U76: =U74 -> 62
B77: Свод по направлениям подготовки | D77: =D75+D76 -> 320 | E77: =E75+E76 -> 14 | F77: =F75+F76 -> 334 | G77: =G75+G76 -> 278 | H77: =H75+H76 -> 13 | I77: =I75+I76 -> 291 | J77: =J75+J76 -> 285 | K77: =K75+K76 -> 56 | ... S77: =S75+S76 -> 1103 | T77: =SUM(T75:T76) -> 106 | U77: =SUM(S77:T77) -> 1209
B79: =[1]СПО!B42 -> Начальник УМО___________________И.И. Линник

Sheet БАК ОФО   ГПА
B1: =[2]СПО!B1 -> Гуманитарно-педагогическая академия (филиал) ФГАОУ ВО «КФУ им. В. И. Вернадского» в г. Ялте
B3: Контингент очной формы обучения на | G3: =[2]СПО!F3 -> 01.10.2020 г. | I3: (Бакалавры)
B5: Факультет/направление подготовки | D5: 1 | G5: 2 | J5: 3 | M5: 4 | P5: 5 | S5: Всего бакалавры
D7: За счет бюджетных ассигнований | E7: На основе догов. о платных образов. услугах | F7: ВСЕГО | G7: За счет бюджетных ассигнований | H7: На основе догов. о платных образов. услугах | I7: ВСЕГО | J7: За счет бюджетных ассигнований | K7: На основе догов. о платных образов. услугах | L7: ВСЕГО | M7: За счет бюджетных ассигнований | N7: На основе догов. о платных образов. услугах | O7: ВСЕГО | P7: За счет бюджетных ассигнований | Q7: На основе догов. о платных образов. услугах | R7: ВСЕГО | S7: За счет бюджетных ассигнований | T7: На основе догов. о платных образов. услугах | U7: ВСЕГО
B8: Свод по направлениям подготовки | D8: =SUM(D9:D26) -> 162 | E8: =SUM(E9:E26) -> 10 | F8: =SUM(F9:F26) -> 172 | G8: =SUM(G9:G26) -> 189 | H8: =SUM(H9:H26) -> 3 | I8: =SUM(I9:I26) -> 192 | J8: =SUM(J9:J26) -> 211 | K8: =SUM(K9:K26) -> 5 | ... U8: =SUM(U9:U26) -> 797
B9: 09.03.03 | C9: Прикладная информатика | D9: 20 | E9: 0 | F9: 20 | G9: 19 | H9: 0 | I9: 19 | J9: 17 | K9: 0 | L9: 17 | M9: 19 | N9: 0 | O9: 19 | P9: 0 | Q9: 0 | R9: 0 | S9: 75 | T9: 0 | U9: 75
B10: 37.03.01 | C10: Психология | D10: 0 | E10: 0 | F10: 0 | G10: 0 | H10: 0 | I10: 0 | J10: 7 | K10: 0 | L10: 7 | M10: 10 | N10: 0 | O10: 10 | P10: 0 | Q10: 0 | R10: 0 | S10: 17 | T10: 0 | U10: 17
B11: 38.03.01 | C11: Экономика | D11: 29 | E11: 0 | F11: 29 | G11: 17 | H11: 2 | I11: 19 | J11: 14 | K11: 1 | L11: 15 | M11: 16 | N11: 1 | O11: 17 | P11: 0 | Q11: 0 | R11: 0 | S11: 76 | T11: 4 | U11: 80
B12: 38.03.02 | C12: Менеджмент | D12: 0 | E12: 0 | F12: 0 | G12: 14 | H12: 0 | I12: 14 | J12: 14 | K12: 1 | L12: 15 | M12: 10 | N12: 1 | O12: 11 | P12: 0 | Q12: 0 | R12: 0 | S12: 38 | T12: 2 | U12: 40
B13: 43.03.02 | C13: Туризм | D13: 10 | E13: 4 | F13: 14 | G13: 10 | H13: 0 | I13: 10 | J13: 10 | K13: 0 | L13: 10 | M13: 14 | N13: 0 | O13: 14 | P13: 0 | Q13: 0 | R13: 0 | S13: 44 | T13: 4 | U13: 48
B14: 44.03.01 | C14: Педагогическое образование | D14: 32 | E14: 3 | F14: 35 | G14: 30 | H14: 0 | I14: 30 | J14: 28 | K14: 0 | L14: 28 | M14: 35 | N14: 0 | O14: 35 | P14: 0 | Q14: 0 | R14: 0 | S14: 125 | T14: 3 | U14: 128
B15: 44.03.02 | C15: Психолого-педагогическое образование | D15: 18 | E15: 0 | F15: 18 | G15: 6 | H15: 0 | I15: 6 | J15: 16 | K15: 0 | L15: 16 | M15: 9 | N15: 0 | O15: 9 | P15: 0 | Q15: 0 | R15: 0 | S15: 49 | T15: 0 | U15: 49
B16: 44.03.05 | C16: Педагогическое образование (с двумя профилями подготовки) | D16: 17 | E16: 0 | F16: 17 | G16: 14 | H16: 0 | I16: 14 | J16: 11 | K16: 0 | L16: 11 | M16: 5 | N16: 0 | O16: 5 | P16: 13 | Q16: 0 | R16: 13 | S16: 60 | T16: 0 | U16: 60
B17: 45.03.01 | C17: Филология | D17: 20 | E17: 1 | F17: 21 | G17: 30 | H17: 0 | I17: 30 | J17: 36 | K17: 1 | L17: 37 | M17: 30 | N17: 0 | O17: 30 | P17: 0 | Q17: 0 | R17: 0 | S17: 116 | T17: 2 | U17: 118
B18: 46.03.01 | C18: История | D18: 1 | E18: 0 | F18: 1 | G18: 15 | H18: 0 | I18: 15 | J18: 12 | K18: 0 | L18: 12 | M18: 10 | N18: 0 | O18: 10 | P18: 0 | Q18: 0 | R18: 0 | S18: 38 | T18: 0 | U18: 38
B19: 47.03.01 | C19: Философия | D19: 0 | E19: 0 | F19: 0 | G19: 3 | H19: 0 | I19: 3 | J19: 5 | K19: 0 | L19: 5 | M19: 6 | N19: 0 | O19: 6 | P19: 0 | Q19: 0 | R19: 0 | S19: 14 | T19: 0 | U19: 14
B20: 52.03.01 | C20: Хореография | D20: 0 | E20: 0 | F20: 0 | G20: 0 | H20: 0 | I20: 0 | J20: 10 | K20: 0 | L20: 10 | M20: 8 | N20: 0 | O20: 8 | P20: 0 | Q20: 0 | R20: 0 | S20: 18 | T20: 0 | U20: 18
... B26: 54.03.02 | C26: Декоративно-прикладное искусство и народные промыслы | D26: 0 | E26: 0 | F26: 0 | G26: 11 | H26: 1 | I26: 12 | J26: 12 | K26: 0 | L26: 12 | M26: 11 | N26: 0 | O26: 11 | P26: 0 | Q26: 0 | R26: 0 | S26: 34 | T26: 1 | U26: 35
B27: Итого по направлениям подготовки | D27: =SUM(D9:D26) -> 162 | E27: =SUM(E9:E26) -> 10 | F27: =SUM(F9:F26) -> 172 | G27: =SUM(G9:G26) -> 189 | H27: =SUM(H9:H26) -> 3 | I27: =SUM(I9:I26) -> 192 | J27: =SUM(J9:J26) -> 211 | K27: =SUM(K9:K26) -> 5 | ... U27: =SUM(U9:U26) -> 797
B28: В том числе:
B29: Граждане России
B30: 09.03.03 | C30: Прикладная информатика | D30: 20 | E30: 0 | F30: 20 | G30: 16 | H30: 0 | I30: 16 | J30: 16 | K30: 0 | L30: 16 | M30: 18 | N30: 0 | O30: 18 | P30: 0 | Q30: 0 | R30: 0 | S30: 70 | T30: 0 | U30: 70
B31: 37.03.01 | C31: Психология | D31: 0 | E31: 0 | F31: 0 | G31: 0 | H31: 0 | I31: 0 | J31: 7 | K31: 0 | L31: 7 | M31: 10 | N31: 0 | O31: 10 | P31: 0 | Q31: 0 | R31: 0 | S31: 17 | T31: 0 | U31: 17
B32: 38.03.01 | C32: Экономика | D32: 27 | E32: 0 | F32: 27 | G32: 17 | H32: 2 | I32: 19 | J32: 14 | K32: 1 | L32: 15 | M32: 16 | N32: 1 | O32: 17 | P32: 0 | Q32: 0 | R32: 0 | S32: 74 | T32: 4 | U32: 78
B33: 38.03.02 | C33: Менеджмент | D33: 0 | E33: 0 | F33: 0 | G33: 13 | H33: 0 | I33: 13 | J33: 14 | K33: 1 | L33: 15 | M33: 10 | N33: 1 | O33: 11 | P33: 0 | Q33: 0 | R33: 0 | S33: 37 | T33: 2 | U33: 39
B34: 43.03.02 | C34: Туризм | D34: 10 | E34: 4 | F34: 14 | G34: 8 | H34: 0 | I34: 8 | J34: 9 | K34: 0 | L34: 9 | M34: 13 | N34: 0 | O34: 13 | P34: 0 | Q34: 0 | R34: 0 | S34: 40 | T34: 4 | U34: 44
B35: 44.03.01 | C35: Педагогическое образование | D35: 30 | E35: 2 | F35: 32 | G35: 28 | H35: 0 | I35: 28 | J35: 24 | K35: 0 | L35: 24 | M35: 35 | N35: 0 | O35: 35 | P35: 0 | Q35: 0 | R35: 0 | S35: 117 | T35: 2 | U35: 119
B36: 44.03.02 | C36: Психолого-педагогическое образование | D36: 17 | E36: 0 | F36: 17 | G36: 6 | H36: 0 | I36: 6 | J36: 16 | K36: 0 | L36: 16 | M36: 9 | N36: 0 | O36: 9 | P36: 0 | Q36: 0 | R36: 0 | S36: 48 | T36: 0 | U36: 48
B37: 44.03.05 | C37: Педагогическое образование (с двумя профилями подготовки) | D37: 17 | E37: 0 | F37: 17 | G37: 14 | H37: 0 | I37: 14 | J37: 11 | K37: 0 | L37: 11 | M37: 5 | N37: 0 | O37: 5 | P37: 13 | Q37: 0 | R37: 13 | S37: 60 | T37: 0 | U37: 60
B38: 45.03.01 | C38: Филология | D38: 20 | E38: 1 | F38: 21 | G38: 30 | H38: 0 | I38: 30 | J38: 36 | K38: 1 | L38: 37 | M38: 27 | N38: 0 | O38: 27 | P38: 0 | Q38: 0 | R38: 0 | S38: 113 | T38: 2 | U38: 115
B39: 46.03.01 | C39: История | D39: 1 | E39: 0 | F39: 1 | G39: 15 | H39: 0 | I39: 15 | J39: 12 | K39: 0 | L39: 12 | M39: 10 | N39: 0 | O39: 10 | P39: 0 | Q39: 0 | R39: 0 | S39: 38 | T39: 0 | U39: 38
B40: 47.03.01 | C40: Философия | D40: 0 | E40: 0 | F40: 0 | G40: 3 | H40: 0 | I40: 3 | J40: 5 | K40: 0 | L40: 5 | M40: 6 | N40: 0 | O40: 6 | P40: 0 | Q40: 0 | R40: 0 | S40: 14 | T40: 0 | U40: 14
B41: 52.03.01 | C41: Хореография | D41: 0 | E41: 0 | F41: 0 | G41: 0 | H41: 0 | I41: 0 | J41: 10 | K41: 0 | L41: 10 | M41: 8 | N41: 0 | O41: 8 | P41: 0 | Q41: 0 | R41: 0 | S41: 18 | T41: 0 | U41: 18
... B47: 54.03.02 | C47: Декоративно-прикладное искусство и народные промыслы | D47: 0 | E47: 0 | F47: 0 | G47: 11 | H47: 1 | I47: 12 | J47: 12 | K47: 0 | L47: 12 | M47: 9 | N47: 0 | O47: 9 | P47: 0 | Q47: 0 | R47: 0 | S47: 32 | T47: 1 | U47: 33
B48: Итого граждане России | D48: =SUM(D30:D47) -> 157 | E48: =SUM(E30:E47) -> 9 | F48: =SUM(F30:F47) -> 166 | G48: =SUM(G30:G47) -> 180 | H48: =SUM(H30:H47) -> 3 | I48: =SUM(I30:I47) -> 183 | J48: =SUM(J30:J47) -> 205 | K48: =SUM(K30:K47) -> 5 | ... U48: =SUM(U30:U47) -> 768
B49: Граждане иностранных государств (вкл. Украину)
B50: 09.03.03 | C50: Прикладная информатика | D50: 0 | E50: 0 | F50: 0 | G50: 3 | H50: 0 | I50: 3 | J50: 1 | K50: 0 | L50: 1 | M50: 1 | N50: 0 | O50: 1 | P50: 0 | Q50: 0 | R50: 0 | S50: 5 | T50: 0 | U50: 5
B51: 38.03.01 | C51: Экономика | D51: 2 | E51: 0 | F51: 2 | G51: 0 | H51: 0 | I51: 0 | J51: 0 | K51: 0 | L51: 0 | M51: 0 | N51: 0 | O51: 0 | P51: 0 | Q51: 0 | R51: 0 | S51: 2 | T51: 0 | U51: 2
B52: 38.03.02 | C52: Менеджмент | D52: 0 | E52: 0 | F52: 0 | G52: 1 | H52: 0 | I52: 1 | J52: 0 | K52: 0 | L52: 0 | M52: 0 | N52: 0 | O52: 0 | P52: 0 | Q52: 0 | R52: 0 | S52: 1 | T52: 0 | U52: 1
B53: 43.03.02 | C53: Туризм | D53: 0 | E53: 0 | F53: 0 | G53: 2 | H53: 0 | I53: 2 | J53: 1 | K53: 0 | L53: 1 | M53: 1 | N53: 0 | O53: 1 | P53: 0 | Q53: 0 | R53: 0 | S53: 4 | T53: 0 | U53: 4
B54: 44.03.01 | C54: Педагогическое образование | D54: 2 | E54: 1 | F54: 3 | G54: 2 | H54: 0 | I54: 2 | J54: 4 | K54: 0 | L54: 4 | M54: 0 | N54: 0 | O54: 0 | P54: 0 | Q54: 0 | R54: 0 | S54: 8 | T54: 1 | U54: 9
B55: 44.03.02 | C55: Психолого-педагогическое образование | D55: 1 | E55: 0 | F55: 1 | G55: 0 | H55: 0 | I55: 0 | J55: 0 | K55: 0 | L55: 0 | M55: 0 | N55: 0 | O55: 0 | P55: 0 | Q55: 0 | R55: 0 | S55: 1 | T55: 0 | U55: 1
B56: 45.03.01 | C56: Филология | D56: 0 | E56: 0 | F56: 0 | G56: 0 | H56: 0 | I56: 0 | J56: 0 | K56: 0 | L56: 0 | M56: 3 | N56: 0 | O56: 3 | P56: 0 | Q56: 0 | R56: 0 | S56: 3 | T56: 0 | U56: 3
B57: 54.03.01 | C57: Дизайн | D57: 0 | E57: 0 | F57: 0 | G57: 1 | H57: 0 | I57: 1 | J57: 0 | K57: 0 | L57: 0 | M57: 1 | N57: 0 | O57: 1 | P57: 0 | Q57: 0 | R57: 0 | S57: 2 | T57: 0 | U57: 2
B58: 54.03.02 | C58: Декоративно-прикладное искусство и народные промыслы | D58: 0 | E58: 0 | F58: 0 | G58: 0 | H58: 0 | I58: 0 | J58: 0 | K58: 0 | L58: 0 | M58: 2 | N58: 0 | O58: 2 | P58: 0 | Q58: 0 | R58: 0 | S58: 2 | T58: 0 | U58: 2
B59: Итого по направлениям подготовки | D59: =SUM(D50:D58) -> 5 | E59: =SUM(E50:E58) -> 1 | F59: =SUM(F50:F58) -> 6 | G59: =SUM(G50:G58) -> 9 | H59: =SUM(H50:H58) -> 0 | I59: =SUM(I50:I58) -> 9 | J59: =SUM(J50:J58) -> 6 | K59: =SUM(K50:K58) -> 0 | ... U59: =SUM(U50:U58) -> 29
B60: ИТОГО по подразделению граждане России | D60: =SUM(D30:D47) -> 157 | E60: =SUM(E30:E47) -> 9 | F60: =SUM(F30:F47) -> 166 | G60: =SUM(G30:G47) -> 180 | H60: =SUM(H30:H47) -> 3 | I60: =SUM(I30:I47) -> 183 | J60: =SUM(J30:J47) -> 205 | K60: =SUM(K30:K47) -> 5 | ... U60: =SUM(U30:U47) -> 768
B61: ИТОГО по подразделению граждане иностранных государств | D61: =D59 -> 5 | E61: =E59 -> 1 | F61: =F59 -> 6 | G61: =G59 -> 9 | H61: =H59 -> 0 | I61: =I59 -> 9 | J61: =J59 -> 6 | K61: =K59 -> 0 | ... U61: =U59 -> 29
B62: Свод по направлениям подготовки | D62: =D60+D61 -> 162 | E62: =E60+E61 -> 10 | F62: =F60+F61 -> 172 | G62: =G60+G61 -> 189 | H62: =H60+H61 -> 3 | I62: =I60+I61 -> 192 | J62: =J60+J61 -> 211 | K62: =K60+K61 -> 5 | ... U62: =U60+U61 -> 797

Sheet БАК ОЗО ГПА
B1: =[2]СПО!B1 -> Гуманитарно-педагогическая академия (филиал) ФГАОУ ВО «КФУ им. В. И. Вернадского» в г. Ялте
B3: Контингент очно-заочной формы обучения на | I3: =[2]СПО!F3 -> 01.10.2020 г. | K3: (Бакалавры)
B5: Факультет/направление подготовки | D5: 1 | G5: 2 | J5: 3 | M5: 4 | P5: 5 | S5: Всего бакалавры
D7: За счет бюджетных ассигнований | E7: На основе догов. о платных образов. услугах | F7: ВСЕГО | G7: За счет бюджетных ассигнований | H7: На основе догов. о платных образов. услугах | I7: ВСЕГО | J7: За счет бюджетных ассигнований | K7: На основе догов. о платных образов. услугах | L7: ВСЕГО | M7: За счет бюджетных ассигнований | N7: На основе догов. о платных образов. услугах | O7: ВСЕГО | P7: За счет бюджетных ассигнований | Q7: На основе догов. о платных образов. услугах | R7: ВСЕГО | S7: За счет бюджетных ассигнований | T7: На основе догов. о платных образов. услугах | U7: ВСЕГО
B8: Свод по направлениям подготовки | D8: =SUM(D9:D10) -> 0 | E8: =SUM(E9:E10) -> 0 | F8: =SUM(F9:F10) -> 0 | G8: =SUM(G9:G10) -> 7 | H8: =SUM(H9:H10) -> 0 | I8: =SUM(I9:I10) -> 7 | J8: =SUM(J9:J10) -> 3 | K8: =SUM(K9:K10) -> 0 | ... U8: =SUM(U9:U10) -> 18
B9: 37.03.01 | C9: Психология | D9: 0 | E9: 0 | F9: 0 | G9: 7 | H9: 0 | I9: 7 | J9: 3 | K9: 0 | L9: 3 | M9: 6 | N9: 0 | O9: 6 | P9: 0 | Q9: 0 | R9: 0 | S9: 16 | T9: 0 | U9: 16
B10: 54.03.01 | C10: Дизайн | D10: 0 | E10: 0 | F10: 0 | G10: 0 | H10: 0 | I10: 0 | J10: 0 | K10: 0 | L10: 0 | M10: 0 | N10: 2 | O10: 2 | P10: 0 | Q10: 0 | R10: 0 | S10: 0 | T10: 2 | U10: 2
B11: Итого по направлениям подготовки | D11: =SUM(D9:D10) -> 0 | E11: =SUM(E9:E10) -> 0 | F11: =SUM(F9:F10) -> 0 | G11: =SUM(G9:G10) -> 7 | H11: =SUM(H9:H10) -> 0 | I11: =SUM(I9:I10) -> 7 | J11: =SUM(J9:J10) -> 3 | K11: =SUM(K9:K10) -> 0 | ... U11: =SUM(U9:U10) -> 18
B12: В том числе:
B13: Граждане России
B14: 37.03.01 | C14: Психология | D14: 0 | E14: 0 | F14: 0 | G14: 7 | H14: 0 | I14: 7 | J14: 2 | K14: 0 | L14: 2 | M14: 5 | N14: 0 | O14: 5 | P14: 0 | Q14: 0 | R14: 0 | S14: 14 | T14: 0 | U14: 14
B15: 54.03.01 | C15: Дизайн | D15: 0 | E15: 0 | F15: 0 | G15: 0 | H15: 0 | I15: 0 | J15: 0 | K15: 0 | L15: 0 | M15: 0 | N15: 2 | O15: 2 | P15: 0 | Q15: 0 | R15: 0 | S15: 0 | T15: 2 | U15: 2
B16: Итого граждане России | D16: =SUM(D14:D15) -> 0 | E16: =SUM(E14:E15) -> 0 | F16: =SUM(F14:F15) -> 0 | G16: =SUM(G14:G15) -> 7 | H16: =SUM(H14:H15) -> 0 | I16: =SUM(I14:I15) -> 7 | J16: =SUM(J14:J15) -> 2 | K16: =SUM(K14:K15) -> 0 | ... U16: =SUM(U14:U15) -> 16
B17: Граждане иностранных государств (вкл. Украину)
B18: 37.03.01 | C18: Психология | D18: 0 | E18: 0 | F18: 0 | G18: 0 | H18: 0 | I18: 0 | J18: 1 | K18: 0 | L18: 1 | M18: 1 | N18: 0 | O18: 1 | P18: 0 | Q18: 0 | R18: 0 | S18: 2 | T18: 0 | U18: 2
B19: Итого граждане иностранных государств | D19: =SUM(D18:D18) -> 0 | E19: =SUM(E18:E18) -> 0 | F19: =SUM(F18:F18) -> 0 | G19: =SUM(G18:G18) -> 0 | H19: =SUM(H18:H18) -> 0 | I19: =SUM(I18:I18) -> 0 | J19: =SUM(J18:J18) -> 1 | K19: =SUM(K18:K18) -> 0 | ... U19: =SUM(U18:U18) -> 2
B20: ИТОГО по подразделению граждане России | D20: =D16 -> 0 | E20: =E16 -> 0 | F20: =F16 -> 0 | G20: =G16 -> 7 | H20: =H16 -> 0 | I20: =I16 -> 7 | J20: =J16 -> 2 | K20: =K16 -> 0 | ... U20: =U16 -> 16
B21: ИТОГО по подразделению граждане иностранных государств | D21: =D19 -> 0 | E21: =E19 -> 0 | F21: =F19 -> 0 | G21: =G19 -> 0 | H21: =H19 -> 0 | I21: =I19 -> 0 | J21: =J19 -> 1 | K21: =K19 -> 0 | ... U21: =U19 -> 2
B22: Свод по направлениям подготовки | D22: =D20+D21 -> 0 | E22: =E20+E21 -> 0 | F22: =F20+F21 -> 0 | G22: =G20+G21 -> 7 | H22: =H20+H21 -> 0 | I22: =I20+I21 -> 7 | J22: =J20+J21 -> 3 | K22: =K20+K21 -> 0 | ... U22: =U20+U21 -> 18

Sheet Бак ЗФО ГПА
B1: =[2]СПО!B1 -> Гуманитарно-педагогическая академия (филиал) ФГАОУ ВО «КФУ им. В. И. Вернадского» в г. Ялте
B2: Контингент заочной формы обучения на | I2: =[2]СПО!F3 -> 01.10.2020 г. | K2: (Бакалавры)
B4: Факультет/направление подготовки | D4: 1 | G4: 2 | J4: 3 | M4: 4 | P4: 5 | S4: Всего бакалавры
D6: За счет бюджетных ассигнований | E6: На основе догов. о платных образов. услугах | F6: ВСЕГО | G6: За счет бюджетных ассигнований | H6: На основе догов. о платных образов. услугах | I6: ВСЕГО | J6: За счет бюджетных ассигнований | K6: На основе догов. о платных образов. услугах | L6: ВСЕГО | M6: За счет бюджетных ассигнований | N6: На основе догов. о платных образов. услугах | O6: ВСЕГО | P6: За счет бюджетных ассигнований | Q6: На основе догов. о платных образов. услугах | R6: ВСЕГО | S6: За счет бюджетных ассигнований | T6: На основе догов. о платных образов. услугах | U6: ВСЕГО
B7: Свод по направлениям подготовки | D7: =SUM(D8:D22) -> 11 | E7: =SUM(E8:E22) -> 1 | F7: =SUM(F8:F22) -> 12 | G7: =SUM(G8:G22) -> 38 | H7: =SUM(H8:H22) -> 38 | I7: =SUM(I8:I22) -> 76 | J7: =SUM(J8:J22) -> 90 | K7: =SUM(K8:K22) -> 43 | ... U7: =SUM(U8:U22) -> 402
B8: 09.03.03 | C8: Прикладная информатика | D8: 0 | E8: 0 | F8: 0 | G8: 0 | H8: 1 | I8: 1 | J8: 7 | K8: 0 | L8: 7 | M8: 8 | N8: 0 | O8: 8 | P8: 3 | Q8: 1 | R8: 4 | S8: 18 | T8: 2 | U8: 20
B9: 37.03.01 | C9: Психология | D9: 0 | E9: 0 | F9: 0 | G9: 0 | H9: 0 | I9: 0 | J9: 8 | K9: 7 | L9: 15 | M9: 6 | N9: 0 | O9: 6 | P9: 5 | Q9: 6 | R9: 11 | S9: 19 | T9: 13 | U9: 32
B10: 38.03.01 | C10: Экономика | D10: 0 | E10: 0 | F10: 0 | G10: 2 | H10: 9 | I10: 11 | J10: 14 | K10: 1 | L10: 15 | M10: 8 | N10: 1 | O10: 9 | P10: 8 | Q10: 6 | R10: 14 | S10: 32 | T10: 17 | U10: 49
B11: 38.03.02 | C11: Менеджмент | D11: 0 | E11: 0 | F11: 0 | G11: 0 | H11: 6 | I11: 6 | J11: 12 | K11: 6 | L11: 18 | M11: 0 | N11: 0 | O11: 0 | P11: 6 | Q11: 6 | R11: 12 | S11: 18 | T11: 18 | U11: 36
B12: 43.03.02 | C12: Туризм | D12: 2 | E12: 0 | F12: 2 | G12: 7 | H12: 5 | I12: 12 | J12: 10 | K12: 0 | L12: 10 | M12: 4 | N12: 1 | O12: 5 | P12: 6 | Q12: 2 | R12: 8 | S12: 29 | T12: 8 | U12: 37
B13: 44.03.01 | C13: Педагогическое образование | D13: 9 | E13: 1 | F13: 10 | G13: 12 | H13: 2 | I13: 14 | J13: 5 | K13: 0 | L13: 5 | M13: 12 | N13: 2 | O13: 14 | P13: 13 | Q13: 3 | R13: 16 | S13: 51 | T13: 8 | U13: 59
B14: 44.03.02 | C14: Психолого-педагогическое образование | D14: 0 | E14: 0 | F14: 0 | G14: 4 | H14: 8 | I14: 12 | J14: 10 | K14: 2 | L14: 12 | M14: 5 | N14: 0 | O14: 5 | P14: 4 | Q14: 2 | R14: 6 | S14: 23 | T14: 12 | U14: 35
B15: 44.03.05 | C15: Педагогическое образование (с двумя профилями подготовки) | D15: 0 | E15: 0 | F15: 0 | G15: 0 | H15: 0 | I15: 0 | J15: 10 | K15: 3 | L15: 13 | M15: 0 | N15: 0 | O15: 0 | P15: 0 | Q15: 0 | R15: 0 | S15: 10 | T15: 3 | U15: 13
B16: 45.03.01 | C16: Филология | D16: 0 | E16: 0 | F16: 0 | G16: 13 | H16: 0 | I16: 13 | J16: 12 | K16: 8 | L16: 20 | M16: 13 | N16: 4 | O16: 17 | P16: 19 | Q16: 5 | R16: 24 | S16: 57 | T16: 17 | U16: 74
B17: 49.03.02 | C17: Физическая культура для лиц с отклонениями в состоянии здоровья (адаптивная физическая культура) | D17: 0 | E17: 0 | F17: 0 | G17: 0 | H17: 0 | I17: 0 | J17: 0 | K17: 9 | L17: 9 | M17: 0 | N17: 2 | O17: 2 | P17: 0 | Q17: 4 | R17: 4 | S17: 0 | T17: 15 | U17: 15
B18: 52.03.01 | C18: Хореография | D18: 0 | E18: 0 | F18: 0 | G18: 0 | H18: 0 | I18: 0 | J18: 2 | K18: 0 | L18: 2 | M18: 3 | N18: 1 | O18: 4 | P18: 0 | Q18: 0 | R18: 0 | S18: 5 | T18: 1 | U18: 6
B19: 53.03.01 | C19: Музыкальное искусство эстрады | D19: 0 | E19: 0 | F19: 0 | G19: 0 | H19: 1 | I19: 1 | J19: 0 | K19: 1 | L19: 1 | M19: 0 | N19: 5 | O19: 5 | P19: 0 | Q19: 1 | R19: 1 | S19: 0 | T19: 8 | U19: 8
... B22: 53.03.06 | C22: Музыкознание и музыкально-прикладное искусство | D22: 0 | E22: 0 | F22: 0 | G22: 0 | H22: 0 | I22: 0 | J22: 0 | K22: 0 | L22: 0 | M22: 0 | N22: 1 | O22: 1 | P22: 0 | Q22: 0 | R22: 0 | S22: 0 | T22: 1 | U22: 1
B23: Итого по направлениям подготовки | D23: =SUM(D8:D22) -> 11 | E23: =SUM(E8:E22) -> 1 | F23: =SUM(F8:F22) -> 12 | G23: =SUM(G8:G22) -> 38 | H23: =SUM(H8:H22) -> 38 | I23: =SUM(I8:I22) -> 76 | J23: =SUM(J8:J22) -> 90 | K23: =SUM(K8:K22) -> 43 | ... U23: =SUM(U8:U22) -> 402
B24: В том числе:
B25: Граждане России
B26: 09.03.03 | C26: Прикладная информатика | D26: 0 | E26: 0 | F26: 0 | G26: 0 | H26: 1 | I26: 1 | J26: 6 | K26: 0 | L26: 6 | M26: 8 | N26: 0 | O26: 8 | P26: 3 | Q26: 1 | R26: 4 | S26: 17 | T26: 2 | U26: 19
B27: 37.03.01 | C27: Психология | D27: 0 | E27: 0 | F27: 0 | G27: 0 | H27: 0 | I27: 0 | J27: 8 | K27: 7 | L27: 15 | M27: 6 | N27: 0 | O27: 6 | P27: 5 | Q27: 6 | R27: 11 | S27: 19 | T27: 13 | U27: 32
B28: 38.03.01 | C28: Экономика | D28: 0 | E28: 0 | F28: 0 | G28: 2 | H28: 9 | I28: 11 | J28: 13 | K28: 1 | L28: 14 | M28: 8 | N28: 1 | O28: 9 | P28: 8 | Q28: 4 | R28: 12 | S28: 31 | T28: 15 | U28: 46
B29: 38.03.02 | C29: Менеджмент | D29: 0 | E29: 0 | F29: 0 | G29: 0 | H29: 5 | I29: 5 | J29: 12 | K29: 4 | L29: 16 | M29: 0 | N29: 0 | O29: 0 | P29: 6 | Q29: 6 | R29: 12 | S29: 18 | T29: 15 | U29: 33
B30: 43.03.02 | C30: Туризм | D30: 2 | E30: 0 | F30: 2 | G30: 6 | H30: 5 | I30: 11 | J30: 8 | K30: 0 | L30: 8 | M30: 4 | N30: 1 | O30: 5 | P30: 5 | Q30: 2 | R30: 7 | S30: 25 | T30: 8 | U30: 33
B31: 44.03.01 | C31: Педагогическое образование | D31: 9 | E31: 1 | F31: 10 | G31: 12 | H31: 2 | I31: 14 | J31: 3 | K31: 0 | L31: 3 | M31: 12 | N31: 1 | O31: 13 | P31: 13 | Q31: 2 | R31: 15 | S31: 49 | T31: 6 | U31: 55
B32: 44.03.02 | C32: Психолого-педагогическое образование | D32: 0 | E32: 0 | F32: 0 | G32: 4 | H32: 8 | I32: 12 | J32: 9 | K32: 2 | L32: 11 | M32: 5 | N32: 0 | O32: 5 | P32: 4 | Q32: 2 | R32: 6 | S32: 22 | T32: 12 | U32: 34
B33: 44.03.05 | C33: Педагогическое образование (с двумя профилями подготовки) | D33: 0 | E33: 0 | F33: 0 | G33: 0 | H33: 0 | I33: 0 | J33: 10 | K33: 3 | L33: 13 | M33: 0 | N33: 0 | O33: 0 | P33: 0 | Q33: 0 | R33: 0 | S33: 10 | T33: 3 | U33: 13
B34: 45.03.01 | C34: Филология | D34: 0 | E34: 0 | F34: 0 | G34: 12 | H34: 0 | I34: 12 | J34: 10 | K34: 8 | L34: 18 | M34: 13 | N34: 3 | O34: 16 | P34: 18 | Q34: 4 | R34: 22 | S34: 53 | T34: 15 | U34: 68
B35: 49.03.02 | C35: Физическая культура для лиц с отклонениями в состоянии здоровья (адаптивная физическая культура) | D35: 0 | E35: 0 | F35: 0 | G35: 0 | H35: 0 | I35: 0 | J35: 0 | K35: 9 | L35: 9 | M35: 0 | N35: 2 | O35: 2 | P35: 0 | Q35: 3 | R35: 3 | S35: 0 | T35: 14 | U35: 14
B36: 52.03.01 | C36: Хореография | D36: 0 | E36: 0 | F36: 0 | G36: 0 | H36: 0 | I36: 0 | J36: 2 | K36: 0 | L36: 2 | M36: 3 | N36: 1 | O36: 4 | P36: 0 | Q36: 0 | R36: 0 | S36: 5 | T36: 1 | U36: 6
B37: 53.03.01 | C37: Музыкальное искусство эстрады | D37: 0 | E37: 0 | F37: 0 | G37: 0 | H37: 1 | I37: 1 | J37: 0 | K37: 1 | L37: 1 | M37: 0 | N37: 5 | O37: 5 | P37: 0 | Q37: 1 | R37: 1 | S37: 0 | T37: 8 | U37: 8
... B40: 53.03.06 | C40: Музыкознание и музыкально-прикладное искусство | D40: 0 | E40: 0 | F40: 0 | G40: 0 | H40: 0 | I40: 0 | J40: 0 | K40: 0 | L40: 0 | M40: 0 | N40: 1 | O40: 1 | P40: 0 | Q40: 0 | R40: 0 | S40: 0 | T40: 1 | U40: 1
B41: Итого по направлениям подготовки | D41: =SUM(D26:D40) -> 11 | E41: =SUM(E26:E40) -> 1 | F41: =SUM(F26:F40) -> 12 | G41: =SUM(G26:G40) -> 36 | H41: =SUM(H26:H40) -> 37 | I41: =SUM(I26:I40) -> 73 | J41: =SUM(J26:J40) -> 81 | K41: =SUM(K26:K40) -> 41 | ... U41: =SUM(U26:U40) -> 379
B42: Граждане иностранных государств (вкл. Украину)
B43: 09.03.03 | C43: Прикладная информатика | D43: 0 | E43: 0 | F43: 0 | G43: 0 | H43: 0 | I43: 0 | J43: 1 | K43: 0 | L43: 1 | M43: 0 | N43: 0 | O43: 0 | P43: 0 | Q43: 0 | R43: 0 | S43: 1 | T43: 0 | U43: 1
B44: 38.03.01 | C44: Экономика | D44: 0 | E44: 0 | F44: 0 | G44: 0 | H44: 0 | I44: 0 | J44: 1 | K44: 0 | L44: 1 | M44: 0 | N44: 0 | O44: 0 | P44: 0 | Q44: 2 | R44: 2 | S44: 1 | T44: 2 | U44: 3
B45: 38.03.02 | C45: Менеджмент | D45: 0 | E45: 0 | F45: 0 | G45: 0 | H45: 1 | I45: 1 | J45: 0 | K45: 2 | L45: 2 | M45: 0 | N45: 0 | O45: 0 | P45: 0 | Q45: 0 | R45: 0 | S45: 0 | T45: 3 | U45: 3
B46: 43.03.02 | C46: Туризм | D46: 0 | E46: 0 | F46: 0 | G46: 1 | H46: 0 | I46: 1 | J46: 2 | K46: 0 | L46: 2 | M46: 0 | N46: 0 | O46: 0 | P46: 1 | Q46: 0 | R46: 1 | S46: 4 | T46: 0 | U46: 4
B47: 44.03.01 | C47: Педагогическое образование | D47: 0 | E47: 0 | F47: 0 | G47: 0 | H47: 0 | I47: 0 | J47: 2 | K47: 0 | L47: 2 | M47: 0 | N47: 1 | O47: 1 | P47: 0 | Q47: 1 | R47: 1 | S47: 2 | T47: 2 | U47: 4
B48: 44.03.02 | C48: Психолого-педагогическое образование | D48: 0 | E48: 0 | F48: 0 | G48: 0 | H48: 0 | I48: 0 | J48: 1 | K48: 0 | L48: 1 | M48: 0 | N48: 0 | O48: 0 | P48: 0 | Q48: 0 | R48: 0 | S48: 1 | T48: 0 | U48: 1
B49: 45.03.01 | C49: Филология | D49: 0 | E49: 0 | F49: 0 | G49: 1 | H49: 0 | I49: 1 | J49: 2 | K49: 0 | L49: 2 | M49: 0 | N49: 1 | O49: 1 | P49: 1 | Q49: 1 | R49: 2 | S49: 4 | T49: 2 | U49: 6
B50: 49.03.02 | C50: Физическая культура для лиц с отклонениями в состоянии здоровья (адаптивная физическая культура) | D50: 0 | E50: 0 | F50: 0 | G50: 0 | H50: 0 | I50: 0 | J50: 0 | K50: 0 | L50: 0 | M50: 0 | N50: 0 | O50: 0 | P50: 0 | Q50: 1 | R50: 1 | S50: 0 | T50: 1 | U50: 1
B51: 53.03.03 | C51: Вокальное искусство | D51: 0 | E51: 0 | F51: 0 | G51: 0 | H51: 0 | I51: 0 | J51: 0 | K51: 0 | L51: 0 | M51: 0 | N51: 0 | O51: 0 | P51: 0 | Q51: 0 | R51: 0 | S51: 0 | T51: 0 | U51: 0
B52: Итого по направлениям подготовки | D52: =SUM(D43:D51) -> 0 | E52: =SUM(E43:E51) -> 0 | F52: =SUM(F43:F51) -> 0 | G52: =SUM(G43:G51) -> 2 | H52: =SUM(H43:H51) -> 1 | I52: =SUM(I43:I51) -> 3 | J52: =SUM(J43:J51) -> 9 | K52: =SUM(K43:K51) -> 2 | ... U52: =SUM(U43:U51) -> 23
B53: ИТОГО по подразделению граждане России | D53: =D41 -> 11 | E53: =E41 -> 1 | F53: =F41 -> 12 | G53: =G41 -> 36 | H53: =H41 -> 37 | I53: =I41 -> 73 | J53: =J41 -> 81 | K53: =K41 -> 41 | ... U53: =U41 -> 379
B54: ИТОГО по подразделению граждане иностранных государств | D54: =D52 -> 0 | E54: =E52 -> 0 | F54: =F52 -> 0 | G54: =G52 -> 2 | H54: =H52 -> 1 | I54: =I52 -> 3 | J54: =J52 -> 9 | K54: =K52 -> 2 | ... U54: =U52 -> 23
B55: Свод по направлениям подготовки | D55: =D53+D54 -> 11 | E55: =E53+E54 -> 1 | F55: =F53+F54 -> 12 | G55: =G53+G54 -> 38 | H55: =H53+H54 -> 38 | I55: =I53+I54 -> 76 | J55: =J53+J54 -> 90 | K55: =K53+K54 -> 43 | ... U55: =U53+U54 -> 402

Sheet Спец ОФО ГПА
B1: =[2]СПО!B1 -> Гуманитарно-педагогическая академия (филиал) ФГАОУ ВО «КФУ им. В. И. Вернадского» в г. Ялте
B3: Контингент очной формы обучения на | D3: =[2]СПО!F3 -> 01.10.2020 г. | F3: (Специалитет)
B5: Факультет/направление подготовки | D5: 1 | G5: 2 | J5: 3 | M5: 4 | P5: 5 | S5: 6 | V5: Всего специалисты
D7: За счет бюджетных ассигнований | E7: На основе догов. о платных образов. услугах | F7: ВСЕГО | G7: За счет бюджетных ассигнований | H7: На основе догов. о платных образов. услугах | I7: ВСЕГО | J7: За счет бюджетных ассигнований | K7: На основе догов. о платных образов. услугах | L7: ВСЕГО | M7: За счет бюджетных ассигнований | N7: На основе догов. о платных образов. услугах | O7: ВСЕГО | P7: За счет бюджетных ассигнований | Q7: На основе догов. о платных образов. услугах | R7: ВСЕГО | S7: За счет бюджетных ассигнований | T7: На основе догов. о платных образов. услугах | U7: ВСЕГО | V7: За счет бюджетных ассигнований | W7: На основе догов. о платных образов. услугах | X7: ВСЕГО
B8: Свод по направлениям подготовки | D8: =SUM(D9:D10) -> 24 | E8: =SUM(E9:E10) -> 2 | F8: =SUM(F9:F10) -> 26 | G8: =SUM(G9:G10) -> 22 | H8: =SUM(H9:H10) -> 0 | I8: =SUM(I9:I10) -> 22 | J8: =SUM(J9:J10) -> 13 | K8: =SUM(K9:K10) -> 0 | ... X8: =SUM(X9:X10) -> 115
B9: 44.05.01 | C9: Педагогика и психология девиантного поведения | D9: 14 | E9: 0 | F9: 14 | G9: 15 | H9: 0 | I9: 15 | J9: 6 | K9: 0 | L9: 6 | M9: 16 | N9: 0 | O9: 16 | P9: 14 | Q9: 0 | R9: 14 | S9: 0 | T9: 0 | U9: 0 | V9: 65 | W9: 0 | X9: 65
B10: 54.05.02 | C10: Живопись | D10: 10 | E10: 2 | F10: 12 | G10: 7 | H10: 0 | I10: 7 | J10: 7 | K10: 0 | L10: 7 | M10: 9 | N10: 0 | O10: 9 | P10: 8 | Q10: 0 | R10: 8 | S10: 7 | T10: 0 | U10: 7 | V10: 48 | W10: 2 | X10: 50
B11: Итого по направлениям подготовки | D11: =SUM(D9:D10) -> 24 | E11: =SUM(E9:E10) -> 2 | F11: =SUM(F9:F10) -> 26 | G11: =SUM(G9:G10) -> 22 | H11: =SUM(H9:H10) -> 0 | I11: =SUM(I9:I10) -> 22 | J11: =SUM(J9:J10) -> 13 | K11: =SUM(K9:K10) -> 0 | ... X11: =SUM(X9:X10) -> 115
B12: В том числе:
B13: Граждане России
B14: 44.05.01 | C14: Педагогика и психология девиантного поведения | D14: 14 | E14: 0 | F14: 14 | G14: 15 | H14: 0 | I14: 15 | J14: 6 | K14: 0 | L14: 6 | M14: 15 | N14: 0 | O14: 15 | P14: 14 | Q14: 0 | R14: 14 | S14: 0 | T14: 0 | U14: 0 | V14: 64 | W14: 0 | X14: 64
B15: 54.05.02 | C15: Живопись | D15: 10 | E15: 2 | F15: 12 | G15: 7 | H15: 0 | I15: 7 | J15: 7 | K15: 0 | L15: 7 | M15: 9 | N15: 0 | O15: 9 | P15: 8 | Q15: 0 | R15: 8 | S15: 7 | T15: 0 | U15: 7 | V15: 48 | W15: 2 | X15: 50
B16: Итого граждане России | D16: =SUM(D14:D15) -> 24 | E16: =SUM(E14:E15) -> 2 | F16: =SUM(F14:F15) -> 26 | G16: =SUM(G14:G15) -> 22 | H16: =SUM(H14:H15) -> 0 | I16: =SUM(I14:I15) -> 22 | J16: =SUM(J14:J15) -> 13 | K16: =SUM(K14:K15) -> 0 | ... X16: =SUM(X14:X15) -> 114
B17: Граждане иностранных государств (вкл. Украину)
B18: 44.05.01 | C18: Педагогика и психология девиантного поведения | D18: 0 | E18: 0 | F18: 0 | G18: 0 | H18: 0 | I18: 0 | J18: 0 | K18: 0 | L18: 0 | M18: 1 | N18: 0 | O18: 1 | P18: 0 | Q18: 0 | R18: 0 | S18: 0 | T18: 0 | U18: 0 | V18: 1 | W18: 0 | X18: 1
B19: Итого граждане иностранных государств | D19: =SUM(D18:D18) -> 0 | E19: =SUM(E18:E18) -> 0 | F19: =SUM(F18:F18) -> 0 | G19: =SUM(G18:G18) -> 0 | H19: =SUM(H18:H18) -> 0 | I19: =SUM(I18:I18) -> 0 | J19: =SUM(J18:J18) -> 0 | K19: =SUM(K18:K18) -> 0 | ... X19: =SUM(X18:X18) -> 1
B20: ИТОГО по подразделению граждане России | D20: =D16 -> 24 | E20: =E16 -> 2 | F20: =F16 -> 26 | G20: =G16 -> 22 | H20: =H16 -> 0 | I20: =I16 -> 22 | J20: =J16 -> 13 | K20: =K16 -> 0 | ... X20: =X16 -> 114
B21: ИТОГО по подразделению граждане иностранных государств | D21: =D19 -> 0 | E21: =E19 -> 0 | F21: =F19 -> 0 | G21: =G19 -> 0 | H21: =H19 -> 0 | I21: =I19 -> 0 | J21: =J19 -> 0 | K21: =K19 -> 0 | ... X21: =X19 -> 1
B22: Свод по направлениям подготовки | D22: =D20+D21 -> 24 | E22: =E20+E21 -> 2 | F22: =F20+F21 -> 26 | G22: =G20+G21 -> 22 | H22: =H20+H21 -> 0 | I22: =I20+I21 -> 22 | J22: =J20+J21 -> 13 | K22: =K20+K21 -> 0 | ... X22: =X20+X21 -> 115

Sheet Спец ЗФО ГПА
B1: =[2]СПО!B1 -> Гуманитарно-педагогическая академия (филиал) ФГАОУ ВО «КФУ им. В. И. Вернадского» в г. Ялте
B3: Контингент заочной формы обучения на | D3: =[2]СПО!F3 -> 01.10.2020 г. | F3: (Специалитет)
B5: Факультет/направление подготовки | D5: 1 | G5: 2 | J5: 3 | M5: 4 | P5: 5 | S5: 6 | V5: Всего специалисты
D7: За счет бюджетных ассигнований | E7: На основе догов. о платных образов. услугах | F7: ВСЕГО | G7: За счет бюджетных ассигнований | H7: На основе догов. о платных образов. услугах | I7: ВСЕГО | J7: За счет бюджетных ассигнований | K7: На основе догов. о платных образов. услугах | L7: ВСЕГО | M7: За счет бюджетных ассигнований | N7: На основе догов. о платных образов. услугах | O7: ВСЕГО | P7: За счет бюджетных ассигнований | Q7: На основе догов. о платных образов. услугах | R7: ВСЕГО | S7: За счет бюджетных ассигнований | T7: На основе догов. о платных образов. услугах | U7: ВСЕГО | V7: За счет бюджетных ассигнований | W7: На основе догов. о платных образов. услугах | X7: ВСЕГО
B8: Свод по направлениям подготовки | D8: =SUM(D9) -> 0 | E8: =SUM(E9) -> 0 | F8: =SUM(F9) -> 0 | G8: =SUM(G9) -> 0 | H8: =SUM(H9) -> 0 | I8: =SUM(I9) -> 0 | J8: =SUM(J9) -> 0 | K8: =SUM(K9) -> 0 | ... X8: =SUM(X9) -> 12
B9: 44.05.01 | C9: Педагогика и психология девиантного поведения | D9: 0 | E9: 0 | F9: 0 | G9: 0 | H9: 0 | I9: 0 | J9: 0 | K9: 0 | L9: 0 | M9: 4 | N9: 1 | O9: 5 | P9: 0 | Q9: 3 | R9: 3 | S9: 2 | T9: 2 | U9: 4 | V9: 6 | W9: 6 | X9: 12
B10: Итого по направлениям подготовки | D10: =SUM(D9:D9) -> 0 | E10: =SUM(E9:E9) -> 0 | F10: =SUM(F9:F9) -> 0 | G10: =SUM(G9:G9) -> 0 | H10: =SUM(H9:H9) -> 0 | I10: =SUM(I9:I9) -> 0 | J10: =SUM(J9:J9) -> 0 | K10: =SUM(K9:K9) -> 0 | ... X10: =SUM(X9:X9) -> 12
B11: В том числе:
B12: Граждане России
B13: 44.05.01 | C13: Педагогика и психология девиантного поведения | D13: 0 | E13: 0 | F13: 0 | G13: 0 | H13: 0 | I13: 0 | J13: 0 | K13: 0 | L13: 0 | M13: 4 | N13: 1 | O13: 5 | P13: 0 | Q13: 2 | R13: 2 | S13: 2 | T13: 2 | U13: 4 | V13: 6 | W13: 5 | X13: 11
B14: Итого граждане России | D14: =SUM(D13:D13) -> 0 | E14: =SUM(E13:E13) -> 0 | F14: =SUM(F13:F13) -> 0 | G14: =SUM(G13:G13) -> 0 | H14: =SUM(H13:H13) -> 0 | I14: =SUM(I13:I13) -> 0 | J14: =SUM(J13:J13) -> 0 | K14: =SUM(K13:K13) -> 0 | ... X14: =SUM(X13:X13) -> 11
B15: Граждане иностранных государств (вкл. Украину)
B16: 44.05.01 | C16: Педагогика и психология девиантного поведения | D16: 0 | E16: 0 | F16: 0 | G16: 0 | H16: 0 | I16: 0 | J16: 0 | K16: 0 | L16: 0 | M16: 0 | N16: 0 | O16: 0 | P16: 0 | Q16: 1 | R16: 1 | S16: 0 | T16: 0 | U16: 0 | V16: 0 | W16: 1 | X16: 1
B17: Итого граждане иностранных государств | D17: =SUM(D16:D16) -> 0 | E17: =SUM(E16:E16) -> 0 | F17: =SUM(F16:F16) -> 0 | G17: =SUM(G16:G16) -> 0 | H17: =SUM(H16:H16) -> 0 | I17: =SUM(I16:I16) -> 0 | J17: =SUM(J16:J16) -> 0 | K17: =SUM(K16:K16) -> 0 | ... X17: =SUM(X16:X16) -> 1
B18: ИТОГО по подразделению граждане России | D18: =D14 -> 0 | E18: =E14 -> 0 | F18: =F14 -> 0 | G18: =G14 -> 0 | H18: =H14 -> 0 | I18: =I14 -> 0 | J18: =J14 -> 0 | K18: =K14 -> 0 | ... X18: =X14 -> 11
B19: ИТОГО по подразделению граждане иностранных государств | D19: =D17 -> 0 | E19: =E17 -> 0 | F19: =F17 -> 0 | G19: =G17 -> 0 | H19: =H17 -> 0 | I19: =I17 -> 0 | J19: =J17 -> 0 | K19: =K17 -> 0 | ... X19: =X17 -> 1
B20: Свод по направлениям подготовки | D20: =D18+D19 -> 0 | E20: =E18+E19 -> 0 | F20: =F18+F19 -> 0 | G20: =G18+G19 -> 0 | H20: =H18+H19 -> 0 | I20: =I18+I19 -> 0 | J20: =J18+J19 -> 0 | K20: =K18+K19 -> 0 | ... X20: =X18+X19 -> 12

Sheet МАГ ОФО ГПА
B1: =[2]СПО!B1 -> Гуманитарно-педагогическая академия (филиал) ФГАОУ ВО «КФУ им. В. И. Вернадского» в г. Ялте
B3: Контингент очной формы обучения на | D3: =[2]СПО!F3 -> 01.10.2020 г. | F3: (Магистры)
B5: Факультет/направление подготовки | D5: 1 | G5: 2 | J5: Всего магистры
D7: За счет бюджетных ассигнований | E7: На основе догов. о платных образов. услугах | F7: ВСЕГО | G7: За счет бюджетных ассигнований | H7: На основе догов. о платных образов. услугах | I7: ВСЕГО | J7: За счет бюджетных ассигнований | K7: На основе догов. о платных образов. услугах | L7: ВСЕГО
B8: Свод по направлениям подготовки | D8: =SUM(D9:D18) -> 84 | E8: =SUM(E9:E18) -> 5 | F8: =SUM(F9:F18) -> 89 | G8: =SUM(G9:G18) -> 135 | H8: =SUM(H9:H18) -> 1 | I8: =SUM(I9:I18) -> 136 | J8: =SUM(J9:J18) -> 219 | K8: =SUM(K9:K18) -> 6 | L8: =SUM(L9:L18) -> 225
B9: 09.04.03 | C9: Прикладная информатика | D9: 0 | E9: 0 | F9: 0 | G9: 5 | H9: 0 | I9: 5 | J9: 5 | K9: 0 | L9: 5
B10: 37.04.01 | C10: Психология | D10: 7 | E10: 0 | F10: 7 | G10: 10 | H10: 0 | I10: 10 | J10: 17 | K10: 0 | L10: 17
B11: 38.04.01 | C11: Экономика | D11: 10 | E11: 3 | F11: 13 | G11: 10 | H11: 1 | I11: 11 | J11: 20 | K11: 4 | L11: 24
B12: 38.04.02 | C12: Менеджмент | D12: 0 | E12: 0 | F12: 0 | G12: 9 | H12: 0 | I12: 9 | J12: 9 | K12: 0 | L12: 9
B13: 44.04.01 | C13: Педагогическое образование | D13: 25 | E13: 0 | F13: 25 | G13: 42 | H13: 0 | I13: 42 | J13: 67 | K13: 0 | L13: 67
B14: 44.04.02 | C14: Психолого-педагогическое образование | D14: 21 | E14: 1 | F14: 22 | G14: 8 | H14: 0 | I14: 8 | J14: 29 | K14: 1 | L14: 30
B15: 45.04.01 | C15: Филология | D15: 14 | E15: 1 | F15: 15 | G15: 24 | H15: 0 | I15: 24 | J15: 38 | K15: 1 | L15: 39
B16: 46.04.01 | C16: История | D16: 0 | E16: 0 | F16: 0 | G16: 5 | H16: 0 | I16: 5 | J16: 5 | K16: 0 | L16: 5
B17: 54.04.01 | C17: Дизайн | D17: 7 | E17: 0 | F17: 7 | G17: 16 | H17: 0 | I17: 16 | J17: 23 | K17: 0 | L17: 23
B18: 54.04.02 | C18: Декоративно-прикладное искусство и народные промыслы | D18: 0 | E18: 0 | F18: 0 | G18: 6 | H18: 0 | I18: 6 | J18: 6 | K18: 0 | L18: 6
B19: Итого по направлениям подготовки | D19: =SUM(D9:D18) -> 84 | E19: =SUM(E9:E18) -> 5 | F19: =SUM(F9:F18) -> 89 | G19: =SUM(G9:G18) -> 135 | H19: =SUM(H9:H18) -> 1 | I19: =SUM(I9:I18) -> 136 | J19: =SUM(J9:J18) -> 219 | K19: =SUM(K9:K18) -> 6 | L19: =SUM(L9:L18) -> 225
B20: В том числе:
B21: Граждане России
B22: 09.04.03 | C22: Прикладная информатика | D22: 0 | E22: 0 | F22: 0 | G22: 5 | H22: 0 | I22: 5 | J22: 5 | K22: 0 | L22: 5
B23: 37.04.01 | C23: Психология | D23: 7 | E23: 0 | F23: 7 | G23: 10 | H23: 0 | I23: 10 | J23: 17 | K23: 0 | L23: 17
B24: 38.04.01 | C24: Экономика | D24: 10 | E24: 3 | F24: 13 | G24: 10 | H24: 1 | I24: 11 | J24: 20 | K24: 4 | L24: 24
B25: 38.04.02 | C25: Менеджмент | D25: 0 | E25: 0 | F25: 0 | G25: 8 | H25: 0 | I25: 8 | J25: 8 | K25: 0 | L25: 8
B26: 44.04.01 | C26: Педагогическое образование | D26: 25 | E26: 0 | F26: 25 | G26: 42 | H26: 0 | I26: 42 | J26: 67 | K26: 0 | L26: 67
B27: 44.04.02 | C27: Психолого-педагогическое образование | D27: 21 | E27: 1 | F27: 22 | G27: 7 | H27: 0 | I27: 7 | J27: 28 | K27: 1 | L27: 29
B28: 45.04.01 | C28: Филология | D28: 13 | E28: 1 | F28: 14 | G28: 24 | H28: 0 | I28: 24 | J28: 37 | K28: 1 | L28: 38
B29: 46.04.01 | C29: История | D29: 0 | E29: 0 | F29: 0 | G29: 5 | H29: 0 | I29: 5 | J29: 5 | K29: 0 | L29: 5
B30: 54.04.01 | C30: Дизайн | D30: 7 | E30: 0 | F30: 7 | G30: 15 | H30: 0 | I30: 15 | J30: 22 | K30: 0 | L30: 22
B31: 54.04.02 | C31: Декоративно-прикладное искусство и народные промыслы | D31: 0 | E31: 0 | F31: 0 | G31: 6 | H31: 0 | I31: 6 | J31: 6 | K31: 0 | L31: 6
B32: Итого граждане России | D32: =SUM(D22:D31) -> 83 | E32: =SUM(E22:E31) -> 5 | F32: =SUM(F22:F31) -> 88 | G32: =SUM(G22:G31) -> 132 | H32: =SUM(H22:H31) -> 1 | I32: =SUM(I22:I31) -> 133 | J32: =SUM(J22:J31) -> 215 | K32: =SUM(K22:K31) -> 6 | L32: =SUM(L22:L31) -> 221
B33: Граждане иностранных государств (вкл. Украину)
B34: 38.04.02 | C34: Менеджмент | D34: 0 | E34: 0 | F34: 0 | G34: 1 | H34: 0 | I34: 1 | J34: 1 | K34: 0 | L34: 1
B35: 44.04.02 | C35: Психолого-педагогическое образование | D35: 0 | E35: 0 | F35: 0 | G35: 1 | H35: 0 | I35: 1 | J35: 1 | K35: 0 | L35: 1
B36: 45.04.01 | C36: Филология | D36: 1 | E36: 0 | F36: 1 | G36: 0 | H36: 0 | I36: 0 | J36: 1 | K36: 0 | L36: 1
B37: 54.04.01 | C37: Дизайн | D37: 0 | E37: 0 | F37: 0 | G37: 1 | H37: 0 | I37: 1 | J37: 1 | K37: 0 | L37: 1
B38: Итого граждане иностранных государств | D38: =SUM(D34:D37) -> 1 | E38: =SUM(E34:E37) -> 0 | F38: =SUM(F34:F37) -> 1 | G38: =SUM(G34:G37) -> 3 | H38: =SUM(H34:H37) -> 0 | I38: =SUM(I34:I37) -> 3 | J38: =SUM(J34:J37) -> 4 | K38: =SUM(K34:K37) -> 0 | L38: =SUM(L34:L37) -> 4
B39: ИТОГО по подразделению граждане России | D39: =D32 -> 83 | E39: =E32 -> 5 | F39: =F32 -> 88 | G39: =G32 -> 132 | H39: =H32 -> 1 | I39: =I32 -> 133 | J39: =J32 -> 215 | K39: =K32 -> 6 | L39: =L32 -> 221
B40: ИТОГО по подразделению граждане иностранных государств | D40: =D38 -> 1 | E40: =E38 -> 0 | F40: =F38 -> 1 | G40: =G38 -> 3 | H40: =H38 -> 0 | I40: =I38 -> 3 | J40: =J38 -> 4 | K40: =K38 -> 0 | L40: =L38 -> 4
B41: Свод по направлениям подготовки | D41: =D39+D40 -> 84 | E41: =E39+E40 -> 5 | F41: =F39+F40 -> 89 | G41: =G39+G40 -> 135 | H41: =H39+H40 -> 1 | I41: =I39+I40 -> 136 | J41: =J39+J40 -> 219 | K41: =K39+K40 -> 6 | L41: =L39+L40 -> 225

Sheet МАГ ЗФО ГПА
B1: =[2]СПО!B1 -> Гуманитарно-педагогическая академия (филиал) ФГАОУ ВО «КФУ им. В. И. Вернадского» в г. Ялте
B3: Контингент заочной формы обучения на | F3: =[2]СПО!F3 -> 01.10.2020 г. | H3: (Магистры)
B5: Факультет/направление подготовки | D5: 1 | G5: 2 | J5: 3 | M5: Всего магистры
D7: За счет бюджетных ассигнований | E7: На основе догов. о платных образов. услугах | F7: ВСЕГО | G7: За счет бюджетных ассигнований | H7: На основе догов. о платных образов. услугах | I7: ВСЕГО | J7: За счет бюджетных ассигнований | K7: На основе догов. о платных образов. услугах | L7: ВСЕГО | M7: За счет бюджетных ассигнований | N7: На основе догов. о платных образов. услугах | O7: ВСЕГО
B8: Свод по направлениям подготовки | D8: =SUM(D9:D22) -> 18 | E8: =SUM(E9:E22) -> 1 | F8: =SUM(F9:F22) -> 19 | G8: =SUM(G9:G22) -> 32 | H8: =SUM(H9:H22) -> 33 | I8: =SUM(I9:I22) -> 65 | J8: =SUM(J9:J22) -> 72 | K8: =SUM(K9:K22) -> 12 | ... O8: =SUM(O9:O22) -> 168
B9: 09.04.03 | C9: Прикладная информатика | D9: 0 | E9: 0 | F9: 0 | G9: 0 | H9: 0 | I9: 0 | J9: 5 | K9: 0 | L9: 5 | M9: 5 | N9: 0 | O9: 5
B10: 37.04.01 | C10: Психология | D10: 0 | E10: 0 | F10: 0 | G10: 0 | H10: 0 | I10: 0 | J10: 5 | K10: 0 | L10: 5 | M10: 5 | N10: 0 | O10: 5
B11: 38.04.01 | C11: Экономика | D11: 0 | E11: 0 | F11: 0 | G11: 0 | H11: 0 | I11: 0 | J11: 6 | K11: 0 | L11: 6 | M11: 6 | N11: 0 | O11: 6
B12: 38.04.02 | C12: Менеджмент | D12: 0 | E12: 0 | F12: 0 | G12: 1 | H12: 3 | I12: 4 | J12: 5 | K12: 2 | L12: 7 | M12: 6 | N12: 5 | O12: 11
B13: 38.04.08 | C13: Финансы и кредит | D13: 0 | E13: 0 | F13: 0 | G13: 5 | H13: 3 | I13: 8 | J13: 3 | K13: 2 | L13: 5 | M13: 8 | N13: 5 | O13: 13
B14: 44.04.01 | C14: Педагогическое образование | D14: 18 | E14: 1 | F14: 19 | G14: 14 | H14: 1 | I14: 15 | J14: 23 | K14: 2 | L14: 25 | M14: 55 | N14: 4 | O14: 59
B15: 44.04.02 | C15: Психолого-педагогическое образование | D15: 0 | E15: 0 | F15: 0 | G15: 7 | H15: 5 | I15: 12 | J15: 10 | K15: 0 | L15: 10 | M15: 17 | N15: 5 | O15: 22
B16: 45.04.01 | C16: Филология | D16: 0 | E16: 0 | F16: 0 | G16: 0 | H16: 5 | I16: 5 | J16: 15 | K16: 1 | L16: 16 | M16: 15 | N16: 6 | O16: 21
B17: 46.04.01 | C17: История | D17: 0 | E17: 0 | F17: 0 | G17: 5 | H17: 0 | I17: 5 | J17: 0 | K17: 0 | L17: 0 | M17: 5 | N17: 0 | O17: 5
B18: 53.04.01 | C18: Музыкально-инструментальное искусство | D18: 0 | E18: 0 | F18: 0 | G18: 0 | H18: 9 | I18: 9 | J18: 0 | K18: 4 | L18: 4 | M18: 0 | N18: 13 | O18: 13
B19: 53.04.02 | C19: Вокальное искусство | D19: 0 | E19: 0 | F19: 0 | G19: 0 | H19: 4 | I19: 4 | J19: 0 | K19: 1 | L19: 1 | M19: 0 | N19: 5 | O19: 5
B20: 53.04.03 | C20: Искусство народного пения | D20: 0 | E20: 0 | F20: 0 | G20: 0 | H20: 1 | I20: 1 | J20: 0 | K20: 0 | L20: 0 | M20: 0 | N20: 1 | O20: 1
... B22: 53.04.06 | C22: Музыкознание и музыкально-прикладное искусство | D22: 0 | E22: 0 | F22: 0 | G22: 0 | H22: 1 | I22: 1 | J22: 0 | K22: 0 | L22: 0 | M22: 0 | N22: 1 | O22: 1
B23: Итого по направлениям подготовки | D23: =SUM(D9:D22) -> 18 | E23: =SUM(E9:E22) -> 1 | F23: =SUM(F9:F22) -> 19 | G23: =SUM(G9:G22) -> 32 | H23: =SUM(H9:H22) -> 33 | I23: =SUM(I9:I22) -> 65 | J23: =SUM(J9:J22) -> 72 | K23: =SUM(K9:K22) -> 12 | ... O23: =SUM(O9:O22) -> 168
B24: В том числе:
B25: Граждане России
B26: 09.04.03 | C26: Прикладная информатика | D26: 0 | E26: 0 | F26: 0 | G26: 0 | H26: 0 | I26: 0 | J26: 5 | K26: 0 | L26: 5 | M26: 5 | N26: 0 | O26: 5
B27: 37.04.01 | C27: Психология | D27: 0 | E27: 0 | F27: 0 | G27: 0 | H27: 0 | I27: 0 | J27: 5 | K27: 0 | L27: 5 | M27: 5 | N27: 0 | O27: 5
B28: 38.04.01 | C28: Экономика | D28: 0 | E28: 0 | F28: 0 | G28: 0 | H28: 0 | I28: 0 | J28: 6 | K28: 0 | L28: 6 | M28: 6 | N28: 0 | O28: 6
B29: 38.04.02 | C29: Менеджмент | D29: 0 | E29: 0 | F29: 0 | G29: 1 | H29: 3 | I29: 4 | J29: 4 | K29: 2 | L29: 6 | M29: 5 | N29: 5 | O29: 10
B30: 38.04.08 | C30: Финансы и кредит | D30: 0 | E30: 0 | F30: 0 | G30: 5 | H30: 3 | I30: 8 | J30: 3 | K30: 2 | L30: 5 | M30: 8 | N30: 5 | O30: 13
B31: 44.04.01 | C31: Педагогическое образование | D31: 18 | E31: 1 | F31: 19 | G31: 14 | H31: 1 | I31: 15 | J31: 23 | K31: 2 | L31: 25 | M31: =D31+G31+J31 -> 55 | N31: 4 | O31: 59
B32: 44.04.02 | C32: Психолого-педагогическое образование | D32: 0 | E32: 0 | F32: 0 | G32: 7 | H32: 5 | I32: 12 | J32: 8 | K32: 0 | L32: 8 | M32: 15 | N32: 5 | O32: 20
B33: 45.04.01 | C33: Филология | D33: 0 | E33: 0 | F33: 0 | G33: 0 | H33: 4 | I33: 4 | J33: 15 | K33: 1 | L33: 16 | M33: 15 | N33: 5 | O33: 20
B34: 46.04.01 | C34: История | D34: 0 | E34: 0 | F34: 0 | G34: 5 | H34: 0 | I34: 5 | J34: 0 | K34: 0 | L34: 0 | M34: 5 | N34: 0 | O34: 5
B35: 53.04.01 | C35: Музыкально-инструментальное искусство | D35: 0 | E35: 0 | F35: 0 | G35: 0 | H35: 8 | I35: 8 | J35: 0 | K35: 4 | L35: 4 | M35: 0 | N35: 12 | O35: 12
B36: 53.04.02 | C36: Вокальное искусство | D36: 0 | E36: 0 | F36: 0 | G36: 0 | H36: 4 | I36: 4 | J36: 0 | K36: 1 | L36: 1 | M36: 0 | N36: 5 | O36: 5
B37: 53.04.03 | C37: Искусство народного пения | D37: 0 | E37: 0 | F37: 0 | G37: 0 | H37: 1 | I37: 1 | J37: 0 | K37: 0 | L37: 0 | M37: 0 | N37: 1 | O37: 1
B38: 53.04.04 | C38: Дирижирование | D38: 0 | E38: 0 | F38: 0 | G38: 0 | H38: 1 | I38: 1 | J38: 0 | K38: 0 | L38: 0 | M38: 0 | N38: 1 | O38: 1
B39: 53.04.06 | C39: Музыкознание и музыкально-прикладное искусство | D39: 0 | E39: 0 | F39: 0 | G39: 0 | H39: 1 | I39: 1 | J39: 0 | K39: 0 | L39: 0 | M39: 0 | N39: 1 | O39: 1
B40: Итого граждан Росии | D40: =SUM(D26:D39) -> 18 | E40: =SUM(E26:E39) -> 1 | F40: =SUM(F26:F39) -> 19 | G40: =SUM(G26:G39) -> 32 | H40: =SUM(H26:H39) -> 31 | I40: =SUM(I26:I39) -> 63 | J40: =SUM(J26:J39) -> 69 | K40: =SUM(K26:K39) -> 12 | ... O40: =SUM(O26:O39) -> 163
B41: Граждане иностранных государств (вкл. Украину)
B42: 38.04.02 | C42: Менеджмент | D42: 0 | E42: 0 | F42: 0 | G42: 0 | H42: 0 | I42: 0 | J42: 1 | K42: 0 | L42: 1 | M42: 1 | N42: 0 | O42: 1
B43: 44.04.02 | C43: Психолого-педагогическое образование | D43: 0 | E43: 0 | F43: 0 | G43: 0 | H43: 0 | I43: 0 | J43: 2 | K43: 0 | L43: 2 | M43: 2 | N43: 0 | O43: 2
B44: 45.04.01 | C44: Филология | D44: 0 | E44: 0 | F44: 0 | G44: 0 | H44: 1 | I44: 1 | J44: 0 | K44: 0 | L44: 0 | M44: 0 | N44: 1 | O44: 1
B45: 53.04.01 | C45: Музыкально-инструментальное искусство | D45: 0 | E45: 0 | F45: 0 | G45: 0 | H45: 1 | I45: 1 | J45: 0 | K45: 0 | L45: 0 | M45: 0 | N45: 1 | O45: 1
B46: Итого граждане иностранных государств | D46: =SUM(D42:D45) -> 0 | E46: =SUM(E42:E45) -> 0 | F46: =SUM(F42:F45) -> 0 | G46: =SUM(G42:G45) -> 0 | H46: =SUM(H42:H45) -> 2 | I46: =SUM(I42:I45) -> 2 | J46: =SUM(J42:J45) -> 3 | K46: =SUM(K42:K45) -> 0 | ... O46: =SUM(O42:O45) -> 5
B47: ИТОГО по подразделению граждане России | D47: =SUM(D26:D39) -> 18 | E47: =SUM(E26:E39) -> 1 | F47: =SUM(F26:F39) -> 19 | G47: =SUM(G26:G39) -> 32 | H47: =SUM(H26:H39) -> 31 | I47: =SUM(I26:I39) -> 63 | J47: =SUM(J26:J39) -> 69 | K47: =SUM(K26:K39) -> 12 | ... O47: =SUM(O26:O39) -> 163
B48: ИТОГО по подразделению граждане иностранных государств | D48: =SUM(D42:D45) -> 0 | E48: =SUM(E42:E45) -> 0 | F48: =SUM(F42:F45) -> 0 | G48: =SUM(G42:G45) -> 0 | H48: =SUM(H42:H45) -> 2 | I48: =SUM(I42:I45) -> 2 | J48: =SUM(J42:J45) -> 3 | K48: =SUM(K42:K45) -> 0 | ... O48: =SUM(O42:O45) -> 5
B49: Свод по направлениям подготовки | D49: =D47+D48 -> 18 | E49: =E47+E48 -> 1 | F49: =F47+F48 -> 19 | G49: =G47+G48 -> 32 | H49: =H47+H48 -> 33 | I49: =I47+I48 -> 65 | J49: =J47+J48 -> 72 | K49: =K47+K48 -> 12 | ... O49: =O47+O48 -> 168

Sheet Бак ОФО ЕИСН
A2: Евпаторийский институт социальных наук (филиал)
A3: Контингент очной формы обучения на 01.10.2020 г. (Бакалавриат)
A5: Направление подготовки | B5: 1 год обучения | E5: 2 год обучения | H5: 3 год обучения | K5: 4 год обучения | N5: Всего бакалавры
B6: За счет бюджетных ассигнований | C6: На основе догов. о платных образов. услугах | D6: ВСЕГО | E6: За счет бюджетных ассигнований | F6: На основе догов. о платных образов. услугах | G6: ВСЕГО | H6: За счет бюджетных ассигнований | I6: На основе догов. о платных образов. услугах | J6: ВСЕГО | K6: За счет бюджетных ассигнований | L6: На основе догов. о платных образов. услугах | M6: ВСЕГО | N6: За счет бюджетных ассигнований | O6: На основе догов. о платных образов. услугах | P6: ВСЕГО
A7: Свод по направлениям подготовки
A8: 44.03.01 Педагогическое образование | B8: 34 | C8: 0 | D8: 34 | E8: 12 | F8: 0 | G8: 12 | H8: 12 | I8: 0 | J8: 12 | K8: 28 | L8: 0 | M8: =SUM(K8:L8) -> 28 | N8: =B8+E8+H8+K8 -> 86 | O8: =C8+F8+I8+L8 -> 0 | P8: =N8+O8 -> 86
A9: 44.03.02 Психолого-педагогическое образование | B9: 21 | C9: 0 | D9: =SUM(B9:C9) -> 21 | E9: 14 | F9: 0 | G9: =SUM(E9:F9) -> 14 | H9: 13 | I9: 0 | J9: =SUM(H9:I9) -> 13 | K9: 9 | L9: 1 | M9: =SUM(K9:L9) -> 10 | N9: =B9+E9+H9+K9 -> 57 | O9: =C9+F9+I9+L9 -> 1 | P9: =N9+O9 -> 58
A10: 45.03.01 Филология | B10: 0 | C10: 0 | D10: =SUM(B10:C10) -> 0 | E10: 6 | F10: 0 | G10: =SUM(E10:F10) -> 6 | H10: 10 | I10: 0 | J10: =SUM(H10:I10) -> 10 | K10: 26 | L10: 1 | M10: =SUM(K10:L10) -> 27 | N10: =B10+E10+H10+K10 -> 42 | O10: =C10+F10+I10+L10 -> 1 | P10: =N10+O10 -> 43
A11: 46.03.01 История | B11: 0 | C11: 0 | D11: =SUM(B11:C11) -> 0 | E11: 0 | F11: 0 | G11: =SUM(E11:F11) -> 0 | H11: 13 | I11: 0 | J11: =SUM(H11:I11) -> 13 | K11: 8 | L11: 0 | M11: =SUM(K11:L11) -> 8 | N11: =B11+E11+H11+K11 -> 21 | O11: =C11+F11+I11+L11 -> 0 | P11: =N11+O11 -> 21
A12: Итого по направлениям подготовки: | B12: =SUM(B8:B11) -> 55 | C12: =SUM(C8:C11) -> 0 | D12: =SUM(D8:D11) -> 55 | E12: =SUM(E8:E11) -> 32 | F12: =SUM(F8:F11) -> 0 | G12: =SUM(G8:G11) -> 32 | H12: =SUM(H8:H11) -> 48 | I12: =SUM(I8:I11) -> 0 | ... O12: =SUM(O8:O11) -> 2 | P12: =SUM(N12:O12) -> 208
A13: В том числе:
A14: Граждане России
A15: 44.03.01 Педагогическое образование | B15: 34 | C15: 0 | D15: =SUM(B15:C15) -> 34 | E15: 12 | F15: 0 | G15: =SUM(E15:F15) -> 12 | H15: 12 | I15: 0 | J15: =SUM(H15:I15) -> 12 | K15: 28 | L15: 0 | M15: =SUM(K15:L15) -> 28 | N15: =B15+E15+H15+K15 -> 86 | O15: =C15+F15+I15+L15 -> 0 | P15: =SUM(N15:O15) -> 86
A16: 44.03.02 Психолого-педагогическое образование | B16: 21 | C16: 0 | D16: =SUM(B16:C16) -> 21 | E16: 14 | F16: 0 | G16: 14 | H16: 12 | I16: 0 | J16: =SUM(H16:I16) -> 12 | K16: 9 | L16: 1 | M16: =SUM(K16:L16) -> 10 | N16: =B16+E16+H16+K16 -> 56 | O16: =C16+F16+I16+L16 -> 1 | P16: =SUM(N16:O16) -> 57
A17: 45.03.01 Филология | B17: 0 | C17: 0 | D17: =SUM(B17:C17) -> 0 | E17: 6 | F17: 0 | G17: 6 | H17: 10 | I17: 0 | J17: =SUM(H17:I17) -> 10 | K17: 26 | L17: 1 | M17: =SUM(K17:L17) -> 27 | N17: =B17+E17+H17+K17 -> 42 | O17: =C17+F17+I17+L17 -> 1 | P17: =SUM(N17:O17) -> 43
A18: 46.03.01 История | B18: 0 | C18: 0 | D18: =SUM(B18:C18) -> 0 | E18: 0 | F18: 0 | G18: =SUM(E18:F18) -> 0 | H18: 13 | I18: 0 | J18: =SUM(H18:I18) -> 13 | K18: 7 | L18: 0 | M18: =SUM(K18:L18) -> 7 | N18: =B18+E18+H18+K18 -> 20 | O18: =C18+F18+I18+L18 -> 0 | P18: =SUM(N18:O18) -> 20
A19: Итого граждане России | B19: =SUM(B15:B18) -> 55 | C19: =SUM(C15:C18) -> 0 | D19: =SUM(D15:D18) -> 55 | E19: =SUM(E15:E18) -> 32 | F19: =SUM(F15:F18) -> 0 | G19: =SUM(G15:G18) -> 32 | H19: =SUM(H15:H18) -> 47 | I19: =SUM(I15:I18) -> 0 | ... P19: =SUM(P15:P18) -> 206
A20: Граждане иностранных государств (вкл. Украину)
A21: 44.03.01 Педагогическое образование | B21: 0 | C21: 0 | D21: 0 | E21: 0 | F21: 0 | G21: 0 | H21: 0 | I21: 0 | J21: =SUM(H21:I21) -> 0 | K21: =SUM(I21:J21) -> 0 | L21: =SUM(J21:K21) -> 0 | M21: =SUM(K21:L21) -> 0 | N21: =B21+E21+H21+K21 -> 0 | O21: =C21+F21+I21+L21 -> 0 | P21: =SUM(N21:O21) -> 0
A22: 44.03.02 Психолого-педагогическое образование | B22: 0 | C22: 0 | D22: 0 | E22: 0 | F22: 0 | G22: 0 | H22: 1 | I22: 0 | J22: =SUM(H22:I22) -> 1 | K22: 0 | L22: 0 | M22: 0 | N22: =B22+E22+H22+K22 -> 1 | O22: =C22+F22+I22+L22 -> 0 | P22: =SUM(N22:O22) -> 1
A23: 45.03.01 Филология | B23: 0 | C23: 0 | D23: 0 | E23: 0 | F23: 0 | G23: 0 | H23: 0 | I23: 0 | J23: =SUM(H23:I23) -> 0 | K23: 0 | L23: 0 | M23: 0 | N23: =B23+E23+H23+K23 -> 0 | O23: =C23+F23+I23+L23 -> 0 | P23: =SUM(N23:O23) -> 0
A24: 46.03.01 История | B24: 0 | C24: 0 | D24: 0 | E24: 0 | F24: 0 | G24: 0 | H24: 0 | I24: 0 | J24: =SUM(H24:I24) -> 0 | K24: 1 | L24: 0 | M24: =SUM(K24:L24) -> 1 | N24: =B24+E24+H24+K24 -> 1 | O24: =C24+F24+I24+L24 -> 0 | P24: =SUM(N24:O24) -> 1
A25: Итого граждане иностранных государств | B25: 0 | C25: 0 | D25: 0 | E25: 0 | F25: 0 | G25: 0 | H25: =SUM(H21:H24) -> 1 | I25: =SUM(I21:I24) -> 0 | J25: =SUM(J21:J24) -> 1 | K25: =SUM(K21:K24) -> 1 | L25: =SUM(L21:L24) -> 0 | M25: =SUM(M21:M24) -> 1 | N25: =SUM(N21:N24) -> 2 | O25: =SUM(O21:O24) -> 0 | P25: =SUM(N25:O25) -> 2
A26: ИТОГО по подразделению граждане России | B26: =B19 -> 55 | C26: =C19 -> 0 | D26: =D19 -> 55 | E26: =E19 -> 32 | F26: =F19 -> 0 | G26: =G19 -> 32 | H26: =H19 -> 47 | I26: =I19 -> 0 | J26: =J19 -> 47 | K26: =SUM(K19) -> 70 | L26: =SUM(L19) -> 2 | M26: =SUM(M19) -> 72 | N26: =B26+E26+H26+K26 -> 204 | O26: =C26+F26+I26+L26 -> 2 | P26: =SUM(N26:O26) -> 206
A27: ИТОГО по подразделению иностранные граждане | B27: =B25 -> 0 | C27: =C25 -> 0 | D27: =D25 -> 0 | E27: =E25 -> 0 | F27: =F25 -> 0 | G27: =G25 -> 0 | H27: =H25 -> 1 | I27: =I25 -> 0 | J27: =J25 -> 1 | K27: 1 | L27: 0 | M27: 1 | N27: =B27+E27+H27+K27 -> 2 | O27: =C27+F27+I27+L27 -> 0 | P27: =SUM(N27:O27) -> 2
A28: Итого | B28: =SUM(B26:B27) -> 55 | C28: =SUM(C26:C27) -> 0 | D28: =SUM(D26:D27) -> 55 | E28: =SUM(E26:E27) -> 32 | F28: =SUM(F26:F27) -> 0 | G28: =SUM(G26:G27) -> 32 | H28: =SUM(H26:H27) -> 48 | I28: =SUM(I26:I27) -> 0 | ... M28: =SUM(M26:M27) -> 73 | N28: =SUM(B28+E28+H28+K28) -> 206 | O28: =SUM(C28+F28+I28+L28) -> 2 | P28: =SUM(N28:O28) -> 208

Sheet Бак ЗФО ЕИСН
A1: Евпаторийский институт социальных наук (филиал) Контингент заочной формы обучения на 01.10.2020 г. (Бакалавриат)
A6: Направление подготовки | B6: 1 год обучения | E6: 2 год обучения | H6: 3 год обучения | K6: 4 год обучения | N6: 5 год обучения | Q6: Всего бакалавров
B7: За счет бюджетных ассигнований | C7: На основе догов. о платных образов. услугах | D7: ВСЕГО | E7: За счет бюджетных ассигнований | F7: На основе догов. о платных образов. услугах | G7: ВСЕГО | H7: За счет бюджетных ассигнований | I7: На основе догов. о платных образов. услугах | J7: ВСЕГО | K7: За счет бюджетных ассигнований | L7: На основе догов. о платных образов. услугах | M7: ВСЕГО | N7: За счет бюджетных ассигнований | O7: На основе догов. о платных образов. услугах | P7: ВСЕГО | Q7: За счет бюджетных ассигнований | R7: На основе догов. о платных образов. услугах | S7: ВСЕГО
A8: Свод по направлениям подготовки
A9: 44.03.01 Педагогическое образование | B9: 20 | C9: 1 | D9: 21 | E9: 8 | F9: 5 | G9: 13 | H9: 13 | I9: 6 | J9: 19 | K9: 13 | L9: 4 | M9: 17 | N9: 9 | O9: 25 | P9: 34 | Q9: 63 | R9: 41 | S9: 104
A10: 44.03.02 Психолого-педагогическое образование | B10: 0 | C10: 0 | D10: 0 | E10: 7 | F10: 5 | G10: 12 | H10: 0 | I10: 0 | J10: 0 | K10: 0 | L10: 6 | M10: 6 | N10: 4 | O10: 11 | P10: 15 | Q10: 11 | R10: 22 | S10: 33
A11: 45.03.01 Филология | B11: 0 | C11: 0 | D11: 0 | E11: 7 | F11: 0 | G11: 7 | H11: 11 | I11: 2 | J11: 13 | K11: 6 | L11: 1 | M11: 7 | N11: 10 | O11: 4 | P11: 14 | Q11: 34 | R11: 7 | S11: 41
A12: 46.03.01 История | B12: 0 | C12: 0 | D12: 0 | E12: 0 | F12: 0 | G12: 0 | H12: 0 | I12: 0 | J12: 0 | K12: 0 | L12: 0 | M12: 0 | N12: 0 | O12: 0 | P12: 0 | Q12: 0 | R12: 0 | S12: 0
A13: Итого по направлениям подготовки: | B13: 20 | C13: 1 | D13: 21 | E13: 22 | F13: 10 | G13: 32 | H13: 24 | I13: 8 | J13: 32 | K13: 19 | L13: 11 | M13: 30 | N13: 23 | O13: 40 | P13: 63 | Q13: 108 | R13: 70 | S13: 178
A14: В том числе:
A15: Граждане России
A16: 44.03.01 Педагогическое образование | B16: 20 | C16: 1 | D16: 21 | E16: 7 | F16: 4 | G16: 11 | H16: 13 | I16: 6 | J16: 19 | K16: 13 | L16: 4 | M16: 17 | N16: 9 | O16: 24 | P16: 33 | Q16: 62 | R16: 39 | S16: =SUM(D16+G16+J16+M16+P16) -> 101
A17: 44.03.02 Психолого-педагогическое образование | B17: 0 | C17: 0 | D17: 0 | E17: 7 | F17: 3 | G17: 10 | H17: 0 | I17: 0 | J17: 0 | K17: 0 | L17: 6 | M17: 6 | N17: 4 | O17: 11 | P17: 15 | Q17: 11 | R17: 20 | S17: 31
A18: 45.03.01 Филология | B18: 0 | C18: 0 | D18: 0 | E18: 7 | F18: 0 | G18: 7 | H18: 11 | I18: 2 | J18: 13 | K18: 6 | L18: 1 | M18: 7 | N18: 10 | O18: 3 | P18: 13 | Q18: 34 | R18: 6 | S18: 40
A19: 46.03.01 История | B19: 0 | C19: 0 | D19: 0 | E19: 0 | F19: 0 | G19: 0 | H19: 0 | I19: 0 | J19: 0 | K19: 0 | L19: 0 | M19: 0 | N19: 0 | O19: 0 | P19: 0 | Q19: 0 | R19: 0 | S19: 0
A20: Итого граждане России | B20: 20 | C20: 1 | D20: 21 | E20: 21 | F20: 7 | G20: 28 | H20: 24 | I20: 8 | J20: 32 | K20: 19 | L20: 11 | M20: 30 | N20: 23 | O20: 38 | P20: 61 | Q20: 107 | R20: 65 | S20: 172
A21: Граждане иностранных государств (вкл. Украину)
A22: 44.03.01 Педагогическое образование | B22: 0 | C22: 0 | D22: 0 | E22: 1 | F22: 1 | G22: 2 | H22: 0 | I22: 0 | J22: 0 | K22: 0 | L22: 0 | M22: 0 | N22: 0 | O22: 1 | P22: 1 | Q22: 1 | R22: 2 | S22: 3
A23: 44.03.02 Психолого-педагогическое образование | B23: 0 | C23: 0 | D23: 0 | E23: 0 | F23: 2 | G23: 2 | H23: 0 | I23: 0 | J23: 0 | K23: 0 | L23: 0 | M23: 0 | N23: 0 | O23: 0 | P23: 0 | Q23: 0 | R23: 2 | S23: 2
A24: 45.03.01 Филология | B24: 0 | C24: 0 | D24: 0 | E24: 0 | F24: 0 | G24: 0 | H24: 0 | I24: 0 | J24: 0 | K24: 0 | L24: 0 | M24: 0 | N24: 0 | O24: 1 | P24: 1 | Q24: 0 | R24: 1 | S24: 1
A25: 46.03.01 История | B25: 0 | C25: 0 | D25: 0 | E25: 0 | F25: 0 | G25: 0 | H25: 0 | I25: 0 | J25: 0 | K25: 0 | L25: 0 | M25: 0 | N25: 0 | O25: 0 | P25: 0 | Q25: 0 | R25: 0 | S25: 0
A26: Итого граждане иностранных государств | B26: 0 | C26: 0 | D26: 0 | E26: 0 | F26: 0 | G26: 4 | H26: 0 | I26: 0 | J26: 0 | K26: 0 | L26: 0 | M26: 0 | N26: 0 | O26: 2 | P26: 2 | Q26: 1 | R26: 5 | S26: 6
A27: ИТОГО по подразделению граждане России | B27: 20 | C27: 1 | D27: 21 | E27: 21 | F27: 7 | G27: 28 | H27: 24 | I27: 8 | J27: 32 | K27: 19 | L27: 11 | M27: 30 | N27: 23 | O27: 38 | P27: 61 | Q27: 107 | R27: 65 | S27: 172
A28: ИТОГО по подразделению иностранные граждане | B28: 0 | C28: 0 | D28: 0 | E28: 1 | F28: 3 | G28: 4 | H28: 0 | I28: 0 | J28: 0 | K28: 0 | L28: 0 | M28: 0 | N28: 0 | O28: 2 | P28: 2 | Q28: 1 | R28: 5 | S28: 6
A29: Итого | B29: 20 | C29: 1 | D29: 21 | E29: 22 | F29: 10 | G29: 32 | H29: 24 | I29: 8 | J29: 32 | K29: 19 | L29: 11 | M29: 30 | N29: 23 | O29: 40 | P29: 63 | Q29: =SUM(B29+E29+H29+K29+N29) -> 108 | R29: =SUM(C29+F29+I29+L29+O29) -> 70 | S29: =SUM(D29+G29+J29+M29+P29) -> 178
A34: Заместитель директора по учебно-воспитательной и научной работе | K34: Н.В. Давкуш

Sheet Маг ОФО ЕИСН
A2: Евпаторийский институт социальных наук (филиал)
A3: Контингент очной формы обучения на 01.10.2020 г. (Магистратура)
A5: Направление подготовки | B5: 1 год обучения | E5: 2 год обучения | H5: Всего магистры
B6: За счет бюджетных ассигнований | C6: На основе догов. о платных образов. услугах | D6: ВСЕГО | E6: За счет бюджетных ассигнований | F6: На основе догов. о платных образов. услугах | G6: ВСЕГО | H6: За счет бюджетных ассигнований | I6: На основе догов. о платных образов. услугах | J6: ВСЕГО
A7: Свод по направлениям подготовки
A8: 44.04.01 Педагогическое образование | B8: 0 | C8: 0 | D8: 0 | E8: 0 | F8: 0 | G8: 0 | H8: 0 | I8: =C8+F8 -> 0 | J8: =H8+I8 -> 0
A9: 44.04.02 Психолого-педагогическое образование | B9: 12 | C9: 1 | D9: 13 | E9: 10 | F9: 0 | G9: 10 | H9: =B9+E9 -> 22 | I9: =C9+F9 -> 1 | J9: =H9+I9 -> 23
A10: 45.04.01 Филология | B10: 10 | C10: 0 | D10: 10 | E10: 8 | F10: 0 | G10: 8 | H10: =B10+E10 -> 18 | I10: =C10+F10 -> 0 | J10: =H10+I10 -> 18
A11: 46.04.01 История | B11: 0 | C11: 0 | D11: 0 | E11: 0 | F11: 0 | G11: 0 | H11: =B11+E11 -> 0 | I11: =C11+F11 -> 0 | J11: =H11+I11 -> 0
A12: Итого по направлениям подготовки: | B12: =SUM(B8:B11) -> 22 | C12: =SUM(C8:C11) -> 1 | D12: =SUM(D8:D11) -> 23 | E12: =SUM(E8:E11) -> 18 | F12: 0 | G12: =SUM(G8:G11) -> 18 | H12: =SUM(H8:H11) -> 40 | I12: =SUM(I8:I11) -> 1 | J12: =SUM(H12:I12) -> 41
A13: В том числе:
A14: Граждане России
A15: 44.04.01 Педагогическое образование | B15: 0 | C15: 0 | D15: 0 | E15: 0 | F15: 0 | G15: 0 | H15: =SUM(E15,B15) -> 0 | I15: =C15+F15 -> 0 | J15: 10
A16: 44.04.02 Психолого-педагогическое образование | B16: 12 | C16: 1 | D16: 13 | E16: 10 | F16: 0 | G16: 10 | H16: =B16+E16 -> 22 | I16: =C16+F16 -> 1 | J16: =H16+I16 -> 23
A17: 45.04.01 Филология | B17: 10 | C17: 0 | D17: 10 | E17: 8 | F17: 0 | G17: 8 | H17: =B17+E17 -> 18 | I17: =C17+F17 -> 0 | J17: =H17+I17 -> 18
A18: 46.04.01 История | B18: 0 | C18: 0 | D18: 0 | E18: 0 | F18: 0 | G18: 0 | H18: =B18+E18 -> 0 | I18: =C18+F18 -> 0 | J18: =H18+I18 -> 0
A19: Итого граждане России | B19: =SUM(B15:B18) -> 22 | C19: =SUM(C15:C18) -> 1 | D19: =SUM(D15:D18) -> 23 | E19: =SUM(E15:E18) -> 18 | F19: 0 | G19: =SUM(G15:G18) -> 18 | H19: =SUM(H15:H18) -> 40 | I19: =SUM(I15:I18) -> 1 | J19: =SUM(H19:I19) -> 41
A20: Граждане иностранных государств (вкл. Украину)
A21: 44.04.01 Педагогическое образование | B21: 0 | C21: 0 | D21: =SUM(B21:C21) -> 0 | E21: =SUM(C21:D21) -> 0 | F21: =SUM(D21:E21) -> 0 | G21: =SUM(E21:F21) -> 0 | H21: =B21+E21 -> 0 | I21: =C21+F21 -> 0 | J21: =SUM(H21:I21) -> 0
A22: 44.04.02 Психолого-педагогическое образование | B22: 0 | C22: 0 | D22: =SUM(B22:C22) -> 0 | E22: =SUM(C22:D22) -> 0 | F22: =SUM(D22:E22) -> 0 | G22: =SUM(E22:F22) -> 0 | H22: =B22+E22 -> 0 | I22: =C22+F22 -> 0 | J22: =SUM(H22:I22) -> 0
A23: 45.04.01 Филология | B23: 0 | C23: 0 | D23: =SUM(B23:C23) -> 0 | E23: =SUM(C23:D23) -> 0 | F23: =SUM(D23:E23) -> 0 | G23: =SUM(E23:F23) -> 0 | H23: 0 | I23: =C23+F23 -> 0 | J23: =SUM(H23:I23) -> 0
A24: 46.04.01 История | B24: 0 | C24: 0 | D24: =SUM(B24:C24) -> 0 | E24: =SUM(C24:D24) -> 0 | F24: =SUM(D24:E24) -> 0 | G24: =SUM(E24:F24) -> 0 | H24: =B24+E24 -> 0 | I24: =C24+F24 -> 0 | J24: =SUM(H24:I24) -> 0
A25: Итого граждане иностранных государств | B25: 0 | C25: 0 | D25: =SUM(D21:D24) -> 0 | E25: =SUM(C25:D25) -> 0 | F25: =SUM(D25:E25) -> 0 | G25: =SUM(E25:F25) -> 0 | H25: =SUM(H21:H24) -> 0 | I25: =SUM(I21:I24) -> 0 | J25: =SUM(H25:I25) -> 0
A26: ИТОГО по подразделению граждане России | B26: =B19 -> 22 | C26: =C19 -> 1 | D26: =D19 -> 23 | E26: =SUM(E15:E18) -> 18 | F26: 0 | G26: =SUM(G19) -> 18 | H26: =B26+E26 -> 40 | I26: =C26+F26 -> 1 | J26: =SUM(H26:I26) -> 41
A27: ИТОГО по подразделению иностранные граждане | B27: =B25 -> 0 | C27: =C25 -> 0 | D27: =D25 -> 0 | E27: 0 | F27: 0 | G27: 0 | H27: =B27+E27 -> 0 | I27: =C27+F27 -> 0 | J27: =SUM(H27:I27) -> 0
A28: Итого | B28: =SUM(B26:B27) -> 22 | C28: =SUM(C26:C27) -> 1 | D28: =SUM(D26:D27) -> 23 | E28: =SUM(E26) -> 18 | F28: 0 | G28: =SUM(G26) -> 18 | H28: =SUM(B28+E28) -> 40 | I28: =SUM(C28+F28) -> 1 | J28: =SUM(H28:I28) -> 41
A31: Заместитель директора по учебно-воспитательной и научной работе | I31: Н.В. Давкуш

Sheet МАГ ЗФО ЕИСН
A2: Евпаторийский институт социальных наук (филиал)
A3: Контингент заочной формы обучения на 01.10.2020 г. (Магистратура)
A5: Направление подготовки | B5: 1 год обучения | E5: 2 год обучения | H5: 3 год обучения | K5: Всего магистры
B6: За счет бюджетных ассигнований | C6: На основе догов. о платных образов. услугах | D6: ВСЕГО | E6: За счет бюджетных ассигнований | F6: На основе догов. о платных образов. услугах | G6: ВСЕГО | H6: За счет бюджетных ассигнований | I6: На основе догов. о платных образов. услугах | J6: ВСЕГО | K6: За счет бюджетных ассигнований | L6: На основе догов. о платных образов. услугах | M6: ВСЕГО
A7: Свод по направлениям подготовки
A8: 44.04.01 Педагогическое образование | B8: 10 | C8: 8 | D8: 18 | E8: 9 | F8: 5 | G8: 14 | H8: 0 | I8: 0 | J8: 0 | K8: 19 | L8: 13 | M8: 32
A9: 44.04.02 Психолого-педагогическое образование | B9: 0 | C9: 0 | D9: 0 | E9: 0 | F9: 0 | G9: 0 | H9: 6 | I9: 4 | J9: 10 | K9: 6 | L9: 4 | M9: 10
A10: 45.04.01 Филология | B10: 8 | C10: 1 | D10: 9 | E10: 1 | F10: 0 | G10: 1 | H10: 6 | I10: 0 | J10: 6 | K10: 15 | L10: 1 | M10: 16
A11: 46.04.01 История | B11: 0 | C11: 0 | D11: 0 | E11: 5 | F11: 1 | G11: 6 | H11: 6 | I11: 0 | J11: 6 | K11: 11 | L11: 1 | M11: 12
A12: Итого по направлениям подготовки: | B12: 18 | C12: 9 | D12: 27 | E12: 15 | F12: 6 | G12: 21 | H12: 18 | I12: 4 | J12: 22 | K12: 51 | L12: 19 | M12: 70
A13: В том числе:
A14: Граждане России
A15: 44.04.01 Педагогическое образование | B15: 10 | C15: 8 | D15: 18 | E15: 9 | F15: 5 | G15: 14 | H15: 0 | I15: 0 | J15: 0 | K15: 19 | L15: 13 | M15: 32
A16: 44.04.02 Психолого-педагогическое образование | B16: 0 | C16: 0 | D16: 0 | E16: 0 | F16: 0 | G16: 0 | H16: 6 | I16: 4 | J16: 10 | K16: 6 | L16: 4 | M16: 10
A17: 45.04.01 Филология | B17: 8 | C17: 1 | D17: 9 | E17: 1 | F17: 0 | G17: 1 | H17: 5 | I17: 0 | J17: 5 | K17: 14 | L17: 1 | M17: 15
A18: 46.04.01 История | B18: 0 | C18: 0 | D18: 0 | E18: 5 | F18: 1 | G18: 6 | H18: 6 | I18: 0 | J18: 6 | K18: 11 | L18: 1 | M18: 12
A19: Итого граждане России | B19: 18 | C19: 9 | D19: 27 | E19: 15 | F19: 6 | G19: 21 | H19: 17 | I19: 4 | J19: 21 | K19: 50 | L19: 19 | M19: 69
A20: Граждане иностранных государств (вкл. Украину)
A21: 44.04.01 Педагогическое образование | B21: 0 | C21: 0 | D21: 0 | E21: 0 | F21: 0 | G21: 0 | H21: 0 | I21: 0 | J21: 0 | K21: 0 | L21: 0 | M21: 0
A22: 44.04.02 Психолого-педагогическое образование | B22: 0 | C22: 0 | D22: 0 | E22: 0 | F22: 0 | G22: 0 | H22: 0 | I22: 0 | J22: 0 | K22: 0 | L22: 0 | M22: 0
A23: 45.04.01 Филология | B23: 0 | C23: 0 | D23: 0 | E23: 0 | F23: 0 | G23: 0 | H23: 1 | I23: 0 | J23: 1 | K23: 1 | L23: 0 | M23: 1
A24: 46.04.01 История | B24: 0 | C24: 0 | D24: 0 | E24: 0 | F24: 0 | G24: 0 | H24: 0 | I24: 0 | J24: 0 | K24: 0 | L24: 0 | M24: 0
A25: Итого граждане иностранных государств | B25: 0 | C25: 0 | D25: 0 | E25: 0 | F25: 0 | G25: 0 | H25: 1 | I25: 0 | J25: 1 | K25: 1 | L25: 0 | M25: 1
A26: ИТОГО по подразделению граждане России | B26: 18 | C26: 9 | D26: 27 | E26: 15 | F26: 6 | G26: 21 | H26: 17 | I26: 4 | J26: 21 | K26: 50 | L26: 19 | M26: 69
A27: ИТОГО по подразделению иностранные граждане | B27: 0 | C27: 0 | D27: 0 | E27: 0 | F27: 0 | G27: 0 | H27: 1 | I27: 0 | J27: 1 | K27: 1 | L27: 0 | M27: 1
A28: Итого | B28: 18 | C28: 9 | D28: 27 | E28: 15 | F28: 6 | G28: 21 | H28: 18 | I28: 4 | J28: 22 | K28: 51 | L28: 19 | M28: 70

Sheet Бак ОФО СЕГИ
A1: Севастопольский экономико-гуманитарный институт (филиал)
A2: ФГАОУ ВО "Крымский федеральный университет имени В. И. Вернадского"
A3: Контингент очной формы обучения на 01.10.2020 г. (Бакалавры)
A5: Факультет/направление подготовки | B5: 1 | E5: 2 | H5: 3 | K5: 4 | N5: Всего бакалавры
B7: За счет бюджетных ассигнований | C7: На основе догов. о платных образов. услугах | D7: ВСЕГО | E7: За счет бюджетных ассигнований | F7: На основе догов. о платных образов. услугах | G7: ВСЕГО | H7: За счет бюджетных ассигнова ний | I7: На основе догов. о платных образов. услугах | J7: ВСЕГО | K7: За счет бюджетных ассигнова ний | L7: На основе догов. о платных образов. услугах | M7: ВСЕГО | N7: За счет бюджетных ассигнований | O7: На основе догов. о платных образов. услугах | P7: ВСЕГО
A8: Свод по направлениям подготовки
A9: Свод по направлениям подготовки | N9: =B9+E297+H9+K9 -> 0 | O9: =C9+F297+I9+L9 -> 0 | P9: =SUM(N9:O9) -> 0
A10: 37.03.01 Психология | B10: 16 | C10: 0 | D10: 16 | E10: 15 | F10: 0 | G10: =SUM(E10:F10) -> 15 | H10: 11 | I10: 3 | J10: =SUM(H10:I10) -> 14 | K10: 8 | L10: 1 | M10: =SUM(K10:L10) -> 9 | N10: =B10+E10+H10+K10 -> 50 | O10: =C10+F10+I10+L10 -> 4 | P10: =SUM(N10:O10) -> 54
A11: 38.03.02 Менеджмент | B11: 1 | C11: 0 | D11: =B11+C11 -> 1 | E11: 13 | F11: 0 | G11: =SUM(E11:F11) -> 13 | H11: 15 | I11: 0 | J11: =SUM(H11:I11) -> 15 | K11: 8 | L11: 0 | M11: =SUM(K11:L11) -> 8 | N11: =B11+E298+H11+K11+E11 -> 37 | O11: =C11+F299+I11+L11+F11 -> 0 | P11: =SUM(N11:O11) -> 37
A12: 38.03.04 Государственное и муниципальное управление | B12: 15 | C12: 3 | D12: =B12+C12 -> 18 | E12: 15 | F12: 0 | G12: =SUM(E12:F12) -> 15 | H12: 12 | I12: 5 | J12: =SUM(H12:I12) -> 17 | K12: 9 | L12: 2 | M12: =SUM(K12:L12) -> 11 | N12: =B12+E12+H12+K12 -> 51 | O12: =C12+I12+L12+F12 -> 10 | P12: =SUM(N12:O12) -> 61
A13: 40.03.01 Юриспруденция | B13: 12 | C13: 7 | D13: 19 | E13: 12 | F13: 6 | G13: =SUM(E13:F13) -> 18 | H13: 0 | I13: 5 | J13: =SUM(H13:I13) -> 5 | K13: 0 | L13: 12 | M13: =SUM(K13:L13) -> 12 | N13: =B13+E13+H13+K13 -> 24 | O13: =C13+F13+I13+L13 -> 30 | P13: =SUM(N13:O13) -> 54
A14: 43.03.02 Туризм | B14: 17 | C14: 1 | D14: =B14+C14 -> 18 | E14: 14 | F14: 1 | G14: =SUM(E14:F14) -> 15 | H14: 8 | I14: 2 | J14: =SUM(H14:I14) -> 10 | K14: 18 | L14: 1 | M14: =SUM(K14:L14) -> 19 | N14: =B14+E14+H14+K14 -> 57 | O14: =C14+F14+I14+L14 -> 5 | P14: =SUM(N14:O14) -> 62
A15: 49.03.01 Физическая культура | B15: 0 | C15: 0 | D15: =B15+C15 -> 0 | E15: 0 | F15: 0 | G15: =SUM(E15:F15) -> 0 | H15: 0 | I15: 0 | J15: =SUM(H15:I15) -> 0 | K15: 0 | L15: 0 | M15: 0 | N15: =B15+E15+H15+K15 -> 0 | O15: =C15+F15+I15+L15 -> 0 | P15: =SUM(N15:O15) -> 0
A16: 49.03.02 Физическая культура для лиц с отклонениями в состоянии здоровья (адаптивная физическая культура) | B16: 0 | C16: 0 | D16: =B16+C16 -> 0 | E16: 0 | F16: 0 | G16: =SUM(E16:F16) -> 0 | H16: 0 | I16: 0 | J16: =SUM(H16:I16) -> 0 | K16: 0 | L16: 0 | M16: 0 | N16: =B16+E16+H16+K16 -> 0 | O16: =C16+F16+I16+L16 -> 0 | P16: =SUM(N16:O16) -> 0
A17: Итого по направлениям подготовки: | B17: =SUM(B10:B16) -> 61 | C17: =SUM(C10:C16) -> 11 | D17: =SUM(D10:D16) -> 72 | E17: =SUM(E10:E16) -> 69 | F17: =SUM(F10:F16) -> 7 | G17: =SUM(G10:G16) -> 76 | H17: =SUM(H10:H16) -> 46 | I17: =SUM(I10:I16) -> 15 | ... P17: =SUM(P10:P16) -> 268
A18: В том числе:
A19: Граждане России
A20: 37.03.01 Психология | B20: 16 | C20: 0 | D20: =SUM(B20:C20) -> 16 | E20: 15 | F20: 0 | G20: =SUM(E20:F20) -> 15 | H20: 11 | I20: 3 | J20: 14 | K20: 8 | L20: 1 | M20: 9 | N20: =B20+E20+H20+K20 -> 50 | O20: =C20+F20+I20+L20 -> 4 | P20: =SUM(N20:O20) -> 54
A21: 38.03.02 Менеджмент | B21: 1 | C21: 0 | D21: =SUM(B21:C21) -> 1 | E21: 13 | F21: 0 | G21: =SUM(E21:F21) -> 13 | H21: 15 | I21: 0 | J21: =SUM(H21:I21) -> 15 | K21: 8 | L21: 0 | M21: =SUM(K21:L21) -> 8 | N21: =B21+E21+H21+K21 -> 37 | O21: =C21+F21+I21+L21 -> 0 | P21: =SUM(N21:O21) -> 37
A22: 38.03.04 Государственное и муниципальное управление | B22: 15 | C22: 3 | D22: 18 | E22: 15 | F22: 0 | G22: =SUM(E22:F22) -> 15 | H22: 12 | I22: 5 | J22: =SUM(H22:I22) -> 17 | K22: 9 | L22: 2 | M22: =SUM(K22:L22) -> 11 | N22: =B22+E22+H22+K22 -> 51 | O22: =C22+F22+I22+L22 -> 10 | P22: =SUM(N22:O22) -> 61
A23: 40.03.01 Юриспруденция | B23: 12 | C23: 6 | D23: 18 | E23: 12 | F23: 6 | G23: =SUM(E23:F23) -> 18 | H23: 0 | I23: 5 | J23: =SUM(H23:I23) -> 5 | K23: 0 | L23: 12 | M23: =SUM(K23:L23) -> 12 | N23: =B23+E23+H23+K23 -> 24 | O23: =C23+F23+I23+L23 -> 29 | P23: =SUM(N23:O23) -> 53
A24: 43.03.02 Туризм | B24: 17 | C24: 1 | D24: =SUM(B24:C24) -> 18 | E24: 14 | F24: 1 | G24: =SUM(E24:F24) -> 15 | H24: 8 | I24: 2 | J24: =SUM(H24:I24) -> 10 | K24: 18 | L24: 1 | M24: =SUM(K24:L24) -> 19 | N24: =B24+E24+H24+K24 -> 57 | O24: =C24+F24+I24+L24 -> 5 | P24: =SUM(N24:O24) -> 62
A25: 49.03.01 Физическая культура | B25: 0 | C25: 0 | D25: =SUM(B25:C25) -> 0 | E25: 0 | F25: 0 | G25: =SUM(E25:F25) -> 0 | H25: 0 | I25: 0 | J25: =SUM(H25:I25) -> 0 | K25: 0 | L25: 0 | M25: =SUM(K25:L25) -> 0 | N25: =B25+E25+H25+K25 -> 0 | O25: =C25+F25+I25+L25 -> 0 | P25: =SUM(N25:O25) -> 0
A26: 49.03.02 Физическая культура для лиц с отклонениями в состоянии здоровья (адаптивная физическая культура) | B26: 0 | C26: 0 | D26: =SUM(B26:C26) -> 0 | E26: 0 | F26: 0 | G26: =SUM(E26:F26) -> 0 | H26: 0 | I26: 0 | J26: =SUM(H26:I26) -> 0 | K26: 0 | L26: 0 | M26: =SUM(K26:L26) -> 0 | N26: =B26+E26+H26+K26 -> 0 | O26: =C26+F26+I26+L26 -> 0 | P26: =SUM(N26:O26) -> 0
A27: Итого граждане России | B27: =SUM(B20:B26) -> 61 | C27: =SUM(C20:C26) -> 10 | D27: =SUM(D20:D26) -> 71 | E27: =SUM(E20:E26) -> 69 | F27: =SUM(F20:F26) -> 7 | G27: =SUM(G20:G26) -> 76 | H27: =SUM(H20:H26) -> 46 | I27: =SUM(I20:I26) -> 15 | ... M27: =SUM(M20:M26) -> 59 | N27: =B27+E27+H27+K27 -> 219 | O27: =C27+F27+I27+L27 -> 48 | P27: =SUM(N27:O27) -> 267
A28: Граждане иностранных государств (вкл. Украину) | N28: =B28+E28+H28+K28 -> 0 | O28: =C28+F28+I28+L28 -> 0 | P28: =SUM(N28:O28) -> 0
A29: 37.03.01 Психология | B29: 0 | C29: 0 | D29: =SUM(B29:C29) -> 0 | E29: 0 | F29: 0 | G29: 0 | H29: 0 | I29: 0 | J29: =SUM(H29:I29) -> 0 | K29: 0 | L29: 0 | M29: 0 | N29: =B29+E29+H29+K29 -> 0 | O29: =C29+F29+I29+L29 -> 0 | P29: =SUM(N29:O29) -> 0
A30: 38.03.02 Менеджмент | B30: 0 | C30: 0 | D30: =SUM(B30:C30) -> 0 | E30: 0 | F30: 0 | G30: =SUM(E30:F30) -> 0 | H30: 0 | I30: 0 | J30: =SUM(H30:I30) -> 0 | K30: 0 | L30: 0 | M30: =SUM(K30:L30) -> 0 | N30: =B30+E30+H30+K30 -> 0 | O30: =C30+F30+I30+L30 -> 0 | P30: =SUM(N30:O30) -> 0
A31: 38.03.04 Государственное и муниципальное управление | B31: 0 | C31: 0 | D31: =SUM(B31:C31) -> 0 | E31: 0 | F31: 0 | G31: =SUM(E31:F31) -> 0 | H31: 0 | I31: 0 | J31: =SUM(H31:I31) -> 0 | K31: 0 | L31: 0 | M31: =SUM(K31:L31) -> 0 | N31: =B31+E31+H31+K31 -> 0 | O31: =C31+F31+I31+L31 -> 0 | P31: =SUM(N31:O31) -> 0
A32: 40.03.01 Юриспруденция | B32: 0 | C32: 1 | D32: =SUM(B32:C32) -> 1 | E32: 0 | F32: 0 | G32: =SUM(E32:F32) -> 0 | H32: 0 | I32: 0 | J32: =SUM(H32:I32) -> 0 | K32: 0 | L32: 0 | M32: 0 | N32: =B32+E32+H32+K32 -> 0 | O32: =C32+F32+I32+L32 -> 1 | P32: =SUM(N32:O32) -> 1
A33: 43.03.02 Туризм | B33: 0 | C33: 0 | D33: 0 | E33: 0 | F33: 0 | G33: 0 | H33: 0 | I33: 0 | J33: 0 | K33: 0 | L33: 0 | M33: 0 | N33: =B33+E33+H33+K33 -> 0 | O33: =C33+F33+I33+L33 -> 0 | P33: =SUM(N33:O33) -> 0
A34: 49.03.01 Физическая культура | B34: 0 | C34: 0 | D34: =SUM(B34:C34) -> 0 | E34: 0 | F34: 0 | G34: =SUM(E34:F34) -> 0 | H34: 0 | I34: 0 | J34: =SUM(H34:I34) -> 0 | K34: 0 | L34: 0 | M34: =SUM(K34:L34) -> 0 | N34: =B34+E34+H34+K34 -> 0 | O34: =C34+F34+I34+L34 -> 0 | P34: =SUM(N34:O34) -> 0
A35: 49.03.02 Физическая культура для лиц с отклонениями в состоянии здоровья (адаптивная физическая культура) | B35: 0 | C35: 0 | D35: =SUM(B35:C35) -> 0 | E35: 0 | F35: 0 | G35: =SUM(E35:F35) -> 0 | H35: 0 | I35: 0 | J35: =SUM(H35:I35) -> 0 | K35: 0 | L35: 0 | M35: 0 | N35: =B35+E35+H35+K35 -> 0 | O35: =C35+F35+I35+L35 -> 0 | P35: =SUM(N35:O35) -> 0
A36: Итого граждане иностранных государств | B36: =SUM(B29:B35) -> 0 | C36: =SUM(C29:C35) -> 1 | D36: =SUM(D29:D35) -> 1 | E36: =SUM(E29:E35) -> 0 | F36: =SUM(F29:F35) -> 0 | G36: =SUM(G29:G35) -> 0 | H36: =SUM(H29:H35) -> 0 | I36: =SUM(I29:I35) -> 0 | ... M36: =SUM(M29:M35) -> 0 | N36: 1 | O36: =SUM(O29:O35) -> 1 | P36: =SUM(P29:P35) -> 1
A37: ИТОГО по подразделению граждане России | B37: =B27 -> 61 | C37: =C27 -> 10 | D37: =D27 -> 71 | E37: =E27 -> 69 | F37: =F27 -> 7 | G37: =G27 -> 76 | H37: =H27 -> 46 | I37: =I27 -> 15 | ... P37: =P27 -> 267
A38: ИТОГО по подразделению иностранные граждане | B38: =B36 -> 0 | C38: =C36 -> 1 | D38: =D36 -> 1 | E38: =E36 -> 0 | F38: =F36 -> 0 | G38: =G36 -> 0 | H38: =H36 -> 0 | I38: =I36 -> 0 | ... M38: =M36 -> 0 | N38: 0 | O38: =O36 -> 1 | P38: =P36 -> 1
A39: Итого | B39: =SUM(B37:B38) -> 61 | C39: =SUM(C37:C38) -> 11 | D39: =SUM(D37:D38) -> 72 | E39: =SUM(E37:E38) -> 69 | F39: =SUM(F37:F38) -> 7 | G39: =SUM(G37:G38) -> 76 | H39: =SUM(H37:H38) -> 46 | I39: =SUM(I37:I38) -> 15 | ... P39: =SUM(P37:P38) -> 268

Sheet Бак ОЗФО СЕГИ
A1: Севастопольский экономико-гуманитарный институт (филиал)
A2: ФГАОУ ВО "Крымский федеральный университет имени В. И. Вернадского"
A3: Контингент очно-заочная форма обучения 01.10.2020 г. (Бакалавры)
B5: Факультет/направление подготовки | C5: 1 | F5: 2 | I5: 3 | L5: 4 | O5: 5 | R5: Всего бакалавры
C7: За счет бюджетных ассигнований | D7: На основе догов. о платных образов. услугах | E7: ВСЕГО | F7: За счет бюджетных ассигнова ний | G7: На основе догов. о платных образов. услугах | H7: ВСЕГО | I7: За счет бюджетных ассигнова ний | J7: На основе догов. о платных образов. услугах | K7: ВСЕГО | L7: За счет бюджетных ассигнова ний | M7: На основе догов. о платных образов. услугах | N7: ВСЕГО | O7: За счет бюджетных ассигнова ний | P7: На основе догов. о платных образов. услугах | Q7: ВСЕГО | R7: За счет бюджетных ассигнований | S7: На основе догов. о платных образов. услугах | T7: ВСЕГО
B8: Свод по направлениям подготовки
B9: 40.03.01 Юриспруденция | C9: 0 | D9: 0 | E9: 0 | F9: 0 | G9: 9 | H9: =SUM(F9:G9) -> 9 | I9: 0 | J9: 9 | K9: 9 | L9: 0 | M9: 6 | N9: 6 | O9: 0 | P9: 13 | Q9: 13 | R9: =SUM(C9+F9+I9+L9) -> 0 | S9: =SUM(D9+G9+J9+M9+P9) -> 37 | T9: =SUM(R9+S9) -> 37
B10: Итого по направлениям подготовки | C10: =SUM(C9:C9) -> 0 | D10: 0 | E10: 0 | F10: 0 | G10: 9 | H10: =SUM(F10:G10) -> 9 | I10: 0 | J10: 9 | K10: 9 | L10: 0 | M10: 6 | N10: 6 | O10: 0 | P10: 13 | Q10: 13 | R10: =SUM(R9:R9) -> 0 | S10: =SUM(D10+G10+J10+M10+P10) -> 37 | T10: =SUM(R10+S10) -> 37
B11: В том числе:
B12: Граждане России
B13: 40.03.01 Юриспруденция | C13: 0 | D13: 0 | E13: 0 | F13: 0 | G13: 9 | H13: 9 | I13: 0 | J13: 9 | K13: 9 | L13: 0 | M13: 6 | N13: 6 | O13: 0 | P13: 13 | Q13: 13 | R13: 0 | S13: 37 | T13: 37
B14: Итого граждане России | C14: =SUM(C13:C13) -> 0 | D14: 0 | E14: 0 | F14: 0 | G14: 9 | H14: 9 | I14: 0 | J14: 9 | K14: 9 | L14: 0 | M14: 6 | N14: 6 | O14: 0 | P14: 13 | Q14: 13 | R14: =SUM(R13:R13) -> 0 | S14: =SUM(S13:S13) -> 37 | T14: =SUM(T13:T13) -> 37
B15: Граждане иностранных государств (вкл. Украину)
B16: 40.03.01 Юриспруденция | C16: 0 | D16: 0 | E16: 0 | F16: 0 | G16: 0 | H16: 0 | I16: 0 | J16: 0 | K16: 0 | L16: 0 | M16: 0 | N16: 0 | O16: 0 | P16: 0 | Q16: 0 | R16: 0 | S16: 0 | T16: 0
B17: Итого граждане иностранных государств | C17: =SUM(C16:C16) -> 0 | D17: =SUM(D16:D16) -> 0 | E17: =SUM(E16:E16) -> 0 | F17: 0 | G17: 0 | H17: 0 | I17: 0 | J17: 0 | K17: 0 | L17: 0 | M17: 0 | N17: 0 | R17: =SUM(R16:R16) -> 0 | S17: =SUM(S16:S16) -> 0 | T17: =SUM(T16:T16) -> 0
B18: ИТОГО по подразделению граждане России | C18: =C14 -> 0 | D18: =D14 -> 0 | E18: =E14 -> 0 | F18: =F14 -> 0 | G18: =G14 -> 9 | H18: =H14 -> 9 | I18: =I14 -> 0 | J18: =J14 -> 9 | ... T18: =T14 -> 37
B19: ИТОГО по подразделению граждане иностранных государств | C19: =C17 -> 0 | D19: =D17 -> 0 | E19: =E17 -> 0 | F19: 0 | G19: 0 | H19: 0 | I19: 0 | J19: 0 | K19: 0 | L19: 0 | M19: 0 | N19: 0 | O19: 0 | P19: 0 | Q19: 0 | R19: =R17 -> 0 | S19: =S17 -> 0 | T19: =T17 -> 0
B20: Свод по направлениям подготовки | C20: =SUM(C18:C19) -> 0 | D20: =SUM(D18:D19) -> 0 | E20: =SUM(E18:E19) -> 0 | F20: =SUM(F18:F19) -> 0 | G20: =SUM(G18:G19) -> 9 | H20: =SUM(H18:H19) -> 9 | I20: =SUM(I18:I19) -> 0 | J20: =SUM(J18:J19) -> 9 | ... T20: =SUM(T18:T19) -> 37

Sheet Бак ЗФО СЕГИ
A1: Севастопольский экономико-гуманитарный институт (филиал)
A2: ФГАОУ ВО "Крымский федеральный университет имени В. И. Вернадского"
A3: Контингент заочная форма обучения 01.10.2020 г. (Бакалавры)
B5: Факультет/направление подготовки | C5: 1 | F5: 2 | I5: 3 | L5: 4 | O5: 5 | R5: Всего бакалавры
C7: За счет бюджетных ассигнований | D7: На основе догов. о платных образов. услугах | E7: ВСЕГО | F7: За счет бюджетных ассигнова ний | G7: На основе догов. о платных образов. услугах | H7: ВСЕГО | I7: За счет бюджетных ассигнова ний | J7: На основе догов. о платных образов. услугах | K7: ВСЕГО | L7: За счет бюджетных ассигнова ний | M7: На основе догов. о платных образов. услугах | N7: ВСЕГО | O7: За счет бюджетных ассигнова ний | P7: На основе догов. о платных образов. услугах | Q7: ВСЕГО | R7: За счет бюджетных ассигнований | S7: На основе догов. о платных образов. услугах | T7: ВСЕГО
B8: Свод по направлениям подготовки
B9: 37.03.01 Психология | C9: 0 | D9: 18 | E9: =SUM(C9:D9) -> 18 | F9: 0 | G9: 12 | H9: =SUM(F9:G9) -> 12 | I9: 0 | J9: 23 | K9: =SUM(I9:J9) -> 23 | L9: 13 | M9: 3 | N9: =SUM(L9:M9) -> 16 | O9: 6 | P9: 5 | Q9: =SUM(O9:P9) -> 11 | R9: =C9+F9+I9+L9+O9 -> 19 | S9: =D9+G9+J9+M9+P9 -> 61 | T9: =SUM(R9:S9) -> 80
B10: 38.03.02 Менеджмент | C10: 0 | D10: 23 | E10: 23 | F10: 0 | G10: 17 | H10: =SUM(F10:G10) -> 17 | I10: 0 | J10: 17 | K10: =SUM(I10:J10) -> 17 | L10: 11 | M10: 1 | N10: =SUM(L10:M10) -> 12 | O10: 7 | P10: 3 | Q10: =SUM(O10:P10) -> 10 | R10: =C10+F10+I10+L10+O10 -> 18 | S10: =D10+G10+J10+M10+P10 -> 61 | T10: =SUM(R10:S10) -> 79
B11: 38.03.04 Государственное и муниципальное управление | C11: 0 | D11: 0 | E11: =SUM(C11:D11) -> 0 | F11: 0 | G11: 18 | H11: =SUM(F11:G11) -> 18 | I11: 0 | J11: 28 | K11: =SUM(I11:J11) -> 28 | L11: 9 | M11: 3 | N11: =SUM(L11:M11) -> 12 | O11: 1 | P11: 5 | Q11: =SUM(O11:P11) -> 6 | R11: =C11+F11+I11+L11+O11 -> 10 | S11: =D11+G11+J11+M11+P11 -> 54 | T11: =SUM(R11:S11) -> 64
B12: 40.03.01 Юриспруденция | C12: =C32+C22 -> 0 | D12: 0 | E12: =SUM(C12:D12) -> 0 | F12: =F32+F22 -> 0 | G12: 0 | H12: =SUM(F12:G12) -> 0 | I12: 0 | J12: 0 | K12: =SUM(I12:J12) -> 0 | L12: 0 | M12: 0 | N12: =SUM(L12:M12) -> 0 | O12: 0 | P12: 0 | Q12: 0 | R12: =C12+F12+I12+L12+O12 -> 0 | S12: =D12+G12+J12+M12+P12 -> 0 | T12: =SUM(R12:S12) -> 0
B13: 43.03.02 Туризм | C13: 0 | D13: 12 | E13: =SUM(C13:D13) -> 12 | F13: 15 | G13: 8 | H13: =SUM(F13:G13) -> 23 | I13: 0 | J13: 13 | K13: =SUM(I13:J13) -> 13 | L13: 13 | M13: 1 | N13: =SUM(L13:M13) -> 14 | O13: 4 | P13: 14 | Q13: =SUM(O13:P13) -> 18 | R13: =C13+F13+I13+L13+O13 -> 32 | S13: =D13+G13+J13+M13+P13 -> 48 | T13: =SUM(R13:S13) -> 80
B14: 49.03.01 Физическая культура | C14: =C33+C24 -> 0 | D14: 11 | E14: =SUM(C14:D14) -> 11 | F14: =F33+F24 -> 0 | G14: 18 | H14: =SUM(F14:G14) -> 18 | I14: 0 | J14: 18 | K14: =SUM(I14:J14) -> 18 | L14: 0 | M14: 6 | N14: =SUM(L14:M14) -> 6 | O14: 0 | P14: 14 | Q14: =SUM(O14:P14) -> 14 | R14: =C14+F14+I14+L14+O14 -> 0 | S14: =D14+G14+J14+M14+P14 -> 67 | T14: =SUM(R14:S14) -> 67
B15: 49.03.02 Физическая культура для лиц с отклонениями в состоянии здоровья (адаптивная физическая культура) | C15: 0 | D15: 15 | E15: 15 | F15: 0 | G15: 30 | H15: =SUM(F15:G15) -> 30 | I15: 0 | J15: 26 | K15: =SUM(I15:J15) -> 26 | L15: 0 | M15: 6 | N15: =SUM(L15:M15) -> 6 | O15: 4 | P15: 9 | Q15: =SUM(O15:P15) -> 13 | R15: =C15+F15+I15+L15+O15 -> 4 | S15: =D15+G15+J15+M15+P15 -> 86 | T15: =SUM(R15:S15) -> 90
B16: Итого по направлениям подготовки | C16: =SUM(C9:C15) -> 0 | D16: =SUM(D9:D15) -> 79 | E16: =SUM(E9:E15) -> 79 | F16: =SUM(F9:F15) -> 15 | G16: =SUM(G9:G15) -> 103 | H16: =SUM(H9:H15) -> 118 | I16: =SUM(I9:I15) -> 0 | J16: =SUM(J9:J15) -> 125 | ... T16: =SUM(T9:T15) -> 460
B17: В том числе:
B18: Граждане России
B19: 37.03.01 Психология | C19: 0 | D19: 18 | E19: =SUM(C19:D19) -> 18 | F19: 0 | G19: 11 | H19: =SUM(F19:G19) -> 11 | I19: 0 | J19: 23 | K19: =SUM(I19:J19) -> 23 | L19: 13 | M19: 3 | N19: =SUM(L19:M19) -> 16 | O19: 6 | P19: 5 | Q19: =SUM(O19:P19) -> 11 | R19: =C19+F19+I19+L19+O19 -> 19 | S19: =D19+G19+J19+M19+P19 -> 60 | T19: =SUM(R19:S19) -> 79
