Workbook

Sheet Специал ОФО МедА 
A1: Медицинская академия имени С.И.Георгиевского
A3: Контингент очной формы обучения по состоянию на 01.10.2020 г .
B5: Факультет/направление подготовки | C5: 1 | F5: 2 | I5: 3 | L5: 4 | O5: 5 | R5: 6 | U5: Всего специалитет
C7: За счет бюджетных ассигнований | D7: На основе догов. о платных образов. услугах | E7: ВСЕГО | F7: За счет бюджетных ассигнований | G7: На основе догов. о платных образов. услугах | H7: ВСЕГО | I7: За счет бюджетных ассигнований | J7: На основе догов. о платных образов. услугах | K7: ВСЕГО | L7: За счет бюджетных ассигнований | M7: На основе догов. о платных образов. услугах | N7: ВСЕГО | O7: За счет бюджетных ассигнований | P7: На основе догов. о платных образов. услугах | Q7: ВСЕГО | R7: За счет бюджетных ассигнований | S7: На основе догов. о платных образов. услугах | T7: ВСЕГО | U7: За счет бюджетных ассигнований | V7: На основе догов. о платных образов. услугах | W7: ВСЕГО
B8: Свод по направлениям подготовки
B9: 31.05.01 Лечебное дело | C9: 334 | D9: 195 | E9: 529 | F9: 333 | G9: 367 | H9: 700 | I9: 335 | J9: 319 | K9: 654 | L9: 292 | M9: 231 | N9: 523 | O9: 292 | P9: 159 | Q9: 451 | R9: 281 | S9: 205 | T9: 486 | U9: =C9+F9+I9+L9+O9+R9 -> 1867 | V9: =D9+G9+J9+M9+P9+S9 -> 1476 | W9: =E9+H9+K9+N9+Q9+T9 -> 3343
B10: 31.05.02 Педиатрия | C10: 100 | D10: 25 | E10: 125 | F10: 98 | G10: 52 | H10: 150 | I10: 98 | J10: 58 | K10: 156 | L10: 76 | M10: 7 | N10: 83 | O10: 68 | P10: 9 | Q10: 77 | R10: 65 | S10: 10 | T10: 75 | U10: =C10+F10+I10+L10+O10+R10 -> 505 | V10: =D10+G10+J10+M10+P10+S10 -> 161 | W10: =E10+H10+K10+N10+Q10+T10 -> 666
B11: 31.05.03 Стоматология | C11: 30 | D11: 131 | E11: 161 | F11: 31 | G11: 107 | H11: 138 | I11: 35 | J11: 120 | K11: 155 | L11: 31 | M11: 59 | N11: 90 | O11: 32 | P11: 70 | Q11: 102 | U11: =C11+F11+I11+L11+O11+R11 -> 159 | V11: =D11+G11+J11+M11+P11+S11 -> 487 | W11: =E11+H11+K11+N11+Q11+T11 -> 646
B12: 33.05.01 Фармация | C12: 34 | D12: 15 | E12: 49 | F12: 44 | G12: 17 | H12: 61 | I12: 45 | J12: 22 | K12: 67 | L12: 37 | M12: 5 | N12: 42 | O12: 42 | P12: 7 | Q12: 49 | U12: =C12+F12+I12+L12+O12+R12 -> 202 | V12: =D12+G12+J12+M12+P12+S12 -> 66 | W12: =E12+H12+K12+N12+Q12+T12 -> 268
B13: Итого по направлениям подготовки | C13: =SUM(C9:C12) -> 498 | D13: =SUM(D9:D12) -> 366 | E13: =SUM(E9:E12) -> 864 | F13: =SUM(F9:F12) -> 506 | G13: =SUM(G9:G12) -> 543 | H13: =SUM(H9:H12) -> 1049 | I13: =SUM(I9:I12) -> 513 | J13: =SUM(J9:J12) -> 519 | ... W13: =SUM(W9:W12) -> 4923
B14: В том числе:
B15: Граждане России
B16: 31.05.01 Лечебное дело | C16: 311 | D16: 137 | E16: 448 | F16: 320 | G16: 77 | H16: 397 | I16: 319 | J16: 91 | K16: 410 | L16: 278 | M16: 25 | N16: 303 | O16: 274 | P16: 14 | Q16: 288 | R16: 262 | S16: 30 | T16: 292 | U16: =C16+F16+I16+L16+O16+R16 -> 1764 | V16: =D16+G16+J16+M16+P16+S16 -> 374 | W16: =E16+H16+K16+N16+Q16+T16 -> 2138
B17: 31.05.02 Педиатрия | C17: 99 | D17: 24 | E17: 123 | F17: 97 | G17: 51 | H17: 148 | I17: 98 | J17: 57 | K17: 155 | L17: 74 | M17: 6 | N17: 80 | O17: 67 | P17: 9 | Q17: 76 | R17: 64 | S17: 10 | T17: 74 | U17: =C17+F17+I17+L17+O17+R17 -> 499 | V17: =D17+G17+J17+M17+P17+S17 -> 157 | W17: =E17+H17+K17+N17+Q17+T17 -> 656
B18: 31.05.03 Стоматология | C18: 24 | D18: 119 | E18: 143 | F18: 30 | G18: 97 | H18: 127 | I18: 30 | J18: 107 | K18: 137 | L18: 30 | M18: 50 | N18: 80 | O18: 30 | P18: 60 | Q18: 90 | U18: =C18+F18+I18+L18+O18+R18 -> 144 | V18: =D18+G18+J18+M18+P18+S18 -> 433 | W18: =E18+H18+K18+N18+Q18+T18 -> 577
B19: 33.05.01 Фармация | C19: 34 | D19: 12 | E19: 46 | F19: 43 | G19: 17 | H19: 60 | I19: 44 | J19: 22 | K19: 66 | L19: 36 | M19: 3 | N19: 39 | O19: 38 | P19: 7 | Q19: 45 | U19: =C19+F19+I19+L19+O19+R19 -> 195 | V19: =D19+G19+J19+M19+P19+S19 -> 61 | W19: =E19+H19+K19+N19+Q19+T19 -> 256
B20: Итого граждане России | C20: =SUM(C16:C19) -> 468 | D20: =SUM(D16:D19) -> 292 | E20: =SUM(E16:E19) -> 760 | F20: =SUM(F16:F19) -> 490 | G20: =SUM(G16:G19) -> 242 | H20: =SUM(H16:H19) -> 732 | I20: =SUM(I16:I19) -> 491 | J20: =SUM(J16:J19) -> 277 | ... W20: =SUM(W16:W19) -> 3627
B21: Граждане иностранных государств (вкл. Украину)
B22: 31.05.01 Лечебное дело | C22: 23 | D22: 58 | E22: 81 | F22: 13 | G22: 290 | H22: 303 | I22: 16 | J22: 228 | K22: 244 | L22: 14 | M22: 206 | N22: 220 | O22: 18 | P22: 145 | Q22: 163 | R22: 19 | S22: 175 | T22: 194 | U22: =C22+F22+I22+L22+O22+R22 -> 103 | V22: =D22+G22+J22+M22+P22+S22 -> 1102 | W22: =E22+H22+K22+N22+Q22+T22 -> 1205
B23: 31.05.02 Педиатрия | C23: 1 | D23: 1 | E23: 2 | F23: 1 | G23: 1 | H23: 2 | I23: 0 | J23: 1 | K23: 1 | L23: 2 | M23: 1 | N23: 3 | O23: 1 | P23: 0 | Q23: 1 | R23: 1 | S23: 0 | T23: 1 | U23: =C23+F23+I23+L23+O23+R23 -> 6 | V23: =D23+G23+J23+M23+P23+S23 -> 4 | W23: =E23+H23+K23+N23+Q23+T23 -> 10
B24: 31.05.03 Стоматология | C24: 6 | D24: 12 | E24: 18 | F24: 1 | G24: 10 | H24: 11 | I24: 5 | J24: 13 | K24: 18 | L24: 1 | M24: 9 | N24: 10 | O24: 2 | P24: 10 | Q24: 12 | U24: =C24+F24+I24+L24+O24+R24 -> 15 | V24: =D24+G24+J24+M24+P24+S24 -> 54 | W24: =E24+H24+K24+N24+Q24+T24 -> 69
B25: 33.05.01 Фармация | C25: 0 | D25: 3 | E25: 3 | F25: 1 | G25: 0 | H25: 1 | I25: 1 | J25: 0 | K25: 1 | L25: 1 | M25: 2 | N25: 3 | O25: 4 | P25: 0 | Q25: 4 | U25: =C25+F25+I25+L25+O25+R25 -> 7 | V25: =D25+G25+J25+M25+P25+S25 -> 5 | W25: =E25+H25+K25+N25+Q25+T25 -> 12
B26: Итого граждане иностранных государств | C26: =SUM(C22:C25) -> 30 | D26: =SUM(D22:D25) -> 74 | E26: =SUM(E22:E25) -> 104 | F26: =SUM(F22:F25) -> 16 | G26: =SUM(G22:G25) -> 301 | H26: =SUM(H22:H25) -> 317 | I26: =SUM(I22:I25) -> 22 | J26: =SUM(J22:J25) -> 242 | ... W26: =SUM(W22:W25) -> 1296
B27: Всего: | C27: =C20+C26 -> 498 | D27: =D20+D26 -> 366 | E27: =E20+E26 -> 864 | F27: =F20+F26 -> 506 | G27: =G20+G26 -> 543 | H27: =H20+H26 -> 1049 | I27: =I20+I26 -> 513 | J27: =J20+J26 -> 519 | ... W27: =W20+W26 -> 4923

Sheet МАГ ЗФО МедА ГОСУПР
A2: Название подразделения Медицинская академия имени С.И. Георгиевского
A3: Контингент заочной формы обучения на 01.10.2020 г.(Магистры)
A5: Факультет/направление подготовки | B5: 1 год обучения | E5: 2 год обучения | H5: 3 год обучения | K5: Всего магистры
B6: МАГИСТР | E6: МАГИСТР | H6: МАГИСТР
B7: За счет бюджетных ассигнований | C7: На основе догов. о платных образов. услугах | D7: ВСЕГО | E7: За счет бюджетных ассигнований | F7: На основе догов. о платных образов. услугах | G7: ВСЕГО | H7: За счет бюджетных ассигнований | I7: На основе догов. о платных образов. услугах | J7: ВСЕГО | K7: За счет бюджетных ассигнований | L7: На основе догов. о платных образов. услугах | M7: ВСЕГО
A8: Свод по направлениям подготовки
A9: 38.04.04 Государственное и муниципальное управление | B9: =B13+B17 -> 0 | C9: 0 | D9: 0 | E9: =E13+E17 -> 0 | F9: 0 | G9: 0 | H9: 0 | I9: 13 | J9: 13 | K9: =B9+E9+H9 -> 0 | L9: =C9+F9+I9 -> 13 | M9: =D9+G9+J9 -> 13
A10: Итого по направлениям подготовки: | B10: =SUM(B8:B9) -> 0 | C10: =SUM(C8:C9) -> 0 | D10: =SUM(D8:D9) -> 0 | E10: =SUM(E8:E9) -> 0 | F10: 0 | G10: 0 | H10: =SUM(H8:H9) -> 0 | I10: 13 | J10: 13 | K10: =SUM(K8:K9) -> 0 | L10: =SUM(L8:L9) -> 13 | M10: =SUM(M8:M9) -> 13
A11: В том числе:
A12: Граждане России
A13: 38.04.04 Государственное и муниципальное управление | B13: 0 | C13: 0 | D13: 0 | E13: 0 | F13: 0 | G13: 0 | H13: 0 | I13: 13 | J13: 13 | K13: =B13+E13+H13 -> 0 | L13: =C13+F13+I13 -> 13 | M13: =D13+G13+J13 -> 13
A14: Итого граждане России | B14: =SUM(B13:B13) -> 0 | C14: =SUM(C13:C13) -> 0 | D14: =SUM(D13:D13) -> 0 | E14: =SUM(E13:E13) -> 0 | F14: 0 | G14: 0 | H14: =SUM(H13:H13) -> 0 | I14: 13 | J14: 13 | K14: =SUM(K13:K13) -> 0 | L14: =SUM(L13:L13) -> 13 | M14: =SUM(M13:M13) -> 13
A15: Граждане иностранных государств (вкл. Украину)
A16: 38.04.04 Государственное и муниципальное управление | B16: 0 | C16: 0 | D16: 0 | E16: 0 | F16: 0 | G16: 0 | H16: 0 | I16: 0 | J16: 0 | K16: =B16+E16+H16 -> 0 | L16: =C16+F16+I16 -> 0 | M16: =D16+G16+J16 -> 0
A17: Итого граждане иностранных государств | B17: =SUM(B16:B16) -> 0 | C17: =SUM(C16:C16) -> 0 | D17: =SUM(D16:D16) -> 0 | E17: =SUM(E16:E16) -> 0 | F17: 0 | G17: 0 | H17: =SUM(H16:H16) -> 0 | I17: =SUM(I16:I16) -> 0 | J17: =SUM(J16:J16) -> 0 | K17: =SUM(K16:K16) -> 0 | L17: =SUM(L16:L16) -> 0 | M17: =SUM(M16:M16) -> 0
A18: ИТОГО по подразделению граждане России | B18: =B14 -> 0 | C18: =C14 -> 0 | D18: =D14 -> 0 | E18: =E14 -> 0 | F18: =F14 -> 0 | G18: =G14 -> 0 | H18: =H14 -> 0 | I18: =I14 -> 13 | ... M18: =M14 -> 13
A19: ИТОГО по подразделению иностранные граждане | B19: =B17 -> 0 | C19: =C17 -> 0 | D19: =D17 -> 0 | E19: =E17 -> 0 | F19: =F17 -> 0 | G19: =G17 -> 0 | H19: =H17 -> 0 | I19: =I17 -> 0 | ... M19: =M17 -> 0
A20: Итого | B20: =SUM(B18:B19) -> 0 | C20: =SUM(C18:C19) -> 0 | D20: =SUM(D18:D19) -> 0 | E20: =SUM(E18:E19) -> 0 | F20: =SUM(F18:F19) -> 0 | G20: =SUM(G18:G19) -> 0 | H20: =SUM(H18:H19) -> 0 | I20: =SUM(I18:I19) -> 13 | ... M20: =SUM(M18:M19) -> 13

Sheet Бакалавр ОФО АСИА
A1: АКАДЕМИЯ СТРОИТЕЛЬСТВА ИАРХИТЕКТУРЫ
A3: Контингент очной формы обучения на 01.10.2020 г.(Бакалавры)
A5: Факультет/направление подготовки | B5: 1 | E5: 2 | H5: 3 | K5: 4 | N5: 5 | Q5: Всего бакалавры
B7: За счет бюджетных ассигнований | C7: На основе догов. о платных образов. услугах | D7: ВСЕГО | E7: За счет бюджетных ассигнований | F7: На основе догов. о платных образов. услугах | G7: ВСЕГО | H7: За счет бюджетных ассигнований | I7: На основе догов. о платных образов. услугах | J7: ВСЕГО | K7: За счет бюджетных ассигнований | L7: На основе догов. о платных образов. услугах | M7: ВСЕГО | N7: За счет бюджетных ассигнований | O7: На основе догов. о платных образов. услугах | P7: ВСЕГО | Q7: За счет бюджетных ассигнований | R7: На основе догов. о платных образов. услугах | S7: ВСЕГО
A8: Свод по направлениям подготовки
A9: 07.03.04 Градостроительство | B9: =B22+B16 -> 56 | C9: =C22+C16 -> 10 | D9: =D22+D16 -> 66 | E9: =E22+E16 -> 54 | F9: =F22+F16 -> 19 | G9: =G22+G16 -> 73 | H9: =H22+H16 -> 65 | I9: =I22+I16 -> 12 | ... M9: =M22+M16 -> 66 | N9: =SUM(N16+N22) -> 48 | O9: =SUM(O16+O22) -> 16 | P9: =SUM(P16+P22) -> 64 | Q9: =B9+E9+H9+K9+N9 -> 278 | R9: =C9+F9+I9+L9+O9 -> 68 | S9: =SUM(Q9:R9) -> 346
A10: 08.03.01Строительство | B10: =B23+B17 -> 116 | C10: =C23+C17 -> 2 | D10: =D23+D17 -> 118 | E10: =E23+E17 -> 148 | F10: =F23+F17 -> 3 | G10: =G23+G17 -> 151 | H10: =H23+H17 -> 159 | I10: =I23+I17 -> 0 | ... M10: =M23+M17 -> 165 | N10: 0 | O10: 0 | P10: 0 | Q10: =B10+E10+H10+K10 -> 583 | R10: =C10+F10+I10+L10 -> 10 | S10: =SUM(Q10:R10) -> 593
A11: 15.03.04 Автоматизация технологических процессов и производств | B11: =B24+B18 -> 4 | C11: =C24+C18 -> 1 | D11: =D24+D18 -> 5 | E11: =E24+E18 -> 10 | F11: =F24+F18 -> 0 | G11: =G24+G18 -> 10 | H11: 0 | I11: 0 | J11: 0 | K11: 0 | L11: 0 | M11: 0 | N11: 0 | O11: 0 | P11: 0 | Q11: =B11+E11+H11+K11 -> 14 | R11: =C11+F11+I11+L11 -> 1 | S11: =SUM(Q11:R11) -> 15
A12: 20.03.02 Природообустройство и водопользование | B12: =B19+B25 -> 12 | C12: =C25+C18 -> 0 | D12: =D25+D19 -> 12 | E12: =E25+E19 -> 6 | F12: =F25+F19 -> 0 | G12: =G25+G19 -> 6 | H12: =H25+H19 -> 22 | I12: =I25+I19 -> 0 | J12: =J25+J19 -> 22 | K12: =K25+K19 -> 19 | ... M12: =M25+M19 -> 19 | N12: 0 | O12: 0 | P12: 0 | Q12: =B12+E12+H12+K12 -> 59 | R12: =C12+F12+I12+L12 -> 0 | S12: =SUM(Q12:R12) -> 59
A13: Итого по направлениям подготовки: | B13: =SUM(B9:B12) -> 188 | C13: =SUM(C9:C12) -> 13 | D13: =SUM(D9:D12) -> 201 | E13: =SUM(E9:E12) -> 218 | F13: =SUM(F9:F12) -> 22 | G13: =SUM(G9:G12) -> 240 | H13: =SUM(H9:H12) -> 246 | I13: =SUM(I9:I12) -> 12 | ... M13: =SUM(M9:M12) -> 250 | N13: =SUM(N9) -> 48 | O13: =SUM(O9) -> 16 | P13: =SUM(P9) -> 64 | Q13: =SUM(Q9:Q12) -> 934 | R13: =SUM(R9:R12) -> 79 | S13: =SUM(S9:S12) -> 1013
A14: В том числе:
A15: Граждане России
A16: 07.03.04 Градостроительство | B16: 55 | C16: 9 | D16: =SUM(B16:C16) -> 64 | E16: 52 | F16: 18 | G16: =SUM(E16:F16) -> 70 | H16: 64 | I16: 12 | J16: =SUM(H16:I16) -> 76 | K16: 54 | L16: 8 | M16: =SUM(K16:L16) -> 62 | N16: 47 | O16: 13 | P16: =SUM(N16:O16) -> 60 | Q16: =B16+E16+H16+K16+N16 -> 272 | R16: =C16+F16+I16+L16+O16 -> 60 | S16: =SUM(Q16:R16) -> 332
A17: 08.03.01Строительство | B17: 114 | C17: 0 | D17: =SUM(B17:C17) -> 114 | E17: 145 | F17: 1 | G17: =SUM(E17:F17) -> 146 | H17: 154 | J17: =SUM(H17:I17) -> 154 | K17: 159 | L17: 3 | M17: =SUM(K17:L17) -> 162 | Q17: =B17+E17+H17+K17 -> 572 | R17: =C17+F17+I17+L17 -> 4 | S17: =SUM(Q17:R17) -> 576
A18: 15.03.04 Автоматизация технологических процессов и производств | B18: 4 | C18: 0 | D18: =SUM(B18:C18) -> 4 | E18: 10 | F18: 0 | G18: =SUM(E18:F18) -> 10 | H18: 0 | I18: 0 | J18: =SUM(H18:I18) -> 0 | K18: 0 | L18: 0 | M18: =SUM(K18:L18) -> 0 | Q18: =B18+E18+H18+K18 -> 14 | R18: =C18+F18+I18+L18 -> 0 | S18: =SUM(Q18:R18) -> 14
A19: 20.03.02 Природообустройство и водопользование | B19: 12 | C19: 0 | D19: =SUM(B19:C19) -> 12 | E19: 6 | F19: 0 | G19: =SUM(E19:F19) -> 6 | H19: 22 | I19: 0 | J19: =SUM(H19:I19) -> 22 | K19: 18 | L19: 0 | M19: =SUM(K19:L19) -> 18 | Q19: =B19+E19+H19+K19 -> 58 | R19: =C19+F19+I19+L19 -> 0 | S19: =SUM(Q19:R19) -> 58
A20: Итого граждане России | B20: =SUM(B16:B19) -> 185 | C20: =SUM(C16:C19) -> 9 | D20: =SUM(D16:D19) -> 194 | E20: =SUM(E16:E19) -> 213 | F20: =SUM(F16:F19) -> 19 | G20: =SUM(G16:G19) -> 232 | H20: =SUM(H16:H19) -> 240 | I20: =SUM(I16:I19) -> 12 | ... O20: =SUM(O16:O19) -> 13 | P20: =SUM(N20:O20) -> 60 | Q20: =B20+E20+H20+K20+N20 -> 916 | R20: =C20+F20+I20+L20+O20 -> 64 | S20: =SUM(Q20:R20) -> 980
A21: Граждане иностранных государств (вкл. Украину) | Q21: =B21+E21+H21+K21 -> 0 | R21: =C21+F21+I21+L21 -> 0 | S21: =SUM(Q21:R21) -> 0
A22: 07.03.04 Градостроительство | B22: 1 | C22: 1 | D22: =SUM(B22:C22) -> 2 | E22: 2 | F22: 1 | G22: =SUM(E22:F22) -> 3 | H22: 1 | I22: 0 | J22: =SUM(H22:I22) -> 1 | K22: 1 | L22: 3 | M22: =SUM(K22:L22) -> 4 | N22: 1 | O22: 3 | P22: =SUM(N22:O22) -> 4 | Q22: =B22+E22+H22+K22+N22 -> 6 | R22: =C22+F22+I22+L22+O22 -> 8 | S22: =SUM(Q22:R22) -> 14
A23: 08.03.01Строительство | B23: 2 | C23: 2 | D23: =SUM(B23:C23) -> 4 | E23: 3 | F23: 2 | G23: =SUM(E23:F23) -> 5 | H23: 5 | I23: 0 | J23: =SUM(H23:I23) -> 5 | K23: 1 | L23: 2 | M23: =SUM(K23:L23) -> 3 | Q23: =B23+E23+H23+K23 -> 11 | R23: =C23+F23+I23+L23 -> 6 | S23: =SUM(Q23:R23) -> 17
A24: 13.03.02 Электроэнергетика и электротехника | C24: 1 | D24: =SUM(C24) -> 1 | Q24: =B24+E24+H24+K24 -> 0 | R24: =C24+F24+I24+L24 -> 1 | S24: =SUM(Q24:R24) -> 1
A25: 20.03.02 Природообустройство и водопользование | B25: 0 | C25: 0 | D25: =SUM(B25:C25) -> 0 | E25: 0 | F25: 0 | G25: =SUM(E25:F25) -> 0 | H25: 0 | I25: 0 | J25: =SUM(H25:I25) -> 0 | K25: 1 | L25: 0 | M25: =SUM(K25:L25) -> 1 | Q25: =B25+E25+H25+K25 -> 1 | R25: =C25+F25+I25+L25 -> 0 | S25: =SUM(Q25:R25) -> 1
A26: Итого граждане иностранных государств | B26: =SUM(B22:B25) -> 3 | C26: =SUM(C22:C25) -> 4 | D26: =SUM(D22:D25) -> 7 | E26: =SUM(E22:E25) -> 5 | F26: =SUM(F22:F25) -> 3 | G26: =SUM(G22:G25) -> 8 | H26: =SUM(H22:H25) -> 6 | I26: =SUM(I22:I25) -> 0 | ... O26: =SUM(O22:O25) -> 3 | P26: =SUM(N26:O26) -> 4 | Q26: =SUM(Q21:Q25) -> 18 | R26: =SUM(R21:R25) -> 15 | S26: =SUM(S21:S25) -> 33
A27: ИТОГО по подразделению граждане России | B27: =B20 -> 185 | C27: =C20 -> 9 | D27: =D20 -> 194 | E27: =E20 -> 213 | F27: =F20 -> 19 | G27: =G20 -> 232 | H27: =H20 -> 240 | I27: =I20 -> 12 | ... M27: =M20 -> 242 | N27: =SUM(N20) -> 47 | O27: =SUM(O20) -> 13 | P27: =SUM(N27:O27) -> 60 | Q27: =Q20 -> 916 | R27: =R20 -> 64 | S27: =Q27+R27 -> 980
A28: ИТОГО по подразделению иностранные граждане | B28: =B26 -> 3 | C28: =C26 -> 4 | D28: =D26 -> 7 | E28: =E26 -> 5 | F28: =F26 -> 3 | G28: =G26 -> 8 | H28: =H26 -> 6 | I28: =I26 -> 0 | ... M28: =M26 -> 8 | N28: =SUM(N26) -> 1 | O28: =SUM(O26) -> 3 | P28: =SUM(N28:O28) -> 4 | Q28: =Q26 -> 18 | R28: =R26 -> 15 | S28: =S26 -> 33
A29: Итого | B29: =SUM(B27:B28) -> 188 | C29: =SUM(C27:C28) -> 13 | D29: =SUM(D27:D28) -> 201 | E29: =SUM(E27:E28) -> 218 | F29: =SUM(F27:F28) -> 22 | G29: =SUM(G27:G28) -> 240 | H29: =SUM(H27:H28) -> 246 | I29: =SUM(I27:I28) -> 12 | ... S29: =SUM(S27:S28) -> 1013

Sheet Бакалавр ЗФО АСИА
A2: АКАДЕМИЯ СТРОИТЕЛЬСТВА И АРХИТЕКТУРЫ
A3: Контингент заочная форма обучения 01.10.2020 г.(Бакалавры)
B5: Факультет/направление подготовки | C5: 1 | F5: 2 | I5: 3 | L5: 4 | O5: 5 | R5: Всего бакалавры
C7: За счет бюджетных ассигнований | D7: На основе догов. о платных образов. услугах | E7: ВСЕГО | F7: За счет бюджетных ассигнований | G7: На основе догов. о платных образов. услугах | H7: ВСЕГО | I7: За счет бюджетных ассигнований | J7: На основе догов. о платных образов. услугах | K7: ВСЕГО | L7: За счет бюджетных ассигнований | M7: На основе догов. о платных образов. услугах | N7: ВСЕГО | O7: За счет бюджетных ассигнований | P7: На основе догов. о платных образов. услугах | Q7: ВСЕГО | R7: За счет бюджетных ассигнований | S7: На основе догов. о платных образов. услугах | T7: ВСЕГО
B8: Свод по направлениям подготовки
B9: 08.03.01 Строительство | C9: =C23+C16 -> 0 | D9: =D23+D16 -> 41 | E9: =E23+E16 -> 41 | F9: =F23+F16 -> 0 | G9: =G23+G16 -> 37 | H9: =H23+H16 -> 37 | I9: =I23+I16 -> 0 | J9: =J23+J16 -> 60 | ... T9: =T23+T16 -> 270
B10: 13.03.02 Электроэнергетика и электротехника | C10: =C24+C17 -> 0 | D10: =D24+D17 -> 0 | E10: =E24+E17 -> 0 | F10: =F24+F17 -> 0 | G10: =G24+G17 -> 0 | H10: =H24+H17 -> 0 | I10: =I24+I17 -> 0 | J10: =J24+J17 -> 0 | ... T10: =T24+T17 -> 0
B11: 20.03.02 Природообустройство и водопользование | C11: =C25+C18 -> 0 | D11: =D25+D18 -> 0 | E11: =E25+E18 -> 0 | F11: =F25+F18 -> 0 | G11: =G25+G18 -> 0 | H11: =H25+H18 -> 0 | I11: =I25+I18 -> 0 | J11: =J25+J18 -> 2 | ... T11: =T25+T18 -> 5
C12: =C27+C19 -> 0 | D12: =D27+D19 -> 0 | E12: =E27+E19 -> 0 | F12: =F27+F19 -> 0 | G12: =G27+G19 -> 0 | H12: =H27+H19 -> 0 | I12: =I27+I19 -> 0 | J12: =J27+J19 -> 0 | ... Q12: =Q27+Q19 -> 0 | R12: =C12+F12+I12+L12+O12 -> 0 | S12: =D12+G12+J12+M12+P12 -> 0 | T12: =SUM(R12:S12) -> 0
B13: Итого по направлениям подготовки | C13: =SUM(C9:C12) -> 0 | D13: =SUM(D9:D12) -> 41 | E13: =SUM(E9:E12) -> 41 | F13: =SUM(F9:F12) -> 0 | G13: =SUM(G9:G12) -> 37 | H13: =SUM(H9:H12) -> 37 | I13: =SUM(I9+I11) -> 0 | J13: =SUM(J9:J12) -> 62 | K13: =SUM(K9:K12) -> 62 | L13: =SUM(L9:L12) -> 0 | M13: =SUM(M9:M12) -> 53 | N13: =SUM(N9:N12) -> 53 | O13: =SUM(O9:O12) -> 2 | P13: =SUM(P9:P12) -> 80 | Q13: =SUM(Q9:Q12) -> 82 | ... T13: =SUM(T9:T12) -> 275
B14: В том числе:
B15: Граждане России
B16: 08.03.01 Строительство | D16: 34 | E16: =SUM(C16:D16) -> 34 | G16: 36 | H16: =SUM(F16:G16) -> 36 | J16: 59 | K16: =SUM(I16:J16) -> 59 | M16: 52 | N16: =SUM(L16:M16) -> 52 | O16: 1 | P16: 78 | Q16: =SUM(O16:P16) -> 79 | R16: =C16+F16+I16+L16+O16 -> 1 | S16: =D16+G16+J16+M16+P16 -> 259 | T16: =SUM(R16:S16) -> 260
B17: 13.03.02 Электроэнергетика и электротехника | E17: =SUM(C17:D17) -> 0 | H17: =SUM(F17:G17) -> 0 | K17: =SUM(I17:J17) -> 0 | N17: =SUM(L17:M17) -> 0 | Q17: =SUM(O17:P17) -> 0 | R17: =C17+F17+I17+L17+O17 -> 0 | S17: =D17+G17+J17+M17+P17 -> 0 | T17: =SUM(R17:S17) -> 0
B18: 20.03.02 Природообустройство и водопользование | E18: =SUM(C18:D18) -> 0 | H18: =SUM(F18:G18) -> 0 | J18: 2 | K18: =SUM(I18:J18) -> 2 | N18: =SUM(L18:M18) -> 0 | O18: 1 | P18: 2 | Q18: =SUM(O18:P18) -> 3 | R18: =C18+F18+I18+L18+O18 -> 1 | S18: =D18+G18+J18+M18+P18 -> 4 | T18: =SUM(R18:S18) -> 5
C19: 0 | D19: 0 | E19: =SUM(C19:D19) -> 0 | F19: 0 | G19: 0 | H19: =SUM(F19:G19) -> 0 | I19: 0 | J19: 0 | K19: =SUM(I19:J19) -> 0 | L19: 0 | M19: 0 | N19: =SUM(L19:M19) -> 0 | O19: 0 | P19: 0 | Q19: =SUM(O19:P19) -> 0 | R19: =C19+F19+I19+L19+O19 -> 0 | S19: =D19+G19+J19+M19+P19 -> 0 | T19: =SUM(R19:S19) -> 0
C20: 0 | D20: 0 | E20: =SUM(C20:D20) -> 0 | F20: 0 | G20: 0 | H20: =SUM(F20:G20) -> 0 | I20: 0 | J20: 0 | K20: =SUM(I20:J20) -> 0 | L20: 0 | M20: 0 | N20: =SUM(L20:M20) -> 0 | O20: 0 | P20: 0 | Q20: =SUM(O20:P20) -> 0 | R20: =C20+F20+I20+L20+O20 -> 0 | S20: =D20+G20+J20+M20+P20 -> 0 | T20: =SUM(R20:S20) -> 0
B21: Итого граждане России | C21: =SUM(C16:C20) -> 0 | D21: =SUM(D16:D20) -> 34 | E21: =SUM(E16:E20) -> 34 | F21: =SUM(F16:F20) -> 0 | G21: =SUM(G16:G20) -> 36 | H21: =SUM(H16:H20) -> 36 | I21: =SUM(I16:I20) -> 0 | J21: =SUM(J16:J20) -> 61 | ... T21: =SUM(T16:T20) -> 265
B22: Граждане иностранных государств (вкл. Украину)
B23: 08.03.01 Строительство | C23: 0 | D23: 7 | E23: =SUM(C23:D23) -> 7 | F23: 0 | G23: 1 | H23: =SUM(F23:G23) -> 1 | I23: 0 | J23: 1 | K23: =SUM(I23:J23) -> 1 | L23: 0 | M23: 1 | N23: =SUM(L23:M23) -> 1 | O23: 0 | Q23: =SUM(O23:P23) -> 0 | R23: =C23+F23+I23+L23+O23 -> 0 | S23: =D23+G23+J23+M23+P23 -> 10 | T23: =SUM(R23:S23) -> 10
B24: 13.03.02 Электроэнергетика и электротехника | C24: 0 | D24: 0 | E24: =SUM(C24:D24) -> 0 | F24: 0 | G24: 0 | H24: =SUM(F24:G24) -> 0 | I24: 0 | J24: 0 | K24: =SUM(I24:J24) -> 0 | L24: 0 | M24: 0 | N24: =SUM(L24:M24) -> 0 | O24: 0 | P24: 0 | Q24: =SUM(O24:P24) -> 0 | R24: =C24+F24+I24+L24+O24 -> 0 | S24: =D24+G24+J24+M24+P24 -> 0 | T24: =SUM(R24:S24) -> 0
B25: 20.03.02 Природообустройство и водопользование | C25: 0 | D25: 0 | E25: =SUM(C25:D25) -> 0 | F25: 0 | G25: 0 | H25: =SUM(F25:G25) -> 0 | I25: 0 | J25: 0 | K25: =SUM(I25:J25) -> 0 | L25: 0 | M25: 0 | N25: =SUM(L25:M25) -> 0 | O25: 0 | P25: 0 | Q25: =SUM(O25:P25) -> 0 | R25: =C25+F25+I25+L25+O25 -> 0 | S25: =D25+G25+J25+M25+P25 -> 0 | T25: =SUM(R25:S25) -> 0
C26: 0 | D26: 0 | E26: =SUM(C26:D26) -> 0 | F26: 0 | G26: 0 | H26: =SUM(F26:G26) -> 0 | I26: 0 | J26: 0 | K26: =SUM(I26:J26) -> 0 | L26: 0 | M26: 0 | N26: =SUM(L26:M26) -> 0 | O26: 0 | P26: 0 | Q26: =SUM(O26:P26) -> 0 | R26: =C26+F26+I26+L26+O26 -> 0 | S26: =D26+G26+J26+M26+P26 -> 0 | T26: =SUM(R26:S26) -> 0
C27: 0 | D27: 0 | E27: =SUM(C27:D27) -> 0 | F27: 0 | G27: 0 | H27: =SUM(F27:G27) -> 0 | I27: 0 | J27: 0 | K27: =SUM(I27:J27) -> 0 | L27: 0 | M27: 0 | N27: =SUM(L27:M27) -> 0 | O27: 0 | P27: 0 | Q27: =SUM(O27:P27) -> 0 | R27: =C27+F27+I27+L27+O27 -> 0 | S27: =D27+G27+J27+M27+P27 -> 0 | T27: =SUM(R27:S27) -> 0
B28: Итого граждане иностранных государств | C28: =SUM(C23:C27) -> 0 | D28: =SUM(D23:D27) -> 7 | E28: =SUM(E23:E27) -> 7 | F28: =SUM(F23:F27) -> 0 | G28: =SUM(G23:G27) -> 1 | H28: =SUM(H23:H27) -> 1 | I28: =SUM(I23:I27) -> 0 | J28: =SUM(J23:J27) -> 1 | ... T28: =SUM(T23:T27) -> 10
B29: ИТОГО по подразделению граждане России | C29: =C21 -> 0 | D29: =D21 -> 34 | E29: =E21 -> 34 | F29: =F21 -> 0 | G29: =G21 -> 36 | H29: =H21 -> 36 | I29: =I21 -> 0 | J29: =J21 -> 61 | ... T29: =T21 -> 265
B30: ИТОГО по подразделению граждане иностранных государств | C30: =C28 -> 0 | D30: =D28 -> 7 | E30: =E28 -> 7 | F30: =F28 -> 0 | G30: =G28 -> 1 | H30: =H28 -> 1 | I30: =I28 -> 0 | J30: =J28 -> 1 | ... T30: =T28 -> 10
B31: Свод по направлениям подготовки | C31: =SUM(C29:C30) -> 0 | D31: =SUM(D29:D30) -> 41 | E31: =SUM(E29:E30) -> 41 | F31: =SUM(F29:F30) -> 0 | G31: =SUM(G29:G30) -> 37 | H31: =SUM(H29:H30) -> 37 | I31: =SUM(I29:I30) -> 0 | J31: =SUM(J29:J30) -> 62 | ... T31: =SUM(T29:T30) -> 275

Sheet МАГ ОФО АСИА
A2: АКАДЕМИЯ СТРОИТЕЛЬСТВА И АРХИТЕКТУРЫ
A3: Контингент очной формы обучения на 01.10.2020 г.(Магистры)
A5: Факультет/направление подготовки | B5: 1 год обучения | E5: 2 год обучения | H5: Всего магистры
B6: МАГИСТР | E6: МАГИСТР
B7: За счет бюджетных ассигнований | C7: На основе догов. о платных образов. услугах | D7: ВСЕГО | E7: За счет бюджетных ассигнований | F7: На основе догов. о платных образов. услугах | G7: ВСЕГО | H7: За счет бюджетных ассигнований | I7: На основе догов. о платных образов. услугах | J7: ВСЕГО
A8: Свод по направлениям подготовки
A9: 07.04.04 Градостроительство | B9: =B16+B23 -> 30 | C9: =C23+C16 -> 0 | D9: =D23+D16 -> 30 | E9: =E23+E16 -> 24 | F9: =F24+F16 -> 8 | G9: =G23+G16 -> 32 | H9: =B9+E9 -> 54 | I9: =C9+F9 -> 8 | J9: =D9+G9 -> 62
A10: 08.04.01 Строительство | B10: =B25+B17 -> 75 | C10: =C24+C17 -> 0 | D10: =D24+D17 -> 75 | E10: =+E24+E17 -> 75 | F10: =F25+F17 -> 11 | G10: =G24+G17 -> 86 | H10: =B10+E10 -> 150 | I10: =C10+F10 -> 11 | J10: =D10+G10 -> 161
A11: 13.04.02 Электроэнергетика и электротехника | B11: =B26+B18 -> 0 | C11: =C26+C18 -> 0 | D11: =D26+D18 -> 0 | F11: =F26+F18 -> 0 | H11: =B11+E11 -> 0 | I11: =C11+F11 -> 0 | J11: =D11+G11 -> 0
A12: 20.04.02 Природообустройство и водопользование | B12: =B26+B19 -> 15 | C12: =C26+C18 -> 0 | D12: =D26+D19 -> 15 | E12: =E27+E19 -> 5 | F12: =F27+F19 -> 0 | G12: =G27+G19 -> 5 | H12: =B12+E12 -> 20 | I12: =C12+F12 -> 0 | J12: =D12+G12 -> 20
A13: Итого по направлениям подготовки: | B13: =SUM(B8:B12) -> 120 | C13: =SUM(C8:C12) -> 0 | D13: =SUM(D8:D12) -> 120 | E13: =SUM(E8:E12) -> 104 | F13: =SUM(F8:F12) -> 19 | G13: =SUM(G8:G12) -> 123 | H13: =SUM(H9:H12) -> 224 | I13: =SUM(I9:I12) -> 19 | J13: =SUM(J9:J12) -> 243
A14: В том числе:
A15: Граждане России
A16: 07.04.04 Градостроительство | B16: 28 | C16: 0 | D16: =SUM(B16:C16) -> 28 | E16: 24 | F16: 8 | G16: =SUM(E16:F16) -> 32 | H16: =B16+E16 -> 52 | I16: =C16+F16 -> 8 | J16: =D16+G16 -> 60
A17: 08.04.01 Строительство | B17: 75 | C17: 0 | D17: =SUM(B17:C17) -> 75 | E17: 74 | F17: 11 | G17: =SUM(E17:F17) -> 85 | H17: =B17+E17 -> 149 | I17: =C17+F17 -> 11 | J17: =D17+G17 -> 160
A18: 13.04.02 Электроэнергетика и электротехника | D18: =SUM(B18:C18) -> 0 | G18: =SUM(E18:F18) -> 0 | H18: =B18+E18 -> 0 | I18: =C18+F18 -> 0 | J18: =D18+G18 -> 0
A19: 20.04.02 Природообустройство и водопользование | B19: 15 | C19: 0 | D19: =SUM(B19:C19) -> 15 | E19: 5 | F19: 0 | G19: =SUM(E19:F19) -> 5 | H19: =B19+E19 -> 20 | I19: =C19+F19 -> 0 | J19: =D19+G19 -> 20
B20: 0 | C20: 0 | D20: =SUM(B20:C20) -> 0 | E20: 0 | F20: 0 | G20: =SUM(E20:F20) -> 0 | H20: =B20+E20 -> 0 | I20: =C20+F20 -> 0 | J20: =D20+G20 -> 0
A21: Итого граждане России | B21: =SUM(B16:B20) -> 118 | C21: =SUM(C16:C20) -> 0 | D21: =SUM(D16:D20) -> 118 | E21: =SUM(E16:E20) -> 103 | F21: =SUM(F16:F20) -> 19 | G21: =SUM(G16:G20) -> 122 | H21: =SUM(H16:H20) -> 221 | I21: =SUM(I16:I20) -> 19 | J21: =SUM(J16:J20) -> 240
A22: Граждане иностранных государств (вкл. Украину)
A23: 07.04.04 Градостроительство | B23: 2 | C23: 0 | D23: =SUM(B23:C23) -> 2 | E23: 0 | F23: 0 | G23: =SUM(E23:F23) -> 0 | H23: =B23+E23 -> 2 | I23: =C23+F23 -> 0 | J23: =D23+G23 -> 2
A24: 08.04.01 Строительство | B24: 0 | C24: 0 | D24: =SUM(B24:C24) -> 0 | E24: 1 | F24: 0 | G24: =SUM(E24:F24) -> 1 | H24: =B24+E24 -> 1 | I24: =C24+F24 -> 0 | J24: =D24+G24 -> 1
A25: 13.04.02 Электроэнергетика и электротехника | D25: =SUM(B25:C25) -> 0 | G25: =SUM(E25:F25) -> 0 | H25: =B25+E25 -> 0 | I25: =C25+F25 -> 0 | J25: =D25+G25 -> 0
A26: 20.04.02 Природообустройство и водопользование | B26: 0 | C26: 0 | D26: =SUM(B26:C26) -> 0 | E26: 0 | F26: 0 | G26: =SUM(E26:F26) -> 0 | H26: =B26+E26 -> 0 | I26: =C26+F26 -> 0 | J26: =D26+G26 -> 0
B27: 0 | C27: 0 | D27: =SUM(B27:C27) -> 0 | E27: 0 | F27: 0 | G27: =SUM(E27:F27) -> 0 | H27: =B27+E27 -> 0 | I27: =C27+F27 -> 0 | J27: =D27+G27 -> 0
A28: Итого граждане иностранных государств | B28: =SUM(B23:B27) -> 2 | C28: =SUM(C23:C27) -> 0 | D28: =SUM(D23:D27) -> 2 | E28: =SUM(E23:E27) -> 1 | F28: =SUM(F23:F27) -> 0 | G28: =SUM(G23:G27) -> 1 | H28: =SUM(H23:H27) -> 3 | I28: =SUM(I23:I27) -> 0 | J28: =SUM(J23:J27) -> 3
A29: ИТОГО по подразделению граждане России | B29: =B21 -> 118 | C29: =C21 -> 0 | D29: =D21 -> 118 | E29: =E21 -> 103 | F29: =F21 -> 19 | G29: =G21 -> 122 | H29: =H21 -> 221 | I29: =I21 -> 19 | J29: =J21 -> 240
A30: ИТОГО по подразделению иностранные граждане | B30: =B28 -> 2 | C30: =C28 -> 0 | D30: =D28 -> 2 | E30: =E28 -> 1 | F30: =F28 -> 0 | G30: =G28 -> 1 | H30: =H28 -> 3 | I30: =I28 -> 0 | J30: =J28 -> 3
A31: Итого | B31: =SUM(B29:B30) -> 120 | C31: =SUM(C29:C30) -> 0 | D31: =SUM(D29:D30) -> 120 | E31: =SUM(E29:E30) -> 104 | F31: =SUM(F29:F30) -> 19 | G31: =SUM(G29:G30) -> 123 | H31: =SUM(H29:H30) -> 224 | I31: =SUM(I29:I30) -> 19 | J31: =SUM(J29:J30) -> 243

Sheet МАГ ЗФО АСИА
A2: АКАДЕМИЯ СТРОИТЕЛЬСТВА И АРХИТЕКТУРЫ
A3: Контингент заочной формы обучения на 01.10.2020 г.(Магистры)
A5: Факультет/направление подготовки | B5: 1 год обучения | E5: 2 год обучения | H5: 3 год обучения | K5: Всего магистры
B6: МАГИСТР | E6: МАГИСТР | H6: МАГИСТР
B7: За счет бюджетных ассигнований | C7: На основе догов. о платных образов. услугах | D7: ВСЕГО | E7: За счет бюджетных ассигнований | F7: На основе догов. о платных образов. услугах | G7: ВСЕГО | H7: За счет бюджетных ассигнований | I7: На основе догов. о платных образов. услугах | J7: ВСЕГО | K7: За счет бюджетных ассигнований | L7: На основе догов. о платных образов. услугах | M7: ВСЕГО
A8: Свод по направлениям подготовки
A9: 08.04.01 Строительство | B9: =B17+B17 -> 0 | C9: =C25+C17 -> 76 | D9: =D25+D17 -> 76 | E9: =E25+E17 -> 0 | F9: =F25+F17 -> 70 | G9: =G25+G17 -> 70 | H9: =H25+H17 -> 0 | I9: =I25+I17 -> 37 | J9: =J25+J17 -> 37 | K9: =B9+E9+H9 -> 0 | L9: =C9+F9+I9 -> 183 | M9: =D9+G9+J9 -> 183
A10: 13.04.02 Электроэнергетика и электротехника | B10: =B26+B18 -> 0 | C10: =C26+C18 -> 0 | D10: =D26+D18 -> 0 | E10: =E26+E18 -> 0 | F10: =F26+F18 -> 0 | G10: =G26+G18 -> 0 | H10: =H26+H18 -> 0 | I10: =I26+I18 -> 0 | J10: =J26+J18 -> 0 | K10: =B10+E10+H10 -> 0 | L10: =C10+F10+I10 -> 0 | M10: =D10+G10+J10 -> 0
A11: 20.04.02 Природообустройство и водопользование | B11: =B27+B19 -> 0 | C11: =C27+C19 -> 0 | D11: =D27+D19 -> 0 | E11: =E27+E19 -> 0 | F11: =F27+F19 -> 0 | G11: =G27+G19 -> 0 | H11: =H27+H19 -> 0 | I11: =I27+I19 -> 1 | J11: =J27+J19 -> 1 | K11: =B11+E11+H11 -> 0 | L11: =C11+F11+I11 -> 1 | M11: =D11+G11+J11 -> 1
E12: =E28+E20 -> 0 | F12: =F28+F20 -> 0 | G12: =G28+G20 -> 0 | H12: =H28+H20 -> 0 | I12: =I28+I20 -> 0 | J12: =J28+J20 -> 0 | K12: =B12+E12+H12 -> 0 | L12: =C12+F12+I12 -> 0 | M12: =D12+G12+J12 -> 0
B13: =B28+B20 -> 0 | C13: =C28+C20 -> 0 | D13: =D28+D20 -> 0 | E13: =E29+E21 -> 0 | F13: =F29+F21 -> 2 | G13: =G29+G21 -> 2 | H13: =H29+H21 -> 0 | I13: =I29+I21 -> 0 | J13: =J29+J21 -> 0 | K13: =B13+E13+H13 -> 0 | L13: =C13+F13+I13 -> 2 | M13: =D13+G13+J13 -> 2
A14: Итого по направлениям подготовки: | B14: =SUM(B8:B13) -> 0 | C14: =SUM(C8:C13) -> 76 | D14: =SUM(D8:D13) -> 76 | E14: =SUM(E8:E13) -> 0 | F14: =SUM(F8:F13) -> 72 | G14: =SUM(G8:G13) -> 72 | H14: =SUM(H8:H13) -> 0 | I14: =SUM(I8:I13) -> 38 | ... M14: =SUM(M8:M13) -> 186
A15: В том числе:
A16: Граждане России
A17: 08.04.01 Строительство | B17: 0 | C17: 76 | D17: =SUM(B17:C17) -> 76 | E17: 0 | F17: 70 | G17: =SUM(E17:F17) -> 70 | H17: 0 | I17: 37 | J17: =SUM(H17:I17) -> 37 | K17: =B17+E17+H17 -> 0 | L17: =C17+F17+I17 -> 183 | M17: =D17+G17+J17 -> 183
A18: 13.04.02 Электроэнергетика и электротехника | D18: =SUM(B18:C18) -> 0 | G18: =SUM(E18:F18) -> 0 | H18: 0 | I18: 0 | J18: =SUM(H18:I18) -> 0 | K18: =B18+E18+H18 -> 0 | L18: =C18+F18+I18 -> 0 | M18: =D18+G18+J18 -> 0
A19: 20.04.02 Природообустройство и водопользование | B19: 0 | C19: 0 | D19: =SUM(B19:C19) -> 0 | E19: 0 | F19: 0 | G19: =SUM(E19:F19) -> 0 | H19: 0 | I19: 1 | J19: =SUM(H19:I19) -> 1 | K19: =B19+E19+H19 -> 0 | L19: =C19+F19+I19 -> 1 | M19: =D19+G19+J19 -> 1
B20: 0 | C20: 0 | D20: =SUM(B20:C20) -> 0 | E20: 0 | F20: 0 | G20: =SUM(E20:F20) -> 0 | H20: 0 | I20: 0 | J20: =SUM(H20:I20) -> 0 | K20: =B20+E20+H20 -> 0 | L20: =C20+F20+I20 -> 0 | M20: =D20+G20+J20 -> 0
B21: 0 | C21: 0 | D21: =SUM(B21:C21) -> 0 | E21: 0 | F21: 0 | G21: =SUM(E21:F21) -> 0 | H21: 0 | I21: 0 | J21: =SUM(H21:I21) -> 0 | K21: =B21+E21+H21 -> 0 | L21: =C21+F21+I21 -> 0 | M21: =D21+G21+J21 -> 0
A22: Итого граждане России | B22: =SUM(B17:B21) -> 0 | C22: =SUM(C17:C21) -> 76 | D22: =SUM(D17:D21) -> 76 | E22: =SUM(E17:E21) -> 0 | F22: =SUM(F17:F21) -> 70 | G22: =SUM(G17:G21) -> 70 | H22: =SUM(H17:H21) -> 0 | I22: =SUM(I17:I21) -> 38 | ... M22: =SUM(M17:M21) -> 184
A23: Граждане иностранных государств (вкл. Украину)
A24: 08.04.01 Строительство | B24: 0 | C24: 0 | D24: =SUM(B24:C24) -> 0 | E24: 0 | F24: 2 | G24: =SUM(E24:F24) -> 2 | H24: 0 | I24: 0 | J24: =SUM(H24:I24) -> 0 | K24: =B24+E24+H24 -> 0 | L24: =C24+F24+I24 -> 2 | M24: =D24+G24+J24 -> 2
A25: 13.04.02 Электроэнергетика и электротехника | B25: 0 | C25: 0 | D25: =SUM(B25:C25) -> 0 | E25: 0 | F25: 0 | G25: =SUM(E25:F25) -> 0 | H25: 0 | I25: 0 | J25: =SUM(H25:I25) -> 0 | K25: =B25+E25+H25 -> 0 | L25: =C25+F25+I25 -> 0 | M25: =D25+G25+J25 -> 0
A26: 20.04.02 Природообустройство и водопользование | B26: 0 | C26: 0 | D26: =SUM(B26:C26) -> 0 | E26: 0 | F26: 0 | G26: =SUM(E26:F26) -> 0 | H26: 0 | I26: 0 | J26: =SUM(H26:I26) -> 0 | K26: =B26+E26+H26 -> 0 | L26: =C26+F26+I26 -> 0 | M26: =D26+G26+J26 -> 0
B27: 0 | C27: 0 | D27: =SUM(B27:C27) -> 0 | E27: 0 | F27: 0 | G27: =SUM(E27:F27) -> 0 | H27: 0 | I27: 0 | J27: =SUM(H27:I27) -> 0 | K27: =B27+E27+H27 -> 0 | L27: =C27+F27+I27 -> 0 | M27: =D27+G27+J27 -> 0
B28: 0 | C28: 0 | D28: =SUM(B28:C28) -> 0 | E28: 0 | F28: 0 | G28: =SUM(E28:F28) -> 0 | H28: 0 | I28: 0 | J28: =SUM(H28:I28) -> 0 | K28: =B28+E28+H28 -> 0 | L28: =C28+F28+I28 -> 0 | M28: =D28+G28+J28 -> 0
A29: Итого граждане иностранных государств | B29: =SUM(B24:B28) -> 0 | C29: =SUM(C24:C28) -> 0 | D29: =SUM(D24:D28) -> 0 | E29: =SUM(E24:E28) -> 0 | F29: =SUM(F24:F28) -> 2 | G29: =SUM(G24:G28) -> 2 | H29: =SUM(H24:H28) -> 0 | I29: =SUM(I24:I28) -> 0 | ... M29: =SUM(M24:M28) -> 2
A30: ИТОГО по подразделению граждане России | B30: =B22 -> 0 | C30: =C22 -> 76 | D30: =D22 -> 76 | E30: =E22 -> 0 | F30: =F22 -> 70 | G30: =G22 -> 70 | H30: =H22 -> 0 | I30: =I22 -> 38 | ... M30: =M22 -> 184
A31: ИТОГО по подразделению иностранные граждане | B31: =B29 -> 0 | C31: =C29 -> 0 | D31: =D29 -> 0 | E31: =E29 -> 0 | F31: =F29 -> 2 | G31: =G29 -> 2 | H31: =H29 -> 0 | I31: =I29 -> 0 | ... M31: =M29 -> 2
A32: Итого | B32: =SUM(B30:B31) -> 0 | C32: =SUM(C30:C31) -> 76 | D32: =SUM(D30:D31) -> 76 | E32: =SUM(E30:E31) -> 0 | F32: =SUM(F30:F31) -> 72 | G32: =SUM(G30:G31) -> 72 | H32: =SUM(H30:H31) -> 0 | I32: =SUM(I30:I31) -> 38 | ... M32: =SUM(M30:M31) -> 186

Sheet Бакалавр ОФО АТА
A1: АГРОТЕХНОЛОГИЧЕСКАЯ АКАДЕМИЯ КФУ
A2: Контингент Дневной формы обучения на 1.10.2020
A3: Факультет/направление подготовки | B3: выпуск 2024 | E3: выпуск 2023 | H3: выпуск 2022 | K3: выпуск 2021 | N3: Итого Бакалавры
C5: 1 | E5: 2 | H5: 3 | K5: 4
B6: За счет бюджетных ассигнований | C6: На основе догов.о платных образов.услугах | D6: ВСЕГО | E6: За счет бюджетных ассигнований | F6: На основе догов.о платных образов.услугах | G6: ВСЕГО | H6: За счет бюджетных ассигнований | I6: На основе догов.о платных образов.услугах | J6: ВСЕГО | K6: За счет бюджетных ассигнований | L6: На основе догов.о платных образов.услугах | M6: ВСЕГО | N6: За счет бюджетных ассигнований | O6: На основе догов.о платных образов.услугах | P6: ВСЕГО
A7: Свод по направлениям подготовкии
A8: 35.03.04 Агрономия | B8: =B21+B33 -> 22 | C8: =C21+C33 -> 0 | D8: =D21+D33 -> 22 | E8: =E21+E33 -> 17 | F8: =F21+F33 -> 0 | G8: =G21+G33 -> 17 | H8: =H21+H33 -> 37 | I8: =I21+I33 -> 0 | ... P8: =P21+P33 -> 107
A9: 35.03.05 Садоводство | B9: =B22+B34 -> 22 | C9: =C22+C34 -> 0 | D9: =D22+D34 -> 22 | E9: =E22+E34 -> 16 | F9: =F22+F34 -> 0 | G9: =G22+G34 -> 16 | H9: =H22+H34 -> 33 | I9: =I22+I34 -> 0 | ... P9: =P22+P34 -> 92
A10: 21.03.02 Землеустройство и кадастры | B10: =B23+B35 -> 39 | C10: =C23+C35 -> 0 | D10: =D23+D35 -> 39 | E10: =E23+E35 -> 35 | F10: =F23+F35 -> 0 | G10: =G23+G35 -> 35 | H10: =H23+H35 -> 37 | I10: =I23+I35 -> 0 | ... P10: =P23+P35 -> 147
A11: 21.03.03 Геодезия и дистанцион. | B11: =B24+B36 -> 19 | C11: =C24+C36 -> 0 | D11: =D24+D36 -> 19 | E11: =E24+E36 -> 19 | F11: =F24+F36 -> 0 | G11: =G24+G36 -> 19 | H11: =H24+H36 -> 24 | I11: =I24+I36 -> 0 | ... P11: =P24+P36 -> 84
A12: 35.03.10 Ландшафтная архитектура | B12: =B25+B37 -> 0 | C12: =C25+C37 -> 0 | D12: =D25+D37 -> 0 | E12: =E25+E37 -> 0 | F12: =F25+F37 -> 0 | G12: =G25+G37 -> 0 | H12: =H25+H37 -> 0 | I12: =I25+I37 -> 0 | ... P12: =P25+P37 -> 0
A13: 35.03.01 Лесное дело | B13: =B26+B38 -> 12 | C13: =C26+C38 -> 0 | D13: =D26+D38 -> 12 | E13: =E26+E38 -> 11 | F13: =F26+F38 -> 0 | G13: =G26+G38 -> 11 | H13: =H26+H38 -> 27 | I13: =I26+I38 -> 0 | ... P13: =P26+P38 -> 72
A14: 19.03.02 Продукты питания из растительного сырья | B14: =B27+B39 -> 31 | C14: =C27+C39 -> 0 | D14: =D27+D39 -> 31 | E14: =E27+E39 -> 36 | F14: =F27+F39 -> 0 | G14: =G27+G39 -> 36 | H14: =H27+H39 -> 34 | I14: =I27+I39 -> 0 | ... P14: =P27+P39 -> 132
A15: 19.03.03 Продукты питания животного происхождения | B15: =B28+B40 -> 8 | C15: =C28+C40 -> 0 | D15: =D28+D40 -> 8 | E15: =E28+E40 -> 13 | F15: =F28+F40 -> 0 | G15: =G28+G40 -> 13 | H15: =H28+H40 -> 17 | I15: =I28+I40 -> 0 | ... P15: =P28+P40 -> 48
A16: 35.03.06 Агроинженерия | B16: =B29+B41 -> 54 | C16: =C29+C41 -> 0 | D16: =D29+D41 -> 54 | E16: =E29+E41 -> 46 | F16: =F29+F41 -> 0 | G16: =G29+G41 -> 46 | H16: =H29+H41 -> 52 | I16: =I29+I41 -> 0 | ... P16: =P29+P41 -> 197
A17: 27.03.03 Системный анализ | B17: =B30+B42 -> 12 | C17: =C30+C42 -> 0 | D17: =D30+D42 -> 12 | E17: =E30+E42 -> 16 | F17: =F30+F42 -> 0 | G17: =G30+G42 -> 16 | H17: =H30+H42 -> 14 | I17: =I30+I42 -> 0 | ... P17: =P30+P42 -> 55
A18: Итого по направлениям подготовки: | B18: =B31+B43 -> 219 | C18: =C31+C43 -> 0 | D18: =D31+D43 -> 219 | E18: =E31+E43 -> 209 | F18: =F31+F43 -> 0 | G18: =G31+G43 -> 209 | H18: =H31+H43 -> 275 | I18: =I31+I43 -> 0 | ... P18: =P31+P43 -> 934
A19: В том числе:
A20: Граждане России
A21: 35.03.04 Агрономия | B21: 21 | C21: 0 | D21: =B21+C21 -> 21 | E21: 16 | F21: 0 | G21: =E21+F21 -> 16 | H21: 37 | I21: 0 | J21: =I21+H21 -> 37 | K21: 30 | L21: 0 | M21: =K21+L21 -> 30 | N21: =B21+E21+H21+K21 -> 104 | O21: =F21+I21+L21+C21 -> 0 | P21: =N21+O21 -> 104
A22: 35.03.05 Садоводство | B22: 22 | C22: 0 | D22: =B22+C22 -> 22 | E22: 15 | F22: 0 | G22: =E22+F22 -> 15 | H22: 32 | I22: 0 | J22: =I22+H22 -> 32 | K22: 19 | L22: 1 | M22: =K22+L22 -> 20 | N22: =B22+E22+H22+K22 -> 88 | O22: =F22+I22+L22+C22 -> 1 | P22: =N22+O22 -> 89
A23: 21.03.02 Землеустройство и кадастры | B23: 39 | C23: 0 | D23: =B23+C23 -> 39 | E23: 35 | F23: 0 | G23: =E23+F23 -> 35 | H23: 37 | I23: 0 | J23: =I23+H23 -> 37 | K23: 35 | L23: 1 | M23: =K23+L23 -> 36 | N23: =B23+E23+H23+K23 -> 146 | O23: =F23+I23+L23+C23 -> 1 | P23: =N23+O23 -> 147
A24: 21.03.03 Геодезия и дистанцион. | B24: 18 | C24: 0 | D24: =B24+C24 -> 18 | E24: 19 | F24: 0 | G24: =E24+F24 -> 19 | H24: 24 | I24: 0 | J24: =I24+H24 -> 24 | K24: 22 | L24: 0 | M24: =K24+L24 -> 22 | N24: =B24+E24+H24+K24 -> 83 | O24: =F24+I24+L24+C24 -> 0 | P24: =N24+O24 -> 83
A25: 35.03.10 Ландшафтная архитектура | B25: 0 | C25: 0 | D25: =B25+C25 -> 0 | E25: 0 | F25: 0 | G25: =E25+F25 -> 0 | H25: 0 | I25: 0 | J25: =I25+H25 -> 0 | K25: 0 | L25: 0 | M25: =K25+L25 -> 0 | N25: =B25+E25+H25+K25 -> 0 | O25: =F25+I25+L25+C25 -> 0 | P25: =N25+O25 -> 0
A26: 35.03.01 Лесное дело | B26: 12 | C26: 0 | D26: =B26+C26 -> 12 | E26: 11 | F26: 0 | G26: =E26+F26 -> 11 | H26: 27 | I26: 0 | J26: =I26+H26 -> 27 | K26: 22 | L26: 0 | M26: =K26+L26 -> 22 | N26: =B26+E26+H26+K26 -> 72 | O26: =F26+I26+L26+C26 -> 0 | P26: =N26+O26 -> 72
A27: 19.03.02 Продукты питания из растительного сырья | B27: 31 | C27: 0 | D27: =B27+C27 -> 31 | E27: 36 | F27: 0 | G27: =E27+F27 -> 36 | H27: 34 | I27: 0 | J27: =I27+H27 -> 34 | K27: 31 | L27: 0 | M27: =K27+L27 -> 31 | N27: =B27+E27+H27+K27 -> 132 | O27: =F27+I27+L27+C27 -> 0 | P27: =N27+O27 -> 132
A28: 19.03.03 Продукты питания животного происхождения | B28: 8 | C28: 0 | D28: =B28+C28 -> 8 | E28: 13 | F28: 0 | G28: =E28+F28 -> 13 | H28: 16 | I28: 0 | J28: =I28+H28 -> 16 | K28: 8 | L28: 0 | M28: =K28+L28 -> 8 | N28: =B28+E28+H28+K28 -> 45 | O28: =F28+I28+L28+C28 -> 0 | P28: =N28+O28 -> 45
A29: 35.03.10 Агроинженерия | B29: 54 | C29: 0 | D29: =B29+C29 -> 54 | E29: 44 | F29: 0 | G29: =E29+F29 -> 44 | H29: 51 | I29: 0 | J29: =I29+H29 -> 51 | K29: 44 | L29: 0 | M29: =K29+L29 -> 44 | N29: =B29+E29+H29+K29 -> 193 | O29: =F29+I29+L29+C29 -> 0 | P29: =N29+O29 -> 193
A30: 27.03.03 Системный анализ | B30: 12 | C30: 0 | D30: =B30+C30 -> 12 | E30: 16 | F30: 0 | G30: =E30+F30 -> 16 | H30: 13 | I30: 0 | J30: =I30+H30 -> 13 | K30: 13 | L30: 0 | M30: =K30+L30 -> 13 | N30: =B30+E30+H30+K30 -> 54 | O30: =F30+I30+L30+C30 -> 0 | P30: =N30+O30 -> 54
A31: Итого граждане России | B31: =B21+B22+B23+B24+B25+B26+B27+B28+B29+B30 -> 217 | C31: =C21+C22+C23+C24+C25+C26+C27+C28+C29+C30 -> 0 | D31: =D21+D22+D23+D24+D25+D26+D27+D28+D29+D30 -> 217 | E31: =E21+E22+E23+E24+E25+E26+E27+E28+E29+E30 -> 205 | F31: =F21+F22+F23+F24+F25+F26+F27+F28+F29+F30 -> 0 | G31: =G21+G22+G23+G24+G25+G26+G27+G28+G29+G30 -> 205 | H31: =H21+H22+H23+H24+H25+H26+H27+H28+H29+H30 -> 271 | I31: =I21+I22+I23+I24+I25+I26+I27+I28+I29+I30 -> 0 | ... P31: =P21+P22+P23+P24+P25+P26+P27+P28+P29+P30 -> 919
A32: Граждане иностранных государст(вкл.Украину)
A33: 35.03.04 Агрономия | B33: 1 | C33: 0 | D33: =B33+C33 -> 1 | E33: 1 | F33: 0 | G33: =E33+F33 -> 1 | H33: 0 | I33: 0 | J33: =I33+H33 -> 0 | K33: 1 | L33: 0 | M33: =K33+L33 -> 1 | N33: =B33+E33+H33+K33 -> 3 | O33: =F33+I33+L33+C33 -> 0 | P33: =N33+O33 -> 3
A34: 35.03.05 Садоводство | B34: 0 | C34: 0 | D34: =B34+C34 -> 0 | E34: 1 | F34: 0 | G34: =E34+F34 -> 1 | H34: 1 | I34: 0 | J34: =I34+H34 -> 1 | K34: 1 | L34: 0 | M34: =K34+L34 -> 1 | N34: =B34+E34+H34+K34 -> 3 | O34: =F34+I34+L34+C34 -> 0 | P34: =N34+O34 -> 3
A35: 21.03.02 Землеустройство и кадастры | B35: 0 | C35: 0 | D35: =B35+C35 -> 0 | E35: 0 | F35: 0 | G35: =E35+F35 -> 0 | H35: 0 | I35: 0 | J35: =I35+H35 -> 0 | K35: 0 | L35: 0 | M35: =K35+L35 -> 0 | N35: =B35+E35+H35+K35 -> 0 | O35: =F35+I35+L35+C35 -> 0 | P35: =N35+O35 -> 0
A36: 21.03.03 Геодезия и дистанцион. | B36: 1 | C36: 0 | D36: =B36+C36 -> 1 | E36: 0 | F36: 0 | G36: =E36+F36 -> 0 | H36: 0 | I36: 0 | J36: =I36+H36 -> 0 | K36: 0 | L36: 0 | M36: =K36+L36 -> 0 | N36: =B36+E36+H36+K36 -> 1 | O36: =F36+I36+L36+C36 -> 0 | P36: =N36+O36 -> 1
A37: 35.03.10 Ландшафтная архитектура | B37: 0 | C37: 0 | D37: =B37+C37 -> 0 | E37: 0 | F37: 0 | G37: =E37+F37 -> 0 | H37: 0 | I37: 0 | J37: =I37+H37 -> 0 | K37: 0 | L37: 0 | M37: =K37+L37 -> 0 | N37: =B37+E37+H37+K37 -> 0 | O37: =F37+I37+L37+C37 -> 0 | P37: =N37+O37 -> 0
A38: 35.03.01 Лесное дело | B38: 0 | C38: 0 | D38: =B38+C38 -> 0 | E38: 0 | F38: 0 | G38: =E38+F38 -> 0 | H38: 0 | I38: 0 | J38: =I38+H38 -> 0 | K38: 0 | L38: 0 | M38: =K38+L38 -> 0 | N38: =B38+E38+H38+K38 -> 0 | O38: =F38+I38+L38+C38 -> 0 | P38: =N38+O38 -> 0
A39: 19.03.02 Продукты питания из растительного сырья | B39: 0 | C39: 0 | D39: =B39+C39 -> 0 | E39: 0 | F39: 0 | G39: =E39+F39 -> 0 | H39: 0 | I39: 0 | J39: =I39+H39 -> 0 | K39: 0 | L39: 0 | M39: =K39+L39 -> 0 | N39: =B39+E39+H39+K39 -> 0 | O39: =F39+I39+L39+C39 -> 0 | P39: =N39+O39 -> 0
A40: 19.03.03 Продукты питания животного происхождения | B40: 0 | C40: 0 | D40: =B40+C40 -> 0 | E40: 0 | F40: 0 | G40: =E40+F40 -> 0 | H40: 1 | I40: 0 | J40: =I40+H40 -> 1 | K40: 2 | L40: 0 | M40: =K40+L40 -> 2 | N40: =B40+E40+H40+K40 -> 3 | O40: =F40+I40+L40+C40 -> 0 | P40: =N40+O40 -> 3
A41: 35.03.10 Агроинженерия | B41: 0 | C41: 0 | D41: =B41+C41 -> 0 | E41: 2 | F41: 0 | G41: =E41+F41 -> 2 | H41: 1 | I41: 0 | J41: =I41+H41 -> 1 | K41: 1 | L41: 0 | M41: =K41+L41 -> 1 | N41: =B41+E41+H41+K41 -> 4 | O41: =F41+I41+L41+C41 -> 0 | P41: =N41+O41 -> 4
...

Sheet Бакалавр ЗФО АTA
E1: АГРОТЕХНОЛОГИЧЕСКАЯ АКАДЕМИЯ КФУ
A2: Факультет/направление подготовки | E2: Контингент Заочной формы обучения на 1.10.2020
B3: выпуск 2025 | E3: выпуск 2024 | H3: выпуск 2023 | K3: выпуск 2022 | N3: выпуск 2021 | Q3: ВСЕГО
B5: 1 | E5: 2 | H5: 3 | K5: 4 | N5: 5
B7: За счет бюджетных ассигнований | C7: На основе догов.о платных образов.услугах | D7: ВСЕГО | E7: За счет бюджетных ассигнований | F7: На основе догов.о платных образов.услугах | G7: ВСЕГО | H7: За счет бюджетных ассигнований | I7: На основе догов.о платных образов.услугах | J7: ВСЕГО | K7: За счет бюджетных ассигнований | L7: На основе догов.о платных образов.услугах | M7: ВСЕГО | N7: За счет бюджетных ассигнований | O7: На основе догов.о платных образов.услугах | P7: ВСЕГО | Q7: За счет бюджетных ассигнований | R7: На основе догов.о платных образов.услугах | S7: ВСЕГО
A8: Свод по направлениям подготовкии
A9: 35.03.04 Агрономия | B9: =B22+B34 -> 20 | C9: =C22+C34 -> 0 | D9: =D22+D34 -> 20 | E9: =E22+E34 -> 20 | F9: =F22+F34 -> 0 | G9: =G22+G34 -> 20 | H9: =H22+H34 -> 15 | I9: =I22+I34 -> 5 | ... P9: =P22+P34 -> 21 | Q9: =E9+H9+K9+N9+B9 -> 85 | R9: =F9+I9+L9+O9+C9 -> 11 | S9: =G9+J9+M9+P9+D9 -> 96
A10: 35.03.05 Садоводство | B10: =B23+B35 -> 21 | C10: =C23+C35 -> 2 | D10: =D23+D35 -> 23 | E10: =E23+E35 -> 14 | F10: =F23+F35 -> 2 | G10: =G23+G35 -> 16 | H10: =H23+H35 -> 14 | I10: =I23+I35 -> 2 | ... P10: =P23+P35 -> 26 | Q10: =E10+H10+K10+N10+B10 -> 80 | R10: =F10+I10+L10+O10+C10 -> 11 | S10: =G10+J10+M10+P10+D10 -> 91
A11: 21.03.02 Землеустройство и кадастры | B11: =B24+B36 -> 21 | C11: =C24+C36 -> 0 | D11: =D24+D36 -> 21 | E11: =E24+E36 -> 22 | F11: =F24+F36 -> 1 | G11: =G24+G36 -> 23 | H11: =H24+H36 -> 20 | I11: =I24+I36 -> 8 | ... P11: =P24+P36 -> 26 | Q11: =E11+H11+K11+N11+B11 -> 95 | R11: =F11+I11+L11+O11+C11 -> 27 | S11: =G11+J11+M11+P11+D11 -> 122
A12: 21.03.03 Геодезия и дистанцион. | B12: =B25+B37 -> 16 | C12: =C25+C37 -> 0 | D12: =D25+D37 -> 16 | E12: =E25+E37 -> 12 | F12: =F25+F37 -> 0 | G12: =G25+G37 -> 12 | H12: =H25+H37 -> 9 | I12: =I25+I37 -> 1 | ... P12: =P25+P37 -> 7 | Q12: =E12+H12+K12+N12+B12 -> 52 | R12: =F12+I12+L12+O12+C12 -> 3 | S12: =G12+J12+M12+P12+D12 -> 55
A13: 27.03.03 Системный анализ и управление | B13: =B26+B38 -> 1 | C13: =C26+C38 -> 0 | D13: =D26+D38 -> 1 | E13: =E26+E38 -> 11 | F13: =F26+F38 -> 0 | G13: =G26+G38 -> 11 | H13: =H26+H38 -> 8 | I13: =I26+I38 -> 0 | ... P13: =P26+P38 -> 0 | Q13: =E13+H13+K13+N13+B13 -> 30 | R13: =F13+I13+L13+O13+C13 -> 1 | S13: =G13+J13+M13+P13+D13 -> 31
A14: 35.03.10 Ландшафтная архитектура | B14: =B27+B39 -> 0 | C14: =C27+C39 -> 0 | D14: =D27+D39 -> 0 | E14: =E27+E39 -> 0 | F14: =F27+F39 -> 0 | G14: =G27+G39 -> 0 | H14: =H27+H39 -> 0 | I14: =I27+I39 -> 0 | ... P14: =P27+P39 -> 0 | Q14: =E14+H14+K14+N14+B14 -> 0 | R14: =F14+I14+L14+O14+C14 -> 0 | S14: =G14+J14+M14+P14+D14 -> 0
A15: 35.03.01 Лесное дело | B15: =B28+B40 -> 15 | C15: =C28+C40 -> 1 | D15: =D28+D40 -> 16 | E15: =E28+E40 -> 10 | F15: =F28+F40 -> 0 | G15: =G28+G40 -> 10 | H15: =H28+H40 -> 13 | I15: =I28+I40 -> 3 | ... P15: =P28+P40 -> 21 | Q15: =E15+H15+K15+N15+B15 -> 63 | R15: =F15+I15+L15+O15+C15 -> 20 | S15: =G15+J15+M15+P15+D15 -> 83
A16: 19.03.02 Продукты питания из растительного сырья | B16: =B29+B41 -> 24 | C16: =C29+C41 -> 0 | D16: =D29+D41 -> 24 | E16: =E29+E41 -> 12 | F16: =F29+F41 -> 4 | G16: =G29+G41 -> 16 | H16: =H29+H41 -> 11 | I16: =I29+I41 -> 4 | ... P16: =P29+P41 -> 17 | Q16: =E16+H16+K16+N16+B16 -> 66 | R16: =F16+I16+L16+O16+C16 -> 22 | S16: =G16+J16+M16+P16+D16 -> 88
A17: 19.03.02 Продукты питания животного происхождения | B17: =B30+B42 -> 12 | C17: =C30+C42 -> 1 | D17: =D30+D42 -> 13 | E17: =E30+E42 -> 9 | F17: =F30+F42 -> 0 | G17: =G30+G42 -> 9 | H17: =H30+H42 -> 8 | I17: =I30+I42 -> 2 | ... P17: =P30+P42 -> 9 | Q17: =E17+H17+K17+N17+B17 -> 44 | R17: =F17+I17+L17+O17+C17 -> 4 | S17: =G17+J17+M17+P17+D17 -> 48
A18: 35.03.06 Агроинженерия | B18: =B31+B43 -> 27 | C18: =C31+C43 -> 2 | D18: =D31+D43 -> 29 | E18: =E31+E43 -> 27 | F18: =F31+F43 -> 4 | G18: =G31+G43 -> 31 | H18: =H31+H43 -> 22 | I18: =I31+I43 -> 17 | ... P18: =P31+P43 -> 29 | Q18: =E18+H18+K18+N18+B18 -> 114 | R18: =F18+I18+L18+O18+C18 -> 42 | S18: =G18+J18+M18+P18+D18 -> 156
A19: Итого по направлениям подготовки: | B19: =SUM(B9:B18) -> 157 | C19: =SUM(C9:C18) -> 6 | D19: =SUM(D9:D18) -> 163 | E19: =SUM(E9:E18) -> 137 | F19: =SUM(F9:F18) -> 11 | G19: =SUM(G9:G18) -> 148 | H19: =SUM(H9:H18) -> 120 | I19: =SUM(I9:I18) -> 42 | ... P19: =SUM(P9:P18) -> 156 | Q19: =E19+H19+K19+N19+B19 -> 629 | R19: =F19+I19+L19+O19+C19 -> 141 | S19: =G19+J19+M19+P19+D19 -> 770
A20: В том числе:
A21: Граждане России
A22: 35.03.04 Агрономия | B22: 20 | C22: 0 | D22: =B22+C22 -> 20 | E22: 20 | F22: 0 | G22: =E22+F22 -> 20 | H22: 14 | I22: 5 | J22: =H22+I22 -> 19 | K22: 10 | L22: 5 | M22: =K22+L22 -> 15 | N22: 20 | O22: 1 | P22: =N22+O22 -> 21 | Q22: =E22+H22+K22+N22+B22 -> 84 | R22: =F22+I22+L22+O22+C22 -> 11 | S22: =G22+J22+M22+P22+D22 -> 95
A23: 35.03.05 Садоводство | B23: 21 | C23: 2 | D23: =B23+C23 -> 23 | E23: 14 | F23: 2 | G23: =E23+F23 -> 16 | H23: 14 | I23: 2 | J23: =H23+I23 -> 16 | K23: 9 | L23: 1 | M23: =K23+L23 -> 10 | N23: 22 | O23: 4 | P23: =N23+O23 -> 26 | Q23: =E23+H23+K23+N23+B23 -> 80 | R23: =F23+I23+L23+O23+C23 -> 11 | S23: =G23+J23+M23+P23+D23 -> 91
A24: 21.03.02 Землеустройство и кадастры | B24: 21 | C24: 0 | D24: =B24+C24 -> 21 | E24: 21 | F24: 1 | G24: =E24+F24 -> 22 | H24: 20 | I24: 8 | J24: =H24+I24 -> 28 | K24: 18 | L24: 6 | M24: =K24+L24 -> 24 | N24: 14 | O24: 12 | P24: =N24+O24 -> 26 | Q24: =E24+H24+K24+N24+B24 -> 94 | R24: =F24+I24+L24+O24+C24 -> 27 | S24: =G24+J24+M24+P24+D24 -> 121
A25: 21.03.03 Геодезия и дистанцион. | B25: 14 | C25: 0 | D25: =B25+C25 -> 14 | E25: 12 | F25: 0 | G25: =E25+F25 -> 12 | H25: 9 | I25: 0 | J25: =H25+I25 -> 9 | K25: 9 | L25: 0 | M25: =K25+L25 -> 9 | N25: 5 | O25: 2 | P25: =N25+O25 -> 7 | Q25: =E25+H25+K25+N25+B25 -> 49 | R25: =F25+I25+L25+O25+C25 -> 2 | S25: =G25+J25+M25+P25+D25 -> 51
A26: 27.03.03 Системный анализ и управление | B26: 1 | C26: 0 | D26: =B26+C26 -> 1 | E26: 11 | F26: 0 | G26: =E26+F26 -> 11 | H26: 8 | I26: 0 | J26: =H26+I26 -> 8 | K26: 10 | L26: 1 | M26: =K26+L26 -> 11 | N26: 0 | O26: 0 | P26: =N26+O26 -> 0 | Q26: =E26+H26+K26+N26+B26 -> 30 | R26: =F26+I26+L26+O26+C26 -> 1 | S26: =G26+J26+M26+P26+D26 -> 31
A27: 35.03.10 Ландшафтная архитектура | B27: 0 | C27: 0 | D27: =B27+C27 -> 0 | E27: 0 | F27: 0 | G27: =E27+F27 -> 0 | H27: 0 | I27: 0 | J27: =H27+I27 -> 0 | K27: 0 | L27: 0 | M27: =K27+L27 -> 0 | N27: 0 | O27: 0 | P27: =N27+O27 -> 0 | Q27: =E27+H27+K27+N27+B27 -> 0 | R27: =F27+I27+L27+O27+C27 -> 0 | S27: =G27+J27+M27+P27+D27 -> 0
A28: 35.03.01 Лесное дело | B28: 15 | C28: 1 | D28: =B28+C28 -> 16 | E28: 10 | F28: 0 | G28: =E28+F28 -> 10 | H28: 13 | I28: 3 | J28: =H28+I28 -> 16 | K28: 12 | L28: 8 | M28: =K28+L28 -> 20 | N28: 13 | O28: 8 | P28: =N28+O28 -> 21 | Q28: =E28+H28+K28+N28+B28 -> 63 | R28: =F28+I28+L28+O28+C28 -> 20 | S28: =G28+J28+M28+P28+D28 -> 83
A29: 19.03.02 Продукты питания из растительного сырья | B29: 24 | C29: 0 | D29: =B29+C29 -> 24 | E29: 12 | F29: 4 | G29: =E29+F29 -> 16 | H29: 11 | I29: 3 | J29: =H29+I29 -> 14 | K29: 11 | L29: 5 | M29: =K29+L29 -> 16 | N29: 8 | O29: 9 | P29: =O29+N29 -> 17 | Q29: =E29+H29+K29+N29+B29 -> 66 | R29: =F29+I29+L29+O29+C29 -> 21 | S29: =G29+J29+M29+P29+D29 -> 87
A30: 21.03.02 Продукты питания животного происхождения | B30: 12 | C30: 1 | D30: =B30+C30 -> 13 | E30: 9 | F30: 0 | G30: =E30+F30 -> 9 | H30: 7 | I30: 2 | J30: =H30+I30 -> 9 | K30: 7 | L30: 0 | M30: =K30+L30 -> 7 | N30: 8 | O30: 1 | P30: =O30+N30 -> 9 | Q30: =E30+H30+K30+N30+B30 -> 43 | R30: =F30+I30+L30+O30+C30 -> 4 | S30: =G30+J30+M30+P30+D30 -> 47
A31: 35.03.06 Агроинженерия | B31: 27 | C31: 2 | D31: =B31+C31 -> 29 | E31: 27 | F31: 4 | G31: =E31+F31 -> 31 | H31: 22 | I31: 17 | J31: =H31+I31 -> 39 | K31: 22 | L31: 5 | M31: =K31+L31 -> 27 | N31: 16 | O31: 13 | P31: =O31+N31 -> 29 | Q31: =E31+H31+K31+N31+B31 -> 114 | R31: =F31+I31+L31+O31+C31 -> 41 | S31: =G31+J31+M31+P31+D31 -> 155
A32: Итого граждане России | B32: =SUM(B21:B31) -> 155 | C32: =SUM(C21:C31) -> 6 | D32: =B32+C32 -> 161 | E32: =SUM(E22:E31) -> 136 | F32: =SUM(F22:F31) -> 11 | G32: =SUM(G22:G31) -> 147 | H32: =SUM(H22:H31) -> 118 | I32: =SUM(I22:I31) -> 40 | J32: =SUM(J22:J31) -> 158 | K32: =SUM(K22:K31) -> 108 | L32: =SUM(L22:L31) -> 31 | ... P32: =SUM(P22:P31) -> 156 | Q32: =E32+H32+K32+N32+B32 -> 623 | R32: =F32+I32+L32+O32+C32 -> 138 | S32: =G32+J32+M32+P32+D32 -> 761
A33: Граждане иностранных государст(вкл.Украину)
A34: 35.03.04 Агрономия | B34: 0 | C34: 0 | D34: =B34+C34 -> 0 | E34: 0 | F34: 0 | G34: =E34+F34 -> 0 | H34: 1 | I34: 0 | J34: =H34+I34 -> 1 | K34: 0 | L34: 0 | M34: =K34+L34 -> 0 | N34: 0 | O34: 0 | P34: =N34+O34 -> 0 | Q34: =E34+H34+K34+N34+B34 -> 1 | R34: =F34+I34+L34+O34+C34 -> 0 | S34: =G34+J34+M34+P34+D34 -> 1
A35: 35.03.05 Садоводство | B35: 0 | C35: 0 | D35: =B35+C35 -> 0 | E35: 0 | F35: 0 | G35: =E35+F35 -> 0 | H35: 0 | I35: 0 | J35: =H35+I35 -> 0 | K35: 0 | L35: 0 | M35: =K35+L35 -> 0 | N35: 0 | O35: 0 | P35: =N35+O35 -> 0 | Q35: =E35+H35+K35+N35+B35 -> 0 | R35: =F35+I35+L35+O35+C35 -> 0 | S35: =G35+J35+M35+P35+D35 -> 0
A36: 21.03.02 Землеустройство и кадастры | B36: 0 | C36: 0 | D36: =B36+C36 -> 0 | E36: 1 | F36: 0 | G36: =E36+F36 -> 1 | H36: 0 | I36: 0 | J36: =H36+I36 -> 0 | K36: 0 | L36: 0 | M36: =K36+L36 -> 0 | N36: 0 | O36: 0 | P36: =N36+O36 -> 0 | Q36: =E36+H36+K36+N36+B36 -> 1 | R36: =F36+I36+L36+O36+C36 -> 0 | S36: =G36+J36+M36+P36+D36 -> 1
A37: 21.03.03 Геодезия и дистанцион. | B37: 2 | C37: 0 | D37: =B37+C37 -> 2 | E37: 0 | F37: 0 | G37: =E37+F37 -> 0 | H37: 0 | I37: 1 | J37: =H37+I37 -> 1 | K37: 1 | L37: 0 | M37: =K37+L37 -> 1 | N37: 0 | O37: 0 | P37: =N37+O37 -> 0 | Q37: =E37+H37+K37+N37+B37 -> 3 | R37: =F37+I37+L37+O37+C37 -> 1 | S37: =G37+J37+M37+P37+D37 -> 4
A38: 27.03.03 Системный анализ и управление | B38: 0 | C38: 0 | D38: =B38+C38 -> 0 | E38: 0 | F38: 0 | G38: =F38+E38 -> 0 | H38: 0 | I38: 0 | J38: =H38+I38 -> 0 | K38: 0 | L38: 0 | M38: =K38+L38 -> 0 | N38: 0 | O38: 0 | P38: =N38+O38 -> 0 | Q38: =E38+H38+K38+N38+B38 -> 0 | R38: =F38+I38+L38+O38+C38 -> 0 | S38: =G38+J38+M38+P38+D38 -> 0
A39: 35.03.10 Ландшафтная архитектура | B39: 0 | C39: 0 | D39: =B39+C39 -> 0 | E39: =G39-F39 -> 0 | F39: 0 | G39: 0 | H39: =J39-I39 -> 0 | I39: 0 | J39: 0 | K39: 0 | L39: 0 | M39: =K39+L39 -> 0 | N39: 0 | O39: 0 | P39: =N39+O39 -> 0 | Q39: =E39+H39+K39+N39+B39 -> 0 | R39: =F39+I39+L39+O39+C39 -> 0 | S39: =G39+J39+M39+P39+D39 -> 0
A40: 35.03.01 Лесное дело | B40: 0 | C40: 0 | D40: =B40+C40 -> 0 | E40: 0 | F40: 0 | G40: =+E40+F40 -> 0 | H40: 0 | I40: 0 | J40: =H40+I40 -> 0 | K40: 0 | L40: 0 | M40: =K40+L40 -> 0 | N40: 0 | O40: 0 | P40: =N40+O40 -> 0 | Q40: =E40+H40+K40+N40+B40 -> 0 | R40: =F40+I40+L40+O40+C40 -> 0 | S40: =G40+J40+M40+P40+D40 -> 0
A41: 19.03.02 Продукты питания из растительного сырья | B41: 0 | C41: 0 | D41: =B41+C41 -> 0 | E41: 0 | F41: 0 | G41: =+E41+F41 -> 0 | H41: 0 | I41: 1 | J41: =H41+I41 -> 1 | K41: 0 | L41: 0 | M41: =K41+L41 -> 0 | N41: 0 | O41: 0 | P41: =N41+O41 -> 0 | Q41: =E41+H41+K41+N41+B41 -> 0 | R41: =F41+I41+L41+O41+C41 -> 1 | S41: =G41+J41+M41+P41+D41 -> 1
A42: 21.03.02 Продукты питания животного происхождения | B42: 0 | C42: 0 | D42: =B42+C42 -> 0 | E42: 0 | F42: 0 | G42: =E42+F42 -> 0 | H42: 1 | I42: 0 | J42: =H42+I42 -> 1 | K42: 0 | L42: 0 | M42: =K42+L42 -> 0 | N42: 0 | O42: 0 | P42: =N42+O42 -> 0 | Q42: =E42+H42+K42+N42+B42 -> 1 | R42: =F42+I42+L42+O42+C42 -> 0 | S42: =G42+J42+M42+P42+D42 -> 1
...

Sheet Специалист ОФО АTA
A1: АГРОТЕХНОЛОГИЧЕСКАЯ АКАДЕМИЯ КФУ
A2: Контингент Дневной формы обучения на 1.10.2020 (специалитет)
B3: выпуск 2025 | E3: выпуск 2024 | H3: выпуск 2023 | K3: выпуск 2022 | N3: выпуск 2021 | Q3: ВСЕГО специалитет
A4: Факультет/направление подготовки | B4: 1 | E4: 2 | H4: 3 | K4: 4 | N4: 5
B5: специалисты | E5: специалисты | H5: специалисты | K5: специалисты | N5: специалисты
B6: За счет бюджетных ассигнований | C6: На основе догов.о платных образов.услугах | D6: ВСЕГО | E6: За счет бюджетных ассигнований | F6: На основе догов.о платных образов.услугах | G6: ВСЕГО | H6: За счет бюджетных ассигнований | I6: На основе догов.о платных образов.услугах | J6: ВСЕГО | K6: За счет бюджетных ассигнований | L6: На основе догов.о платных образов.услугах | M6: ВСЕГО | N6: За счет бюджетных ассигнований | O6: На основе догов.о платных образов.услугах | P6: ВСЕГО | Q6: За счет бюджетных ассигнований | R6: На основе догов.о платных образов.услугах | S6: ВСЕГО
A7: Факультет ветеринарной медицины
A8: 36.05.01 Ветеринария | B8: 88 | C8: 0 | D8: =C8+B8 -> 88 | E8: 90 | F8: 7 | G8: =F8+E8 -> 97 | H8: 78 | I8: 4 | J8: =H8+I8 -> 82 | K8: 66 | L8: 2 | M8: =K8+L8 -> 68 | N8: 68 | O8: 3 | P8: =N8+O8 -> 71 | Q8: =B8+E8+H8+K8+N8 -> 390 | R8: =I8+L8+O8+C8+F8 -> 16 | S8: =R8+Q8 -> 406
A9: Итого граждане России | B9: =B8 -> 88 | C9: =C8 -> 0 | D9: =D8 -> 88 | E9: =E8 -> 90 | F9: =F8 -> 7 | G9: =G8 -> 97 | H9: =H8 -> 78 | I9: =I8 -> 4 | ... P9: =P8 -> 71 | Q9: =H9+K9+N9+E9+B9 -> 390 | R9: =I9+L9+O9+C9+F9 -> 16 | S9: =R9+Q9 -> 406
A10: 36.05.01 Ветеринария | B10: 1 | C10: 0 | D10: =B10+C10 -> 1 | E10: 0 | F10: 0 | G10: =E10+F10 -> 0 | H10: 2 | I10: 0 | J10: =H10+I10 -> 2 | K10: 2 | L10: 0 | M10: =K10+L10 -> 2 | N10: 2 | O10: 1 | P10: =N10+O10 -> 3 | Q10: =B10+E10+H10+K10+N10 -> 7 | R10: =I10+L10+O10+F10+C10 -> 1 | S10: =R10+Q10 -> 8
A11: Итого граждане иностранных государст(вкл.Украину) | B11: =B10 -> 1 | C11: =C10 -> 0 | D11: =D10 -> 1 | E11: =E10 -> 0 | F11: =F10 -> 0 | G11: =G10 -> 0 | H11: =H10 -> 2 | I11: =I10 -> 0 | ... P11: =P10 -> 3 | Q11: =H11+K11+N11+E11+B11 -> 7 | R11: =I11+L11+O11+F11+C11 -> 1 | S11: =R11+Q11 -> 8
A12: Итого по факультету | B12: =B11+B9 -> 89 | C12: =C11+C9 -> 0 | D12: =D11+D9 -> 89 | E12: =E8+E10 -> 90 | F12: =F9+F11 -> 7 | G12: =G11+G9 -> 97 | H12: =H11+H9 -> 80 | I12: =I11+I9 -> 4 | J12: =J11+J9 -> 84 | K12: =K11+K9 -> 68 | L12: =L11+L9 -> 2 | M12: =M11+M9 -> 70 | N12: =N11+N9 -> 70 | ... P12: =P11+P9 -> 74 | Q12: =H12+K12+N12+E12+B12 -> 397 | R12: =I12+L12+O12+F12+C12 -> 17 | S12: =R12+Q12 -> 414

Sheet МАГ ОФО АTA
A1: АГРОТЕХНОЛОГИЧЕСКАЯ АКАДЕМИЯ КФУ
A2: Контингент Дневной формы обучения на 1.10.2020
A3: Факультет/направление подготовки | B3: выпуск 2022 | E3: выпуск 2021
B4: 1 | E4: 2 | H4: Итого магистров
B6: магистр | E6: магистр
B7: За счет бюджетных ассигнований | C7: На основе догов.о платных образов.услугах | D7: ВСЕГО | E7: За счет бюджетных ассигнований | F7: На основе догов.о платных образов.услугах | G7: ВСЕГО | H7: За счет бюджетных ассигнований | I7: На основе догов.о платных образов.услугах | J7: ВСЕГО
A8: Свод по направлениям подготовкии
A9: 35.04.04 Агрономия | B9: =B20+B30 -> 23 | C9: =C20+C30 -> 0 | D9: =D20+D30 -> 23 | E9: =E20+E30 -> 23 | F9: =F20+F30 -> 0 | G9: =G20+G30 -> 23 | H9: =E9+B9 -> 46 | I9: =F9+C9 -> 0 | J9: =G9+D9 -> 46
A10: 35.04.05 Садоводство | B10: =B21+B31 -> 20 | C10: =C21+C31 -> 0 | D10: =D21+D31 -> 20 | E10: =E21+E31 -> 20 | F10: =F21+F31 -> 0 | G10: =G21+G31 -> 20 | H10: =E10+B10 -> 40 | I10: =F10+C10 -> 0 | J10: =G10+D10 -> 40
A11: 21.04.02 Землеустройство и кадастры | B11: =B22+B32 -> 22 | C11: =C22+C32 -> 0 | D11: =D22+D32 -> 22 | E11: =E22+E32 -> 30 | F11: =F22+F32 -> 1 | G11: =G22+G32 -> 31 | H11: =E11+B11 -> 52 | I11: =F11+C11 -> 1 | J11: =G11+D11 -> 53
A12: 35.04.09 Ландшафтная архитектура | B12: =B23+B33 -> 0 | C12: =C23+C33 -> 0 | D12: =D23+D33 -> 0 | E12: =E23+E33 -> 0 | F12: =F23+F33 -> 0 | G12: =G23+G33 -> 0 | H12: =E12+B12 -> 0 | I12: =F12+C12 -> 0 | J12: =G12+D12 -> 0
A13: 35.04.01 Лесное дело | B13: =B24+B34 -> 10 | C13: =C24+C34 -> 0 | D13: =D24+D34 -> 10 | E13: =E24+E34 -> 9 | F13: =F24+F34 -> 0 | G13: =G24+G34 -> 9 | H13: =E13+B13 -> 19 | I13: =F13+C13 -> 0 | J13: =G13+D13 -> 19
A14: 19.04.02 Продукты питания из растительного сырья | B14: =B25+B35 -> 22 | C14: =C25+C35 -> 0 | D14: =D25+D35 -> 22 | E14: =E25+E35 -> 17 | F14: =F25+F35 -> 1 | G14: =G25+G35 -> 18 | H14: =E14+B14 -> 39 | I14: =F14+C14 -> 1 | J14: =G14+D14 -> 40
A15: 19.04.03 Продукты питания животного происхождения | B15: =B26+B36 -> 11 | C15: =C26+C36 -> 0 | D15: =D26+D36 -> 11 | E15: =E26+E36 -> 6 | F15: =F26+F36 -> 0 | G15: =G26+G36 -> 6 | H15: =E15+B15 -> 17 | I15: =F15+C15 -> 0 | J15: =G15+D15 -> 17
A16: 35.04.06 Агроинженерия | B16: =B27+B37 -> 22 | C16: =C27+C37 -> 0 | D16: =D27+D37 -> 22 | E16: =E27+E37 -> 22 | F16: =F27+F37 -> 0 | G16: =G27+G37 -> 22 | H16: =E16+B16 -> 44 | I16: =F16+C16 -> 0 | J16: =G16+D16 -> 44
A17: Итого по направлениям подготовки: | B17: =SUM(B8:B16) -> 130 | C17: =SUM(C8:C16) -> 0 | D17: =SUM(D8:D16) -> 130 | E17: =SUM(E8:E16) -> 127 | F17: =SUM(F8:F16) -> 2 | G17: =SUM(G8:G16) -> 129 | H17: =E17+B17 -> 257 | I17: =F17+C17 -> 2 | J17: =G17+D17 -> 259
A18: В том числе:
A19: Граждане России
A20: 35.04.04 Агрономия | B20: 23 | C20: 0 | D20: =C20+B20 -> 23 | E20: 23 | F20: 0 | G20: =F20+E20 -> 23 | H20: =B20+E20 -> 46 | I20: =C20+F20 -> 0 | J20: =G20+D20 -> 46
