Workbook

Sheet СВОД  итого по КФУ (4)
A2: Сводная ведомость контингента бакалавриата и магистратуры очной формы обучения КФУ имени В.И. Вернадского
A3: на 01.01.2025 года
A4: Бакалавриат и магистратура
A6: Структурное подразделение (филиал) | B6: 1 год обучения | E6: 2 год обучения | H6: 3 год обучения | K6: 4 год обучения | N6: 5 год обучения | Q6: ВСЕГО | T6: 1 год обучения | W6: 2 год обучения | Z6: ВСЕГО | AC6: ВСЕГО | AE6: Всего
Q7: БАКАЛАВРЫ | T7: МАГИСТР | W7: МАГИСТР | Z7: МАГИСТР
B8: за счет бюдж. ассиг. | C8: На основе догов. о платных образов. услугах | D8: Всего | E8: за счет бюдж. ассиг. | F8: На основе догов. о платных образов. услугах | G8: Всего | H8: за счет бюдж. ассиг. | I8: На основе догов. о платных образов. услугах | J8: Всего | K8: за счет бюдж. ассиг. | L8: На основе догов. о платных образов. услугах | M8: Всего | N8: за счет бюдж. ассиг. | O8: На основе догов. о платных образов. услугах | P8: Всего | Q8: за счет бюдж. ассиг. | R8: На основе догов. о платных образов. услугах | S8: Всего | T8: за счет бюдж. ассиг. | U8: На основе догов. о платных образов. услугах | V8: Всего | W8: за счет бюдж. ассиг. | X8: На основе догов. о платных образов. услугах | Y8: Всего | Z8: за счет бюдж. ассиг. | AA8: На основе догов. о платных образов. услугах | AB8: Всего | AC8: за счет бюдж. ассиг. | AD8: На основе догов. о платных образов. услугах | AE8: оч./о
A9: Таврическая академия | B9: 382 | C9: 196 | D9: 578 | E9: 346 | F9: 132 | G9: 478 | H9: 348 | I9: 95 | J9: 443 | K9: 307 | L9: 80 | M9: 387 | N9: 0 | O9: 0 | P9: 0 | Q9: =B9+E9+H9+K9+N9 -> 1383 | R9: =C9+F9+I9+L9+O9 -> 503 | S9: =D9+G9+J9+M9+P9 -> 1886 | T9: 172 | U9: 23 | V9: 195 | W9: 157 | X9: 44 | Y9: 201 | Z9: 329 | AA9: 67 | AB9: 396 | AC9: =Q9+Z9 -> 1712 | AD9: =R9+AA9 -> 570 | AE9: =S9+AB9 -> 2282
A10: Институт филологии | B10: 159 | C10: 25 | D10: 184 | E10: 169 | F10: 11 | G10: 180 | H10: 167 | I10: 2 | J10: 169 | K10: 138 | L10: 2 | M10: 140 | N10: 0 | O10: 0 | P10: 0 | Q10: =B10+E10+H10+K10+N10 -> 633 | R10: =C10+F10+I10+L10+O10 -> 40 | S10: =D10+G10+J10+M10+P10 -> 673 | T10: 102 | U10: 4 | V10: 106 | W10: 91 | X10: 0 | Y10: 91 | Z10: 193 | AA10: 4 | AB10: 197 | AC10: =Q10+Z10 -> 826 | AD10: =R10+AA10 -> 44 | AE10: =S10+AB10 -> 870
A11: Институт медиакоммуникаций, медиатехнологий и дизайна | B11: 64 | C11: 45 | D11: 109 | E11: 57 | F11: 45 | G11: 102 | H11: 85 | I11: 19 | J11: 104 | K11: 68 | L11: 11 | M11: 79 | N11: 0 | O11: 0 | P11: 0 | Q11: =B11+E11+H11+K11+N11 -> 274 | R11: =C11+F11+I11+L11+O11 -> 120 | S11: =D11+G11+J11+M11+P11 -> 394 | T11: 21 | U11: 2 | V11: 23 | W11: 20 | X11: 2 | Y11: 22 | Z11: 41 | AA11: 4 | AB11: 45 | AC11: =Q11+Z11 -> 315 | AD11: =R11+AA11 -> 124 | AE11: =S11+AB11 -> 439
A12: Институт биохимических технологий, экологии и фармации | B12: 152 | C12: 6 | D12: 158 | E12: 80 | F12: 2 | G12: 82 | H12: 75 | I12: 1 | J12: 76 | K12: 76 | L12: 2 | M12: 78 | N12: 0 | O12: 0 | P12: 0 | Q12: =B12+E12+H12+K12+N12 -> 383 | R12: =C12+F12+I12+L12+O12 -> 11 | S12: =D12+G12+J12+M12+P12 -> 394 | T12: 40 | U12: 3 | V12: 43 | W12: 32 | X12: 1 | Y12: 33 | Z12: 72 | AA12: 4 | AB12: 76 | AC12: =Q12+Z12 -> 455 | AD12: =R12+AA12 -> 15 | AE12: =S12+AB12 -> 470
A13: Академия строительства и архитектуры | B13: 194 | C13: 48 | D13: 242 | E13: 192 | F13: 25 | G13: 217 | H13: 164 | I13: 11 | J13: 175 | K13: 148 | L13: 7 | M13: 155 | N13: 60 | O13: 3 | P13: 63 | Q13: =B13+E13+H13+K13+N13 -> 758 | R13: =C13+F13+I13+L13+O13 -> 94 | S13: =D13+G13+J13+M13+P13 -> 852 | T13: 87 | U13: 3 | V13: 90 | W13: 127 | X13: 14 | Y13: 141 | Z13: 214 | AA13: 17 | AB13: 231 | AC13: =Q13+Z13 -> 972 | AD13: =R13+AA13 -> 111 | AE13: =S13+AB13 -> 1083
A14: Агротехнологическая академия | B14: 204 | C14: 6 | D14: 210 | E14: 211 | F14: 6 | G14: 217 | H14: 128 | I14: 2 | J14: 130 | K14: 138 | L14: 1 | M14: 139 | N14: 0 | O14: 0 | P14: 0 | Q14: =B14+E14+H14+K14+N14 -> 681 | R14: =C14+F14+I14+L14+O14 -> 15 | S14: =D14+G14+J14+M14+P14 -> 696 | T14: 96 | U14: 2 | V14: 98 | W14: 94 | X14: 4 | Y14: 98 | Z14: 190 | AA14: 6 | AB14: 196 | AC14: =Q14+Z14 -> 871 | AD14: =R14+AA14 -> 21 | AE14: =S14+AB14 -> 892
A15: Физико-технический институт | B15: 368 | C15: 47 | D15: 415 | E15: 321 | F15: 32 | G15: 353 | H15: 296 | I15: 9 | J15: 305 | K15: 265 | L15: 15 | M15: 280 | N15: 0 | O15: 0 | P15: 0 | Q15: =B15+E15+H15+K15+N15 -> 1250 | R15: =C15+F15+I15+L15+O15 -> 103 | S15: =D15+G15+J15+M15+P15 -> 1353 | T15: 105 | U15: 18 | V15: 123 | W15: 123 | X15: 10 | Y15: 133 | Z15: 228 | AA15: 28 | AB15: 256 | AC15: =Q15+Z15 -> 1478 | AD15: =R15+AA15 -> 131 | AE15: =S15+AB15 -> 1609
A16: Институт экономики и управления | B16: 227 | C16: 16 | D16: 243 | E16: 279 | F16: 21 | G16: 300 | H16: 255 | I16: 12 | J16: 267 | K16: 226 | L16: 34 | M16: 260 | N16: 0 | O16: 0 | P16: 0 | Q16: =B16+E16+H16+K16+N16 -> 987 | R16: =C16+F16+I16+L16+O16 -> 83 | S16: =D16+G16+J16+M16+P16 -> 1070 | T16: 139 | U16: 10 | V16: 149 | W16: 153 | X16: 17 | Y16: 170 | Z16: 292 | AA16: 27 | AB16: 319 | AC16: =Q16+Z16 -> 1279 | AD16: =R16+AA16 -> 110 | AE16: =S16+AB16 -> 1389
A17: Медицинская академия имени С.И.Георгиевского | B17: 72 | C17: 12 | D17: 84 | E17: 52 | F17: 7 | G17: 59 | H17: 41 | I17: 3 | J17: 44 | K17: 41 | L17: 1 | M17: 42 | N17: 0 | O17: 0 | P17: 0 | Q17: =B17+E17+H17+K17+N17 -> 206 | R17: =C17+F17+I17+L17+O17 -> 23 | S17: =D17+G17+J17+M17+P17 -> 229 | T17: 16 | U17: 0 | V17: 16 | W17: 17 | X17: 0 | Y17: 17 | Z17: 33 | AA17: 0 | AB17: 33 | AC17: =Q17+Z17 -> 239 | AD17: =R17+AA17 -> 23 | AE17: =S17+AB17 -> 262
A18: Институт педагогического образования и менеджмента (г. Армянск) | B18: 75 | C18: 4 | D18: 79 | E18: 45 | F18: 0 | G18: 45 | H18: 48 | I18: 0 | J18: 48 | K18: 17 | L18: 0 | M18: 17 | N18: 0 | O18: 0 | P18: 0 | Q18: =B18+E18+H18+K18+N18 -> 185 | R18: =C18+F18+I18+L18+O18 -> 4 | S18: =D18+G18+J18+M18+P18 -> 189 | T18: 0 | U18: 0 | V18: 0 | W18: 0 | X18: 0 | Y18: 0 | Z18: 0 | AA18: 0 | AB18: 0 | AC18: =Q18+Z18 -> 185 | AD18: =R18+AA18 -> 4 | AE18: =S18+AB18 -> 189
A19: Гуманитарно-педагогическая академия ( г. Ялта) | B19: 108 | C19: 2 | D19: 110 | E19: 114 | F19: 2 | G19: 116 | H19: 129 | I19: 0 | J19: 129 | K19: 127 | L19: 1 | M19: 128 | N19: 15 | O19: 0 | P19: 15 | Q19: =B19+E19+H19+K19+N19 -> 493 | R19: =C19+F19+I19+L19+O19 -> 5 | S19: =D19+G19+J19+M19+P19 -> 498 | T19: 21 | U19: 4 | V19: 25 | W19: 37 | X19: 1 | Y19: 38 | Z19: 58 | AA19: 5 | AB19: 63 | AC19: =Q19+Z19 -> 551 | AD19: =R19+AA19 -> 10 | AE19: =S19+AB19 -> 561
A20: Евпаторийский институт социальных наук | B20: 26 | C20: 4 | D20: 30 | E20: 18 | F20: 1 | G20: 19 | H20: 43 | I20: 1 | J20: 44 | K20: 36 | L20: 0 | M20: 36 | N20: 0 | O20: 0 | P20: 0 | Q20: =B20+E20+H20+K20+N20 -> 123 | R20: =C20+F20+I20+L20+O20 -> 6 | S20: =D20+G20+J20+M20+P20 -> 129 | T20: 31 | U20: 3 | V20: 34 | W20: 24 | X20: 2 | Y20: 26 | Z20: 55 | AA20: 5 | AB20: 60 | AC20: =Q20+Z20 -> 178 | AD20: =R20+AA20 -> 11 | AE20: =S20+AB20 -> 189
... A22: Севастопольский экономико-гуманитарный институт | B22: 24 | C22: 10 | D22: 34 | E22: 18 | F22: 4 | G22: 22 | H22: 46 | I22: 0 | J22: 46 | K22: 64 | L22: 6 | M22: 70 | N22: 0 | O22: 0 | P22: 0 | Q22: =B22+E22+H22+K22+N22 -> 152 | R22: =C22+F22+I22+L22+O22 -> 20 | S22: =D22+G22+J22+M22+P22 -> 172 | T22: 0 | U22: 0 | V22: 0 | W22: 0 | X22: 5 | Y22: 5 | Z22: 0 | AA22: 5 | AB22: 5 | AC22: =Q22+Z22 -> 152 | AD22: =R22+AA22 -> 25 | AE22: =S22+AB22 -> 177
A23: Итого по формам обучения | B23: =SUM(B9:B22) -> 2072 | C23: =SUM(C9:C22) -> 425 | D23: =SUM(D9:D22) -> 2497 | E23: =SUM(E9:E22) -> 1902 | F23: =SUM(F9:F22) -> 288 | G23: =SUM(G9:G22) -> 2190 | H23: =SUM(H9:H22) -> 1825 | I23: =SUM(I9:I22) -> 155 | ... AB23: =SUM(AB9:AB22) -> 1877 | AC23: =Q23+Z23 -> 9230 | AD23: =R23+AA23 -> 1203 | AE23: =S23+AB23 -> 10433
A24: Сводная ведомость контингента бакалавриата и магистратуры заочной формы обучения КФУ имени В.И. Вернадского
A25: на 01.01.2025 года
A26: Бакалавриат и магистратура
A27: Структурное подразделение (филиал) | B27: 1 год обучения | E27: 2 год обучения | H27: 3 год обучения | K27: 4 год обучения | N27: 5 год обучения | Q27: 6 год обучения | T27: ВСЕГО | W27: 1 год обучения | Z27: 2 год обучения | AC27: 3 год обучения | AF27: ИТОГО | AI27: ВСЕГО | AK27: Всего з/о
T28: БАКАЛАВРЫ | W28: МАГИСТР | Z28: МАГИСТР | AC28: МАГИСТР | AF28: МАГИСТР
B29: за счет бюдж. ассиг. | C29: На основе догов. о платных образов. услугах | D29: Всего | E29: за счет бюдж. ассиг. | F29: На основе догов. о платных образов. услугах | G29: Всего | H29: за счет бюдж. ассиг. | I29: На основе догов. о платных образов. услугах | J29: Всего | K29: за счет бюдж. ассиг. | L29: На основе догов. о платных образов. услугах | M29: Всего | N29: за счет бюдж. ассиг. | O29: На основе догов. о платных образов. услугах | P29: Всего | Q29: за счет бюдж. ассиг. | R29: На основе догов. о платных образов. услугах | S29: Всего | T29: за счет бюдж. ассиг. | U29: На основе догов. о платных образов. услугах | V29: Всего | W29: за счет бюдж. ассиг. | X29: На основе догов. о платных образов. услугах | Y29: Всего | Z29: за счет бюдж. ассиг. | AA29: На основе догов. о платных образов. услугах | AB29: Всего | AC29: за счет бюдж. ассиг. | AD29: На основе догов. о платных образов. услугах | AE29: Всего | AF29: за счет бюдж. ассиг. | AG29: На основе догов. о платных образов. услугах | AH29: Всего | AI29: за счет бюдж. ассиг. | AJ29: На основе догов. о платных образов. услугах
A30: Таврическая академия | B30: 19 | C30: 37 | D30: 56 | E30: 39 | F30: 17 | G30: 56 | H30: 52 | I30: 44 | J30: 96 | K30: 49 | L30: 22 | M30: 71 | N30: 23 | O30: 50 | P30: 73 | Q30: 0 | R30: 0 | S30: 0 | T30: =B30+E30+H30+K30+N30+Q30 -> 182 | U30: =C30+F30+I30+L30+O30+R30 -> 170 | V30: =D30+G30+J30+M30+P30+S30 -> 352 | W30: 15 | X30: 52 | Y30: 67 | Z30: 15 | AA30: 64 | AB30: 79 | AC30: 14 | AD30: 115 | AE30: 129 | AF30: =W30+Z30+AC30 -> 44 | AG30: =X30+AA30+AD30 -> 231 | AH30: =Y30+AB30+AE30 -> 275 | AI30: =T30+AF30 -> 226 | AJ30: =U30+AG30 -> 401 | AK30: =V30+AH30 -> 627
A31: ='Свод по ВО '!A31 -> Институт филологии | B31: 1 | C31: 0 | D31: 1 | E31: 21 | F31: 9 | G31: 30 | H31: 23 | I31: 2 | J31: 25 | K31: 30 | L31: 1 | M31: 31 | N31: 32 | O31: 2 | P31: 34 | Q31: 0 | R31: 0 | S31: 0 | T31: =B31+E31+H31+K31+N31+Q31 -> 107 | U31: =C31+F31+I31+L31+O31+R31 -> 14 | V31: =D31+G31+J31+M31+P31+S31 -> 121 | W31: 10 | X31: 0 | Y31: 10 | Z31: 14 | AA31: 0 | AB31: 14 | AC31: 12 | AD31: 0 | AE31: 12 | AF31: =W31+Z31+AC31 -> 36 | AG31: =X31+AA31+AD31 -> 0 | AH31: =Y31+AB31+AE31 -> 36 | AI31: =T31+AF31 -> 143 | AJ31: =U31+AG31 -> 14 | AK31: =V31+AH31 -> 157
A32: ='Свод по ВО '!A32 -> Институт медиакоммуникаций, медиатехнологий и дизайна | B32: 0 | C32: 0 | D32: 0 | E32: 0 | F32: 0 | G32: 0 | H32: 0 | I32: 0 | J32: 0 | K32: 0 | L32: 0 | M32: 0 | N32: 10 | O32: 12 | P32: 22 | Q32: 0 | R32: 0 | S32: 0 | T32: =B32+E32+H32+K32+N32+Q32 -> 10 | U32: =C32+F32+I32+L32+O32+R32 -> 12 | V32: =D32+G32+J32+M32+P32+S32 -> 22 | W32: 0 | X32: 0 | Y32: 0 | Z32: 0 | AA32: 0 | AB32: 0 | AC32: 0 | AD32: 0 | AE32: 0 | AF32: =W32+Z32+AC32 -> 0 | AG32: =X32+AA32+AD32 -> 0 | AH32: =Y32+AB32+AE32 -> 0 | AI32: =T32+AF32 -> 10 | AJ32: =U32+AG32 -> 12 | AK32: =V32+AH32 -> 22
A33: ='Свод по ВО '!A33 -> Институт биохимических технологий, экологии и фармации | B33: 0 | C33: 0 | D33: 0 | E33: 0 | F33: 0 | G33: 0 | H33: 0 | I33: 0 | J33: 0 | K33: 0 | L33: 0 | M33: 0 | N33: 0 | O33: 26 | P33: 26 | Q33: 0 | R33: 0 | S33: 0 | T33: =B33+E33+H33+K33+N33+Q33 -> 0 | U33: =C33+F33+I33+L33+O33+R33 -> 26 | V33: =D33+G33+J33+M33+P33+S33 -> 26 | W33: 0 | X33: 0 | Y33: 0 | Z33: 0 | AA33: 0 | AB33: 0 | AC33: 0 | AD33: 0 | AE33: 0 | AF33: =W33+Z33+AC33 -> 0 | AG33: =X33+AA33+AD33 -> 0 | AH33: =Y33+AB33+AE33 -> 0 | AI33: =T33+AF33 -> 0 | AJ33: =U33+AG33 -> 26 | AK33: =V33+AH33 -> 26
A34: ='Свод по ВО '!A34 -> Академия строительства и архитектуры | B34: 0 | C34: 0 | D34: 0 | E34: 0 | F34: 0 | G34: 0 | H34: 0 | I34: 2 | J34: 2 | K34: 0 | L34: 1 | M34: 1 | N34: 0 | O34: 44 | P34: 44 | Q34: 0 | R34: 0 | S34: 0 | T34: =B34+E34+H34+K34+N34+Q34 -> 0 | U34: =C34+F34+I34+L34+O34+R34 -> 47 | V34: =D34+G34+J34+M34+P34+S34 -> 47 | W34: 0 | X34: 68 | Y34: 68 | Z34: 0 | AA34: 49 | AB34: 49 | AC34: 0 | AD34: 46 | AE34: 46 | AF34: =W34+Z34+AC34 -> 0 | AG34: =X34+AA34+AD34 -> 163 | AH34: =Y34+AB34+AE34 -> 163 | AI34: =T34+AF34 -> 0 | AJ34: =U34+AG34 -> 210 | AK34: =V34+AH34 -> 210
A35: ='Свод по ВО '!A35 -> Агротехнологическая академия | B35: 65 | C35: 20 | D35: 85 | E35: 85 | F35: 14 | G35: 99 | H35: 108 | I35: 16 | J35: 124 | K35: 113 | L35: 15 | M35: 128 | N35: 145 | O35: 8 | P35: 153 | Q35: 0 | R35: 0 | S35: 0 | T35: =B35+E35+H35+K35+N35+Q35 -> 516 | U35: =C35+F35+I35+L35+O35+R35 -> 73 | V35: =D35+G35+J35+M35+P35+S35 -> 589 | W35: 35 | X35: 18 | Y35: 53 | Z35: 44 | AA35: 10 | AB35: 54 | AC35: 52 | AD35: 22 | AE35: 74 | AF35: =W35+Z35+AC35 -> 131 | AG35: =X35+AA35+AD35 -> 50 | AH35: =Y35+AB35+AE35 -> 181 | AI35: =T35+AF35 -> 647 | AJ35: =U35+AG35 -> 123 | AK35: =V35+AH35 -> 770
A36: ='Свод по ВО '!A36 -> Физико-технический институт | B36: 13 | C36: 4 | D36: 17 | E36: 29 | F36: 8 | G36: 37 | H36: 29 | I36: 8 | J36: 37 | K36: 14 | L36: 5 | M36: 19 | N36: 10 | O36: 16 | P36: 26 | Q36: 0 | R36: 0 | S36: 0 | T36: =B36+E36+H36+K36+N36+Q36 -> 95 | U36: =C36+F36+I36+L36+O36+R36 -> 41 | V36: =D36+G36+J36+M36+P36+S36 -> 136 | W36: 0 | X36: 8 | Y36: 8 | Z36: 0 | AA36: 1 | AB36: 1 | AC36: 0 | AD36: 1 | AE36: 1 | AF36: =W36+Z36+AC36 -> 0 | AG36: =X36+AA36+AD36 -> 10 | AH36: =Y36+AB36+AE36 -> 10 | AI36: =T36+AF36 -> 95 | AJ36: =U36+AG36 -> 51 | AK36: =V36+AH36 -> 146
A37: ='Свод по ВО '!A37 -> Институт экономики и управления | B37: 0 | C37: 0 | D37: 0 | E37: 0 | F37: 0 | G37: 0 | H37: 0 | I37: 0 | J37: 0 | K37: 0 | L37: 1 | M37: 1 | N37: 0 | O37: 64 | P37: 64 | Q37: 0 | R37: 0 | S37: 0 | T37: =B37+E37+H37+K37+N37+Q37 -> 0 | U37: =C37+F37+I37+L37+O37+R37 -> 65 | V37: =D37+G37+J37+M37+P37+S37 -> 65 | W37: 30 | X37: 29 | Y37: 59 | Z37: 26 | AA37: 26 | AB37: 52 | AC37: 28 | AD37: 53 | AE37: 81 | AF37: =W37+Z37+AC37 -> 84 | AG37: =X37+AA37+AD37 -> 108 | AH37: =Y37+AB37+AE37 -> 192 | AI37: =T37+AF37 -> 84 | AJ37: =U37+AG37 -> 173 | AK37: =V37+AH37 -> 257
A38: ='Свод по ВО '!A38 -> Медицинская академия имени С.И.Георгиевского | B38: 21 | C38: 11 | D38: 32 | E38: 19 | F38: 2 | G38: 21 | H38: 15 | I38: 5 | J38: 20 | K38: 2 | L38: 11 | M38: 13 | N38: 14 | O38: 18 | P38: 32 | Q38: 0 | R38: 0 | S38: 0 | T38: =B38+E38+H38+K38+N38+Q38 -> 71 | U38: =C38+F38+I38+L38+O38+R38 -> 47 | V38: =D38+G38+J38+M38+P38+S38 -> 118 | W38: 15 | X38: 7 | Y38: 22 | Z38: 22 | AA38: 6 | AB38: 28 | AC38: 19 | AD38: 11 | AE38: 30 | AF38: =W38+Z38+AC38 -> 56 | AG38: =X38+AA38+AD38 -> 24 | AH38: =Y38+AB38+AE38 -> 80 | AI38: =T38+AF38 -> 127 | AJ38: =U38+AG38 -> 71 | AK38: =V38+AH38 -> 198
A39: ='Свод по ВО '!A39 -> Институт педагогического образования и менеджмента (г. Армянск) | B39: 10 | C39: 17 | D39: 27 | E39: 26 | F39: 11 | G39: 37 | H39: 23 | I39: 13 | J39: 36 | K39: 24 | L39: 3 | M39: 27 | N39: 0 | O39: 18 | P39: 18 | Q39: 0 | R39: 0 | S39: 0 | T39: =B39+E39+H39+K39+N39+Q39 -> 83 | U39: =C39+F39+I39+L39+O39+R39 -> 62 | V39: =D39+G39+J39+M39+P39+S39 -> 145 | W39: 0 | X39: 10 | Y39: 10 | Z39: 0 | AA39: 0 | AB39: 0 | AC39: 0 | AD39: 0 | AE39: 0 | AF39: =W39+Z39+AC39 -> 0 | AG39: =X39+AA39+AD39 -> 10 | AH39: =Y39+AB39+AE39 -> 10 | AI39: =T39+AF39 -> 83 | AJ39: =U39+AG39 -> 72 | AK39: =V39+AH39 -> 155
A40: ='Свод по ВО '!A40 -> Гуманитарно-педагогическая академия ( г. Ялта) | B40: 20 | C40: 2 | D40: 22 | E40: 23 | F40: 1 | G40: 24 | H40: 18 | I40: 0 | J40: 18 | K40: 19 | L40: 1 | M40: 20 | N40: 5 | O40: 2 | P40: 7 | Q40: 0 | R40: 0 | S40: 0 | T40: =B40+E40+H40+K40+N40+Q40 -> 85 | U40: =C40+F40+I40+L40+O40+R40 -> 6 | V40: =D40+G40+J40+M40+P40+S40 -> 91 | W40: 0 | X40: 9 | Y40: 9 | Z40: 20 | AA40: 1 | AB40: 21 | AC40: 15 | AD40: 11 | AE40: 26 | AF40: =W40+Z40+AC40 -> 35 | AG40: =X40+AA40+AD40 -> 21 | AH40: =Y40+AB40+AE40 -> 56 | AI40: =T40+AF40 -> 120 | AJ40: =U40+AG40 -> 27 | AK40: =V40+AH40 -> 147
A41: ='Свод по ВО '!A41 -> Евпаторийский институт социальных наук | B41: 20 | C41: 1 | D41: 21 | E41: 25 | F41: 2 | G41: 27 | H41: 23 | I41: 5 | J41: 28 | K41: 13 | L41: 0 | M41: 13 | N41: 22 | O41: 0 | P41: 22 | Q41: 0 | R41: 0 | S41: 0 | T41: =B41+E41+H41+K41+N41+Q41 -> 103 | U41: =C41+F41+I41+L41+O41+R41 -> 8 | V41: =D41+G41+J41+M41+P41+S41 -> 111 | W41: 10 | X41: 1 | Y41: 11 | Z41: 13 | AA41: 0 | AB41: 13 | AC41: 23 | AD41: 1 | AE41: 24 | AF41: =W41+Z41+AC41 -> 46 | AG41: =X41+AA41+AD41 -> 2 | AH41: =Y41+AB41+AE41 -> 48 | AI41: =T41+AF41 -> 149 | AJ41: =U41+AG41 -> 10 | AK41: =V41+AH41 -> 159
A42: ='Свод по ВО '!A42 -> Севастопольский экономико-гуманитарный институт | B42: 0 | C42: 59 | D42: 59 | E42: 0 | F42: 46 | G42: 46 | H42: 0 | I42: 28 | J42: 28 | K42: 0 | L42: 44 | M42: 44 | N42: 0 | O42: 81 | P42: 81 | Q42: 0 | R42: 0 | S42: 0 | T42: =B42+E42+H42+K42+N42+Q42 -> 0 | U42: =C42+F42+I42+L42+O42+R42 -> 258 | V42: =D42+G42+J42+M42+P42+S42 -> 258 | W42: 0 | X42: 101 | Y42: 101 | Z42: 0 | AA42: 95 | AB42: 95 | AC42: 0 | AD42: 89 | AE42: 89 | AF42: =W42+Z42+AC42 -> 0 | AG42: =X42+AA42+AD42 -> 285 | AH42: =Y42+AB42+AE42 -> 285 | AI42: =T42+AF42 -> 0 | AJ42: =U42+AG42 -> 543 | AK42: =V42+AH42 -> 543
A43: ='Свод по ВО '!A43 -> Итого по формам обучения | B43: =SUM(B30:B42) -> 169 | C43: =SUM(C30:C42) -> 151 | D43: =SUM(D30:D42) -> 320 | E43: =SUM(E30:E42) -> 267 | F43: =SUM(F30:F42) -> 110 | G43: =SUM(G30:G42) -> 377 | H43: =SUM(H30:H42) -> 291 | I43: =SUM(I30:I42) -> 123 | ... AI43: =SUM(AI30:AI42) -> 1684 | AJ43: =U43+AG43 -> 1733 | AK43: =V43+AH43 -> 3417
A44: Сводная ведомость контингента специалитета очной формы обучения по состоянию на 01.01.2025 года
A45: Структурное подразделение/направление подготовки | B45: 1 год обучения | E45: 2 год обучения | H45: 3 год обучения | K45: 4 год обучения | N45: 5 год обучения | Q45: 6 год обучения | T45: Всего
T46: Специалитет
B47: за счет бюдж. ассиг. | C47: На основе догов. о платных образов. услугах | D47: Всего | E47: за счет бюдж. ассиг. | F47: На основе догов. о платных образов. услугах | G47: Всего | H47: за счет бюдж. ассиг. | I47: На основе догов. о платных образов. услугах | J47: Всего | K47: за счет бюдж. ассиг. | L47: На основе догов. о платных образов. услугах | M47: Всего | N47: за счет бюдж. ассиг. | O47: На основе догов. о платных образов. услугах | P47: Всего | Q47: за счет бюдж. ассиг. | R47: На основе догов. о платных образов. услугах | S47: Всего | T47: за счет бюдж. ассиг. | U47: На основе догов. о платных образов. услугах | V47: Всего
A48: Институт медиакоммуникаций, медиатехнологий и дизайна | B48: 14 | C48: 24 | D48: 38 | E48: 24 | F48: 9 | G48: 33 | H48: 17 | I48: 5 | J48: 22 | K48: 25 | L48: 6 | M48: 31 | N48: 24 | O48: 2 | P48: 26 | Q48: 23 | R48: 0 | S48: 23 | T48: =B48+E48+K48+H48+N48+Q48 -> 127 | U48: =C48+F48+L48+I48+O48+R48 -> 46 | V48: =D48+G48+M48+J48+P48+S48 -> 173
A49: Институт филологии | B49: 0 | C49: 7 | D49: 7 | E49: 0 | F49: 0 | G49: 0 | H49: 0 | I49: 0 | J49: 0 | K49: 0 | L49: 0 | M49: 0 | N49: 0 | O49: 0 | P49: 0 | Q49: 0 | R49: 0 | S49: 0 | T49: =B49+E49+K49+H49+N49+Q49 -> 0 | U49: =C49+F49+L49+I49+O49+R49 -> 7 | V49: =D49+G49+M49+J49+P49+S49 -> 7
A50: Физико-технический институт | B50: 18 | C50: 9 | D50: 27 | E50: 0 | F50: 0 | G50: 0 | H50: 0 | I50: 0 | J50: 0 | K50: 0 | L50: 0 | M50: 0 | N50: 0 | O50: 0 | P50: 0 | Q50: 0 | R50: 0 | S50: 0 | T50: =B50+E50+K50+H50+N50+Q50 -> 18 | U50: =C50+F50+L50+I50+O50+R50 -> 9 | V50: =D50+G50+M50+J50+P50+S50 -> 27
A51: Институт биохимических технологий, экологии и фармации | B51: 32 | C51: 12 | D51: 44 | E51: 30 | F51: 7 | G51: 37 | H51: 30 | I51: 3 | J51: 33 | K51: 27 | L51: 6 | M51: 33 | N51: 32 | O51: 13 | P51: 45 | Q51: 0 | R51: 0 | S51: 0 | T51: =B51+E51+K51+H51+N51+Q51 -> 151 | U51: =C51+F51+L51+I51+O51+R51 -> 41 | V51: =D51+G51+M51+J51+P51+S51 -> 192
A52: Медицинская академия имени С.И.Георгиевского | B52: 428 | C52: 818 | D52: 1246 | E52: 447 | F52: 480 | G52: 927 | H52: 464 | I52: 567 | J52: 1031 | K52: 417 | L52: 942 | M52: 1359 | N52: 379 | O52: 537 | P52: 916 | Q52: 378 | R52: 315 | S52: 693 | T52: =B52+E52+K52+H52+N52+Q52 -> 2513 | U52: =C52+F52+L52+I52+O52+R52 -> 3659 | V52: =D52+G52+M52+J52+P52+S52 -> 6172
A53: Гуманитарно-педагогическая академия ( г. Ялта) | B53: 31 | C53: 1 | D53: 32 | E53: 28 | F53: 0 | G53: 28 | H53: 24 | I53: 1 | J53: 25 | K53: 22 | L53: 0 | M53: 22 | N53: 19 | O53: 0 | P53: 19 | Q53: 6 | R53: 0 | S53: 6 | T53: =B53+E53+K53+H53+N53+Q53 -> 130 | U53: =C53+F53+L53+I53+O53+R53 -> 2 | V53: =D53+G53+M53+J53+P53+S53 -> 132
A54: Агротехнологическая академия | B54: 59 | C54: 2 | D54: 61 | E54: 60 | F54: 0 | G54: 60 | H54: 44 | I54: 0 | J54: 44 | K54: 55 | L54: 2 | M54: 57 | N54: 73 | O54: 1 | P54: 74 | Q54: 0 | R54: 0 | S54: 0 | T54: =B54+E54+K54+H54+N54+Q54 -> 291 | U54: =C54+F54+L54+I54+O54+R54 -> 5 | V54: =D54+G54+M54+J54+P54+S54 -> 296
A55: Итого по формам обучения | B55: =SUM(B48:B54) -> 582 | C55: =SUM(C48:C54) -> 873 | D55: =SUM(D48:D54) -> 1455 | E55: =SUM(E48:E54) -> 589 | F55: =SUM(F48:F54) -> 496 | G55: =SUM(G48:G54) -> 1085 | H55: =SUM(H48:H54) -> 579 | I55: =SUM(I48:I54) -> 576 | ... V55: =SUM(V48:V54) -> 6999
A56: Сводная ведомость контингента специалитета очно- заочной формы обучения по состоянию на 01.01.2025 года
A57: Структурное подразделение (филиал) | B57: 1 год обучения | E57: 2 год обучения | H57: 3 год обучения | K57: 4 год обучения | N57: 5 год обучения | Q57: 6 год обучения | T57: Всего
B58: за счет бюдж. ассиг. | C58: На основе догов. о платных образов. услугах | D58: Всего | E58: за счет бюдж. ассиг. | F58: На основе догов. о платных образов. услугах | G58: Всего | H58: за счет бюдж. ассиг. | I58: На основе догов. о платных образов. услугах | J58: Всего | K58: за счет бюдж. ассиг. | L58: На основе догов. о платных образов. услугах | M58: Всего | N58: за счет бюдж. ассиг. | O58: На основе догов. о платных образов. услугах | P58: Всего | Q58: за счет бюдж. ассиг. | R58: На основе догов. о платных образов. услугах | S58: Всего | T58: за счет бюдж. ассиг. | U58: за счет договоров об оказан образов. услуг | V58: Всего
A59: Институт педагогического образования и менеджмента (г. Армянск) | B59: 0 | C59: 17 | D59: 17 | E59: 0 | F59: 15 | G59: 15 | H59: 0 | I59: 0 | J59: 0 | K59: 0 | L59: 0 | M59: 0 | N59: 0 | O59: 0 | P59: 0 | Q59: 0 | R59: 0 | S59: 0 | T59: =B59+E59+K59+H59+N59+Q59 -> 0 | U59: =C59+F59+L59+I59+O59+R59 -> 32 | V59: =D59+G59+M59+J59+P59+S59 -> 32
A60: Итого по формам обучения | B60: =SUM(B59:B59) -> 0 | C60: =SUM(C59:C59) -> 17 | D60: =SUM(D59:D59) -> 17 | E60: =SUM(E59:E59) -> 0 | F60: =SUM(F59:F59) -> 15 | G60: =SUM(G59:G59) -> 15 | H60: =SUM(H59:H59) -> 0 | I60: =SUM(I59:I59) -> 0 | ... P60: =SUM(P59:P59) -> 0 | Q60: 0 | R60: 0 | S60: 0 | T60: =SUM(T59:T59) -> 0 | U60: =SUM(U59:U59) -> 32 | V60: =SUM(V59:V59) -> 32
A61: Сводная ведомость контингента специалитета заочной формы обучения по состоянию на 01.01.2025 года
A62: Структурное подразделение (филиал) | B62: 1 год обучения | E62: 2 год обучения | H62: 3 год обучения | K62: 4 год обучения | N62: 5 год обучения | Q62: 6 год обучения | T62: Всего
B63: за счет бюдж. ассиг. | C63: На основе догов. о платных образов. услугах | D63: Всего | E63: за счет бюдж. ассиг. | F63: На основе догов. о платных образов. услугах | G63: Всего | H63: за счет бюдж. ассиг. | I63: На основе догов. о платных образов. услугах | J63: Всего | K63: за счет бюдж. ассиг. | L63: На основе догов. о платных образов. услугах | M63: Всего | N63: за счет бюдж. ассиг. | O63: На основе догов. о платных образов. услугах | P63: Всего | Q63: за счет бюдж. ассиг. | R63: На основе догов. о платных образов. услугах | S63: Всего | T63: за счет бюдж. ассиг. | U63: за счет договоров об оказан образов. услуг | V63: Всего
A64: Агротехнологическая академия | B64: 0 | C64: 30 | D64: 30 | E64: 0 | F64: 0 | G64: 0 | H64: 0 | I64: 0 | J64: 0 | K64: 0 | L64: 0 | M64: 0 | N64: 0 | O64: 0 | P64: 0 | Q64: 0 | R64: 0 | S64: 0 | T64: =B64+E64+K64+H64+N64+Q64 -> 0 | U64: =C64+F64+L64+I64+O64+R64 -> 30 | V64: =D64+G64+M64+J64+P64+S64 -> 30
A65: Итого по формам обучения | B65: =SUM(B64:B64) -> 0 | C65: =SUM(C64:C64) -> 30 | D65: =SUM(D64:D64) -> 30 | E65: =SUM(E64:E64) -> 0 | F65: =SUM(F64:F64) -> 0 | G65: =SUM(G64:G64) -> 0 | H65: =SUM(H64:H64) -> 0 | I65: =SUM(I64:I64) -> 0 | ... P65: =SUM(P64:P64) -> 0 | Q65: 0 | R65: 0 | S65: 0 | T65: =SUM(T64:T64) -> 0 | U65: =SUM(U64:U64) -> 30 | V65: =SUM(V64:V64) -> 30
A66: Сводная ведомость контингента бакалавриата и магистратуры очно-заочной формы обучения на 01.01.2025 года
A67: Структурное подразделение (филиал) | B67: 1 год обучения | E67: 2 год обучения | H67: 3 год обучения | K67: 4 год обучения | N67: 5 год обучения | Q67: Всего бакалавры | T67: 1 год обучения | W67: 2 год обучения | Z67: 3 год обучения | AC67: Всего
T68: МАГИСТР | W68: МАГИСТР | Z68: МАГИСТР
B69: за счет бюдж. ассиг. | C69: На основе догов. о платных образов. услугах | D69: Всего | E69: за счет бюдж. ассиг. | F69: На основе догов. о платных образов. услугах | G69: Всего | H69: за счет бюдж. ассиг. | I69: На основе догов. о платных образов. услугах | J69: Всего | K69: за счет бюдж. ассиг. | L69: На основе догов. о платных образов. услугах | M69: Всего | N69: за счет бюдж. ассиг. | O69: На основе догов. о платных образов. услугах | P69: Всего | Q69: за счет бюдж. ассиг. | R69: На основе догов. о платных образов. услугах | S69: Всего | T69: за счет бюдж. ассиг. | U69: за счет договоров об оказан образов. услуг | V69: Всего | W69: за счет бюдж. ассиг. | X69: за счет договоров об оказан образов. услуг | Y69: Всего | Z69: за счет бюдж. ассиг. | AA69: за счет договоров об оказан образов. услуг | AB69: Всего | AC69: за счет бюдж. ассиг. | AD69: за счет договоров об оказан образов. услуг | AE69: Всего
A70: Таврическая академия | B70: 0 | C70: 37 | D70: 37 | E70: 0 | F70: 12 | G70: 12 | H70: 1 | I70: 28 | J70: 29 | K70: 11 | L70: 25 | M70: 36 | N70: 14 | O70: 15 | P70: 29 | Q70: =B70+E70+H70+K70+N70 -> 26 | R70: =C70+F70+I70+L70+O70 -> 117 | S70: =D70+G70+J70+M70+P70 -> 143 | T70: 0 | U70: 44 | V70: 44 | W70: 0 | X70: 37 | Y70: 37 | Z70: 0 | AA70: 0 | AB70: 0 | AC70: =Q70+T70+W70+Z70 -> 26 | AD70: =R70+U70+X70+AA70 -> 198 | AE70: =S70+V70+Y70+AB70 -> 224
A71: Институт медиакоммуникаций, медиатехнологий и дизайна | B71: 0 | C71: 0 | D71: 0 | E71: 0 | F71: 0 | G71: 0 | H71: 0 | I71: 0 | J71: 0 | K71: 0 | L71: 0 | M71: 0 | N71: 0 | O71: 0 | P71: 0 | Q71: =B71+E71+H71+K71+N71 -> 0 | R71: =C71+F71+I71+L71+O71 -> 0 | S71: =D71+G71+J71+M71+P71 -> 0 | T71: 0 | U71: 0 | V71: 0 | W71: 0 | X71: 0 | Y71: 0 | Z71: 0 | AA71: 3 | AB71: 3 | AC71: =Q71+T71+W71+Z71 -> 0 | AD71: =R71+U71+X71+AA71 -> 3 | AE71: =S71+V71+Y71+AB71 -> 3
A72: Институт биохимических технологий, экологии и фармации | B72: 0 | C72: 0 | D72: 0 | E72: 0 | F72: 0 | G72: 0 | H72: 0 | I72: 0 | J72: 0 | K72: 0 | L72: 0 | M72: 0 | N72: 0 | O72: 0 | P72: 0 | Q72: =B72+E72+H72+K72+N72 -> 0 | R72: =C72+F72+I72+L72+O72 -> 0 | S72: =D72+G72+J72+M72+P72 -> 0 | T72: 0 | U72: 15 | V72: 15 | W72: 0 | X72: 10 | Y72: 10 | Z72: 0 | AA72: 1 | AB72: 1 | AC72: =Q72+T72+W72+Z72 -> 0 | AD72: =R72+U72+X72+AA72 -> 26 | AE72: =S72+V72+Y72+AB72 -> 26
A73: Академия строительства и архитектуры | B73: 0 | C73: 15 | D73: 15 | E73: 0 | F73: 35 | G73: 35 | H73: 0 | I73: 15 | J73: 15 | K73: 0 | L73: 0 | M73: 0 | N73: 0 | O73: 0 | P73: 0 | Q73: =B73+E73+H73+K73+N73 -> 0 | R73: =C73+F73+I73+L73+O73 -> 65 | S73: =D73+G73+J73+M73+P73 -> 65 | T73: 0 | U73: 0 | V73: 0 | W73: 0 | X73: 0 | Y73: 0 | Z73: 0 | AA73: 0 | AB73: 0 | AC73: =Q73+T73+W73+Z73 -> 0 | AD73: =R73+U73+X73+AA73 -> 65 | AE73: =S73+V73+Y73+AB73 -> 65
A74: Институт экономики и управления | B74: 0 | C74: 0 | D74: 0 | E74: 0 | F74: 0 | G74: 0 | H74: 0 | I74: 6 | J74: 6 | K74: 0 | L74: 9 | M74: 9 | N74: 0 | O74: 0 | P74: 0 | Q74: =B74+E74+H74+K74+N74 -> 0 | R74: =C74+F74+I74+L74+O74 -> 15 | S74: =D74+G74+J74+M74+P74 -> 15 | T74: 0 | U74: 0 | V74: 0 | W74: 0 | X74: 0 | Y74: 0 | Z74: 0 | AA74: 0 | AB74: 0 | AC74: =Q74+T74+W74+Z74 -> 0 | AD74: =R74+U74+X74+AA74 -> 15 | AE74: =S74+V74+Y74+AB74 -> 15
A75: Институт педагогического образования и менеджмента (г. Армянск) | B75: 0 | C75: 25 | D75: 25 | E75: 0 | F75: 28 | G75: 28 | H75: 0 | I75: 12 | J75: 12 | K75: 0 | L75: 12 | M75: 12 | N75: 0 | O75: 0 | P75: 0 | Q75: =B75+E75+H75+K75+N75 -> 0 | R75: =C75+F75+I75+L75+O75 -> 77 | S75: =D75+G75+J75+M75+P75 -> 77 | T75: 0 | U75: 22 | V75: 22 | W75: 0 | X75: 16 | Y75: 16 | Z75: 0 | AA75: 0 | AB75: 0 | AC75: =Q75+T75+W75+Z75 -> 0 | AD75: =R75+U75+X75+AA75 -> 115 | AE75: =S75+V75+Y75+AB75 -> 115
A76: Севастопольский экономико-гуманитарный институт | B76: 0 | C76: 52 | D76: 52 | E76: 0 | F76: 51 | G76: 51 | H76: 0 | I76: 60 | J76: 60 | K76: 0 | L76: 38 | M76: 38 | N76: 0 | O76: 0 | P76: 0 | Q76: =B76+E76+H76+K76+N76 -> 0 | R76: =C76+F76+I76+L76+O76 -> 201 | S76: =D76+G76+J76+M76+P76 -> 201 | T76: 0 | U76: 16 | V76: 16 | W76: 0 | X76: 7 | Y76: 7 | Z76: 0 | AA76: 1 | AB76: 1 | AC76: =Q76+T76+W76+Z76 -> 0 | AD76: =R76+U76+X76+AA76 -> 225 | AE76: =S76+V76+Y76+AB76 -> 225
A77: Гуманитарно-педагогическая академия ( г. Ялта) | B77: 0 | C77: 52 | D77: 52 | E77: 0 | F77: 31 | G77: 31 | H77: 0 | I77: 22 | J77: 22 | K77: 0 | L77: 0 | M77: 0 | N77: 0 | O77: 0 | P77: 0 | Q77: =B77+E77+H77+K77+N77 -> 0 | R77: =C77+F77+I77+L77+O77 -> 105 | S77: =D77+G77+J77+M77+P77 -> 105 | T77: 0 | U77: 41 | V77: 41 | W77: 0 | X77: 41 | Y77: 41 | Z77: 0 | AA77: 0 | AB77: 0 | AC77: =Q77+T77+W77+Z77 -> 0 | AD77: =R77+U77+X77+AA77 -> 187 | AE77: =S77+V77+Y77+AB77 -> 187
A78: Итого по формам обучения | B78: =SUM(B70:B77) -> 0 | C78: =SUM(C70:C77) -> 181 | D78: =SUM(D70:D77) -> 181 | E78: =SUM(E70:E77) -> 0 | F78: =SUM(F70:F77) -> 157 | G78: =SUM(G70:G77) -> 157 | H78: =SUM(H70:H77) -> 1 | I78: =SUM(I70:I77) -> 143 | ... AE78: =SUM(AE70:AE77) -> 860
A80: Итого очная форма обучения | B80: =AC23+T55 -> 12460 | C80: =AD23+U55 -> 4972 | D80: =AE23+V55 -> 17432
A81: Итого заочная формы обучения: | B81: =AI43+T65 -> 1684 | C81: =AJ43+U65 -> 1763 | D81: =AK43+V65 -> 3447
A82: Итого очно- заочная формы обучения: | B82: =T60+AC78 -> 26 | C82: =U60+AD78 -> 866 | D82: =V60+AE78 -> 892
A83: ИТОГО ВО | B83: =SUM(B80:B82) -> 14170 | C83: =SUM(C80:C82) -> 7601 | D83: =SUM(D80:D82) -> 21771
A84: Контингент аспирантуры ОФО по состоянию на 01.01.2025 г.
A86: Факультет/направление подготовки | B86: 1 год обучения | E86: 2 год обучения | H86: 3 год обучения | K86: 4 год обучения | N86: Всего аспирантура
B87: за счет бюдж. ассиг. | C87: за счет договоров об оказан образов. услуг | D87: Всего | E87: за счет бюдж. ассиг. | F87: за счет договоров об оказан образов. услуг | G87: Всего | H87: за счет бюдж. ассиг. | I87: за счет договоров об оказан образов. услуг | J87: Всего | K87: за счет бюдж. ассиг. | L87: за счет договоров об оказан образов. услуг | M87: Всего | N87: за счет бюдж. ассиг. | O87: за счет договоров об оказан образов. услуг | P87: Всего
A88: Таврическая академия | B88: 2 | C88: 35 | D88: 37 | E88: 6 | F88: 43 | G88: 49 | H88: 14 | I88: 33 | J88: 47 | K88: 0 | L88: 0 | M88: 0 | N88: =B88+E88+H88+K88 -> 22 | O88: =C88+F88+I88+L88 -> 111 | P88: =D88+G88+J88+M88 -> 133 | AL88: n
A89: Институт филологии | B89: 0 | C89: 0 | D89: 0 | E89: 4 | F89: 0 | G89: 4 | H89: 2 | I89: 2 | J89: 4 | K89: 0 | L89: 0 | M89: 0 | N89: =B89+E89+H89+K89 -> 6 | O89: =C89+F89+I89+L89 -> 2 | P89: =D89+G89+J89+M89 -> 8
A90: Институт медиакоммуникаций, медиатехнологий и дизайна | B90: 1 | C90: 5 | D90: 6 | E90: 2 | F90: 0 | G90: 2 | H90: 2 | I90: 0 | J90: 2 | K90: 0 | L90: 0 | M90: 0 | N90: =B90+E90+H90+K90 -> 5 | O90: =C90+F90+I90+L90 -> 5 | P90: =D90+G90+J90+M90 -> 10
A91: Институт биотехнических технологий, экологии и фармации | B91: 7 | C91: 2 | D91: 9 | E91: 8 | F91: 4 | G91: 12 | H91: 2 | I91: 0 | J91: 2 | K91: 1 | L91: 0 | M91: 1 | N91: =B91+E91+H91+K91 -> 18 | O91: =C91+F91+I91+L91 -> 6 | P91: =D91+G91+J91+M91 -> 24
A92: Академия строительства и архитектуры | B92: 2 | C92: 6 | D92: 8 | E92: 4 | F92: 13 | G92: 17 | H92: 3 | I92: 5 | J92: 8 | K92: 8 | L92: 0 | M92: 8 | N92: =B92+E92+H92+K92 -> 17 | O92: =C92+F92+I92+L92 -> 24 | P92: =D92+G92+J92+M92 -> 41
A93: Агротехнологическая академия | B93: 4 | C93: 5 | D93: 9 | E93: 2 | F93: 3 | G93: 5 | H93: 3 | I93: 1 | J93: 4 | K93: 2 | L93: 0 | M93: 2 | N93: =B93+E93+H93+K93 -> 11 | O93: =C93+F93+I93+L93 -> 9 | P93: =D93+G93+J93+M93 -> 20
A94: Физико-технический институт | B94: 6 | C94: 10 | D94: 16 | E94: 10 | F94: 9 | G94: 19 | H94: 12 | I94: 5 | J94: 17 | K94: 10 | L94: 0 | M94: 10 | N94: =B94+E94+H94+K94 -> 38 | O94: =C94+F94+I94+L94 -> 24 | P94: =D94+G94+J94+M94 -> 62
A95: Институт экономики и управления | B95: 3 | C95: 15 | D95: 18 | E95: 5 | F95: 28 | G95: 33 | H95: 8 | I95: 16 | J95: 24 | K95: 0 | L95: 0 | M95: 0 | N95: =B95+E95+H95+K95 -> 16 | O95: =C95+F95+I95+L95 -> 59 | P95: =D95+G95+J95+M95 -> 75
A96: Медицинская академия имени С.И.Георгиевского | B96: 7 | C96: 4 | D96: 11 | E96: 11 | F96: 0 | G96: 11 | H96: 8 | I96: 0 | J96: 8 | K96: 0 | L96: 0 | M96: 0 | N96: =B96+E96+H96+K96 -> 26 | O96: =C96+F96+I96+L96 -> 4 | P96: =D96+G96+J96+M96 -> 30
A97: Гуманитарно-педагогическая академия (г. Ялта) | B97: 3 | C97: 9 | D97: 12 | E97: 6 | F97: 1 | G97: 7 | H97: 7 | I97: 0 | J97: 7 | K97: 0 | L97: 0 | M97: 0 | N97: =B97+E97+H97+K97 -> 16 | O97: =C97+F97+I97+L97 -> 10 | P97: =D97+G97+J97+M97 -> 26
A98: Итого аспирантура | B98: =SUM(B88:B97) -> 35 | C98: =SUM(C88:C97) -> 91 | D98: =SUM(D88:D97) -> 126 | E98: =SUM(E88:E97) -> 58 | F98: =SUM(F88:F97) -> 101 | G98: =SUM(G88:G97) -> 159 | H98: =SUM(H88:H97) -> 61 | I98: =SUM(I88:I97) -> 62 | ... P98: =SUM(P88:P97) -> 429
A99: Контингент Аспирантуры ЗФО по состоянию на 01.01.2025 г.
A101: Факультет/направление подготовки | B101: 1 год обучения | E101: 2 год обучения | H101: 3 год обучения | K101: 4 год обучения | N101: 5 год обучения | Q101: Всего аспирантура
B102: за счет бюдж. ассиг. | C102: за счет договоров об оказан образов. услуг | D102: Всего | E102: за счет бюдж. ассиг. | F102: за счет договоров об оказан образов. услуг | G102: Всего | H102: за счет бюдж. ассиг. | I102: за счет договоров об оказан образов. услуг | J102: Всего | K102: за счет бюдж. ассиг. | L102: за счет договоров об оказан образов. услуг | M102: Всего | N102: за счет бюдж. ассиг. | O102: за счет договоров об оказан образов. услуг | P102: Всего | Q102: за счет бюдж. ассиг. | R102: за счет договоров об оказан образов. услуг | S102: Всего
A103: Таврическая академия | B103: 0 | C103: 0 | D103: 0 | E103: 0 | F103: 0 | G103: 0 | H103: 0 | I103: 0 | J103: 0 | K103: 0 | L103: 3 | M103: 3 | N103: 0 | O103: 0 | P103: 0 | Q103: =B103+E103+H103+K103+N103 -> 0 | R103: =C103+F103+I103+L103+O103 -> 3 | S103: =D103+G103+J103+M103+P103 -> 3
A104: Институт биотехнических технологий, экологии и фармации | B104: 0 | C104: 0 | D104: 0 | E104: 0 | F104: 0 | G104: 0 | H104: 0 | I104: 0 | J104: 0 | K104: 0 | L104: 0 | M104: 0 | N104: 0 | O104: 1 | P104: 1 | Q104: =B104+E104+H104+K104+N104 -> 0 | R104: =C104+F104+I104+L104+O104 -> 1 | S104: =D104+G104+J104+M104+P104 -> 1
A105: Институт экономики и управления | B105: 0 | C105: 0 | D105: 0 | E105: 0 | F105: 0 | G105: 0 | H105: 0 | I105: 0 | J105: 0 | K105: 0 | L105: 1 | M105: 1 | N105: 0 | O105: 0 | P105: 0 | Q105: =B105+E105+H105+K105+N105 -> 0 | R105: =C105+F105+I105+L105+O105 -> 1 | S105: =D105+G105+J105+M105+P105 -> 1
A106: Гуманитарно-педагогическая академия ( г. Ялта) | B106: 0 | C106: 0 | D106: 0 | E106: 0 | F106: 1 | G106: 1 | H106: 0 | I106: 0 | J106: 0 | K106: 0 | L106: 0 | M106: 0 | N106: 0 | O106: 0 | P106: 0 | Q106: =B106+E106+H106+K106+N106 -> 0 | R106: =C106+F106+I106+L106+O106 -> 1 | S106: =D106+G106+J106+M106+P106 -> 1
...
