Workbook

Sheet СВОД  итого по КФУ (4)
A2: Сводная ведомость контингента бакалавриата и магистратуры очной формы обучения КФУ имени В.И. Вернадского
A3: на 01.01.2025 года
A4: Бакалавриат и магистратура
A6: Структурное подразделение (филиал) | B6: 1 год обучения | E6: 2 год обучения | H6: 3 год обучения | K6: 4 год обучения | N6: 5 год обучения | Q6: ВСЕГО | T6: 1 год обучения | W6: 2 год обучения | Z6: ВСЕГО | AC6: ВСЕГО | AE6: Всего
Q7: БАКАЛАВРЫ | T7: МАГИСТР | W7: МАГИСТР | Z7: МАГИСТР
B8: за счет бюдж. ассиг. | C8: На основе догов. о платных образов. услугах | D8: Всего | E8: за счет бюдж. ассиг. | F8: На основе догов. о платных образов. услугах | G8: Всего | H8: за счет бюдж. ассиг. | I8: На основе догов. о платных образов. услугах | J8: Всего | K8: за счет бюдж. ассиг. | L8: На основе догов. о платных образов. услугах | M8: Всего | N8: за счет бюдж. ассиг. | O8: На основе догов. о платных образов. услугах | P8: Всего | Q8: за счет бюдж. ассиг. | R8: На основе догов. о платных образов. услугах | S8: Всего | T8: за счет бюдж. ассиг. | U8: На основе догов. о платных образов. услугах | V8: Всего | W8: за счет бюдж. ассиг. | X8: На основе догов. о платных образов. услугах | Y8: Всего | Z8: за счет бюдж. ассиг. | AA8: На основе догов. о платных образов. услугах | AB8: Всего | AC8: за счет бюдж. ассиг. | AD8: На основе догов. о платных образов. услугах | AE8: оч./о
A9: Таврическая академия | B9: 382 | C9: 196 | D9: 578 | E9: 346 | F9: 132 | G9: 478 | H9: 348 | I9: 95 | J9: 443 | K9: 307 | L9: 80 | M9: 387 | N9: 0 | O9: 0 | P9: 0 | Q9: =B9+E9+H9+K9+N9 -> 1383 | R9: =C9+F9+I9+L9+O9 -> 503 | S9: =D9+G9+J9+M9+P9 -> 1886 | T9: 172 | U9: 23 | V9: 195 | W9: 157 | X9: 44 | Y9: 201 | Z9: 329 | AA9: 67 | AB9: 396 | AC9: =Q9+Z9 -> 1712 | AD9: =R9+AA9 -> 570 | AE9: =S9+AB9 -> 2282
A10: Институт филологии | B10: 159 | C10: 25 | D10: 184 | E10: 169 | F10: 11 | G10: 180 | H10: 167 | I10: 2 | J10: 169 | K10: 138 | L10: 2 | M10: 140 | N10: 0 | O10: 0 | P10: 0 | Q10: =B10+E10+H10+K10+N10 -> 633 | R10: =C10+F10+I10+L10+O10 -> 40 | S10: =D10+G10+J10+M10+P10 -> 673 | T10: 102 | U10: 4 | V10: 106 | W10: 91 | X10: 0 | Y10: 91 | Z10: 193 | AA10: 4 | AB10: 197 | AC10: =Q10+Z10 -> 826 | AD10: =R10+AA10 -> 44 | AE10: =S10+AB10 -> 870
A11: Институт медиакоммуникаций, медиатехнологий и дизайна | B11: 64 | C11: 45 | D11: 109 | E11: 57 | F11: 45 | G11: 102 | H11: 85 | I11: 19 | J11: 104 | K11: 68 | L11: 11 | M11: 79 | N11: 0 | O11: 0 | P11: 0 | Q11: =B11+E11+H11+K11+N11 -> 274 | R11: =C11+F11+I11+L11+O11 -> 120 | S11: =D11+G11+J11+M11+P11 -> 394 | T11: 21 | U11: 2 | V11: 23 | W11: 20 | X11: 2 | Y11: 22 | Z11: 41 | AA11: 4 | AB11: 45 | AC11: =Q11+Z11 -> 315 | AD11: =R11+AA11 -> 124 | AE11: =S11+AB11 -> 439
A12: Институт биохимических технологий, экологии и фармации | B12: 152 | C12: 6 | D12: 158 | E12: 80 | F12: 2 | G12: 82 | H12: 75 | I12: 1 | J12: 76 | K12: 76 | L12: 2 | M12: 78 | N12: 0 | O12: 0 | P12: 0 | Q12: =B12+E12+H12+K12+N12 -> 383 | R12: =C12+F12+I12+L12+O12 -> 11 | S12: =D12+G12+J12+M12+P12 -> 394 | T12: 40 | U12: 3 | V12: 43 | W12: 32 | X12: 1 | Y12: 33 | Z12: 72 | AA12: 4 | AB12: 76 | AC12: =Q12+Z12 -> 455 | AD12: =R12+AA12 -> 15 | AE12: =S12+AB12 -> 470
A13: Академия строительства и архитектуры | B13: 194 | C13: 48 | D13: 242 | E13: 192 | F13: 25 | G13: 217 | H13: 164 | I13: 11 | J13: 175 | K13: 148 | L13: 7 | M13: 155 | N13: 60 | O13: 3 | P13: 63 | Q13: =B13+E13+H13+K13+N13 -> 758 | R13: =C13+F13+I13+L13+O13 -> 94 | S13: =D13+G13+J13+M13+P13 -> 852 | T13: 87 | U13: 3 | V13: 90 | W13: 127 | X13: 14 | Y13: 141 | Z13: 214 | AA13: 17 | AB13: 231 | AC13: =Q13+Z13 -> 972 | AD13: =R13+AA13 -> 111 | AE13: =S13+AB13 -> 1083
A14: Агротехнологическая академия | B14: 204 | C14: 6 | D14: 210 | E14: 211 | F14: 6 | G14: 217 | H14: 128 | I14: 2 | J14: 130 | K14: 138 | L14: 1 | M14: 139 | N14: 0 | O14: 0 | P14: 0 | Q14: =B14+E14+H14+K14+N14 -> 681 | R14: =C14+F14+I14+L14+O14 -> 15 | S14: =D14+G14+J14+M14+P14 -> 696 | T14: 96 | U14: 2 | V14: 98 | W14: 94 | X14: 4 | Y14: 98 | Z14: 190 | AA14: 6 | AB14: 196 | AC14: =Q14+Z14 -> 871 | AD14: =R14+AA14 -> 21 | AE14: =S14+AB14 -> 892
A15: Физико-технический институт | B15: 368 | C15: 47 | D15: 415 | E15: 321 | F15: 32 | G15: 353 | H15: 296 | I15: 9 | J15: 305 | K15: 265 | L15: 15 | M15: 280 | N15: 0 | O15: 0 | P15: 0 | Q15: =B15+E15+H15+K15+N15 -> 1250 | R15: =C15+F15+I15+L15+O15 -> 103 | S15: =D15+G15+J15+M15+P15 -> 1353 | T15: 105 | U15: 18 | V15: 123 | W15: 123 | X15: 10 | Y15: 133 | Z15: 228 | AA15: 28 | AB15: 256 | AC15: =Q15+Z15 -> 1478 | AD15: =R15+AA15 -> 131 | AE15: =S15+AB15 -> 1609
A16: Институт экономики и управления | B16: 227 | C16: 16 | D16: 243 | E16: 279 | F16: 21 | G16: 300 | H16: 255 | I16: 12 | J16: 267 | K16: 226 | L16: 34 | M16: 260 | N16: 0 | O16: 0 | P16: 0 | Q16: =B16+E16+H16+K16+N16 -> 987 | R16: =C16+F16+I16+L16+O16 -> 83 | S16: =D16+G16+J16+M16+P16 -> 1070 | T16: 139 | U16: 10 | V16: 149 | W16: 153 | X16: 17 | Y16: 170 | Z16: 292 | AA16: 27 | AB16: 319 | AC16: =Q16+Z16 -> 1279 | AD16: =R16+AA16 -> 110 | AE16: =S16+AB16 -> 1389
A17: Медицинская академия имени С.И.Георгиевского | B17: 72 | C17: 12 | D17: 84 | E17: 52 | F17: 7 | G17: 59 | H17: 41 | I17: 3 | J17: 44 | K17: 41 | L17: 1 | M17: 42 | N17: 0 | O17: 0 | P17: 0 | Q17: =B17+E17+H17+K17+N17 -> 206 | R17: =C17+F17+I17+L17+O17 -> 23 | S17: =D17+G17+J17+M17+P17 -> 229 | T17: 16 | U17: 0 | V17: 16 | W17: 17 | X17: 0 | Y17: 17 | Z17: 33 | AA17: 0 | AB17: 33 | AC17: =Q17+Z17 -> 239 | AD17: =R17+AA17 -> 23 | AE17: =S17+AB17 -> 262
A18: Институт педагогического образования и менеджмента (г. Армянск) | B18: 75 | C18: 4 | D18: 79 | E18: 45 | F18: 0 | G18: 45 | H18: 48 | I18: 0 | J18: 48 | K18: 17 | L18: 0 | M18: 17 | N18: 0 | O18: 0 | P18: 0 | Q18: =B18+E18+H18+K18+N18 -> 185 | R18: =C18+F18+I18+L18+O18 -> 4 | S18: =D18+G18+J18+M18+P18 -> 189 | T18: 0 | U18: 0 | V18: 0 | W18: 0 | X18: 0 | Y18: 0 | Z18: 0 | AA18: 0 | AB18: 0 | AC18: =Q18+Z18 -> 185 | AD18: =R18+AA18 -> 4 | AE18: =S18+AB18 -> 189
A19: Гуманитарно-педагогическая академия ( г. Ялта) | B19: 108 | C19: 2 | D19: 110 | E19: 114 | F19: 2 | G19: 116 | H19: 129 | I19: 0 | J19: 129 | K19: 127 | L19: 1 | M19: 128 | N19: 15 | O19: 0 | P19: 15 | Q19: =B19+E19+H19+K19+N19 -> 493 | R19: =C19+F19+I19+L19+O19 -> 5 | S19: =D19+G19+J19+M19+P19 -> 498 | T19: 21 | U19: 4 | V19: 25 | W19: 37 | X19: 1 | Y19: 38 | Z19: 58 | AA19: 5 | AB19: 63 | AC19: =Q19+Z19 -> 551 | AD19: =R19+AA19 -> 10 | AE19: =S19+AB19 -> 561
A20: Евпаторийский институт социальных наук | B20: 26 | C20: 4 | D20: 30 | E20: 18 | F20: 1 | G20: 19 | H20: 43 | I20: 1 | J20: 44 | K20: 36 | L20: 0 | M20: 36 | N20: 0 | O20: 0 | P20: 0 | Q20: =B20+E20+H20+K20+N20 -> 123 | R20: =C20+F20+I20+L20+O20 -> 6 | S20: =D20+G20+J20+M20+P20 -> 129 | T20: 31 | U20: 3 | V20: 34 | W20: 24 | X20: 2 | Y20: 26 | Z20: 55 | AA20: 5 | AB20: 60 | AC20: =Q20+Z20 -> 178 | AD20: =R20+AA20 -> 11 | AE20: =S20+AB20 -> 189
... A22: Севастопольский экономико-гуманитарный институт | B22: 24 | C22: 10 | D22: 34 | E22: 18 | F22: 4 | G22: 22 | H22: 46 | I22: 0 | J22: 46 | K22: 64 | L22: 6 | M22: 70 | N22: 0 | O22: 0 | P22: 0 | Q22: =B22+E22+H22+K22+N22 -> 152 | R22: =C22+F22+I22+L22+O22 -> 20 | S22: =D22+G22+J22+M22+P22 -> 172 | T22: 0 | U22: 0 | V22: 0 | W22: 0 | X22: 5 | Y22: 5 | Z22: 0 | AA22: 5 | AB22: 5 | AC22: =Q22+Z22 -> 152 | AD22: =R22+AA22 -> 25 | AE22: =S22+AB22 -> 177
A23: Итого по формам обучения | B23: =SUM(B9:B22) -> 2072 | C23: =SUM(C9:C22) -> 425 | D23: =SUM(D9:D22) -> 2497 | E23: =SUM(E9:E22) -> 1902 | F23: =SUM(F9:F22) -> 288 | G23: =SUM(G9:G22) -> 2190 | H23: =SUM(H9:H22) -> 1825 | I23: =SUM(I9:I22) -> 155 | ... AB23: =SUM(AB9:AB22) -> 1877 | AC23: =Q23+Z23 -> 9230 | AD23: =R23+AA23 -> 1203 | AE23: =S23+AB23 -> 10433
A24: Сводная ведомость контингента бакалавриата и магистратуры заочной формы обучения КФУ имени В.И. Вернадского
A25: на 01.01.2025 года
A26: Бакалавриат и магистратура
A27: Структурное подразделение (филиал) | B27: 1 год обучения | E27: 2 год обучения | H27: 3 год обучения | K27: 4 год обучения | N27: 5 год обучения | Q27: 6 год обучения | T27: ВСЕГО | W27: 1 год обучения | Z27: 2 год обучения | AC27: 3 год обучения | AF27: ИТОГО | AI27: ВСЕГО | AK27: Всего з/о
T28: БАКАЛАВРЫ | W28: МАГИСТР | Z28: МАГИСТР | AC28: МАГИСТР | AF28: МАГИСТР
B29: за счет бюдж. ассиг. | C29: На основе догов. о платных образов. услугах | D29: Всего | E29: за счет бюдж. ассиг. | F29: На основе догов. о платных образов. услугах | G29: Всего | H29: за счет бюдж. ассиг. | I29: На основе догов. о платных образов. услугах | J29: Всего | K29: за счет бюдж. ассиг. | L29: На основе догов. о платных образов. услугах | M29: Всего | N29: за счет бюдж. ассиг. | O29: На основе догов. о платных образов. услугах | P29: Всего | Q29: за счет бюдж. ассиг. | R29: На основе догов. о платных образов. услугах | S29: Всего | T29: за счет бюдж. ассиг. | U29: На основе догов. о платных образов. услугах | V29: Всего | W29: за счет бюдж. ассиг. | X29: На основе догов. о платных образов. услугах | Y29: Всего | Z29: за счет бюдж. ассиг. | AA29: На основе догов. о платных образов. услугах | AB29: Всего | AC29: за счет бюдж. ассиг. | AD29: На основе догов. о платных образов. услугах | AE29: Всего | AF29: за счет бюдж. ассиг. | AG29: На основе догов. о платных образов. услугах | AH29: Всего | AI29: за счет бюдж. ассиг. | AJ29: На основе догов. о платных образов. услугах
A30: Таврическая академия | B30: 19 | C30: 37 | D30: 56 | E30: 39 | F30: 17 | G30: 56 | H30: 52 | I30: 44 | J30: 96 | K30: 49 | L30: 22 | M30: 71 | N30: 23 | O30: 50 | P30: 73 | Q30: 0 | R30: 0 | S30: 0 | T30: =B30+E30+H30+K30+N30+Q30 -> 182 | U30: =C30+F30+I30+L30+O30+R30 -> 170 | V30: =D30+G30+J30+M30+P30+S30 -> 352 | W30: 15 | X30: 52 | Y30: 67 | Z30: 15 | AA30: 64 | AB30: 79 | AC30: 14 | AD30: 115 | AE30: 129 | AF30: =W30+Z30+AC30 -> 44 | AG30: =X30+AA30+AD30 -> 231 | AH30: =Y30+AB30+AE30 -> 275 | AI30: =T30+AF30 -> 226 | AJ30: =U30+AG30 -> 401 | AK30: =V30+AH30 -> 627
A31: ='Свод по ВО '!A31 -> Институт филологии | B31: 1 | C31: 0 | D31: 1 | E31: 21 | F31: 9 | G31: 30 | H31: 23 | I31: 2 | J31: 25 | K31: 30 | L31: 1 | M31: 31 | N31: 32 | O31: 2 | P31: 34 | Q31: 0 | R31: 0 | S31: 0 | T31: =B31+E31+H31+K31+N31+Q31 -> 107 | U31: =C31+F31+I31+L31+O31+R31 -> 14 | V31: =D31+G31+J31+M31+P31+S31 -> 121 | W31: 10 | X31: 0 | Y31: 10 | Z31: 14 | AA31: 0 | AB31: 14 | AC31: 12 | AD31: 0 | AE31: 12 | AF31: =W31+Z31+AC31 -> 36 | AG31: =X31+AA31+AD31 -> 0 | AH31: =Y31+AB31+AE31 -> 36 | AI31: =T31+AF31 -> 143 | AJ31: =U31+AG31 -> 14 | AK31: =V31+AH31 -> 157
A32: ='Свод по ВО '!A32 -> Институт медиакоммуникаций, медиатехнологий и дизайна | B32: 0 | C32: 0 | D32: 0 | E32: 0 | F32: 0 | G32: 0 | H32: 0 | I32: 0 | J32: 0 | K32: 0 | L32: 0 | M32: 0 | N32: 10 | O32: 12 | P32: 22 | Q32: 0 | R32: 0 | S32: 0 | T32: =B32+E32+H32+K32+N32+Q32 -> 10 | U32: =C32+F32+I32+L32+O32+R32 -> 12 | V32: =D32+G32+J32+M32+P32+S32 -> 22 | W32: 0 | X32: 0 | Y32: 0 | Z32: 0 | AA32: 0 | AB32: 0 | AC32: 0 | AD32: 0 | AE32: 0 | AF32: =W32+Z32+AC32 -> 0 | AG32: =X32+AA32+AD32 -> 0 | AH32: =Y32+AB32+AE32 -> 0 | AI32: =T32+AF32 -> 10 | AJ32: =U32+AG32 -> 12 | AK32: =V32+AH32 -> 22
A33: ='Свод по ВО '!A33 -> Институт биохимических технологий, экологии и фармации | B33: 0 | C33: 0 | D33: 0 | E33: 0 | F33: 0 | G33: 0 | H33: 0 | I33: 0 | J33: 0 | K33: 0 | L33: 0 | M33: 0 | N33: 0 | O33: 26 | P33: 26 | Q33: 0 | R33: 0 | S33: 0 | T33: =B33+E33+H33+K33+N33+Q33 -> 0 | U33: =C33+F33+I33+L33+O33+R33 -> 26 | V33: =D33+G33+J33+M33+P33+S33 -> 26 | W33: 0 | X33: 0 | Y33: 0 | Z33: 0 | AA33: 0 | AB33: 0 | AC33: 0 | AD33: 0 | AE33: 0 | AF33: =W33+Z33+AC33 -> 0 | AG33: =X33+AA33+AD33 -> 0 | AH33: =Y33+AB33+AE33 -> 0 | AI33: =T33+AF33 -> 0 | AJ33: =U33+AG33 -> 26 | AK33: =V33+AH33 -> 26
A34: ='Свод по ВО '!A34 -> Академия строительства и архитектуры | B34: 0 | C34: 0 | D34: 0 | E34: 0 | F34: 0 | G34: 0 | H34: 0 | I34: 2 | J34: 2 | K34: 0 | L34: 1 | M34: 1 | N34: 0 | O34: 44 | P34: 44 | Q34: 0 | R34: 0 | S34: 0 | T34: =B34+E34+H34+K34+N34+Q34 -> 0 | U34: =C34+F34+I34+L34+O34+R34 -> 47 | V34: =D34+G34+J34+M34+P34+S34 -> 47 | W34: 0 | X34: 68 | Y34: 68 | Z34: 0 | AA34: 49 | AB34: 49 | AC34: 0 | AD34: 46 | AE34: 46 | AF34: =W34+Z34+AC34 -> 0 | AG34: =X34+AA34+AD34 -> 163 | AH34: =Y34+AB34+AE34 -> 163 | AI34: =T34+AF34 -> 0 | AJ34: =U34+AG34 -> 210 | AK34: =V34+AH34 -> 210
A35: ='Свод по ВО '!A35 -> Агротехнологическая академия | B35: 65 | C35: 20 | D35: 85 | E35: 85 | F35: 14 | G35: 99 | H35: 108 | I35: 16 | J35: 124 | K35: 113 | L35: 15 | M35: 128 | N35: 145 | O35: 8 | P35: 153 | Q35: 0 | R35: 0 | S35: 0 | T35: =B35+E35+H35+K35+N35+Q35 -> 516 | U35: =C35+F35+I35+L35+O35+R35 -> 73 | V35: =D35+G35+J35+M35+P35+S35 -> 589 | W35: 35 | X35: 18 | Y35: 53 | Z35: 44 | AA35: 10 | AB35: 54 | AC35: 52 | AD35: 22 | AE35: 74 | AF35: =W35+Z35+AC35 -> 131 | AG35: =X35+AA35+AD35 -> 50 | AH35: =Y35+AB35+AE35 -> 181 | AI35: =T35+AF35 -> 647 | AJ35: =U35+AG35 -> 123 | AK35: =V35+AH35 -> 770
A36: ='Свод по ВО '!A36 -> Физико-технический институт | B36: 13 | C36: 4 | D36: 17 | E36: 29 | F36: 8 | G36: 37 | H36: 29 | I36: 8 | J36: 37 | K36: 14 | L36: 5 | M36: 19 | N36: 10 | O36: 16 | P36: 26 | Q36: 0 | R36: 0 | S36: 0 | T36: =B36+E36+H36+K36+N36+Q36 -> 95 | U36: =C36+F36+I36+L36+O36+R36 -> 41 | V36: =D36+G36+J36+M36+P36+S36 -> 136 | W36: 0 | X36: 8 | Y36: 8 | Z36: 0 | AA36: 1 | AB36: 1 | AC36: 0 | AD36: 1 | AE36: 1 | AF36: =W36+Z36+AC36 -> 0 | AG36: =X36+AA36+AD36 -> 10 | AH36: =Y36+AB36+AE36 -> 10 | AI36: =T36+AF36 -> 95 | AJ36: =U36+AG36 -> 51 | AK36: =V36+AH36 -> 146
A37: ='Свод по ВО '!A37 -> Институт экономики и управления | B37: 0 | C37: 0 | D37: 0 | E37: 0 | F37: 0 | G37: 0 | H37: 0 | I37: 0 | J37: 0 | K37: 0 | L37: 1 | M37: 1 | N37: 0 | O37: 64 | P37: 64 | Q37: 0 | R37: 0 | S37: 0 | T37: =B37+E37+H37+K37+N37+Q37 -> 0 | U37: =C37+F37+I37+L37+O37+R37 -> 65 | V37: =D37+G37+J37+M37+P37+S37 -> 65 | W37: 30 | X37: 29 | Y37: 59 | Z37: 26 | AA37: 26 | AB37: 52 | AC37: 28 | AD37: 53 | AE37: 81 | AF37: =W37+Z37+AC37 -> 84 | AG37: =X37+AA37+AD37 -> 108 | AH37: =Y37+AB37+AE37 -> 192 | AI37: =T37+AF37 -> 84 | AJ37: =U37+AG37 -> 173 | AK37: =V37+AH37 -> 257
A38: ='Свод по ВО '!A38 -> Медицинская академия имени С.И.Георгиевского | B38: 21 | C38: 11 | D38: 32 | E38: 19 | F38: 2 | G38: 21 | H38: 15 | I38: 5 | J38: 20 | K38: 2 | L38: 11 | M38: 13 | N38: 14 | O38: 18 | P38: 32 | Q38: 0 | R38: 0 | S38: 0 | T38: =B38+E38+H38+K38+N38+Q38 -> 71 | U38: =C38+F38+I38+L38+O38+R38 -> 47 | V38: =D38+G38+J38+M38+P38+S38 -> 118 | W38: 15 | X38: 7 | Y38: 22 | Z38: 22 | AA38: 6 | AB38: 28 | AC38: 19 | AD38: 11 | AE38: 30 | AF38: =W38+Z38+AC38 -> 56 | AG38: =X38+AA38+AD38 -> 24 | AH38: =Y38+AB38+AE38 -> 80 | AI38: =T38+AF38 -> 127 | AJ38: =U38+AG38 -> 71 | AK38: =V38+AH38 -> 198
A39: ='Свод по ВО '!A39 -> Институт педагогического образования и менеджмента (г. Армянск) | B39: 10 | C39: 17 | D39: 27 | E39: 26 | F39: 11 | G39: 37 | H39: 23 | I39: 13 | J39: 36 | K39: 24 | L39: 3 | M39: 27 | N39: 0 | O39: 18 | P39: 18 | Q39: 0 | R39: 0 | S39: 0 | T39: =B39+E39+H39+K39+N39+Q39 -> 83 | U39: =C39+F39+I39+L39+O39+R39 -> 62 | V39: =D39+G39+J39+M39+P39+S39 -> 145 | W39: 0 | X39: 10 | Y39: 10 | Z39: 0 | AA39: 0 | AB39: 0 | AC39: 0 | AD39: 0 | AE39: 0 | AF39: =W39+Z39+AC39 -> 0 | AG39: =X39+AA39+AD39 -> 10 | AH39: =Y39+AB39+AE39 -> 10 | AI39: =T39+AF39 -> 83 | AJ39: =U39+AG39 -> 72 | AK39: =V39+AH39 -> 155
A40: ='Свод по ВО '!A40 -> Гуманитарно-педагогическая академия ( г. Ялта) | B40: 20 | C40: 2 | D40: 22 | E40: 23 | F40: 1 | G40: 24 | H40: 18 | I40: 0 | J40: 18 | K40: 19 | L40: 1 | M40: 20 | N40: 5 | O40: 2 | P40: 7 | Q40: 0 | R40: 0 | S40: 0 | T40: =B40+E40+H40+K40+N40+Q40 -> 85 | U40: =C40+F40+I40+L40+O40+R40 -> 6 | V40: =D40+G40+J40+M40+P40+S40 -> 91 | W40: 0 | X40: 9 | Y40: 9 | Z40: 20 | AA40: 1 | AB40: 21 | AC40: 15 | AD40: 11 | AE40: 26 | AF40: =W40+Z40+AC40 -> 35 | AG40: =X40+AA40+AD40 -> 21 | AH40: =Y40+AB40+AE40 -> 56 | AI40: =T40+AF40 -> 120 | AJ40: =U40+AG40 -> 27 | AK40: =V40+AH40 -> 147
A41: ='Свод по ВО '!A41 -> Евпаторийский институт социальных наук | B41: 20 | C41: 1 | D41: 21 | E41: 25 | F41: 2 | G41: 27 | H41: 23 | I41: 5 | J41: 28 | K41: 13 | L41: 0 | M41: 13 | N41: 22 | O41: 0 | P41: 22 | Q41: 0 | R41: 0 | S41: 0 | T41: =B41+E41+H41+K41+N41+Q41 -> 103 | U41: =C41+F41+I41+L41+O41+R41 -> 8 | V41: =D41+G41+J41+M41+P41+S41 -> 111 | W41: 10 | X41: 1 | Y41: 11 | Z41: 13 | AA41: 0 | AB41: 13 | AC41: 23 | AD41: 1 | AE41: 24 | AF41: =W41+Z41+AC41 -> 46 | AG41: =X41+AA41+AD41 -> 2 | AH41: =Y41+AB41+AE41 -> 48 | AI41: =T41+AF41 -> 149 | AJ41: =U41+AG41 -> 10 | AK41: =V41+AH41 -> 159
A42: ='Свод по ВО '!A42 -> Севастопольский экономико-гуманитарный институт | B42: 0 | C42: 59 | D42: 59 | E42: 0 | F42: 46 | G42: 46 | H42: 0 | I42: 28 | J42: 28 | K42: 0 | L42: 44 | M42: 44 | N42: 0 | O42: 81 | P42: 81 | Q42: 0 | R42: 0 | S42: 0 | T42: =B42+E42+H42+K42+N42+Q42 -> 0 | U42: =C42+F42+I42+L42+O42+R42 -> 258 | V42: =D42+G42+J42+M42+P42+S42 -> 258 | W42: 0 | X42: 101 | Y42: 101 | Z42: 0 | AA42: 95 | AB42: 95 | AC42: 0 | AD42: 89 | AE42: 89 | AF42: =W42+Z42+AC42 -> 0 | AG42: =X42+AA42+AD42 -> 285 | AH42: =Y42+AB42+AE42 -> 285 | AI42: =T42+AF42 -> 0 | AJ42: =U42+AG42 -> 543 | AK42: =V42+AH42 -> 543
A43: ='Свод по ВО '!A43 -> Итого по формам обучения | B43: =SUM(B30:B42) -> 169 | C43: =SUM(C30:C42) -> 151 | D43: =SUM(D30:D42) -> 320 | E43: =SUM(E30:E42) -> 267 | F43: =SUM(F30:F42) -> 110 | G43: =SUM(G30:G42) -> 377 | H43: =SUM(H30:H42) -> 291 | I43: =SUM(I30:I42) -> 123 | ... AI43: =SUM(AI30:AI42) -> 1684 | AJ43: =U43+AG43 -> 1733 | AK43: =V43+AH43 -> 3417
...
