Workbook

Sheet Специал ОФО МА 
A1: Медицинская академия имени С.И.Георгиевского
A2: Контингент очной формы обучения на 01.01.2025 г.
A3: Контингент очной формы обучения по состоянию на 01.01.2022 г .
B5: Факультет/направление подготовки | C5: 1 | F5: 2 | I5: 3 | L5: 4 | O5: 5 | R5: 6 | U5: Всего специалитет
C7: За счет бюджетных ассигнований | D7: На основе догов. о платных образов. услугах | E7: ВСЕГО | F7: За счет бюджетных ассигнований | G7: На основе догов. о платных образов. услугах | H7: ВСЕГО | I7: За счет бюджетных ассигнований | J7: На основе догов. о платных образов. услугах | K7: ВСЕГО | L7: За счет бюджетных ассигнований | M7: На основе догов. о платных образов. услугах | N7: ВСЕГО | O7: За счет бюджетных ассигнований | P7: На основе догов. о платных образов. услугах | Q7: ВСЕГО | R7: За счет бюджетных ассигнований | S7: На основе догов. о платных образов. услугах | T7: ВСЕГО | U7: За счет бюджетных ассигнований | V7: На основе догов. о платных образов. услугах | W7: ВСЕГО
B8: Свод по направлениям подготовки
B9: 31.05.01 Лечебное дело | C9: 305 | D9: 569 | E9: 874 | F9: 325 | G9: 329 | H9: 654 | I9: 337 | J9: 426 | K9: 763 | L9: 300 | M9: 855 | N9: 1155 | O9: 282 | P9: 425 | Q9: 707 | R9: 281 | S9: 296 | T9: 577 | U9: 1830 | V9: 2900 | W9: 4730
B10: 31.05.02 Педиатрия | C10: 100 | D10: 73 | E10: 173 | F10: 94 | G10: 22 | H10: 116 | I10: 94 | J10: 27 | K10: 121 | L10: 89 | M10: 12 | N10: 101 | O10: 71 | P10: 7 | Q10: 78 | R10: 97 | S10: 19 | T10: 116 | U10: 545 | V10: 160 | W10: 705
B11: 31.05.03 Стоматология | C11: 19 | D11: 165 | E11: 184 | F11: 28 | G11: 129 | H11: 157 | I11: 33 | J11: 114 | K11: 147 | L11: 28 | M11: 75 | N11: 103 | O11: 26 | P11: 105 | Q11: 131 | U11: 134 | V11: 588 | W11: 722
B12: 30.05.03 Медицинская биохимия | C12: 4 | D12: 11 | E12: 15 | U12: 4 | V12: 11 | W12: 15
B13: Итого по направлениям подготовки | C13: =SUM(C9:C12) -> 428 | D13: =SUM(D9:D12) -> 818 | E13: =SUM(E9:E12) -> 1246 | F13: =SUM(F9:F12) -> 447 | G13: =SUM(G9:G12) -> 480 | H13: =SUM(H9:H12) -> 927 | I13: =SUM(I9:I12) -> 464 | J13: =SUM(J9:J12) -> 567 | ... W13: =SUM(W9:W12) -> 6172
B14: В том числе:
B15: Граждане России
B16: 31.05.01 Лечебное дело | C16: 299 | D16: 96 | E16: 395 | F16: 320 | G16: 77 | H16: 397 | I16: 315 | J16: 82 | K16: 397 | L16: 295 | M16: 60 | N16: 355 | O16: 271 | P16: 44 | Q16: 315 | R16: 271 | S16: 43 | T16: 314 | U16: 1771 | V16: 402 | W16: 2173
B17: 31.05.02 Педиатрия | C17: 99 | D17: 73 | E17: 172 | F17: 94 | G17: 22 | H17: 116 | I17: 94 | J17: 27 | K17: 121 | L17: 89 | M17: 12 | N17: 101 | O17: 70 | P17: 7 | Q17: 77 | R17: 96 | S17: 19 | T17: 115 | U17: 542 | V17: 160 | W17: 702
B18: 31.05.03 Стоматология | C18: 17 | D18: 165 | E18: 182 | F18: 24 | G18: 129 | H18: 153 | I18: 29 | J18: 112 | K18: 141 | L18: 26 | M18: 74 | N18: 100 | O18: 26 | P18: 101 | Q18: 127 | U18: 122 | V18: 581 | W18: 703
B19: 30.05.01 Медицинская биохимия | C19: 4 | D19: 11 | E19: 15 | F19: 0 | G19: 0 | H19: 0 | I19: 0 | J19: 0 | K19: 0 | L19: 0 | M19: 0 | N19: 0 | O19: 0 | P19: 0 | Q19: 0 | U19: 4 | V19: 11 | W19: 15
B20: Итого граждане России | C20: =SUM(C16:C19) -> 419 | D20: =SUM(D16:D19) -> 345 | E20: =SUM(E16:E19) -> 764 | F20: =SUM(F16:F19) -> 438 | G20: =SUM(G16:G19) -> 228 | H20: =SUM(H16:H19) -> 666 | I20: =SUM(I16:I19) -> 438 | J20: =SUM(J16:J19) -> 221 | ... W20: =SUM(W16:W19) -> 3593
B21: Граждане иностранных государств (вкл. Украину)
B22: 31.05.01 Лечебное дело | C22: 6 | D22: 473 | E22: 479 | F22: 5 | G22: 252 | H22: 257 | I22: 22 | J22: 344 | K22: 366 | L22: 5 | M22: 795 | N22: 800 | O22: 11 | P22: 381 | Q22: 392 | R22: 10 | S22: 253 | T22: 263 | U22: =C22+F22+I22+L22+O22+R22 -> 59 | V22: =D22+G22+J22+M22+P22+S22 -> 2498 | W22: =E22+H22+K22+N22+Q22+T22 -> 2557
B23: 31.05.02 Педиатрия | C23: 1 | D23: 0 | E23: 1 | F23: 0 | G23: 0 | H23: 0 | I23: 0 | J23: 0 | K23: 0 | L23: 0 | M23: 0 | N23: 0 | O23: 1 | P23: 0 | Q23: 1 | R23: 1 | S23: 0 | T23: 1 | U23: =C23+F23+I23+L23+O23+R23 -> 3 | V23: =D23+G23+J23+M23+P23+S23 -> 0 | W23: =E23+H23+K23+N23+Q23+T23 -> 3
B24: 31.05.03 Стоматология | C24: 2 | D24: 0 | E24: 2 | F24: 4 | G24: 0 | H24: 4 | I24: 4 | J24: 2 | K24: 6 | L24: 2 | M24: 1 | N24: 3 | O24: 0 | P24: 4 | Q24: 4 | R24: 0 | S24: 0 | T24: 0 | U24: =C24+F24+I24+L24+O24+R24 -> 12 | V24: =D24+G24+J24+M24+P24+S24 -> 7 | W24: =E24+H24+K24+N24+Q24+T24 -> 19
B25: Итого граждане иностранных государств | C25: =SUM(C22:C24) -> 9 | D25: =SUM(D22:D24) -> 473 | E25: =SUM(E22:E24) -> 482 | F25: =SUM(F22:F24) -> 9 | G25: =SUM(G22:G24) -> 252 | H25: =SUM(H22:H24) -> 261 | I25: =SUM(I22:I24) -> 26 | J25: =SUM(J22:J24) -> 346 | ... W25: =SUM(W22:W24) -> 2579
B26: Всего: | C26: =C20+C25 -> 428 | D26: =D20+D25 -> 818 | E26: =E20+E25 -> 1246 | F26: =F20+F25 -> 447 | G26: =G20+G25 -> 480 | H26: =H20+H25 -> 927 | I26: =I20+I25 -> 464 | J26: =J20+J25 -> 567 | ... W26: =W20+W25 -> 6172

Sheet Бак ОФО МА
A1: Медицинская академия имени С.И.Георгиевского
A3: Контингент очной формы обучения на 01.01.2025 г. (Бакалавриат)
A5: Факультет/направление подготовки | B5: 1 | E5: 2 | H5: 3 | K5: 4 | N5: Всего бакалавриата
B6: За счет бюджетных ассигнований | C6: На основе догов. о платных образов. услугах | D6: ВСЕГО | E6: За счет бюджетных ассигнований | F6: На основе догов. о платных образов. услугах | G6: ВСЕГО | H6: За счет бюджетных ассигнований | I6: На основе догов. о платных образов. услугах | J6: ВСЕГО | K6: За счет бюджетных ассигнований | L6: На основе догов. о платных образов. услугах | M6: ВСЕГО | N6: За счет бюджетных ассигнований | O6: На основе догов. о платных образов. услугах | P6: ВСЕГО
A7: Свод по направлениям подготовки
A8: 49.03.01. Физическая культура | B8: =B19+B14 -> 30 | C8: =C19+C14 -> 7 | D8: =D19+D14 -> 37 | E8: 27 | F8: 2 | G8: 29 | H8: 22 | I8: 0 | J8: 22 | K8: 25 | L8: 0 | M8: 25 | N8: =B8+E8+H8+K8 -> 104 | O8: =C8+F8+I8+L8 -> 9 | P8: =N8+O8 -> 113
A9: 49.03.02. Физическая культура для лиц с отклонениями в состоянии здоровья (адаптивная физическая культура) | B9: =B20+B15 -> 19 | C9: =C20+C15 -> 2 | D9: =D20+D15 -> 21 | E9: 25 | F9: 5 | G9: 30 | H9: 19 | I9: 3 | J9: 22 | K9: 16 | L9: 1 | M9: 17 | N9: =B9+E9+H9+K9 -> 79 | O9: =C9+F9+I9+L9 -> 11 | P9: =N9+O9 -> 90
A10: 49.03.03. Рекреация и спортивно-оздоровительный туризм | B10: =B16+B21 -> 23 | C10: =C21+C16 -> 3 | D10: =D21+D16 -> 26 | E10: 0 | F10: 0 | G10: 0 | H10: 0 | I10: 0 | J10: 0 | K10: 0 | L10: 0 | M10: 0 | N10: =B10+E10+H10+K10 -> 23 | O10: =C10+F10+I10+L10 -> 3 | P10: =N10+O10 -> 26
A11: Итого по направлениям подготовки: | B11: =SUM(B8:B10) -> 72 | C11: =SUM(C8:C10) -> 12 | D11: =SUM(D8:D10) -> 84 | E11: =SUM(E8:E10) -> 52 | F11: =SUM(F8:F10) -> 7 | G11: =SUM(G8:G10) -> 59 | H11: =SUM(H8:H10) -> 41 | I11: =SUM(I8:I10) -> 3 | ... P11: =SUM(P8:P10) -> 229
A12: В том числе:
A13: Граждане России
A14: 49.03.01. Физическая культура | B14: 30 | C14: 7 | D14: 37 | E14: 27 | F14: 2 | G14: 29 | H14: 22 | I14: 0 | J14: 22 | K14: 25 | L14: 0 | M14: 25 | N14: =B14+E14+H14+K14 -> 104 | O14: =C14+F14+I14+L14 -> 9 | P14: =N14+O14 -> 113
A15: 49.03.02. Физическая культура для лиц с отклонениями в состоянии здоровья (адаптивная физическая культура) | B15: 19 | C15: 2 | D15: 21 | E15: 25 | F15: 5 | G15: 30 | H15: 19 | I15: 3 | J15: 22 | K15: 16 | L15: 1 | M15: 17 | N15: =B15+E15+H15+K15 -> 79 | O15: =C15+F15+I15+L15 -> 11 | P15: =N15+O15 -> 90
A16: 49.03.03. Рекреация и спортивно-оздоровительный туризм | B16: 23 | C16: 3 | D16: 26 | E16: 0 | F16: 0 | G16: 0 | H16: 0 | I16: 0 | J16: 0 | K16: 0 | L16: 0 | M16: 0 | N16: =B16+E16+H16+K16 -> 23 | O16: =C16+F16+I16+L16 -> 3 | P16: =N16+O16 -> 26
A17: Итого граждане России | B17: =SUM(B14:B16) -> 72 | C17: =SUM(C14:C16) -> 12 | D17: =SUM(D14:D16) -> 84 | E17: =SUM(E14:E16) -> 52 | F17: =SUM(F14:F16) -> 7 | G17: =SUM(G14:G16) -> 59 | H17: =SUM(H14:H16) -> 41 | I17: =SUM(I14:I16) -> 3 | ... P17: =SUM(P14:P16) -> 229
A18: Граждане иностранных государств (вкл. Украину)
A19: 49.03.01. Физическая культура | B19: 0 | C19: 0 | D19: 0 | E19: 0 | F19: 0 | G19: 0 | H19: 0 | I19: 0 | J19: 0 | K19: 0 | L19: 0 | M19: 0 | N19: =B19+E19+H19+K19 -> 0 | O19: =C19+F19+I19+L19 -> 0 | P19: =N19+O19 -> 0
A20: 49.03.02. Физическая культура для лиц с отклонениями в состоянии здоровья (адаптивная физическая культура) | B20: 0 | C20: 0 | D20: 0 | E20: 0 | F20: ='ОФО бак. МЕДИК'!F19 -> 0 | G20: 0 | H20: ='ОФО бак. МЕДИК'!H19 -> 0 | I20: ='ОФО бак. МЕДИК'!I19 -> 0 | J20: ='ОФО бак. МЕДИК'!J19 -> 0 | K20: 0 | L20: 0 | M20: 0 | N20: =B20+E20+H20+K20 -> 0 | O20: =C20+F20+I20+L20 -> 0 | P20: =N20+O20 -> 0
A21: 49.03.03. Рекреация и спортивно-оздоровительный туризм | B21: 0 | C21: 0 | D21: =SUM(B21:C21) -> 0 | E21: 0 | F21: 0 | G21: 0 | H21: 0 | I21: 0 | J21: ='ОФО бак. МЕДИК'!J20 -> 0 | K21: 0 | L21: 0 | M21: 0 | N21: =B21+E21+H21+K21 -> 0 | O21: =C21+F21+I21+L21 -> 0 | P21: =N21+O21 -> 0
A22: Итого граждане иностранных государств | B22: =SUM(B19:B21) -> 0 | C22: =SUM(C19:C21) -> 0 | D22: =SUM(D19:D21) -> 0 | E22: =SUM(E19:E21) -> 0 | F22: =SUM(F19:F21) -> 0 | G22: =SUM(G19:G21) -> 0 | H22: =SUM(H19:H21) -> 0 | I22: =SUM(I19:I21) -> 0 | ... M22: =SUM(M19:M21) -> 0 | N22: =N19+N20+N21 -> 0 | O22: =O19+O20+O21 -> 0 | P22: =P19+P20+P21 -> 0
A23: Итого БАКАЛАВРЫ ДО | B23: =B17+B22 -> 72 | C23: =C17+C22 -> 12 | D23: =D17+D22 -> 84 | E23: =E17+E22 -> 52 | F23: =F17+F22 -> 7 | G23: =G17+G22 -> 59 | H23: =H17+H22 -> 41 | I23: =I17+I22 -> 3 | ... P23: =P17+P22 -> 229

Sheet Бак ЗФО МА
A1: Медицинская академия имени С.И.Георгиевского
A2: Контингент заочной формы обучения на 01.01.2025 г. (Бакалавриат)
A4: Факультет/направление подготовки | B4: 1 | E4: 2 | H4: 3 | K4: 4 | N4: 5 | Q4: Всего бакалавриата
B6: За счет бюджетных ассигнований | C6: На основе догов. о платных образов. услугах | D6: ВСЕГО | E6: За счет бюджетных ассигнований | F6: На основе догов. о платных образов. услугах | G6: ВСЕГО | H6: За счет бюджетных ассигнований | I6: На основе догов. о платных образов. услугах | J6: ВСЕГО | K6: За счет бюджетных ассигнований | L6: На основе догов. о платных образов. услугах | M6: ВСЕГО | N6: За счет бюджетных ассигнований | O6: На основе догов. о платных образов. услугах | P6: ВСЕГО | Q6: За счет бюджетных ассигнований | R6: На основе догов. о платных образов. услугах | S6: ВСЕГО
A7: Свод по направлениям подготовки
A8: 49.03.01. Физическая культура | B8: 11 | C8: 4 | D8: 15 | E8: 19 | F8: 2 | G8: 21 | H8: 15 | I8: 5 | J8: 20 | K8: 2 | L8: 11 | M8: 13 | N8: 14 | O8: 8 | P8: 22 | Q8: =Q14+Q19 -> 61 | R8: =R14+R19 -> 29 | S8: =S14+S19 -> 90
A9: 49.03.01.Физическая культура для лиц с отклонениями в состоянии здоровья (адаптивная физическая культура) | B9: 10 | C9: 7 | D9: 17 | E9: 0 | F9: 0 | G9: 0 | H9: 0 | I9: 1 | J9: 1 | K9: 0 | L9: 0 | M9: 0 | N9: 0 | O9: 10 | P9: 10 | Q9: =Q15+Q20 -> 10 | R9: =R15+R20 -> 18 | S9: =S15+S20 -> 28
A10: 49.03.03. Рекреация и спортивно-оздоровительный туризм | B10: 0 | C10: 0 | D10: 0 | E10: 0 | F10: 0 | G10: 0 | H10: ='ЗФО бак. МЕДИК'!H9 -> 0 | I10: 0 | J10: 0 | K10: 0 | L10: 0 | M10: 0 | N10: 0 | O10: 0 | P10: 0 | Q10: =Q16+Q21 -> 0 | R10: =R16+R21 -> 0 | S10: =S16+S21 -> 0
A11: Итого по направлениям подготовки | B11: =SUM(B8:B10) -> 21 | C11: =SUM(C8:C10) -> 11 | D11: =SUM(D8:D10) -> 32 | E11: =SUM(E8:E10) -> 19 | F11: =SUM(F8:F10) -> 2 | G11: =SUM(G8:G10) -> 21 | H11: =SUM(H8:H10) -> 15 | I11: =SUM(I8:I10) -> 6 | ... P11: =SUM(P8:P10) -> 32 | Q11: =Q17+Q22 -> 71 | R11: =R17+R22 -> 47 | S11: =S17+S22 -> 118
A12: В том числе:
A13: Граждане России
A14: 49.03.01. Физическая культура | B14: 11 | C14: 4 | D14: 15 | E14: 19 | F14: 2 | G14: 21 | H14: 14 | I14: 4 | J14: 18 | K14: 2 | L14: 11 | M14: 13 | N14: 14 | O14: 8 | P14: 22 | Q14: =B14+E14+H14+K14+N14 -> 60 | R14: =C14+F14+I14+L14+O14 -> 29 | S14: =D14+G14+J14+M14+P14 -> 89
A15: 49.03.01.Физическая культура для лиц с отклонениями в состоянии здоровья (адаптивная физическая культура) | B15: 10 | C15: 7 | D15: 17 | E15: 0 | F15: 0 | G15: 0 | H15: 0 | I15: 1 | J15: 1 | K15: 0 | L15: 0 | M15: 0 | N15: 0 | O15: 10 | P15: 10 | Q15: =B15+E15+H15+K15+N15 -> 10 | R15: =C15+F15+I15+L15+O15 -> 18 | S15: =D15+G15+J15+M15+P15 -> 28
A16: 49.03.03. Рекреация и спортивно-оздоровительный туризм | B16: 0 | C16: 0 | D16: 0 | E16: 0 | F16: 0 | G16: 0 | H16: 0 | I16: 0 | J16: 0 | K16: 0 | L16: 0 | M16: 0 | N16: 0 | O16: 0 | P16: 0 | Q16: =B16+E16+H16+K16+N16 -> 0 | R16: =C16+F16+I16+L16+O16 -> 0 | S16: =D16+G16+J16+M16+P16 -> 0
A17: Итого граждане России | B17: =SUM(B14:B16) -> 21 | C17: =SUM(C14:C16) -> 11 | D17: =SUM(D14:D16) -> 32 | E17: =SUM(E14:E16) -> 19 | F17: =SUM(F14:F16) -> 2 | G17: =SUM(G14:G16) -> 21 | H17: =SUM(H14:H16) -> 14 | I17: =SUM(I14:I16) -> 5 | ... P17: =SUM(P14:P16) -> 32 | Q17: =B17+E17+H17+K17+N17 -> 70 | R17: =C17+F17+I17+L17+O17 -> 47 | S17: =D17+G17+J17+M17+P17 -> 117
A18: Граждане иностранных государств (вкл. Украину)
A19: 49.03.01. Физическая культура | B19: 0 | C19: 0 | D19: =SUM(B19:C19) -> 0 | E19: 0 | F19: 0 | G19: 0 | H19: 1 | I19: 0 | J19: 1 | K19: 0 | L19: 0 | M19: 0 | N19: 0 | O19: 0 | P19: 0 | Q19: =B19+E19+H19+K19+N19 -> 1 | R19: =C19+F19+I19+L19+O19 -> 0 | S19: =Q19+R19 -> 1
A20: 49.03.01.Физическая культура для лиц с отклонениями в состоянии здоровья (адаптивная физическая культура) | B20: 0 | C20: 0 | D20: 0 | E20: 0 | F20: ='ЗФО бак. МЕДИК'!F19 -> 0 | G20: 0 | H20: 0 | I20: 0 | J20: 0 | K20: 0 | L20: 0 | M20: 0 | N20: 0 | O20: 0 | P20: 0 | Q20: =B20+E20+H20+K20+N20 -> 0 | R20: =C20+F20+I20+L20+O20 -> 0 | S20: =Q20+R20 -> 0
A21: 49.03.03. Рекреация и спортивно-оздоровительный туризм | B21: 0 | C21: 0 | D21: 0 | E21: 0 | F21: 0 | G21: 0 | H21: 0 | I21: 0 | J21: 0 | K21: 0 | L21: 0 | M21: 0 | N21: 0 | O21: 0 | P21: 0 | Q21: =B21+E21+H21+K21+N21 -> 0 | R21: =C21+F21+I21+L21+O21 -> 0 | S21: =Q21+R21 -> 0
A22: Итого граждане иностранных государств | B22: =B19+B20+B21 -> 0 | C22: =C19+C20+C21 -> 0 | D22: =D19+D20+D21 -> 0 | E22: =E19+E20+E21 -> 0 | F22: =F19+F20+F21 -> 0 | G22: =G19+G20+G21 -> 0 | H22: =SUM(H19:H21) -> 1 | I22: =SUM(I19:I21) -> 0 | J22: =SUM(J19:J21) -> 1 | K22: =SUM(K19:K21) -> 0 | L22: =SUM(L19:L21) -> 0 | M22: =SUM(M19:M21) -> 0 | N22: =SUM(N19:N21) -> 0 | O22: =SUM(O19:O21) -> 0 | ... S22: =SUM(S19:S21) -> 1
A23: Итого БАКАЛАВРЫ ЗО | B23: =B17+B22 -> 21 | C23: =C17+C22 -> 11 | D23: =D17+D22 -> 32 | E23: =E17+E22 -> 19 | F23: =F17+F22 -> 2 | G23: =G17+G22 -> 21 | H23: =H17+H22 -> 15 | I23: =I17+I22 -> 5 | ... S23: =S17+S22 -> 118

Sheet Маг ОФО МА
A1: Медицинская академия имени С.И.Георгиевского
A2: Контингент очной формы обучения на 01.01.2025 г. (Магистратура)
A4: Факультет/направление подготовки | B4: 1 год обучения | E4: 2 год обучения | H4: Всего магистратуры
B5: За счет бюджетных ассигнований | C5: На основе догов. о платных образов. услугах | D5: ВСЕГО | E5: За счет бюджетных ассигнований | F5: На основе догов. о платных образов. услугах | G5: ВСЕГО | H5: За счет бюджетных ассигнований | I5: На основе догов. о платных образов. услугах | J5: ВСЕГО
A6: Свод по направлениям подготовки
A7: 49.04.01. Физическая культура | B7: =B13+B18 -> 8 | C7: =C13+C18 -> 0 | D7: =D13+D18 -> 8 | E7: =E13+E18 -> 10 | F7: =F13+F18 -> 0 | G7: =G13+G18 -> 10 | H7: =H13+H18 -> 18 | I7: =I13+I18 -> 0 | J7: =J13+J18 -> 18
A8: 49.04.02. Физическая культура для лиц с отклонениями в состоянии здоровья (адаптивная физическая культура) | B8: =B14+B19 -> 0 | C8: =C14+C19 -> 0 | D8: =D14+D19 -> 0 | E8: =E14+E19 -> 0 | F8: =F14+F19 -> 0 | G8: =G14+G19 -> 0 | H8: =H14+H19 -> 0 | I8: =I14+I19 -> 0 | J8: =J14+J19 -> 0
A9: 49.04.03. Спорт | B9: =B15+B20 -> 8 | C9: =C15+C20 -> 0 | D9: =D15+D20 -> 8 | E9: =E15+E20 -> 7 | F9: =F15+F20 -> 0 | G9: =G15+G20 -> 7 | H9: =H15+H20 -> 15 | I9: =I15+I20 -> 0 | J9: =J15+J20 -> 15
A10: Итого по направлениям подготовки: | B10: =SUM(B7:B9) -> 16 | C10: =SUM(C7:C9) -> 0 | D10: =SUM(D7:D9) -> 16 | E10: =SUM(E7:E9) -> 17 | F10: =SUM(F7:F9) -> 0 | G10: =SUM(G7:G9) -> 17 | H10: =SUM(H7:H9) -> 33 | I10: =SUM(I7:I9) -> 0 | J10: =SUM(J7:J9) -> 33
A11: В том числе:
A12: Граждане России
A13: 49.04.01. Физическая культура | B13: 8 | C13: 0 | D13: 8 | E13: 10 | F13: 0 | G13: 10 | H13: =B13+E13 -> 18 | I13: =C13+F13 -> 0 | J13: =H13+I13 -> 18
A14: 49.04.02. Физическая культура для лиц с отклонениями в состоянии здоровья (адаптивная физическая культура) | B14: 0 | C14: 0 | D14: 0 | E14: 0 | F14: 0 | G14: 0 | H14: =B14+E14 -> 0 | I14: =C14+F14 -> 0 | J14: =H14+I14 -> 0
A15: 49.04.03. Спорт | B15: 8 | C15: 0 | D15: 8 | E15: 7 | F15: 0 | G15: 7 | H15: =B15+E15 -> 15 | I15: =C15+F15 -> 0 | J15: =H15+I15 -> 15
A16: Итого граждане России | B16: =SUM(B13:B15) -> 16 | C16: =SUM(C13:C15) -> 0 | D16: =SUM(D13:D15) -> 16 | E16: =SUM(E13:E15) -> 17 | F16: =SUM(F13:F15) -> 0 | G16: =SUM(G13:G15) -> 17 | H16: =SUM(H13:H15) -> 33 | I16: =SUM(I13:I15) -> 0 | J16: =SUM(J13:J15) -> 33
A17: Граждане иностранных государств (вкл. Украину)
A18: 49.04.01. Физическая культура | B18: 0 | C18: 0 | D18: 0 | E18: 0 | F18: 0 | G18: 0 | H18: =B18+E18 -> 0 | I18: =C18+F18 -> 0 | J18: =H18+I18 -> 0
A19: 49.04.02. Физическая культура для лиц с отклонениями в состоянии здоровья (адаптивная физическая культура) | B19: 0 | C19: 0 | D19: 0 | E19: 0 | F19: 0 | G19: 0 | H19: =B19+E19 -> 0 | I19: =C19+F19 -> 0 | J19: =H19+I19 -> 0
A20: 49.04.03. Спорт | B20: 0 | C20: 0 | D20: 0 | E20: 0 | F20: 0 | G20: 0 | H20: =B20+E20 -> 0 | I20: =C20+F20 -> 0 | J20: =H20+I20 -> 0
A21: Итого граждане иностранных государств | B21: =SUM(B18:B20) -> 0 | C21: =SUM(C18:C20) -> 0 | D21: =SUM(D18:D20) -> 0 | E21: =SUM(E18:E20) -> 0 | F21: =SUM(F18:F20) -> 0 | G21: =SUM(G18:G20) -> 0 | H21: =SUM(H18:H20) -> 0 | I21: =SUM(I18:I20) -> 0 | J21: =SUM(J18:J20) -> 0
A22: Итого МАГИСТРЫ ДО | B22: =B16+B21 -> 16 | C22: =C16+C21 -> 0 | D22: =D16+D21 -> 16 | E22: =E16+E21 -> 17 | F22: =F16+F21 -> 0 | G22: =G16+G21 -> 17 | H22: =H16+H21 -> 33 | I22: =I16+I21 -> 0 | J22: =J16+J21 -> 33

Sheet Маг ЗФО МА
A1: Медицинская академия имени С.И.Георгиевского
A2: Контингент заочной формы обучения на 01.01.2025 г. (Магистратурв) .
A4: Факультет/направление подготовки | B4: 1 год обучения | E4: 2 год обучения | H4: 3 год обучения | K4: Всего магистратуры
B5: За счет бюджетных ассигнований | C5: На основе догов. о платных образов. услугах | D5: ВСЕГО | E5: За счет бюджетных ассигнований | F5: На основе догов. о платных образов. услугах | G5: ВСЕГО | H5: За счет бюджетных ассигнований | I5: На основе догов. о платных образов. услугах | J5: ВСЕГО | K5: За счет бюджетных ассигнований | L5: На основе догов. о платных образов. услугах | M5: ВСЕГО
A6: Свод по направлениям подготовки
A7: 49.04.01. Физическая культура | B7: 7 | C7: 2 | D7: 9 | E7: 10 | F7: 4 | G7: 15 | H7: 10 | I7: 6 | J7: 16 | K7: =K12+K16 -> 27 | L7: =L12+L16 -> 13 | M7: =M12+M16 -> 40
A8: 49.04.02. Физическая культура для лиц с отклонениями в состоянии здоровья (адаптивная физическая культура) | B8: 8 | C8: 5 | D8: 13 | E8: 12 | F8: 2 | G8: 14 | H8: 9 | I8: 4 | J8: 13 | K8: =K13+K17 -> 29 | L8: =L13+L17 -> 11 | M8: =M13+M17 -> 40
A9: Итого по направлениям подготовки: | B9: =SUM(B7:B8) -> 15 | C9: =SUM(C7:C8) -> 7 | D9: =SUM(D7:D8) -> 22 | E9: =SUM(E7:E8) -> 22 | F9: =SUM(F7:F8) -> 6 | G9: =SUM(G7:G8) -> 29 | H9: =SUM(H7:H8) -> 19 | I9: =SUM(I7:I8) -> 10 | ... M9: =SUM(M7:M8) -> 80
A10: В том числе:
A11: Граждане России
A12: 49.04.01. Физическая культура | B12: 7 | C12: 2 | D12: 9 | E12: 10 | F12: 4 | G12: 14 | H12: 10 | I12: 6 | J12: 16 | K12: =B12+E12+H12 -> 27 | L12: =C12+F12+I12 -> 12 | M12: =K12+L12 -> 39
A13: 49.04.02. Физическая культура для лиц с отклонениями в состоянии здоровья (адаптивная физическая культура) | B13: 8 | C13: 5 | D13: 13 | E13: 12 | F13: 2 | G13: 14 | H13: 9 | I13: 4 | J13: 13 | K13: =B13+E13+H13 -> 29 | L13: =C13+F13+I13 -> 11 | M13: =K13+L13 -> 40
A14: Итого граждане России | B14: =SUM(B12:B13) -> 15 | C14: =SUM(C12:C13) -> 7 | D14: =SUM(D12:D13) -> 22 | E14: =SUM(E12:E13) -> 22 | F14: =SUM(F12:F13) -> 6 | G14: =SUM(G12:G13) -> 28 | H14: =SUM(H12:H13) -> 19 | I14: =SUM(I12:I13) -> 10 | ... M14: =SUM(M12:M13) -> 79
A15: Граждане иностранных государств (вкл. Украину)
A16: 49.04.01. Физическая культура | B16: 0 | C16: 0 | D16: 0 | E16: 0 | F16: 0 | G16: 0 | H16: 0 | I16: 1 | J16: 1 | K16: =B16+E16+H16 -> 0 | L16: =C16+F16+I16 -> 1 | M16: =K16+L16 -> 1
A17: 49.04.02. Физическая культура для лиц с отклонениями в состоянии здоровья (адаптивная физическая культура) | B17: 0 | C17: 0 | D17: 0 | E17: 0 | F17: 0 | G17: 0 | H17: 0 | I17: 0 | J17: 0 | K17: =B17+E17+H17 -> 0 | L17: =C17+F17+I17 -> 0 | M17: =K17+L17 -> 0
A18: Итого граждане иностранных государств | B18: =SUM(B16:B17) -> 0 | C18: =SUM(C16:C17) -> 0 | D18: =SUM(D16:D17) -> 0 | E18: =SUM(E16:E17) -> 0 | F18: =SUM(F16:F17) -> 0 | G18: =SUM(G16:G17) -> 0 | H18: =SUM(H16:H17) -> 0 | I18: =SUM(I16:I17) -> 1 | ... M18: =SUM(M16:M17) -> 1
A19: Итого МАГИСТРЫ ЗО | B19: =B14+B18 -> 15 | C19: =C14+C18 -> 7 | D19: =D14+D18 -> 22 | E19: =E14+E18 -> 22 | F19: =F14+F18 -> 6 | G19: =G14+G18 -> 28 | H19: =H14+H18 -> 19 | I19: =I14+I18 -> 11 | ... M19: =M14+M18 -> 80

Sheet Бакалавр ОФО АСИА
A1: ИНСТИТУТ "АКАДЕМИЯ СТРОИТЕЛЬСТВА И АРХИТЕКТУРЫ"
A3: Контингент очной формы обучения на 01.01.2025 г.(Бакалавриата)
A5: Факультет/направление подготовки | B5: 1 | E5: 2 | H5: 3 | K5: 4 | N5: 5 | Q5: Всего бакалавры
B7: За счет бюджетных ассигнований | C7: На основе догов. о платных образов. услугах | D7: ВСЕГО | E7: За счет бюджетных ассигнований | F7: На основе догов. о платных образов. услугах | G7: ВСЕГО | H7: За счет бюджетных ассигнований | I7: На основе догов. о платных образов. услугах | J7: ВСЕГО | K7: За счет бюджетных ассигнований | L7: На основе догов. о платных образов. услугах | M7: ВСЕГО | N7: За счет бюджетных ассигнований | O7: На основе догов. о платных образов. услугах | P7: ВСЕГО | Q7: За счет бюджетных ассигнований | R7: На основе догов. о платных образов. услугах | S7: ВСЕГО
A8: Свод по направлениям подготовки
A9: 07.03.01 Архитектура | B9: =B21+B16 -> 23 | C9: =C21+C16 -> 22 | D9: =D21+D16 -> 45 | E9: 0 | F9: 0 | G9: 0 | H9: 0 | I9: 0 | J9: 0 | K9: 0 | L9: 0 | M9: 0 | N9: 0 | O9: 0 | P9: 0 | Q9: =B9+E9+H9+K9+N9 -> 23 | R9: =C9+F9+I9+L9+O9 -> 22 | S9: =SUM(Q9:R9) -> 45
A10: 07.03.04 Градостроительство | B10: 29 | C10: 19 | D10: 48 | E10: 52 | F10: 15 | G10: 67 | H10: 55 | I10: 7 | J10: 62 | K10: 54 | L10: 2 | M10: 56 | N10: 60 | O10: 3 | P10: 63 | Q10: =B10+E10+H10+K10+N10 -> 250 | R10: =C10+F10+I10+L10+O10 -> 46 | S10: =SUM(Q10:R10) -> 296
A11: 08.03.01Строительство | B11: =' Бакалавры ДО '!B12 -> 119 | C11: =' Бакалавры ДО '!C12 -> 7 | D11: =' Бакалавры ДО '!D12 -> 126 | E11: =' Бакалавры ДО '!E12 -> 125 | F11: =' Бакалавры ДО '!F12 -> 9 | G11: =' Бакалавры ДО '!G12 -> 134 | H11: =' Бакалавры ДО '!H12 -> 98 | I11: =' Бакалавры ДО '!I12 -> 4 | ... P11: =' Бакалавры ДО '!P12 -> 0 | Q11: =B11+E11+H11+K11 -> 431 | R11: =C11+F11+I11+L11 -> 24 | S11: =SUM(Q11:R11) -> 455
A12: 20.03.02 Природообустройство и водопользование | B12: =' Бакалавры ДО '!B13 -> 0 | C12: =' Бакалавры ДО '!C13 -> 0 | D12: =' Бакалавры ДО '!D13 -> 0 | E12: =' Бакалавры ДО '!E13 -> 0 | F12: =' Бакалавры ДО '!F13 -> 0 | G12: =' Бакалавры ДО '!G13 -> 0 | H12: =' Бакалавры ДО '!H13 -> 0 | I12: =' Бакалавры ДО '!I13 -> 0 | ... P12: =' Бакалавры ДО '!P13 -> 0 | Q12: =B12+E12+H12+K12 -> 0 | R12: =C12+F12+I12+L12 -> 0 | S12: =SUM(Q12:R12) -> 0
A13: Итого по направлениям подготовки: | B13: =SUM(B9:B12) -> 171 | C13: =SUM(C9:C12) -> 48 | D13: =SUM(D9:D12) -> 219 | E13: =SUM(E10:E12) -> 177 | F13: =SUM(F10:F12) -> 24 | G13: =SUM(G10:G12) -> 201 | H13: =SUM(H10:H12) -> 153 | I13: =SUM(I10:I12) -> 11 | J13: =SUM(J10:J12) -> 164 | K13: =SUM(K10:K12) -> 143 | L13: =SUM(L10:L12) -> 6 | M13: =SUM(M10:M12) -> 149 | N13: =SUM(N10) -> 60 | O13: =SUM(O10) -> 3 | P13: =SUM(P10) -> 63 | Q13: =SUM(Q9:Q12) -> 704 | R13: =SUM(R9:R12) -> 92 | S13: =SUM(S9:S12) -> 796
A14: В том числе:
A15: Граждане России
A16: 07.03.01 Архитектура | B16: 23 | C16: 22 | D16: =SUM(B16:C16) -> 45 | E16: 0 | F16: 0 | G16: 0 | H16: 0 | I16: 0 | J16: 0 | K16: 0 | L16: 0 | M16: 0 | N16: 0 | O16: 0 | P16: 0 | Q16: =B16+E16+H16+K16+N16 -> 23 | R16: =C16+F16+I16+L16+O16 -> 22 | S16: =SUM(Q16:R16) -> 45
A17: 07.03.04 Градостроительство | B17: 29 | C17: 19 | D17: =SUM(B17:C17) -> 48 | E17: 52 | F17: 15 | G17: =SUM(E17:F17) -> 67 | H17: 55 | I17: 7 | J17: =SUM(H17:I17) -> 62 | K17: 54 | L17: 2 | M17: =SUM(K17:L17) -> 56 | N17: 60 | O17: 3 | P17: =SUM(N17:O17) -> 63 | Q17: =B17+E17+H17+K17+N17 -> 250 | R17: =C17+F17+I17+L17+O17 -> 46 | S17: =SUM(Q17:R17) -> 296
A18: 08.03.01Строительство | B18: 117 | C18: 7 | D18: =SUM(B18:C18) -> 124 | E18: 123 | F18: 10 | G18: =SUM(E18:F18) -> 133 | H18: 96 | I18: 3 | J18: =SUM(H18:I18) -> 99 | K18: 89 | L18: 3 | M18: =SUM(K18:L18) -> 92 | N18: 0 | O18: 0 | P18: 0 | Q18: =B18+E18+H18+K18 -> 425 | R18: =C18+F18+I18+L18 -> 23 | S18: =SUM(Q18:R18) -> 448
A19: 20.03.02 Природообустройство и водопользование | B19: 24 | C19: 0 | D19: =SUM(B19:C19) -> 24 | E19: 16 | G19: =SUM(E19:F19) -> 16 | H19: 11 | I19: 0 | J19: =SUM(H19:I19) -> 11 | K19: 5 | L19: 1 | M19: =SUM(K19:L19) -> 6 | N19: 0 | O19: 0 | P19: 0 | Q19: =B19+E19+H19+K19 -> 56 | R19: =C19+F19+I19+L19 -> 1 | S19: =SUM(Q19:R19) -> 57
A20: Итого граждане России | B20: =SUM(B16:B19) -> 193 | C20: =SUM(C16:C19) -> 48 | D20: =SUM(D16:D19) -> 241 | E20: =SUM(E17:E19) -> 191 | F20: =SUM(F17:F19) -> 25 | G20: =SUM(G17:G19) -> 216 | H20: =SUM(H17:H19) -> 162 | I20: =SUM(I17:I19) -> 10 | J20: =SUM(J17:J19) -> 172 | K20: =SUM(K17:K19) -> 148 | L20: =SUM(L17:L19) -> 6 | ... O20: =SUM(O17:O19) -> 3 | P20: =SUM(N20:O20) -> 63 | Q20: =B20+E20+H20+K20+N20 -> 754 | R20: =C20+F20+I20+L20+O20 -> 92 | S20: =SUM(Q20:R20) -> 846
A21: Граждане иностранных государств (вкл. Украину) | Q21: =B21+E21+H21+K21 -> 0 | R21: =C21+F21+I21+L21 -> 0 | S21: =SUM(Q21:R21) -> 0
A22: 07.03.04 Градостроительство | B22: 0 | C22: 0 | D22: =SUM(B22:C22) -> 0 | E22: 0 | F22: 0 | G22: =SUM(E22:F22) -> 0 | H22: 0 | I22: 0 | J22: =SUM(H22:I22) -> 0 | K22: 0 | L22: 0 | M22: =SUM(K22:L22) -> 0 | N22: 0 | O22: 0 | P22: =SUM(N22:O22) -> 0 | Q22: =B22+E22+H22+K22+N22 -> 0 | R22: =C22+F22+I22+L22+O22 -> 0 | S22: =SUM(Q22:R22) -> 0
A23: 08.03.01Строительство | B23: 1 | C23: 0 | D23: =SUM(B23:C23) -> 1 | E23: 1 | F23: 0 | G23: =SUM(E23:F23) -> 1 | H23: 2 | I23: 1 | J23: =SUM(H23:I23) -> 3 | K23: 0 | L23: 1 | M23: =SUM(K23:L23) -> 1 | N23: 0 | O23: 0 | P23: =SUM(N23:O23) -> 0 | Q23: =B23+E23+H23+K23 -> 4 | R23: =C23+F23+I23+L23 -> 2 | S23: =SUM(Q23:R23) -> 6
A24: 20.03.02 Природообустройство и водопользование | B24: 0 | C24: 0 | D24: =SUM(B24:C24) -> 0 | E24: 0 | F24: 0 | G24: =SUM(E24:F24) -> 0 | H24: 0 | I24: 0 | J24: =SUM(H24:I24) -> 0 | K24: 0 | L24: 0 | M24: =SUM(K24:L24) -> 0 | N24: 0 | O24: 0 | P24: =SUM(N24:O24) -> 0 | Q24: =B24+E24+H24+K24 -> 0 | R24: =C24+F24+I24+L24 -> 0 | S24: =SUM(Q24:R24) -> 0
A25: Итого граждане иностранных государств | B25: =SUM(B22:B24) -> 1 | C25: =SUM(C22:C24) -> 0 | D25: =SUM(D22:D24) -> 1 | E25: =SUM(E22:E24) -> 1 | F25: =SUM(F22:F24) -> 0 | G25: =SUM(G22:G24) -> 1 | H25: =SUM(H22:H24) -> 2 | I25: =SUM(I22:I24) -> 1 | ... O25: =SUM(O22:O24) -> 0 | P25: =SUM(N25:O25) -> 0 | Q25: =SUM(Q21:Q24) -> 4 | R25: =SUM(R21:R24) -> 2 | S25: =SUM(S21:S24) -> 6
A26: ИТОГО по подразделению граждане России | B26: =B20 -> 193 | C26: =C20 -> 48 | D26: =D20 -> 241 | E26: =E20 -> 191 | F26: =F20 -> 25 | G26: =G20 -> 216 | H26: =H20 -> 162 | I26: =I20 -> 10 | ... M26: =M20 -> 154 | N26: =SUM(N20) -> 60 | O26: =SUM(O20) -> 3 | P26: =SUM(N26:O26) -> 63 | Q26: =Q20 -> 754 | R26: =R20 -> 92 | S26: =Q26+R26 -> 846
A27: ИТОГО по подразделению иностранные граждане | B27: =B25 -> 1 | C27: =C25 -> 0 | D27: =D25 -> 1 | E27: =E25 -> 1 | F27: =F25 -> 0 | G27: =G25 -> 1 | H27: =H25 -> 2 | I27: =I25 -> 1 | ... M27: =M25 -> 1 | N27: =SUM(N25) -> 0 | O27: =SUM(O25) -> 0 | P27: =SUM(N27:O27) -> 0 | Q27: =Q25 -> 4 | R27: =R25 -> 2 | S27: =S25 -> 6
A28: Итого | B28: =SUM(B26:B27) -> 194 | C28: =SUM(C26:C27) -> 48 | D28: =SUM(D26:D27) -> 242 | E28: =SUM(E26:E27) -> 192 | F28: =SUM(F26:F27) -> 25 | G28: =SUM(G26:G27) -> 217 | H28: =SUM(H26:H27) -> 164 | I28: =SUM(I26:I27) -> 11 | ... S28: =SUM(S26:S27) -> 852

Sheet Бакалавр ОЗФО АСиА
A2: ИНСТИТУТ "АКАДЕМИЯ СТРОИТЕЛЬСТВА И АРХИТЕКТУРЫ"
A3: Контингент очно-заочной формы обучения на 01.01.2025 г.(Бакалавриат)
B5: Факультет/направление подготовки | C5: 1 | F5: 2 | I5: 3 | L5: 4 | O5: 5 | R5: Всего бакалавров
C7: За счет бюджетных ассигнований | D7: На основе догов. о платных образов. услугах | E7: ВСЕГО | F7: За счет бюджетных ассигнований | G7: На основе догов. о платных образов. услугах | H7: ВСЕГО | I7: За счет бюджетных ассигнований | J7: На основе догов. о платных образов. услугах | K7: ВСЕГО | L7: За счет бюджетных ассигнований | M7: На основе догов. о платных образов. услугах | N7: ВСЕГО | O7: За счет бюджетных ассигнований | P7: На основе догов. о платных образов. услугах | Q7: ВСЕГО | R7: За счет бюджетных ассигнований | S7: На основе догов. о платных образов. услугах | T7: ВСЕГО
B8: Свод по направлениям подготовки
B9: 08.03.01 Строительство | C9: =C22+C15 -> 0 | D9: =D22+D15 -> 15 | E9: =E22+E15 -> 15 | F9: =F22+F15 -> 0 | G9: =G22+G15 -> 35 | H9: =H22+H15 -> 35 | I9: =I22+I15 -> 0 | J9: =J22+J15 -> 15 | ... T9: =T22+T15 -> 65
B10: 13.03.02 Электроэнергетика и электротехника | C10: =C23+C16 -> 0 | D10: =D23+D16 -> 0 | E10: =E23+E16 -> 0 | F10: =F23+F16 -> 0 | G10: =G23+G16 -> 0 | H10: =H23+H16 -> 0 | I10: =I23+I16 -> 0 | J10: =J23+J16 -> 0 | ... T10: =T23+T16 -> 0
B11: 20.03.02 Природообустройство и водопользование | C11: =C24+C17 -> 0 | D11: =D24+D17 -> 0 | E11: =E24+E17 -> 0 | F11: =F24+F17 -> 0 | G11: =G24+G17 -> 0 | H11: =H24+H17 -> 0 | I11: =I24+I17 -> 0 | J11: =J24+J17 -> 0 | ... T11: =T24+T17 -> 0
B12: Итого по направлениям подготовки | C12: =SUM(C9:C11) -> 0 | D12: =SUM(D9:D11) -> 15 | E12: =SUM(E9:E11) -> 15 | F12: =SUM(F9:F11) -> 0 | G12: =SUM(G9:G11) -> 35 | H12: =SUM(H9:H11) -> 35 | I12: =SUM(I9+I11) -> 0 | J12: =SUM(J9:J11) -> 15 | K12: =SUM(K9:K11) -> 15 | L12: =SUM(L9:L11) -> 0 | M12: =SUM(M9:M11) -> 0 | N12: =SUM(N9:N11) -> 0 | O12: =SUM(O9:O11) -> 0 | P12: =SUM(P9:P11) -> 0 | Q12: =SUM(Q9:Q11) -> 0 | ... T12: =SUM(T9:T11) -> 65
B13: В том числе:
B14: Граждане России
B15: 08.03.01 Строительство | C15: 0 | D15: 15 | E15: 15 | F15: 0 | G15: 35 | H15: 35 | I15: 0 | J15: 15 | K15: =SUM(I15:J15) -> 15 | L15: 0 | M15: 0 | N15: =SUM(L15:M15) -> 0 | O15: 0 | P15: 0 | Q15: =SUM(O15:P15) -> 0 | R15: =C15+F15+I15+L15+O15 -> 0 | S15: =D15+G15+J15+M15+P15 -> 65 | T15: =SUM(R15:S15) -> 65
B16: 13.03.02 Электроэнергетика и электротехника | E16: =SUM(C16:D16) -> 0 | H16: =SUM(F16:G16) -> 0 | K16: =SUM(I16:J16) -> 0 | N16: =SUM(L16:M16) -> 0 | Q16: =SUM(O16:P16) -> 0 | R16: =C16+F16+I16+L16+O16 -> 0 | S16: =D16+G16+J16+M16+P16 -> 0 | T16: =SUM(R16:S16) -> 0
B17: 20.03.02 Природообустройство и водопользование | C17: 0 | D17: 0 | E17: =SUM(C17:D17) -> 0 | F17: 0 | G17: 0 | H17: =SUM(F17:G17) -> 0 | I17: 0 | J17: 0 | K17: =SUM(I17:J17) -> 0 | L17: 0 | M17: 0 | N17: =SUM(L17:M17) -> 0 | O17: 0 | P17: 0 | Q17: =SUM(O17:P17) -> 0 | R17: =C17+F17+I17+L17+O17 -> 0 | S17: =D17+G17+J17+M17+P17 -> 0 | T17: =SUM(R17:S17) -> 0
C18: 0 | D18: 0 | E18: =SUM(C18:D18) -> 0 | F18: 0 | G18: 0 | H18: =SUM(F18:G18) -> 0 | I18: 0 | J18: 0 | K18: =SUM(I18:J18) -> 0 | L18: 0 | M18: 0 | N18: =SUM(L18:M18) -> 0 | O18: 0 | P18: 0 | Q18: =SUM(O18:P18) -> 0 | R18: =C18+F18+I18+L18+O18 -> 0 | S18: =D18+G18+J18+M18+P18 -> 0 | T18: =SUM(R18:S18) -> 0
C19: 0 | D19: 0 | E19: =SUM(C19:D19) -> 0 | F19: 0 | G19: 0 | H19: =SUM(F19:G19) -> 0 | I19: 0 | J19: 0 | K19: =SUM(I19:J19) -> 0 | L19: 0 | M19: 0 | N19: =SUM(L19:M19) -> 0 | O19: 0 | P19: 0 | Q19: =SUM(O19:P19) -> 0 | R19: =C19+F19+I19+L19+O19 -> 0 | S19: =D19+G19+J19+M19+P19 -> 0 | T19: =SUM(R19:S19) -> 0
B20: Итого граждане России | C20: =SUM(C15:C19) -> 0 | D20: =SUM(D15:D19) -> 15 | E20: =SUM(E15:E19) -> 15 | F20: =SUM(F15:F19) -> 0 | G20: =SUM(G15:G19) -> 35 | H20: =SUM(H15:H19) -> 35 | I20: =SUM(I15:I19) -> 0 | J20: =SUM(J15:J19) -> 15 | ... T20: =SUM(T15:T19) -> 65
B21: Граждане иностранных государств (вкл. Украину)
B22: 08.03.01 Строительство | C22: 0 | D22: 0 | E22: =SUM(C22:D22) -> 0 | F22: 0 | G22: 0 | H22: =SUM(F22:G22) -> 0 | I22: 0 | J22: 0 | K22: =SUM(I22:J22) -> 0 | L22: 0 | M22: 0 | N22: =SUM(L22:M22) -> 0 | O22: 0 | P22: 0 | Q22: =SUM(O22:P22) -> 0 | R22: =C22+F22+I22+L22+O22 -> 0 | S22: =D22+G22+J22+M22+P22 -> 0 | T22: =SUM(R22:S22) -> 0
B23: 13.03.02 Электроэнергетика и электротехника | C23: 0 | D23: 0 | E23: =SUM(C23:D23) -> 0 | F23: 0 | G23: 0 | H23: =SUM(F23:G23) -> 0 | I23: 0 | J23: 0 | K23: =SUM(I23:J23) -> 0 | L23: 0 | M23: 0 | N23: =SUM(L23:M23) -> 0 | O23: 0 | P23: 0 | Q23: =SUM(O23:P23) -> 0 | R23: =C23+F23+I23+L23+O23 -> 0 | S23: =D23+G23+J23+M23+P23 -> 0 | T23: =SUM(R23:S23) -> 0
B24: 20.03.02 Природообустройство и водопользование | C24: 0 | D24: 0 | E24: =SUM(C24:D24) -> 0 | F24: 0 | G24: 0 | H24: =SUM(F24:G24) -> 0 | I24: 0 | J24: 0 | K24: =SUM(I24:J24) -> 0 | L24: 0 | M24: 0 | N24: =SUM(L24:M24) -> 0 | O24: 0 | P24: 0 | Q24: =SUM(O24:P24) -> 0 | R24: =C24+F24+I24+L24+O24 -> 0 | S24: =D24+G24+J24+M24+P24 -> 0 | T24: =SUM(R24:S24) -> 0
C25: 0 | D25: 0 | E25: =SUM(C25:D25) -> 0 | F25: 0 | G25: 0 | H25: =SUM(F25:G25) -> 0 | I25: 0 | J25: 0 | K25: =SUM(I25:J25) -> 0 | L25: 0 | M25: 0 | N25: =SUM(L25:M25) -> 0 | O25: 0 | P25: 0 | Q25: =SUM(O25:P25) -> 0 | R25: =C25+F25+I25+L25+O25 -> 0 | S25: =D25+G25+J25+M25+P25 -> 0 | T25: =SUM(R25:S25) -> 0
B26: Итого граждане иностранных государств | C26: =SUM(C22:C25) -> 0 | D26: =SUM(D22:D25) -> 0 | E26: =SUM(E22:E25) -> 0 | F26: =SUM(F22:F25) -> 0 | G26: =SUM(G22:G25) -> 0 | H26: =SUM(H22:H25) -> 0 | I26: =SUM(I22:I25) -> 0 | J26: =SUM(J22:J25) -> 0 | ... T26: =SUM(T22:T25) -> 0
B27: ИТОГО по подразделению граждане России | C27: =C20 -> 0 | D27: =D20 -> 15 | E27: =E20 -> 15 | F27: =F20 -> 0 | G27: =G20 -> 35 | H27: =H20 -> 35 | I27: =I20 -> 0 | J27: =J20 -> 15 | ... T27: =T20 -> 65
B28: ИТОГО по подразделению граждане иностранных государств | C28: =C26 -> 0 | D28: =D26 -> 0 | E28: =E26 -> 0 | F28: =F26 -> 0 | G28: =G26 -> 0 | H28: =H26 -> 0 | I28: =I26 -> 0 | J28: =J26 -> 0 | ... T28: =T26 -> 0
B29: Свод по направлениям подготовки | C29: =SUM(C27:C28) -> 0 | D29: =SUM(D27:D28) -> 15 | E29: =SUM(E27:E28) -> 15 | F29: =SUM(F27:F28) -> 0 | G29: =SUM(G27:G28) -> 35 | H29: =SUM(H27:H28) -> 35 | I29: =SUM(I27:I28) -> 0 | J29: =SUM(J27:J28) -> 15 | ... T29: =SUM(T27:T28) -> 65

Sheet Бакалавр ЗФО АСИА
A2: ИНСТИТУТ "АКАДЕМИЯ СТРОИТЕЛЬСТВА И АРХИТЕКТУРЫ"
A3: Контингент заочной формы обучения на 01.01.2025 г.(Бакалавриат)
B5: Факультет/направление подготовки | C5: 1 | F5: 2 | I5: 3 | L5: 4 | O5: 5 | R5: Всего бакалавриата
C7: За счет бюджетных ассигнований | D7: На основе догов. о платных образов. услугах | E7: ВСЕГО | F7: За счет бюджетных ассигнований | G7: На основе догов. о платных образов. услугах | H7: ВСЕГО | I7: За счет бюджетных ассигнований | J7: На основе догов. о платных образов. услугах | K7: ВСЕГО | L7: За счет бюджетных ассигнований | M7: На основе догов. о платных образов. услугах | N7: ВСЕГО | O7: За счет бюджетных ассигнований | P7: На основе догов. о платных образов. услугах | Q7: ВСЕГО | R7: За счет бюджетных ассигнований | S7: На основе догов. о платных образов. услугах | T7: ВСЕГО
B8: Свод по направлениям подготовки
B9: 08.03.01 Строительство | C9: =C23+C16 -> 0 | D9: =D23+D16 -> 0 | E9: =E23+E16 -> 0 | F9: =F23+F16 -> 0 | G9: =G23+G16 -> 0 | H9: =H23+H16 -> 0 | I9: =I23+I16 -> 0 | J9: =J23+J16 -> 2 | ... T9: =T23+T16 -> 46
B10: 13.03.02 Электроэнергетика и электротехника | C10: =C24+C17 -> 0 | D10: =D24+D17 -> 0 | E10: =E24+E17 -> 0 | F10: =F24+F17 -> 0 | G10: =G24+G17 -> 0 | H10: =H24+H17 -> 0 | I10: =I24+I17 -> 0 | J10: =J24+J17 -> 0 | ... T10: =T24+T17 -> 0
B11: 20.03.02 Природообустройство и водопользование | C11: =C25+C18 -> 0 | D11: =D25+D18 -> 0 | E11: =E25+E18 -> 0 | F11: =F25+F18 -> 0 | G11: =G25+G18 -> 0 | H11: =H25+H18 -> 0 | I11: =I25+I18 -> 0 | J11: =J25+J18 -> 0 | ... T11: =T25+T18 -> 0
B12: 15.03.04 Автоматизация технологических процессов и производств | C12: =C27+C19 -> 0 | D12: =D27+D19 -> 0 | E12: =E27+E19 -> 0 | F12: =F27+F19 -> 0 | G12: =G27+G19 -> 0 | H12: =H27+H19 -> 0 | I12: =I27+I19 -> 0 | J12: =J27+J19 -> 0 | ... Q12: =Q27+Q19 -> 0 | R12: =C12+F12+I12+L12+O12 -> 0 | S12: =D12+G12+J12+M12+P12 -> 1 | T12: =SUM(R12:S12) -> 1
B13: Итого по направлениям подготовки | C13: =SUM(C9:C12) -> 0 | D13: =SUM(D9:D12) -> 0 | E13: =SUM(E9:E12) -> 0 | F13: =SUM(F9:F12) -> 0 | G13: =SUM(G9:G12) -> 0 | H13: =SUM(H9:H12) -> 0 | I13: =SUM(I9+I11) -> 0 | J13: =SUM(J9:J12) -> 2 | K13: =SUM(K9:K12) -> 2 | L13: =SUM(L9:L12) -> 0 | M13: =SUM(M9:M12) -> 1 | N13: =SUM(N9:N12) -> 1 | O13: =SUM(O9:O12) -> 0 | P13: =SUM(P9:P12) -> 44 | Q13: =SUM(Q9:Q12) -> 44 | ... T13: =SUM(T9:T12) -> 47
B14: В том числе:
B15: Граждане России
B16: 08.03.01 Строительство | C16: 0 | D16: 0 | E16: =SUM(C16:D16) -> 0 | F16: 0 | G16: 0 | H16: =SUM(F16:G16) -> 0 | I16: 0 | J16: 2 | K16: 2 | L16: 0 | M16: 0 | N16: =SUM(L16:M16) -> 0 | O16: 0 | P16: 40 | Q16: =SUM(O16:P16) -> 40 | R16: =C16+F16+I16+L16+O16 -> 0 | S16: =D16+G16+J16+M16+P16 -> 42 | T16: =SUM(R16:S16) -> 42
B17: 13.03.02 Электроэнергетика и электротехника | E17: =SUM(C17:D17) -> 0 | H17: =SUM(F17:G17) -> 0 | K17: =SUM(I17:J17) -> 0 | N17: =SUM(L17:M17) -> 0 | Q17: =SUM(O17:P17) -> 0 | R17: =C17+F17+I17+L17+O17 -> 0 | S17: =D17+G17+J17+M17+P17 -> 0 | T17: =SUM(R17:S17) -> 0
B18: 20.03.02 Природообустройство и водопользование | C18: 0 | D18: 0 | E18: =SUM(C18:D18) -> 0 | F18: 0 | G18: 0 | H18: =SUM(F18:G18) -> 0 | I18: 0 | J18: 0 | K18: =SUM(I18:J18) -> 0 | L18: 0 | M18: 0 | N18: =SUM(L18:M18) -> 0 | O18: 0 | P18: 0 | Q18: =SUM(O18:P18) -> 0 | R18: =C18+F18+I18+L18+O18 -> 0 | S18: =D18+G18+J18+M18+P18 -> 0 | T18: =SUM(R18:S18) -> 0
B19: 15.03.04 Автоматизация технологических процессов и производств | C19: 0 | D19: 0 | E19: =SUM(C19:D19) -> 0 | F19: 0 | G19: 0 | H19: =SUM(F19:G19) -> 0 | I19: 0 | J19: 0 | K19: =SUM(I19:J19) -> 0 | L19: 0 | M19: 1 | N19: =SUM(L19:M19) -> 1 | O19: 0 | P19: 0 | Q19: =SUM(O19:P19) -> 0 | R19: =C19+F19+I19+L19+O19 -> 0 | S19: =D19+G19+J19+M19+P19 -> 1 | T19: =SUM(R19:S19) -> 1
C20: 0 | D20: 0 | E20: =SUM(C20:D20) -> 0 | F20: 0 | G20: 0 | H20: =SUM(F20:G20) -> 0 | I20: 0 | J20: 0 | K20: =SUM(I20:J20) -> 0 | L20: 0 | M20: 0 | N20: =SUM(L20:M20) -> 0 | O20: 0 | P20: 0 | Q20: =SUM(O20:P20) -> 0 | R20: =C20+F20+I20+L20+O20 -> 0 | S20: =D20+G20+J20+M20+P20 -> 0 | T20: =SUM(R20:S20) -> 0
B21: Итого граждане России | C21: =SUM(C16:C20) -> 0 | D21: =SUM(D16:D20) -> 0 | E21: =SUM(E16:E20) -> 0 | F21: =SUM(F16:F20) -> 0 | G21: =SUM(G16:G20) -> 0 | H21: =SUM(H16:H20) -> 0 | I21: =SUM(I16:I20) -> 0 | J21: =SUM(J16:J20) -> 2 | ... T21: =SUM(T16:T20) -> 43
B22: Граждане иностранных государств (вкл. Украину)
B23: 08.03.01 Строительство | C23: 0 | D23: 0 | E23: =SUM(C23:D23) -> 0 | F23: 0 | G23: 0 | H23: =SUM(F23:G23) -> 0 | I23: 0 | J23: 0 | K23: =SUM(I23:J23) -> 0 | L23: 0 | M23: 0 | N23: =SUM(L23:M23) -> 0 | O23: 0 | P23: 4 | Q23: =SUM(O23:P23) -> 4 | R23: =C23+F23+I23+L23+O23 -> 0 | S23: =D23+G23+J23+M23+P23 -> 4 | T23: =SUM(R23:S23) -> 4
B24: 13.03.02 Электроэнергетика и электротехника | C24: 0 | D24: 0 | E24: =SUM(C24:D24) -> 0 | F24: 0 | G24: 0 | H24: =SUM(F24:G24) -> 0 | I24: 0 | J24: 0 | K24: =SUM(I24:J24) -> 0 | L24: 0 | M24: 0 | N24: =SUM(L24:M24) -> 0 | O24: 0 | P24: 0 | Q24: =SUM(O24:P24) -> 0 | R24: =C24+F24+I24+L24+O24 -> 0 | S24: =D24+G24+J24+M24+P24 -> 0 | T24: =SUM(R24:S24) -> 0
B25: 20.03.02 Природообустройство и водопользование | C25: 0 | D25: 0 | E25: =SUM(C25:D25) -> 0 | F25: 0 | G25: 0 | H25: =SUM(F25:G25) -> 0 | I25: 0 | J25: 0 | K25: =SUM(I25:J25) -> 0 | L25: 0 | M25: 0 | N25: =SUM(L25:M25) -> 0 | O25: 0 | P25: 0 | Q25: =SUM(O25:P25) -> 0 | R25: =C25+F25+I25+L25+O25 -> 0 | S25: =D25+G25+J25+M25+P25 -> 0 | T25: =SUM(R25:S25) -> 0
B26: 15.03.04 Автоматизация технологических процессов и производств | C26: 0 | D26: 0 | E26: =SUM(C26:D26) -> 0 | F26: 0 | G26: 0 | H26: =SUM(F26:G26) -> 0 | I26: 0 | J26: 0 | K26: =SUM(I26:J26) -> 0 | L26: 0 | M26: 0 | N26: =SUM(L26:M26) -> 0 | O26: 0 | P26: 0 | Q26: =SUM(O26:P26) -> 0 | R26: =C26+F26+I26+L26+O26 -> 0 | S26: =D26+G26+J26+M26+P26 -> 0 | T26: =SUM(R26:S26) -> 0
C27: 0 | D27: 0 | E27: =SUM(C27:D27) -> 0 | F27: 0 | G27: 0 | H27: =SUM(F27:G27) -> 0 | I27: 0 | J27: 0 | K27: =SUM(I27:J27) -> 0 | L27: 0 | M27: 0 | N27: =SUM(L27:M27) -> 0 | O27: 0 | P27: 0 | Q27: =SUM(O27:P27) -> 0 | R27: =C27+F27+I27+L27+O27 -> 0 | S27: =D27+G27+J27+M27+P27 -> 0 | T27: =SUM(R27:S27) -> 0
B28: Итого граждане иностранных государств | C28: =SUM(C23:C27) -> 0 | D28: =SUM(D23:D27) -> 0 | E28: =SUM(E23:E27) -> 0 | F28: =SUM(F23:F27) -> 0 | G28: =SUM(G23:G27) -> 0 | H28: =SUM(H23:H27) -> 0 | I28: =SUM(I23:I27) -> 0 | J28: =SUM(J23:J27) -> 0 | ... T28: =SUM(T23:T27) -> 4
B29: ИТОГО по подразделению граждане России | C29: =C21 -> 0 | D29: =D21 -> 0 | E29: =E21 -> 0 | F29: =F21 -> 0 | G29: =G21 -> 0 | H29: =H21 -> 0 | I29: =I21 -> 0 | J29: =J21 -> 2 | ... T29: =T21 -> 43
B30: ИТОГО по подразделению граждане иностранных государств | C30: =C28 -> 0 | D30: =D28 -> 0 | E30: =E28 -> 0 | F30: =F28 -> 0 | G30: =G28 -> 0 | H30: =H28 -> 0 | I30: =I28 -> 0 | J30: =J28 -> 0 | ... T30: =T28 -> 4
B31: Свод по направлениям подготовки | C31: =SUM(C29:C30) -> 0 | D31: =SUM(D29:D30) -> 0 | E31: =SUM(E29:E30) -> 0 | F31: =SUM(F29:F30) -> 0 | G31: =SUM(G29:G30) -> 0 | H31: =SUM(H29:H30) -> 0 | I31: =SUM(I29:I30) -> 0 | J31: =SUM(J29:J30) -> 2 | ... T31: =SUM(T29:T30) -> 47

Sheet МАГ ОФО АСИА
A2: ИНСТИТУТ "АКАДЕМИЯ СТРОИТЕЛЬСТВА И АРХИТЕКТУРЫ"
A3: Контингент очной формы обучения на 01.01.2025 г.(Магистратура)
A5: Факультет/направление подготовки | B5: 1 год обучения | E5: 2 год обучения | H5: Всего магистратуры
B6: МАГИСТР | E6: МАГИСТР
B7: За счет бюджетных ассигнований | C7: На основе догов. о платных образов. услугах | D7: ВСЕГО | E7: За счет бюджетных ассигнований | F7: На основе догов. о платных образов. услугах | G7: ВСЕГО | H7: За счет бюджетных ассигнований | I7: На основе догов. о платных образов. услугах | J7: ВСЕГО
A8: Свод по направлениям подготовки
A9: 07.04.04 Градостроительство | B9: =B15+B21+B27 -> 27 | C9: =C15+C21 -> 1 | D9: =D15+D21+D27 -> 28 | E9: =E15+E21+E27 -> 45 | F9: =F15+F21 -> 5 | G9: =G15+G21+G27 -> 50 | H9: =H15+H21+H27 -> 72 | I9: =I15+I21 -> 6 | J9: =J15+J21+J27 -> 78
A10: 08.04.01 Строительство | B10: =B16+B22 -> 60 | C10: =C16+C22 -> 2 | D10: =D16+D22 -> 62 | E10: 82 | F10: =F16+F22 -> 9 | G10: =G16+G22 -> 91 | H10: =H16+H22 -> 142 | I10: =I16+I22 -> 11 | J10: =J16+J22 -> 153
A11: 20.04.02 Природообустройство и водопользование | B11: =B17+B23 -> 0 | C11: =C17+C23 -> 0 | D11: =D17+D23 -> 0 | E11: =E17+E23 -> 0 | F11: =F17+F23 -> 0 | G11: =G17+G23 -> 0 | H11: =H17+H23 -> 0 | I11: =I17+I23 -> 0 | J11: =J17+J23 -> 0
A12: Итого по направлениям подготовки: | B12: =SUM(B8:B11) -> 87 | C12: =SUM(C8:C11) -> 3 | D12: =SUM(D8:D11) -> 90 | E12: =SUM(E8:E11) -> 127 | F12: =SUM(F8:F11) -> 14 | G12: =SUM(G8:G11) -> 141 | H12: =SUM(H9:H11) -> 214 | I12: =SUM(I9:I11) -> 17 | J12: =SUM(J9:J11) -> 231
A13: В том числе:
A14: Граждане России
A15: 07.04.04 Градостроительство | B15: 25 | C15: 1 | D15: =SUM(B15:C15) -> 26 | E15: 45 | F15: 5 | G15: =SUM(E15:F15) -> 50 | H15: =B15+E15 -> 70 | I15: =C15+F15 -> 6 | J15: =D15+G15 -> 76
A16: 08.04.01 Строительство | B16: 60 | C16: 2 | D16: =SUM(B16:C16) -> 62 | E16: 81 | F16: 9 | G16: =SUM(E16:F16) -> 90 | H16: =B16+E16 -> 141 | I16: =C16+F16 -> 11 | J16: =D16+G16 -> 152
A17: 20.04.02 Природообустройство и водопользование | B17: 0 | C17: 0 | D17: =SUM(B17:C17) -> 0 | E17: 0 | F17: 0 | G17: =SUM(E17:F17) -> 0 | H17: =B17+E17 -> 0 | I17: =C17+F17 -> 0 | J17: =D17+G17 -> 0
B18: 0 | C18: 0 | D18: =SUM(B18:C18) -> 0 | E18: 0 | F18: 0 | G18: =SUM(E18:F18) -> 0 | H18: =B18+E18 -> 0 | I18: =C18+F18 -> 0 | J18: =D18+G18 -> 0
A19: Итого граждане России | B19: =SUM(B15:B18) -> 85 | C19: =SUM(C15:C18) -> 3 | D19: =SUM(D15:D18) -> 88 | E19: =SUM(E15:E18) -> 126 | F19: =SUM(F15:F18) -> 14 | G19: =SUM(G15:G18) -> 140 | H19: =SUM(H15:H18) -> 211 | I19: =SUM(I15:I18) -> 17 | J19: =SUM(J15:J18) -> 228
A20: Граждане иностранных государств (вкл. Украину)
A21: 07.04.04 Градостроительство | B21: 2 | C21: 0 | D21: =SUM(B21:C21) -> 2 | E21: 0 | F21: 0 | G21: =SUM(E21:F21) -> 0 | H21: =B21+E21 -> 2 | I21: =C21+F21 -> 0 | J21: =D21+G21 -> 2
A22: 08.04.01 Строительство | B22: 0 | C22: 0 | D22: =SUM(B22:C22) -> 0 | E22: 1 | F22: 0 | G22: =SUM(E22:F22) -> 1 | H22: =B22+E22 -> 1 | I22: =C22+F22 -> 0 | J22: =D22+G22 -> 1
A23: 20.04.02 Природообустройство и водопользование | B23: 0 | C23: 0 | D23: =SUM(B23:C23) -> 0 | E23: 0 | F23: 0 | G23: =SUM(E23:F23) -> 0 | H23: =B23+E23 -> 0 | I23: =C23+F23 -> 0 | J23: =D23+G23 -> 0
B24: 0 | C24: 0 | D24: =SUM(B24:C24) -> 0 | E24: 0 | F24: 0 | G24: =SUM(E24:F24) -> 0 | H24: =B24+E24 -> 0 | I24: =C24+F24 -> 0 | J24: =D24+G24 -> 0
A25: Итого граждане иностранных государств | B25: =SUM(B21:B24) -> 2 | C25: =SUM(C21:C24) -> 0 | D25: =SUM(D21:D24) -> 2 | E25: =SUM(E21:E24) -> 1 | F25: =SUM(F21:F24) -> 0 | G25: =SUM(G21:G24) -> 1 | H25: =SUM(H21:H24) -> 3 | I25: =SUM(I21:I24) -> 0 | J25: =SUM(J21:J24) -> 3
A26: Граждане ЛНР и ДНР
A27: 07.04.04 Градостроительство | B27: 0 | D27: =SUM(B27:C27) -> 0 | E27: 0 | G27: =SUM(E27:F27) -> 0 | H27: =B27+E27 -> 0 | I27: =C27+F27 -> 0 | J27: =D27+G27 -> 0
A28: 08.04.01 Строительство | B28: 0 | C28: 0 | D28: =SUM(B28:C28) -> 0 | F28: 0 | G28: =SUM(E28:F28) -> 0 | H28: =B28+E28 -> 0 | I28: =C28+F28 -> 0 | J28: =D28+G28 -> 0
A29: 15.03.04 Автоматизация технологических процессов и производств | D29: =SUM(B29:C29) -> 0 | G29: =SUM(E29:F29) -> 0 | H29: =B29+E29 -> 0 | I29: =C29+F29 -> 0 | J29: =D29+G29 -> 0
A30: 20.04.02 Природообустройство и водопользование | D30: =SUM(B30:C30) -> 0 | G30: =SUM(E30:F30) -> 0 | H30: =B30+E30 -> 0 | I30: =C30+F30 -> 0 | J30: =D30+G30 -> 0
B31: 0 | C31: 0 | D31: =SUM(B31:C31) -> 0 | E31: 0 | F31: 0 | G31: =SUM(E31:F31) -> 0 | H31: =B31+E31 -> 0 | I31: =C31+F31 -> 0 | J31: =D31+G31 -> 0
A32: Итого граждане ЛНР и ДНР | B32: =SUM(B27:B31) -> 0 | C32: =SUM(C27:C31) -> 0 | D32: =SUM(D27:D31) -> 0 | E32: =SUM(E27:E31) -> 0 | F32: =SUM(F27:F31) -> 0 | G32: =SUM(G27:G31) -> 0 | H32: =SUM(H27:H31) -> 0 | I32: =SUM(I27:I31) -> 0 | J32: =SUM(J27:J31) -> 0
A33: ИТОГО по подразделению граждане России | B33: =B19 -> 85 | C33: =C19 -> 3 | D33: =D19 -> 88 | E33: =E19 -> 126 | F33: =F19 -> 14 | G33: =G19 -> 140 | H33: =H19 -> 211 | I33: =I19 -> 17 | J33: =J19 -> 228
A34: ИТОГО по подразделению иностранные граждане | B34: =B25+B32 -> 2 | C34: =C25 -> 0 | D34: =D25+D32 -> 2 | E34: =E25 -> 1 | F34: =F25 -> 0 | G34: =G25 -> 1 | H34: =H25+H32 -> 3 | I34: =I25 -> 0 | J34: =J25+J32 -> 3
A35: Итого | B35: =SUM(B33:B34) -> 87 | C35: =SUM(C33:C34) -> 3 | D35: =SUM(D33:D34) -> 90 | E35: =SUM(E33:E34) -> 127 | F35: =SUM(F33:F34) -> 14 | G35: =SUM(G33:G34) -> 141 | H35: =SUM(H33:H34) -> 214 | I35: =SUM(I33:I34) -> 17 | J35: =SUM(J33:J34) -> 231

Sheet МАГ ЗФО АСИА
A2: ИНСТИТУТ "АКАДЕМИЯ СТРОИТЕЛЬСТВА И АРХИТЕКТУРЫ"
A3: Контингент заочной формы обучения на 01.01.2025 г.(Магистратура)
A5: Факультет/направление подготовки | B5: 1 год обучения | E5: 2 год обучения | H5: 3 год обучения | K5: Всего магистратуры
B6: МАГИСТР | E6: МАГИСТР | H6: МАГИСТР
B7: За счет бюджетных ассигнований | C7: На основе догов. о платных образов. услугах | D7: ВСЕГО | E7: За счет бюджетных ассигнований | F7: На основе догов. о платных образов. услугах | G7: ВСЕГО | H7: За счет бюджетных ассигнований | I7: На основе догов. о платных образов. услугах | J7: ВСЕГО | K7: За счет бюджетных ассигнований | L7: На основе догов. о платных образов. услугах | M7: ВСЕГО
A8: Свод по направлениям подготовки
A9: 08.04.01 Строительство | B9: =B15+B15 -> 0 | C9: =C20+C15 -> 68 | D9: =D20+D15 -> 68 | E9: =E21+E15 -> 0 | F9: =F20+F15 -> 49 | G9: =G20+G15 -> 49 | H9: =H21+H15 -> 0 | I9: =I15+I20 -> 46 | J9: =J15+J20 -> 46 | K9: =B9+E9+H9 -> 0 | L9: =C9+F9+I9 -> 163 | M9: =D9+G9+J9 -> 163
A10: 15.03.04 Автоматизация технологических процессов и производств | B10: =B22+B16 -> 0 | C10: =C22+C16 -> 0 | D10: =D22+D16 -> 0 | E10: =E22+E16 -> 0 | F10: =F22+F16 -> 0 | G10: =G22+G16 -> 0 | H10: =H22+H16 -> 0 | I10: =I22+I16 -> 0 | J10: =J22+J16 -> 0 | K10: =B10+E10+H10 -> 0 | L10: =C10+F10+I10 -> 0 | M10: =D10+G10+J10 -> 0
A11: 20.04.02 Природообустройство и водопользование | B11: =B23+B17 -> 0 | C11: =C23+C17 -> 0 | D11: =D23+D17 -> 0 | E11: =E23+E17 -> 0 | F11: =F23+F17 -> 0 | G11: =G23+G17 -> 0 | H11: =H23+H17 -> 0 | I11: =I23+I17 -> 0 | J11: =J23+J17 -> 0 | K11: =B11+E11+H11 -> 0 | L11: =C11+F11+I11 -> 0 | M11: =D11+G11+J11 -> 0
A12: Итого по направлениям подготовки: | B12: =SUM(B8:B11) -> 0 | C12: =SUM(C8:C11) -> 68 | D12: =SUM(D8:D11) -> 68 | E12: =SUM(E8:E11) -> 0 | F12: =SUM(F8:F11) -> 49 | G12: =SUM(G8:G11) -> 49 | H12: =SUM(H8:H11) -> 0 | I12: =SUM(I8:I11) -> 46 | ... M12: =SUM(M8:M11) -> 163
A13: В том числе:
A14: Граждане России
A15: 08.04.01 Строительство | B15: 0 | C15: 68 | D15: =SUM(B15:C15) -> 68 | E15: 0 | F15: 49 | G15: =SUM(E15:F15) -> 49 | H15: 0 | I15: 45 | J15: =SUM(H15:I15) -> 45 | K15: =B15+E15+H15 -> 0 | L15: =C15+F15+I15 -> 162 | M15: =D15+G15+J15 -> 162
A16: 15.03.04 Автоматизация технологических процессов и производств | D16: =SUM(B16:C16) -> 0 | G16: =SUM(E16:F16) -> 0 | H16: 0 | I16: 0 | J16: =SUM(H16:I16) -> 0 | K16: =B16+E16+H16 -> 0 | L16: =C16+F16+I16 -> 0 | M16: =D16+G16+J16 -> 0
A17: 20.04.02 Природообустройство и водопользование | B17: 0 | C17: 0 | D17: =SUM(B17:C17) -> 0 | E17: 0 | F17: 0 | G17: =SUM(E17:F17) -> 0 | H17: 0 | I17: 0 | J17: =SUM(H17:I17) -> 0 | K17: =B17+E17+H17 -> 0 | L17: =C17+F17+I17 -> 0 | M17: =D17+G17+J17 -> 0
A18: Итого граждане России | B18: =SUM(B15:B17) -> 0 | C18: =SUM(C15:C17) -> 68 | D18: =SUM(D15:D17) -> 68 | E18: =SUM(E15:E17) -> 0 | F18: =SUM(F15:F17) -> 49 | G18: =SUM(G15:G17) -> 49 | H18: =SUM(H15:H17) -> 0 | I18: =SUM(I15:I17) -> 45 | ... M18: =SUM(M15:M17) -> 162
A19: Граждане иностранных государств (вкл. Украину)
A20: 08.04.01 Строительство | B20: 0 | C20: 0 | D20: =SUM(B20:C20) -> 0 | E20: 0 | F20: 0 | G20: =SUM(E20:F20) -> 0 | H20: 0 | I20: 1 | J20: =SUM(H20:I20) -> 1 | K20: =B20+E20+H20 -> 0 | L20: =C20+F20+I20 -> 1 | M20: =D20+G20+J20 -> 1
A21: 15.03.04 Автоматизация технологических процессов и производств | B21: 0 | C21: 0 | D21: =SUM(B21:C21) -> 0 | E21: 0 | F21: 0 | G21: =SUM(E21:F21) -> 0 | H21: 0 | I21: 0 | J21: =SUM(H21:I21) -> 0 | K21: =B21+E21+H21 -> 0 | L21: =C21+F21+I21 -> 0 | M21: =D21+G21+J21 -> 0
A22: 20.04.02 Природообустройство и водопользование | B22: 0 | C22: 0 | D22: =SUM(B22:C22) -> 0 | E22: 0 | F22: 0 | G22: =SUM(E22:F22) -> 0 | H22: 0 | I22: 0 | J22: =SUM(H22:I22) -> 0 | K22: =B22+E22+H22 -> 0 | L22: =C22+F22+I22 -> 0 | M22: =D22+G22+J22 -> 0
A25: Итого граждане иностранных государств | B25: =SUM(B20:B24) -> 0 | C25: =SUM(C20:C24) -> 0 | D25: =SUM(D20:D24) -> 0 | E25: =SUM(E20:E24) -> 0 | F25: =SUM(F20:F24) -> 0 | G25: =SUM(G20:G24) -> 0 | H25: =SUM(H20:H24) -> 0 | I25: =SUM(I20:I24) -> 1 | ... M25: =SUM(M20:M24) -> 1
A26: ИТОГО по подразделению граждане России | B26: =B18 -> 0 | C26: =C18 -> 68 | D26: =D18 -> 68 | E26: =E18 -> 0 | F26: =F18 -> 49 | G26: =G18 -> 49 | H26: =H18 -> 0 | I26: =I18 -> 45 | ... M26: =M18 -> 162
A27: ИТОГО по подразделению иностранные граждане | B27: =B25 -> 0 | C27: =C25 -> 0 | D27: =D25 -> 0 | E27: =E25 -> 0 | F27: =F25 -> 0 | G27: =G25 -> 0 | H27: =H25 -> 0 | I27: =I25 -> 1 | ... M27: =M25 -> 1
A28: Итого | B28: =SUM(B26:B27) -> 0 | C28: =SUM(C26:C27) -> 68 | D28: =SUM(D26:D27) -> 68 | E28: =SUM(E26:E27) -> 0 | F28: =SUM(F26:F27) -> 49 | G28: =SUM(G26:G27) -> 49 | H28: =SUM(H26:H27) -> 0 | I28: =SUM(I26:I27) -> 46 | ... M28: =SUM(M26:M27) -> 163

Sheet Бакалавр ОФО АТА
A1: институт "АГРОТЕХНОЛОГИЧЕСКАЯ АКАДЕМИЯ "КФУ
A2: Контингент Дневной формы обучения на 01.01.2025
C3: 1 | E3: 2 | H3: 3 | K3: 4
B4: За счет бюджетных ассигнований | C4: На основе догов.о платных образов.услугах | D4: ВСЕГО | E4: За счет бюджетных ассигнований | F4: На основе догов.о платных образов.услугах | G4: ВСЕГО | H4: За счет бюджетных ассигнований | I4: На основе догов.о платных образов.услугах | J4: ВСЕГО | K4: За счет бюджетных ассигнований | L4: На основе догов.о платных образов.услугах | M4: ВСЕГО | N4: За счет бюджетных ассигнований | O4: На основе догов.о платных образов.услугах | P4: ВСЕГО
A5: Свод по направлениям подготовкии
A6: 35.03.04 Агрономия | B6: =B18+B30 -> 24 | C6: =C18+C30 -> 3 | D6: =B6+C6 -> 27 | E6: =E18+E30 -> 22 | F6: =F18+F30 -> 2 | G6: =E6+F6 -> 24 | H6: =H18+H30 -> 14 | I6: =I18+I30 -> 0 | J6: =H6+I6 -> 14 | K6: =K18+K30 -> 14 | L6: =L18+L30 -> 1 | M6: =K6+L6 -> 15 | N6: =B6+E6+H6+K6 -> 74 | O6: =C6+F6+I6+L6 -> 6 | P6: =N6+O6 -> 80
A7: 35.03.07 Технология производства и переработки с.х. продукции | B7: 15 | C7: 0 | D7: 15 | E7: 0 | F7: 0 | G7: 0 | H7: 0 | I7: 0 | J7: 0 | K7: 0 | L7: 0 | M7: 0 | N7: 15 | O7: 0 | P7: 15
A8: 35.03.05 Садоводство | B8: =B20+B31 -> 21 | C8: =C20+C31 -> 0 | D8: =B8+C8 -> 21 | E8: =E20+E31 -> 19 | F8: =F20+F31 -> 0 | G8: =E8+F8 -> 19 | H8: =H20+H31 -> 12 | I8: =I20+I31 -> 0 | J8: =H8+I8 -> 12 | K8: =K20+K31 -> 9 | L8: =L20+L31 -> 0 | M8: =K8+L8 -> 9 | N8: =B8+E8+H8+K8 -> 61 | O8: =C8+F8+I8+L8 -> 0 | P8: =N8+O8 -> 61
A9: 21.03.02 Землеустройство и кадастры | B9: =B21+B32 -> 27 | C9: =C21+C32 -> 1 | D9: =B9+C9 -> 28 | E9: =E21+E32 -> 31 | F9: =F21+F32 -> 1 | G9: =E9+F9 -> 32 | H9: =H21+H32 -> 26 | I9: =I21+I32 -> 1 | J9: =H9+I9 -> 27 | K9: =K21+K32 -> 35 | L9: =L21+L32 -> 0 | M9: =K9+L9 -> 35 | N9: =B9+E9+H9+K9 -> 119 | O9: =C9+F9+I9+L9 -> 3 | P9: =N9+O9 -> 122
A10: 21.03.03Геодезия и дистанционное зондирование | B10: =B22+B33 -> 27 | C10: =C22+C33 -> 1 | D10: =B10+C10 -> 28 | E10: =E22+E33 -> 22 | F10: =F22+F33 -> 0 | G10: =E10+F10 -> 22 | H10: =H22+H33 -> 17 | I10: =I22+I33 -> 0 | J10: =H10+I10 -> 17 | K10: =K22+K33 -> 16 | L10: =L22+L33 -> 0 | M10: =K10+L10 -> 16 | N10: =B10+E10+H10+K10 -> 82 | O10: =C10+F10+I10+L10 -> 1 | P10: =N10+O10 -> 83
A11: 35.03.01 Лесное дело | B11: =B23+B34 -> 16 | C11: =C23+C34 -> 0 | D11: =B11+C11 -> 16 | E11: =E23+E34 -> 20 | F11: =F23+F34 -> 0 | G11: =E11+F11 -> 20 | H11: =H23+H34 -> 6 | I11: =I23+I34 -> 0 | J11: =H11+I11 -> 6 | K11: =K23+K34 -> 8 | L11: =L23+L34 -> 0 | M11: =K11+L11 -> 8 | N11: =B11+E11+H11+K11 -> 50 | O11: =C11+F11+I11+L11 -> 0 | P11: =N11+O11 -> 50
A12: 19.03.02 Продукты питания из растительного сырья | B12: =B24+B35 -> 24 | C12: =C24+C35 -> 0 | D12: =B12+C12 -> 24 | E12: =E24+E35 -> 37 | F12: =F24+F35 -> 2 | G12: =E12+F12 -> 39 | H12: =H24+H35 -> 14 | I12: =I24+I35 -> 0 | J12: =H12+I12 -> 14 | K12: =K24+K35 -> 20 | L12: =L24+L35 -> 0 | M12: =K12+L12 -> 20 | N12: =B12+E12+H12+K12 -> 95 | O12: =C12+F12+I12+L12 -> 2 | P12: =N12+O12 -> 97
A13: 19.03.03 Продукты питания животного происхождения | B13: =B25+B36 -> 16 | C13: =C25+C36 -> 0 | D13: =B13+C13 -> 16 | E13: =E25+E36 -> 18 | F13: =F25+F36 -> 0 | G13: =E13+F13 -> 18 | H13: =H25+H36 -> 5 | I13: =I25+I36 -> 0 | J13: =H13+I13 -> 5 | K13: =K25+K36 -> 8 | L13: =L25+L36 -> 0 | M13: =K13+L13 -> 8 | N13: =B13+E13+H13+K13 -> 47 | O13: =C13+F13+I13+L13 -> 0 | P13: =N13+O13 -> 47
A14: 35.03.06 Агроинженерия | B14: =B26+B37 -> 34 | C14: 1 | D14: =B14+C14 -> 35 | E14: =E26+E37 -> 42 | F14: =F26+F37 -> 1 | G14: =E14+F14 -> 43 | H14: =H26+H37 -> 34 | I14: =I26+I37 -> 1 | J14: =H14+I14 -> 35 | K14: =K26+K37 -> 28 | L14: =L26+L37 -> 0 | M14: =K14+L14 -> 28 | N14: =B14+E14+H14+K14 -> 138 | O14: =C14+F14+I14+L14 -> 3 | P14: =N14+O14 -> 141
A15: Итого по направлениям подготовки: | B15: 0 | C15: =SUM(C6:C14) -> 6 | D15: =SUM(D6:D14) -> 210 | E15: =SUM(E6:E14) -> 211 | F15: =SUM(F6:F14) -> 6 | G15: =SUM(G6:G14) -> 217 | H15: =SUM(H6:H14) -> 128 | I15: =SUM(I6:I14) -> 2 | J15: =SUM(J6:J14) -> 130 | ... P15: =SUM(P6:P14) -> 696
A16: В том числе:
A17: Граждане России
A18: 35.03.04 Агрономия | B18: 24 | C18: 3 | D18: =B18+C18 -> 27 | E18: 22 | F18: 2 | G18: =E18+F18 -> 24 | H18: 14 | I18: 0 | J18: =I18+H18 -> 14 | K18: 14 | L18: 1 | M18: =K18+L18 -> 15 | N18: =B18+E18+H18+K18 -> 74 | O18: =C18+F18+I18+L18 -> 6 | P18: =N18+O18 -> 80
A19: 35.03.07 Технология производства и переработки с.х. продукции | B19: 15 | C19: 0 | D19: 15 | E19: 0 | F19: 0 | G19: =E19+F19 -> 0 | H19: 0 | I19: 0 | J19: 0 | K19: 0 | L19: 0 | M19: 0 | N19: 15 | O19: 0 | P19: 15
A20: 35.03.05 Садоводство | B20: 21 | C20: 0 | D20: =B20+C20 -> 21 | E20: 19 | F20: 0 | G20: =E20+F20 -> 19 | H20: 12 | I20: 0 | J20: =I20+H20 -> 12 | K20: 9 | L20: 0 | M20: =K20+L20 -> 9 | N20: =B20+E20+H20+K20 -> 61 | O20: =C20+F20+I20+L20 -> 0 | P20: =N20+O20 -> 61
A21: 21.03.02 Землеустройство и кадастры | B21: 27 | C21: 1 | D21: =B21+C21 -> 28 | E21: 31 | F21: 1 | G21: =E21+F21 -> 32 | H21: 26 | I21: 1 | J21: 27 | K21: 35 | L21: 0 | M21: =K21+L21 -> 35 | N21: =B21+E21+H21+K21 -> 119 | O21: =C21+F21+I21+L21 -> 3 | P21: =N21+O21 -> 122
A22: 21.03.03 Геодезия и дистанцион. | B22: 27 | C22: 1 | D22: =B22+C22 -> 28 | E22: 22 | F22: 0 | G22: 22 | H22: 17 | I22: 0 | J22: =I22+H22 -> 17 | K22: 16 | L22: 0 | M22: =K22+L22 -> 16 | N22: =B22+E22+H22+K22 -> 82 | O22: =C22+F22+I22+L22 -> 1 | P22: =N22+O22 -> 83
A23: 35.03.01 Лесное дело | B23: 16 | C23: 0 | D23: =B23+C23 -> 16 | E23: 20 | F23: 0 | G23: =E23+F23 -> 20 | H23: 6 | I23: 0 | J23: =I23+H23 -> 6 | K23: 8 | L23: 0 | M23: =K23+L23 -> 8 | N23: =B23+E23+H23+K23 -> 50 | O23: =C23+F23+I23+L23 -> 0 | P23: =N23+O23 -> 50
A24: 19.03.02 Продукты питания из растительного сырья | B24: 24 | C24: 0 | D24: =B24+C24 -> 24 | E24: 37 | F24: 2 | G24: =E24+F24 -> 39 | H24: 14 | I24: 0 | J24: =I24+H24 -> 14 | K24: 20 | L24: 0 | M24: =K24+L24 -> 20 | N24: =B24+E24+H24+K24 -> 95 | O24: =C24+F24+I24+L24 -> 2 | P24: =N24+O24 -> 97
A25: 19.03.03 Продукты питания животного происхождения | B25: 16 | C25: 0 | D25: 16 | E25: 18 | F25: 0 | G25: =E25+F25 -> 18 | H25: 5 | I25: 0 | J25: 5 | K25: 8 | L25: 0 | M25: =K25+L25 -> 8 | N25: =B25+E25+H25+K25 -> 47 | O25: =C25+F25+I25+L25 -> 0 | P25: =N25+O25 -> 47
A26: 35.03.10 Агроинженерия | B26: 34 | C26: 0 | D26: =B26+C26 -> 34 | E26: 42 | F26: 1 | G26: =E26+F26 -> 43 | H26: 34 | I26: 1 | J26: =I26+H26 -> 35 | K26: 28 | L26: 0 | M26: =K26+L26 -> 28 | N26: =B26+E26+H26+K26 -> 138 | O26: =C26+F26+I26+L26 -> 2 | P26: =N26+O26 -> 140
A27: Итого граждане России | B27: =SUM(B18:B26) -> 204 | C27: =C18+C20+C21+C22+C23+C24+C25+C26 -> 5 | D27: =SUM(D18:D26) -> 209 | E27: =E18+E20+E21+E22+E23+E24+E25+E26 -> 211 | F27: =F18+F20+F21+F22+F23+F24+F25+F26 -> 6 | G27: =G18+G20+G21+G22+G23+G24+G25+G26 -> 217 | H27: =H18+H20+H21+H22+H23+H24+H25+H26 -> 128 | I27: =I18+I20+I21+I22+I23+I24+I25+I26 -> 2 | J27: =J18+J20+J21+J22+J23+J24+J25+J26 -> 130 | K27: =K18+K20+K21+K22+K23+K24+K25+K26 -> 138 | L27: =L18+L20+L21+L22+L23+L24+L25+L26 -> 1 | M27: =M18+M20+M21+M22+M23+M24+M25+M26 -> 139 | N27: =SUM(N18:N26) -> 681 | O27: 9 | P27: =SUM(P18:P26) -> 695
A28: Граждане иностранных государст(вкл.Украину)
A29: 35.03.07 Технология производства и переработки с.х. продукции | B29: 0 | C29: 0 | D29: 0 | E29: 0 | F29: 0 | G29: 0 | H29: 0 | I29: 0 | J29: 0 | K29: 0 | L29: 0 | M29: 0 | N29: 0 | O29: 0 | P29: 0
A30: 35.03.04 Агрономия | B30: 0 | C30: 0 | D30: =B30+C30 -> 0 | E30: 0 | F30: =0 -> 0 | G30: 0 | H30: 0 | I30: 0 | J30: =I30+H30 -> 0 | K30: 0 | L30: 0 | M30: =K30+L30 -> 0 | N30: =B30+E30+H30+K30 -> 0 | O30: =C30+F30+I30+L30 -> 0 | P30: =N30+O30 -> 0
A31: 35.03.05 Садоводство | B31: 0 | C31: 0 | D31: =B31+C31 -> 0 | E31: 0 | F31: 0 | G31: =E31+F31 -> 0 | H31: =0 -> 0 | I31: 0 | J31: =I31+H31 -> 0 | K31: 0 | L31: 0 | M31: =K31+L31 -> 0 | N31: =B31+E31+H31+K31 -> 0 | O31: =C31+F31+I31+L31 -> 0 | P31: =N31+O31 -> 0
A32: 21.03.02 Землеустройство и кадастры | B32: 0 | C32: 0 | D32: =B32+C32 -> 0 | E32: 0 | F32: 0 | G32: =0 -> 0 | H32: 0 | I32: 0 | J32: =I32+H32 -> 0 | K32: 0 | L32: 0 | M32: =K32+L32 -> 0 | N32: =B32+E32+H32+K32 -> 0 | O32: =C32+F32+I32+L32 -> 0 | P32: =N32+O32 -> 0
