Workbook

Sheet Специал ОФО МА 
A1: Медицинская академия имени С.И.Георгиевского
A2: Контингент очной формы обучения на 01.01.2025 г.
A3: Контингент очной формы обучения по состоянию на 01.01.2022 г .
B5: Факультет/направление подготовки | C5: 1 | F5: 2 | I5: 3 | L5: 4 | O5: 5 | R5: 6 | U5: Всего специалитет
C7: За счет бюджетных ассигнований | D7: На основе догов. о платных образов. услугах | E7: ВСЕГО | F7: За счет бюджетных ассигнований | G7: На основе догов. о платных образов. услугах | H7: ВСЕГО | I7: За счет бюджетных ассигнований | J7: На основе догов. о платных образов. услугах | K7: ВСЕГО | L7: За счет бюджетных ассигнований | M7: На основе догов. о платных образов. услугах | N7: ВСЕГО | O7: За счет бюджетных ассигнований | P7: На основе догов. о платных образов. услугах | Q7: ВСЕГО | R7: За счет бюджетных ассигнований | S7: На основе догов. о платных образов. услугах | T7: ВСЕГО | U7: За счет бюджетных ассигнований | V7: На основе догов. о платных образов. услугах | W7: ВСЕГО
B8: Свод по направлениям подготовки
B9: 31.05.01 Лечебное дело | C9: 305 | D9: 569 | E9: 874 | F9: 325 | G9: 329 | H9: 654 | I9: 337 | J9: 426 | K9: 763 | L9: 300 | M9: 855 | N9: 1155 | O9: 282 | P9: 425 | Q9: 707 | R9: 281 | S9: 296 | T9: 577 | U9: 1830 | V9: 2900 | W9: 4730
B10: 31.05.02 Педиатрия | C10: 100 | D10: 73 | E10: 173 | F10: 94 | G10: 22 | H10: 116 | I10: 94 | J10: 27 | K10: 121 | L10: 89 | M10: 12 | N10: 101 | O10: 71 | P10: 7 | Q10: 78 | R10: 97 | S10: 19 | T10: 116 | U10: 545 | V10: 160 | W10: 705
B11: 31.05.03 Стоматология | C11: 19 | D11: 165 | E11: 184 | F11: 28 | G11: 129 | H11: 157 | I11: 33 | J11: 114 | K11: 147 | L11: 28 | M11: 75 | N11: 103 | O11: 26 | P11: 105 | Q11: 131 | U11: 134 | V11: 588 | W11: 722
B12: 30.05.03 Медицинская биохимия | C12: 4 | D12: 11 | E12: 15 | U12: 4 | V12: 11 | W12: 15
B13: Итого по направлениям подготовки | C13: =SUM(C9:C12) -> 428 | D13: =SUM(D9:D12) -> 818 | E13: =SUM(E9:E12) -> 1246 | F13: =SUM(F9:F12) -> 447 | G13: =SUM(G9:G12) -> 480 | H13: =SUM(H9:H12) -> 927 | I13: =SUM(I9:I12) -> 464 | J13: =SUM(J9:J12) -> 567 | ... W13: =SUM(W9:W12) -> 6172
B14: В том числе:
B15: Граждане России
B16: 31.05.01 Лечебное дело | C16: 299 | D16: 96 | E16: 395 | F16: 320 | G16: 77 | H16: 397 | I16: 315 | J16: 82 | K16: 397 | L16: 295 | M16: 60 | N16: 355 | O16: 271 | P16: 44 | Q16: 315 | R16: 271 | S16: 43 | T16: 314 | U16: 1771 | V16: 402 | W16: 2173
B17: 31.05.02 Педиатрия | C17: 99 | D17: 73 | E17: 172 | F17: 94 | G17: 22 | H17: 116 | I17: 94 | J17: 27 | K17: 121 | L17: 89 | M17: 12 | N17: 101 | O17: 70 | P17: 7 | Q17: 77 | R17: 96 | S17: 19 | T17: 115 | U17: 542 | V17: 160 | W17: 702
B18: 31.05.03 Стоматология | C18: 17 | D18: 165 | E18: 182 | F18: 24 | G18: 129 | H18: 153 | I18: 29 | J18: 112 | K18: 141 | L18: 26 | M18: 74 | N18: 100 | O18: 26 | P18: 101 | Q18: 127 | U18: 122 | V18: 581 | W18: 703
B19: 30.05.01 Медицинская биохимия | C19: 4 | D19: 11 | E19: 15 | F19: 0 | G19: 0 | H19: 0 | I19: 0 | J19: 0 | K19: 0 | L19: 0 | M19: 0 | N19: 0 | O19: 0 | P19: 0 | Q19: 0 | U19: 4 | V19: 11 | W19: 15
B20: Итого граждане России | C20: =SUM(C16:C19) -> 419 | D20: =SUM(D16:D19) -> 345 | E20: =SUM(E16:E19) -> 764 | F20: =SUM(F16:F19) -> 438 | G20: =SUM(G16:G19) -> 228 | H20: =SUM(H16:H19) -> 666 | I20: =SUM(I16:I19) -> 438 | J20: =SUM(J16:J19) -> 221 | ... W20: =SUM(W16:W19) -> 3593
B21: Граждане иностранных государств (вкл. Украину)
B22: 31.05.01 Лечебное дело | C22: 6 | D22: 473 | E22: 479 | F22: 5 | G22: 252 | H22: 257 | I22: 22 | J22: 344 | K22: 366 | L22: 5 | M22: 795 | N22: 800 | O22: 11 | P22: 381 | Q22: 392 | R22: 10 | S22: 253 | T22: 263 | U22: =C22+F22+I22+L22+O22+R22 -> 59 | V22: =D22+G22+J22+M22+P22+S22 -> 2498 | W22: =E22+H22+K22+N22+Q22+T22 -> 2557
B23: 31.05.02 Педиатрия | C23: 1 | D23: 0 | E23: 1 | F23: 0 | G23: 0 | H23: 0 | I23: 0 | J23: 0 | K23: 0 | L23: 0 | M23: 0 | N23: 0 | O23: 1 | P23: 0 | Q23: 1 | R23: 1 | S23: 0 | T23: 1 | U23: =C23+F23+I23+L23+O23+R23 -> 3 | V23: =D23+G23+J23+M23+P23+S23 -> 0 | W23: =E23+H23+K23+N23+Q23+T23 -> 3
B24: 31.05.03 Стоматология | C24: 2 | D24: 0 | E24: 2 | F24: 4 | G24: 0 | H24: 4 | I24: 4 | J24: 2 | K24: 6 | L24: 2 | M24: 1 | N24: 3 | O24: 0 | P24: 4 | Q24: 4 | R24: 0 | S24: 0 | T24: 0 | U24: =C24+F24+I24+L24+O24+R24 -> 12 | V24: =D24+G24+J24+M24+P24+S24 -> 7 | W24: =E24+H24+K24+N24+Q24+T24 -> 19
B25: Итого граждане иностранных государств | C25: =SUM(C22:C24) -> 9 | D25: =SUM(D22:D24) -> 473 | E25: =SUM(E22:E24) -> 482 | F25: =SUM(F22:F24) -> 9 | G25: =SUM(G22:G24) -> 252 | H25: =SUM(H22:H24) -> 261 | I25: =SUM(I22:I24) -> 26 | J25: =SUM(J22:J24) -> 346 | ... W25: =SUM(W22:W24) -> 2579
B26: Всего: | C26: =C20+C25 -> 428 | D26: =D20+D25 -> 818 | E26: =E20+E25 -> 1246 | F26: =F20+F25 -> 447 | G26: =G20+G25 -> 480 | H26: =H20+H25 -> 927 | I26: =I20+I25 -> 464 | J26: =J20+J25 -> 567 | ... W26: =W20+W25 -> 6172

Sheet Бак ОФО МА
A1: Медицинская академия имени С.И.Георгиевского
A3: Контингент очной формы обучения на 01.01.2025 г. (Бакалавриат)
A5: Факультет/направление подготовки | B5: 1 | E5: 2 | H5: 3 | K5: 4 | N5: Всего бакалавриата
B6: За счет бюджетных ассигнований | C6: На основе догов. о платных образов. услугах | D6: ВСЕГО | E6: За счет бюджетных ассигнований | F6: На основе догов. о платных образов. услугах | G6: ВСЕГО | H6: За счет бюджетных ассигнований | I6: На основе догов. о платных образов. услугах | J6: ВСЕГО | K6: За счет бюджетных ассигнований | L6: На основе догов. о платных образов. услугах | M6: ВСЕГО | N6: За счет бюджетных ассигнований | O6: На основе догов. о платных образов. услугах | P6: ВСЕГО
A7: Свод по направлениям подготовки
A8: 49.03.01. Физическая культура | B8: =B19+B14 -> 30 | C8: =C19+C14 -> 7 | D8: =D19+D14 -> 37 | E8: 27 | F8: 2 | G8: 29 | H8: 22 | I8: 0 | J8: 22 | K8: 25 | L8: 0 | M8: 25 | N8: =B8+E8+H8+K8 -> 104 | O8: =C8+F8+I8+L8 -> 9 | P8: =N8+O8 -> 113
A9: 49.03.02. Физическая культура для лиц с отклонениями в состоянии здоровья (адаптивная физическая культура) | B9: =B20+B15 -> 19 | C9: =C20+C15 -> 2 | D9: =D20+D15 -> 21 | E9: 25 | F9: 5 | G9: 30 | H9: 19 | I9: 3 | J9: 22 | K9: 16 | L9: 1 | M9: 17 | N9: =B9+E9+H9+K9 -> 79 | O9: =C9+F9+I9+L9 -> 11 | P9: =N9+O9 -> 90
A10: 49.03.03. Рекреация и спортивно-оздоровительный туризм | B10: =B16+B21 -> 23 | C10: =C21+C16 -> 3 | D10: =D21+D16 -> 26 | E10: 0 | F10: 0 | G10: 0 | H10: 0 | I10: 0 | J10: 0 | K10: 0 | L10: 0 | M10: 0 | N10: =B10+E10+H10+K10 -> 23 | O10: =C10+F10+I10+L10 -> 3 | P10: =N10+O10 -> 26
A11: Итого по направлениям подготовки: | B11: =SUM(B8:B10) -> 72 | C11: =SUM(C8:C10) -> 12 | D11: =SUM(D8:D10) -> 84 | E11: =SUM(E8:E10) -> 52 | F11: =SUM(F8:F10) -> 7 | G11: =SUM(G8:G10) -> 59 | H11: =SUM(H8:H10) -> 41 | I11: =SUM(I8:I10) -> 3 | ... P11: =SUM(P8:P10) -> 229
A12: В том числе:
A13: Граждане России
A14: 49.03.01. Физическая культура | B14: 30 | C14: 7 | D14: 37 | E14: 27 | F14: 2 | G14: 29 | H14: 22 | I14: 0 | J14: 22 | K14: 25 | L14: 0 | M14: 25 | N14: =B14+E14+H14+K14 -> 104 | O14: =C14+F14+I14+L14 -> 9 | P14: =N14+O14 -> 113
A15: 49.03.02. Физическая культура для лиц с отклонениями в состоянии здоровья (адаптивная физическая культура) | B15: 19 | C15: 2 | D15: 21 | E15: 25 | F15: 5 | G15: 30 | H15: 19 | I15: 3 | J15: 22 | K15: 16 | L15: 1 | M15: 17 | N15: =B15+E15+H15+K15 -> 79 | O15: =C15+F15+I15+L15 -> 11 | P15: =N15+O15 -> 90
A16: 49.03.03. Рекреация и спортивно-оздоровительный туризм | B16: 23 | C16: 3 | D16: 26 | E16: 0 | F16: 0 | G16: 0 | H16: 0 | I16: 0 | J16: 0 | K16: 0 | L16: 0 | M16: 0 | N16: =B16+E16+H16+K16 -> 23 | O16: =C16+F16+I16+L16 -> 3 | P16: =N16+O16 -> 26
A17: Итого граждане России | B17: =SUM(B14:B16) -> 72 | C17: =SUM(C14:C16) -> 12 | D17: =SUM(D14:D16) -> 84 | E17: =SUM(E14:E16) -> 52 | F17: =SUM(F14:F16) -> 7 | G17: =SUM(G14:G16) -> 59 | H17: =SUM(H14:H16) -> 41 | I17: =SUM(I14:I16) -> 3 | ... P17: =SUM(P14:P16) -> 229
A18: Граждане иностранных государств (вкл. Украину)
A19: 49.03.01. Физическая культура | B19: 0 | C19: 0 | D19: 0 | E19: 0 | F19: 0 | G19: 0 | H19: 0 | I19: 0 | J19: 0 | K19: 0 | L19: 0 | M19: 0 | N19: =B19+E19+H19+K19 -> 0 | O19: =C19+F19+I19+L19 -> 0 | P19: =N19+O19 -> 0
A20: 49.03.02. Физическая культура для лиц с отклонениями в состоянии здоровья (адаптивная физическая культура) | B20: 0 | C20: 0 | D20: 0 | E20: 0 | F20: ='ОФО бак. МЕДИК'!F19 -> 0 | G20: 0 | H20: ='ОФО бак. МЕДИК'!H19 -> 0 | I20: ='ОФО бак. МЕДИК'!I19 -> 0 | J20: ='ОФО бак. МЕДИК'!J19 -> 0 | K20: 0 | L20: 0 | M20: 0 | N20: =B20+E20+H20+K20 -> 0 | O20: =C20+F20+I20+L20 -> 0 | P20: =N20+O20 -> 0
A21: 49.03.03. Рекреация и спортивно-оздоровительный туризм | B21: 0 | C21: 0 | D21: =SUM(B21:C21) -> 0 | E21: 0 | F21: 0 | G21: 0 | H21: 0 | I21: 0 | J21: ='ОФО бак. МЕДИК'!J20 -> 0 | K21: 0 | L21: 0 | M21: 0 | N21: =B21+E21+H21+K21 -> 0 | O21: =C21+F21+I21+L21 -> 0 | P21: =N21+O21 -> 0
A22: Итого граждане иностранных государств | B22: =SUM(B19:B21) -> 0 | C22: =SUM(C19:C21) -> 0 | D22: =SUM(D19:D21) -> 0 | E22: =SUM(E19:E21) -> 0 | F22: =SUM(F19:F21) -> 0 | G22: =SUM(G19:G21) -> 0 | H22: =SUM(H19:H21) -> 0 | I22: =SUM(I19:I21) -> 0 | ... M22: =SUM(M19:M21) -> 0 | N22: =N19+N20+N21 -> 0 | O22: =O19+O20+O21 -> 0 | P22: =P19+P20+P21 -> 0
A23: Итого БАКАЛАВРЫ ДО | B23: =B17+B22 -> 72 | C23: =C17+C22 -> 12 | D23: =D17+D22 -> 84 | E23: =E17+E22 -> 52 | F23: =F17+F22 -> 7 | G23: =G17+G22 -> 59 | H23: =H17+H22 -> 41 | I23: =I17+I22 -> 3 | ... P23: =P17+P22 -> 229

Sheet Бак ЗФО МА
A1: Медицинская академия имени С.И.Георгиевского
A2: Контингент заочной формы обучения на 01.01.2025 г. (Бакалавриат)
A4: Факультет/направление подготовки | B4: 1 | E4: 2 | H4: 3 | K4: 4 | N4: 5 | Q4: Всего бакалавриата
B6: За счет бюджетных ассигнований | C6: На основе догов. о платных образов. услугах | D6: ВСЕГО | E6: За счет бюджетных ассигнований | F6: На основе догов. о платных образов. услугах | G6: ВСЕГО | H6: За счет бюджетных ассигнований | I6: На основе догов. о платных образов. услугах | J6: ВСЕГО | K6: За счет бюджетных ассигнований | L6: На основе догов. о платных образов. услугах | M6: ВСЕГО | N6: За счет бюджетных ассигнований | O6: На основе догов. о платных образов. услугах | P6: ВСЕГО | Q6: За счет бюджетных ассигнований | R6: На основе догов. о платных образов. услугах | S6: ВСЕГО
A7: Свод по направлениям подготовки
A8: 49.03.01. Физическая культура | B8: 11 | C8: 4 | D8: 15 | E8: 19 | F8: 2 | G8: 21 | H8: 15 | I8: 5 | J8: 20 | K8: 2 | L8: 11 | M8: 13 | N8: 14 | O8: 8 | P8: 22 | Q8: =Q14+Q19 -> 61 | R8: =R14+R19 -> 29 | S8: =S14+S19 -> 90
A9: 49.03.01.Физическая культура для лиц с отклонениями в состоянии здоровья (адаптивная физическая культура) | B9: 10 | C9: 7 | D9: 17 | E9: 0 | F9: 0 | G9: 0 | H9: 0 | I9: 1 | J9: 1 | K9: 0 | L9: 0 | M9: 0 | N9: 0 | O9: 10 | P9: 10 | Q9: =Q15+Q20 -> 10 | R9: =R15+R20 -> 18 | S9: =S15+S20 -> 28
A10: 49.03.03. Рекреация и спортивно-оздоровительный туризм | B10: 0 | C10: 0 | D10: 0 | E10: 0 | F10: 0 | G10: 0 | H10: ='ЗФО бак. МЕДИК'!H9 -> 0 | I10: 0 | J10: 0 | K10: 0 | L10: 0 | M10: 0 | N10: 0 | O10: 0 | P10: 0 | Q10: =Q16+Q21 -> 0 | R10: =R16+R21 -> 0 | S10: =S16+S21 -> 0
A11: Итого по направлениям подготовки | B11: =SUM(B8:B10) -> 21 | C11: =SUM(C8:C10) -> 11 | D11: =SUM(D8:D10) -> 32 | E11: =SUM(E8:E10) -> 19 | F11: =SUM(F8:F10) -> 2 | G11: =SUM(G8:G10) -> 21 | H11: =SUM(H8:H10) -> 15 | I11: =SUM(I8:I10) -> 6 | ... P11: =SUM(P8:P10) -> 32 | Q11: =Q17+Q22 -> 71 | R11: =R17+R22 -> 47 | S11: =S17+S22 -> 118
A12: В том числе:
A13: Граждане России
A14: 49.03.01. Физическая культура | B14: 11 | C14: 4 | D14: 15 | E14: 19 | F14: 2 | G14: 21 | H14: 14 | I14: 4 | J14: 18 | K14: 2 | L14: 11 | M14: 13 | N14: 14 | O14: 8 | P14: 22 | Q14: =B14+E14+H14+K14+N14 -> 60 | R14: =C14+F14+I14+L14+O14 -> 29 | S14: =D14+G14+J14+M14+P14 -> 89
A15: 49.03.01.Физическая культура для лиц с отклонениями в состоянии здоровья (адаптивная физическая культура) | B15: 10 | C15: 7 | D15: 17 | E15: 0 | F15: 0 | G15: 0 | H15: 0 | I15: 1 | J15: 1 | K15: 0 | L15: 0 | M15: 0 | N15: 0 | O15: 10 | P15: 10 | Q15: =B15+E15+H15+K15+N15 -> 10 | R15: =C15+F15+I15+L15+O15 -> 18 | S15: =D15+G15+J15+M15+P15 -> 28
A16: 49.03.03. Рекреация и спортивно-оздоровительный туризм | B16: 0 | C16: 0 | D16: 0 | E16: 0 | F16: 0 | G16: 0 | H16: 0 | I16: 0 | J16: 0 | K16: 0 | L16: 0 | M16: 0 | N16: 0 | O16: 0 | P16: 0 | Q16: =B16+E16+H16+K16+N16 -> 0 | R16: =C16+F16+I16+L16+O16 -> 0 | S16: =D16+G16+J16+M16+P16 -> 0
A17: Итого граждане России | B17: =SUM(B14:B16) -> 21 | C17: =SUM(C14:C16) -> 11 | D17: =SUM(D14:D16) -> 32 | E17: =SUM(E14:E16) -> 19 | F17: =SUM(F14:F16) -> 2 | G17: =SUM(G14:G16) -> 21 | H17: =SUM(H14:H16) -> 14 | I17: =SUM(I14:I16) -> 5 | ... P17: =SUM(P14:P16) -> 32 | Q17: =B17+E17+H17+K17+N17 -> 70 | R17: =C17+F17+I17+L17+O17 -> 47 | S17: =D17+G17+J17+M17+P17 -> 117
A18: Граждане иностранных государств (вкл. Украину)
A19: 49.03.01. Физическая культура | B19: 0 | C19: 0 | D19: =SUM(B19:C19) -> 0 | E19: 0 | F19: 0 | G19: 0 | H19: 1 | I19: 0 | J19: 1 | K19: 0 | L19: 0 | M19: 0 | N19: 0 | O19: 0 | P19: 0 | Q19: =B19+E19+H19+K19+N19 -> 1 | R19: =C19+F19+I19+L19+O19 -> 0 | S19: =Q19+R19 -> 1
A20: 49.03.01.Физическая культура для лиц с отклонениями в состоянии здоровья (адаптивная физическая культура) | B20: 0 | C20: 0 | D20: 0 | E20: 0 | F20: ='ЗФО бак. МЕДИК'!F19 -> 0 | G20: 0 | H20: 0 | I20: 0 | J20: 0 | K20: 0 | L20: 0 | M20: 0 | N20: 0 | O20: 0 | P20: 0 | Q20: =B20+E20+H20+K20+N20 -> 0 | R20: =C20+F20+I20+L20+O20 -> 0 | S20: =Q20+R20 -> 0
A21: 49.03.03. Рекреация и спортивно-оздоровительный туризм | B21: 0 | C21: 0 | D21: 0 | E21: 0 | F21: 0 | G21: 0 | H21: 0 | I21: 0 | J21: 0 | K21: 0 | L21: 0 | M21: 0 | N21: 0 | O21: 0 | P21: 0 | Q21: =B21+E21+H21+K21+N21 -> 0 | R21: =C21+F21+I21+L21+O21 -> 0 | S21: =Q21+R21 -> 0
A22: Итого граждане иностранных государств | B22: =B19+B20+B21 -> 0 | C22: =C19+C20+C21 -> 0 | D22: =D19+D20+D21 -> 0 | E22: =E19+E20+E21 -> 0 | F22: =F19+F20+F21 -> 0 | G22: =G19+G20+G21 -> 0 | H22: =SUM(H19:H21) -> 1 | I22: =SUM(I19:I21) -> 0 | J22: =SUM(J19:J21) -> 1 | K22: =SUM(K19:K21) -> 0 | L22: =SUM(L19:L21) -> 0 | M22: =SUM(M19:M21) -> 0 | N22: =SUM(N19:N21) -> 0 | O22: =SUM(O19:O21) -> 0 | ... S22: =SUM(S19:S21) -> 1
A23: Итого БАКАЛАВРЫ ЗО | B23: =B17+B22 -> 21 | C23: =C17+C22 -> 11 | D23: =D17+D22 -> 32 | E23: =E17+E22 -> 19 | F23: =F17+F22 -> 2 | G23: =G17+G22 -> 21 | H23: =H17+H22 -> 15 | I23: =I17+I22 -> 5 | ... S23: =S17+S22 -> 118

Sheet Маг ОФО МА
A1: Медицинская академия имени С.И.Георгиевского
A2: Контингент очной формы обучения на 01.01.2025 г. (Магистратура)
A4: Факультет/направление подготовки | B4: 1 год обучения | E4: 2 год обучения | H4: Всего магистратуры
B5: За счет бюджетных ассигнований | C5: На основе догов. о платных образов. услугах | D5: ВСЕГО | E5: За счет бюджетных ассигнований | F5: На основе догов. о платных образов. услугах | G5: ВСЕГО | H5: За счет бюджетных ассигнований | I5: На основе догов. о платных образов. услугах | J5: ВСЕГО
A6: Свод по направлениям подготовки
A7: 49.04.01. Физическая культура | B7: =B13+B18 -> 8 | C7: =C13+C18 -> 0 | D7: =D13+D18 -> 8 | E7: =E13+E18 -> 10 | F7: =F13+F18 -> 0 | G7: =G13+G18 -> 10 | H7: =H13+H18 -> 18 | I7: =I13+I18 -> 0 | J7: =J13+J18 -> 18
A8: 49.04.02. Физическая культура для лиц с отклонениями в состоянии здоровья (адаптивная физическая культура) | B8: =B14+B19 -> 0 | C8: =C14+C19 -> 0 | D8: =D14+D19 -> 0 | E8: =E14+E19 -> 0 | F8: =F14+F19 -> 0 | G8: =G14+G19 -> 0 | H8: =H14+H19 -> 0 | I8: =I14+I19 -> 0 | J8: =J14+J19 -> 0
A9: 49.04.03. Спорт | B9: =B15+B20 -> 8 | C9: =C15+C20 -> 0 | D9: =D15+D20 -> 8 | E9: =E15+E20 -> 7 | F9: =F15+F20 -> 0 | G9: =G15+G20 -> 7 | H9: =H15+H20 -> 15 | I9: =I15+I20 -> 0 | J9: =J15+J20 -> 15
A10: Итого по направлениям подготовки: | B10: =SUM(B7:B9) -> 16 | C10: =SUM(C7:C9) -> 0 | D10: =SUM(D7:D9) -> 16 | E10: =SUM(E7:E9) -> 17 | F10: =SUM(F7:F9) -> 0 | G10: =SUM(G7:G9) -> 17 | H10: =SUM(H7:H9) -> 33 | I10: =SUM(I7:I9) -> 0 | J10: =SUM(J7:J9) -> 33
A11: В том числе:
A12: Граждане России
A13: 49.04.01. Физическая культура | B13: 8 | C13: 0 | D13: 8 | E13: 10 | F13: 0 | G13: 10 | H13: =B13+E13 -> 18 | I13: =C13+F13 -> 0 | J13: =H13+I13 -> 18
A14: 49.04.02. Физическая культура для лиц с отклонениями в состоянии здоровья (адаптивная физическая культура) | B14: 0 | C14: 0 | D14: 0 | E14: 0 | F14: 0 | G14: 0 | H14: =B14+E14 -> 0 | I14: =C14+F14 -> 0 | J14: =H14+I14 -> 0
A15: 49.04.03. Спорт | B15: 8 | C15: 0 | D15: 8 | E15: 7 | F15: 0 | G15: 7 | H15: =B15+E15 -> 15 | I15: =C15+F15 -> 0 | J15: =H15+I15 -> 15
A16: Итого граждане России | B16: =SUM(B13:B15) -> 16 | C16: =SUM(C13:C15) -> 0 | D16: =SUM(D13:D15) -> 16 | E16: =SUM(E13:E15) -> 17 | F16: =SUM(F13:F15) -> 0 | G16: =SUM(G13:G15) -> 17 | H16: =SUM(H13:H15) -> 33 | I16: =SUM(I13:I15) -> 0 | J16: =SUM(J13:J15) -> 33
A17: Граждане иностранных государств (вкл. Украину)
A18: 49.04.01. Физическая культура | B18: 0 | C18: 0 | D18: 0 | E18: 0 | F18: 0 | G18: 0 | H18: =B18+E18 -> 0 | I18: =C18+F18 -> 0 | J18: =H18+I18 -> 0
A19: 49.04.02. Физическая культура для лиц с отклонениями в состоянии здоровья (адаптивная физическая культура) | B19: 0 | C19: 0 | D19: 0 | E19: 0 | F19: 0 | G19: 0 | H19: =B19+E19 -> 0 | I19: =C19+F19 -> 0 | J19: =H19+I19 -> 0
A20: 49.04.03. Спорт | B20: 0 | C20: 0 | D20: 0 | E20: 0 | F20: 0 | G20: 0 | H20: =B20+E20 -> 0 | I20: =C20+F20 -> 0 | J20: =H20+I20 -> 0
A21: Итого граждане иностранных государств | B21: =SUM(B18:B20) -> 0 | C21: =SUM(C18:C20) -> 0 | D21: =SUM(D18:D20) -> 0 | E21: =SUM(E18:E20) -> 0 | F21: =SUM(F18:F20) -> 0 | G21: =SUM(G18:G20) -> 0 | H21: =SUM(H18:H20) -> 0 | I21: =SUM(I18:I20) -> 0 | J21: =SUM(J18:J20) -> 0
A22: Итого МАГИСТРЫ ДО | B22: =B16+B21 -> 16 | C22: =C16+C21 -> 0 | D22: =D16+D21 -> 16 | E22: =E16+E21 -> 17 | F22: =F16+F21 -> 0 | G22: =G16+G21 -> 17 | H22: =H16+H21 -> 33 | I22: =I16+I21 -> 0 | J22: =J16+J21 -> 33

Sheet Маг ЗФО МА
A1: Медицинская академия имени С.И.Георгиевского
A2: Контингент заочной формы обучения на 01.01.2025 г. (Магистратурв) .
A4: Факультет/направление подготовки | B4: 1 год обучения | E4: 2 год обучения | H4: 3 год обучения | K4: Всего магистратуры
B5: За счет бюджетных ассигнований | C5: На основе догов. о платных образов. услугах | D5: ВСЕГО | E5: За счет бюджетных ассигнований | F5: На основе догов. о платных образов. услугах | G5: ВСЕГО | H5: За счет бюджетных ассигнований | I5: На основе догов. о платных образов. услугах | J5: ВСЕГО | K5: За счет бюджетных ассигнований | L5: На основе догов. о платных образов. услугах | M5: ВСЕГО
A6: Свод по направлениям подготовки
A7: 49.04.01. Физическая культура | B7: 7 | C7: 2 | D7: 9 | E7: 10 | F7: 4 | G7: 15 | H7: 10 | I7: 6 | J7: 16 | K7: =K12+K16 -> 27 | L7: =L12+L16 -> 13 | M7: =M12+M16 -> 40
A8: 49.04.02. Физическая культура для лиц с отклонениями в состоянии здоровья (адаптивная физическая культура) | B8: 8 | C8: 5 | D8: 13 | E8: 12 | F8: 2 | G8: 14 | H8: 9 | I8: 4 | J8: 13 | K8: =K13+K17 -> 29 | L8: =L13+L17 -> 11 | M8: =M13+M17 -> 40
A9: Итого по направлениям подготовки: | B9: =SUM(B7:B8) -> 15 | C9: =SUM(C7:C8) -> 7 | D9: =SUM(D7:D8) -> 22 | E9: =SUM(E7:E8) -> 22 | F9: =SUM(F7:F8) -> 6 | G9: =SUM(G7:G8) -> 29 | H9: =SUM(H7:H8) -> 19 | I9: =SUM(I7:I8) -> 10 | ... M9: =SUM(M7:M8) -> 80
A10: В том числе:
A11: Граждане России
A12: 49.04.01. Физическая культура | B12: 7 | C12: 2 | D12: 9 | E12: 10 | F12: 4 | G12: 14 | H12: 10 | I12: 6 | J12: 16 | K12: =B12+E12+H12 -> 27 | L12: =C12+F12+I12 -> 12 | M12: =K12+L12 -> 39
A13: 49.04.02. Физическая культура для лиц с отклонениями в состоянии здоровья (адаптивная физическая культура) | B13: 8 | C13: 5 | D13: 13 | E13: 12 | F13: 2 | G13: 14 | H13: 9 | I13: 4 | J13: 13 | K13: =B13+E13+H13 -> 29 | L13: =C13+F13+I13 -> 11 | M13: =K13+L13 -> 40
A14: Итого граждане России | B14: =SUM(B12:B13) -> 15 | C14: =SUM(C12:C13) -> 7 | D14: =SUM(D12:D13) -> 22 | E14: =SUM(E12:E13) -> 22 | F14: =SUM(F12:F13) -> 6 | G14: =SUM(G12:G13) -> 28 | H14: =SUM(H12:H13) -> 19 | I14: =SUM(I12:I13) -> 10 | ... M14: =SUM(M12:M13) -> 79
A15: Граждане иностранных государств (вкл. Украину)
A16: 49.04.01. Физическая культура | B16: 0 | C16: 0 | D16: 0 | E16: 0 | F16: 0 | G16: 0 | H16: 0 | I16: 1 | J16: 1 | K16: =B16+E16+H16 -> 0 | L16: =C16+F16+I16 -> 1 | M16: =K16+L16 -> 1
A17: 49.04.02. Физическая культура для лиц с отклонениями в состоянии здоровья (адаптивная физическая культура) | B17: 0 | C17: 0 | D17: 0 | E17: 0 | F17: 0 | G17: 0 | H17: 0 | I17: 0 | J17: 0 | K17: =B17+E17+H17 -> 0 | L17: =C17+F17+I17 -> 0 | M17: =K17+L17 -> 0
A18: Итого граждане иностранных государств | B18: =SUM(B16:B17) -> 0 | C18: =SUM(C16:C17) -> 0 | D18: =SUM(D16:D17) -> 0 | E18: =SUM(E16:E17) -> 0 | F18: =SUM(F16:F17) -> 0 | G18: =SUM(G16:G17) -> 0 | H18: =SUM(H16:H17) -> 0 | I18: =SUM(I16:I17) -> 1 | ... M18: =SUM(M16:M17) -> 1
A19: Итого МАГИСТРЫ ЗО | B19: =B14+B18 -> 15 | C19: =C14+C18 -> 7 | D19: =D14+D18 -> 22 | E19: =E14+E18 -> 22 | F19: =F14+F18 -> 6 | G19: =G14+G18 -> 28 | H19: =H14+H18 -> 19 | I19: =I14+I18 -> 11 | ... M19: =M14+M18 -> 80

Sheet Бакалавр ОФО АСИА
A1: ИНСТИТУТ "АКАДЕМИЯ СТРОИТЕЛЬСТВА И АРХИТЕКТУРЫ"
A3: Контингент очной формы обучения на 01.01.2025 г.(Бакалавриата)
A5: Факультет/направление подготовки | B5: 1 | E5: 2 | H5: 3 | K5: 4 | N5: 5 | Q5: Всего бакалавры
B7: За счет бюджетных ассигнований | C7: На основе догов. о платных образов. услугах | D7: ВСЕГО | E7: За счет бюджетных ассигнований | F7: На основе догов. о платных образов. услугах | G7: ВСЕГО | H7: За счет бюджетных ассигнований | I7: На основе догов. о платных образов. услугах | J7: ВСЕГО | K7: За счет бюджетных ассигнований | L7: На основе догов. о платных образов. услугах | M7: ВСЕГО | N7: За счет бюджетных ассигнований | O7: На основе догов. о платных образов. услугах | P7: ВСЕГО | Q7: За счет бюджетных ассигнований | R7: На основе догов. о платных образов. услугах | S7: ВСЕГО
A8: Свод по направлениям подготовки
A9: 07.03.01 Архитектура | B9: =B21+B16 -> 23 | C9: =C21+C16 -> 22 | D9: =D21+D16 -> 45 | E9: 0 | F9: 0 | G9: 0 | H9: 0 | I9: 0 | J9: 0 | K9: 0 | L9: 0 | M9: 0 | N9: 0 | O9: 0 | P9: 0 | Q9: =B9+E9+H9+K9+N9 -> 23 | R9: =C9+F9+I9+L9+O9 -> 22 | S9: =SUM(Q9:R9) -> 45
A10: 07.03.04 Градостроительство | B10: 29 | C10: 19 | D10: 48 | E10: 52 | F10: 15 | G10: 67 | H10: 55 | I10: 7 | J10: 62 | K10: 54 | L10: 2 | M10: 56 | N10: 60 | O10: 3 | P10: 63 | Q10: =B10+E10+H10+K10+N10 -> 250 | R10: =C10+F10+I10+L10+O10 -> 46 | S10: =SUM(Q10:R10) -> 296
A11: 08.03.01Строительство | B11: =' Бакалавры ДО '!B12 -> 119 | C11: =' Бакалавры ДО '!C12 -> 7 | D11: =' Бакалавры ДО '!D12 -> 126 | E11: =' Бакалавры ДО '!E12 -> 125 | F11: =' Бакалавры ДО '!F12 -> 9 | G11: =' Бакалавры ДО '!G12 -> 134 | H11: =' Бакалавры ДО '!H12 -> 98 | I11: =' Бакалавры ДО '!I12 -> 4 | ... P11: =' Бакалавры ДО '!P12 -> 0 | Q11: =B11+E11+H11+K11 -> 431 | R11: =C11+F11+I11+L11 -> 24 | S11: =SUM(Q11:R11) -> 455
A12: 20.03.02 Природообустройство и водопользование | B12: =' Бакалавры ДО '!B13 -> 0 | C12: =' Бакалавры ДО '!C13 -> 0 | D12: =' Бакалавры ДО '!D13 -> 0 | E12: =' Бакалавры ДО '!E13 -> 0 | F12: =' Бакалавры ДО '!F13 -> 0 | G12: =' Бакалавры ДО '!G13 -> 0 | H12: =' Бакалавры ДО '!H13 -> 0 | I12: =' Бакалавры ДО '!I13 -> 0 | ... P12: =' Бакалавры ДО '!P13 -> 0 | Q12: =B12+E12+H12+K12 -> 0 | R12: =C12+F12+I12+L12 -> 0 | S12: =SUM(Q12:R12) -> 0
A13: Итого по направлениям подготовки: | B13: =SUM(B9:B12) -> 171 | C13: =SUM(C9:C12) -> 48 | D13: =SUM(D9:D12) -> 219 | E13: =SUM(E10:E12) -> 177 | F13: =SUM(F10:F12) -> 24 | G13: =SUM(G10:G12) -> 201 | H13: =SUM(H10:H12) -> 153 | I13: =SUM(I10:I12) -> 11 | J13: =SUM(J10:J12) -> 164 | K13: =SUM(K10:K12) -> 143 | L13: =SUM(L10:L12) -> 6 | M13: =SUM(M10:M12) -> 149 | N13: =SUM(N10) -> 60 | O13: =SUM(O10) -> 3 | P13: =SUM(P10) -> 63 | Q13: =SUM(Q9:Q12) -> 704 | R13: =SUM(R9:R12) -> 92 | S13: =SUM(S9:S12) -> 796
A14: В том числе:
A15: Граждане России
A16: 07.03.01 Архитектура | B16: 23 | C16: 22 | D16: =SUM(B16:C16) -> 45 | E16: 0 | F16: 0 | G16: 0 | H16: 0 | I16: 0 | J16: 0 | K16: 0 | L16: 0 | M16: 0 | N16: 0 | O16: 0 | P16: 0 | Q16: =B16+E16+H16+K16+N16 -> 23 | R16: =C16+F16+I16+L16+O16 -> 22 | S16: =SUM(Q16:R16) -> 45
A17: 07.03.04 Градостроительство | B17: 29 | C17: 19 | D17: =SUM(B17:C17) -> 48 | E17: 52 | F17: 15 | G17: =SUM(E17:F17) -> 67 | H17: 55 | I17: 7 | J17: =SUM(H17:I17) -> 62 | K17: 54 | L17: 2 | M17: =SUM(K17:L17) -> 56 | N17: 60 | O17: 3 | P17: =SUM(N17:O17) -> 63 | Q17: =B17+E17+H17+K17+N17 -> 250 | R17: =C17+F17+I17+L17+O17 -> 46 | S17: =SUM(Q17:R17) -> 296
A18: 08.03.01Строительство | B18: 117 | C18: 7 | D18: =SUM(B18:C18) -> 124 | E18: 123 | F18: 10 | G18: =SUM(E18:F18) -> 133 | H18: 96 | I18: 3 | J18: =SUM(H18:I18) -> 99 | K18: 89 | L18: 3 | M18: =SUM(K18:L18) -> 92 | N18: 0 | O18: 0 | P18: 0 | Q18: =B18+E18+H18+K18 -> 425 | R18: =C18+F18+I18+L18 -> 23 | S18: =SUM(Q18:R18) -> 448
A19: 20.03.02 Природообустройство и водопользование | B19: 24 | C19: 0 | D19: =SUM(B19:C19) -> 24 | E19: 16 | G19: =SUM(E19:F19) -> 16 | H19: 11 | I19: 0 | J19: =SUM(H19:I19) -> 11 | K19: 5 | L19: 1 | M19: =SUM(K19:L19) -> 6 | N19: 0 | O19: 0 | P19: 0 | Q19: =B19+E19+H19+K19 -> 56 | R19: =C19+F19+I19+L19 -> 1 | S19: =SUM(Q19:R19) -> 57
A20: Итого граждане России | B20: =SUM(B16:B19) -> 193 | C20: =SUM(C16:C19) -> 48 | D20: =SUM(D16:D19) -> 241 | E20: =SUM(E17:E19) -> 191 | F20: =SUM(F17:F19) -> 25 | G20: =SUM(G17:G19) -> 216 | H20: =SUM(H17:H19) -> 162 | I20: =SUM(I17:I19) -> 10 | J20: =SUM(J17:J19) -> 172 | K20: =SUM(K17:K19) -> 148 | L20: =SUM(L17:L19) -> 6 | ... O20: =SUM(O17:O19) -> 3 | P20: =SUM(N20:O20) -> 63 | Q20: =B20+E20+H20+K20+N20 -> 754 | R20: =C20+F20+I20+L20+O20 -> 92 | S20: =SUM(Q20:R20) -> 846
A21: Граждане иностранных государств (вкл. Украину) | Q21: =B21+E21+H21+K21 -> 0 | R21: =C21+F21+I21+L21 -> 0 | S21: =SUM(Q21:R21) -> 0
A22: 07.03.04 Градостроительство | B22: 0 | C22: 0 | D22: =SUM(B22:C22) -> 0 | E22: 0 | F22: 0 | G22: =SUM(E22:F22) -> 0 | H22: 0 | I22: 0 | J22: =SUM(H22:I22) -> 0 | K22: 0 | L22: 0 | M22: =SUM(K22:L22) -> 0 | N22: 0 | O22: 0 | P22: =SUM(N22:O22) -> 0 | Q22: =B22+E22+H22+K22+N22 -> 0 | R22: =C22+F22+I22+L22+O22 -> 0 | S22: =SUM(Q22:R22) -> 0
A23: 08.03.01Строительство | B23: 1 | C23: 0 | D23: =SUM(B23:C23) -> 1 | E23: 1 | F23: 0 | G23: =SUM(E23:F23) -> 1 | H23: 2 | I23: 1 | J23: =SUM(H23:I23) -> 3 | K23: 0 | L23: 1 | M23: =SUM(K23:L23) -> 1 | N23: 0 | O23: 0 | P23: =SUM(N23:O23) -> 0 | Q23: =B23+E23+H23+K23 -> 4 | R23: =C23+F23+I23+L23 -> 2 | S23: =SUM(Q23:R23) -> 6
A24: 20.03.02 Природообустройство и водопользование | B24: 0 | C24: 0 | D24: =SUM(B24:C24) -> 0 | E24: 0 | F24: 0 | G24: =SUM(E24:F24) -> 0 | H24: 0 | I24: 0 | J24: =SUM(H24:I24) -> 0 | K24: 0 | L24: 0 | M24: =SUM(K24:L24) -> 0 | N24: 0 | O24: 0 | P24: =SUM(N24:O24) -> 0 | Q24: =B24+E24+H24+K24 -> 0 | R24: =C24+F24+I24+L24 -> 0 | S24: =SUM(Q24:R24) -> 0
A25: Итого граждане иностранных государств | B25: =SUM(B22:B24) -> 1 | C25: =SUM(C22:C24) -> 0 | D25: =SUM(D22:D24) -> 1 | E25: =SUM(E22:E24) -> 1 | F25: =SUM(F22:F24) -> 0 | G25: =SUM(G22:G24) -> 1 | H25: =SUM(H22:H24) -> 2 | I25: =SUM(I22:I24) -> 1 | ... O25: =SUM(O22:O24) -> 0 | P25: =SUM(N25:O25) -> 0 | Q25: =SUM(Q21:Q24) -> 4 | R25: =SUM(R21:R24) -> 2 | S25: =SUM(S21:S24) -> 6
A26: ИТОГО по подразделению граждане России | B26: =B20 -> 193 | C26: =C20 -> 48 | D26: =D20 -> 241 | E26: =E20 -> 191 | F26: =F20 -> 25 | G26: =G20 -> 216 | H26: =H20 -> 162 | I26: =I20 -> 10 | ... M26: =M20 -> 154 | N26: =SUM(N20) -> 60 | O26: =SUM(O20) -> 3 | P26: =SUM(N26:O26) -> 63 | Q26: =Q20 -> 754 | R26: =R20 -> 92 | S26: =Q26+R26 -> 846
A27: ИТОГО по подразделению иностранные граждане | B27: =B25 -> 1 | C27: =C25 -> 0 | D27: =D25 -> 1 | E27: =E25 -> 1 | F27: =F25 -> 0 | G27: =G25 -> 1 | H27: =H25 -> 2 | I27: =I25 -> 1 | ... M27: =M25 -> 1 | N27: =SUM(N25) -> 0 | O27: =SUM(O25) -> 0 | P27: =SUM(N27:O27) -> 0 | Q27: =Q25 -> 4 | R27: =R25 -> 2 | S27: =S25 -> 6
A28: Итого | B28: =SUM(B26:B27) -> 194 | C28: =SUM(C26:C27) -> 48 | D28: =SUM(D26:D27) -> 242 | E28: =SUM(E26:E27) -> 192 | F28: =SUM(F26:F27) -> 25 | G28: =SUM(G26:G27) -> 217 | H28: =SUM(H26:H27) -> 164 | I28: =SUM(I26:I27) -> 11 | ... S28: =SUM(S26:S27) -> 852

Sheet Бакалавр ОЗФО АСиА
A2: ИНСТИТУТ "АКАДЕМИЯ СТРОИТЕЛЬСТВА И АРХИТЕКТУРЫ"
A3: Контингент очно-заочной формы обучения на 01.01.2025 г.(Бакалавриат)
B5: Факультет/направление подготовки | C5: 1 | F5: 2 | I5: 3 | L5: 4 | O5: 5 | R5: Всего бакалавров
C7: За счет бюджетных ассигнований | D7: На основе догов. о платных образов. услугах | E7: ВСЕГО | F7: За счет бюджетных ассигнований | G7: На основе догов. о платных образов. услугах | H7: ВСЕГО | I7: За счет бюджетных ассигнований | J7: На основе догов. о платных образов. услугах | K7: ВСЕГО | L7: За счет бюджетных ассигнований | M7: На основе догов. о платных образов. услугах | N7: ВСЕГО | O7: За счет бюджетных ассигнований | P7: На основе догов. о платных образов. услугах | Q7: ВСЕГО | R7: За счет бюджетных ассигнований | S7: На основе догов. о платных образов. услугах | T7: ВСЕГО
B8: Свод по направлениям подготовки
B9: 08.03.01 Строительство | C9: =C22+C15 -> 0 | D9: =D22+D15 -> 15 | E9: =E22+E15 -> 15 | F9: =F22+F15 -> 0 | G9: =G22+G15 -> 35 | H9: =H22+H15 -> 35 | I9: =I22+I15 -> 0 | J9: =J22+J15 -> 15 | ... T9: =T22+T15 -> 65
B10: 13.03.02 Электроэнергетика и электротехника | C10: =C23+C16 -> 0 | D10: =D23+D16 -> 0 | E10: =E23+E16 -> 0 | F10: =F23+F16 -> 0 | G10: =G23+G16 -> 0 | H10: =H23+H16 -> 0 | I10: =I23+I16 -> 0 | J10: =J23+J16 -> 0 | ... T10: =T23+T16 -> 0
B11: 20.03.02 Природообустройство и водопользование | C11: =C24+C17 -> 0 | D11: =D24+D17 -> 0 | E11: =E24+E17 -> 0 | F11: =F24+F17 -> 0 | G11: =G24+G17 -> 0 | H11: =H24+H17 -> 0 | I11: =I24+I17 -> 0 | J11: =J24+J17 -> 0 | ... T11: =T24+T17 -> 0
B12: Итого по направлениям подготовки | C12: =SUM(C9:C11) -> 0 | D12: =SUM(D9:D11) -> 15 | E12: =SUM(E9:E11) -> 15 | F12: =SUM(F9:F11) -> 0 | G12: =SUM(G9:G11) -> 35 | H12: =SUM(H9:H11) -> 35 | I12: =SUM(I9+I11) -> 0 | J12: =SUM(J9:J11) -> 15 | K12: =SUM(K9:K11) -> 15 | L12: =SUM(L9:L11) -> 0 | M12: =SUM(M9:M11) -> 0 | N12: =SUM(N9:N11) -> 0 | O12: =SUM(O9:O11) -> 0 | P12: =SUM(P9:P11) -> 0 | Q12: =SUM(Q9:Q11) -> 0 | ... T12: =SUM(T9:T11) -> 65
B13: В том числе:
B14: Граждане России
B15: 08.03.01 Строительство | C15: 0 | D15: 15 | E15: 15 | F15: 0 | G15: 35 | H15: 35 | I15: 0 | J15: 15 | K15: =SUM(I15:J15) -> 15 | L15: 0 | M15: 0 | N15: =SUM(L15:M15) -> 0 | O15: 0 | P15: 0 | Q15: =SUM(O15:P15) -> 0 | R15: =C15+F15+I15+L15+O15 -> 0 | S15: =D15+G15+J15+M15+P15 -> 65 | T15: =SUM(R15:S15) -> 65
B16: 13.03.02 Электроэнергетика и электротехника | E16: =SUM(C16:D16) -> 0 | H16: =SUM(F16:G16) -> 0 | K16: =SUM(I16:J16) -> 0 | N16: =SUM(L16:M16) -> 0 | Q16: =SUM(O16:P16) -> 0 | R16: =C16+F16+I16+L16+O16 -> 0 | S16: =D16+G16+J16+M16+P16 -> 0 | T16: =SUM(R16:S16) -> 0
B17: 20.03.02 Природообустройство и водопользование | C17: 0 | D17: 0 | E17: =SUM(C17:D17) -> 0 | F17: 0 | G17: 0 | H17: =SUM(F17:G17) -> 0 | I17: 0 | J17: 0 | K17: =SUM(I17:J17) -> 0 | L17: 0 | M17: 0 | N17: =SUM(L17:M17) -> 0 | O17: 0 | P17: 0 | Q17: =SUM(O17:P17) -> 0 | R17: =C17+F17+I17+L17+O17 -> 0 | S17: =D17+G17+J17+M17+P17 -> 0 | T17: =SUM(R17:S17) -> 0
C18: 0 | D18: 0 | E18: =SUM(C18:D18) -> 0 | F18: 0 | G18: 0 | H18: =SUM(F18:G18) -> 0 | I18: 0 | J18: 0 | K18: =SUM(I18:J18) -> 0 | L18: 0 | M18: 0 | N18: =SUM(L18:M18) -> 0 | O18: 0 | P18: 0 | Q18: =SUM(O18:P18) -> 0 | R18: =C18+F18+I18+L18+O18 -> 0 | S18: =D18+G18+J18+M18+P18 -> 0 | T18: =SUM(R18:S18) -> 0
C19: 0 | D19: 0 | E19: =SUM(C19:D19) -> 0 | F19: 0 | G19: 0 | H19: =SUM(F19:G19) -> 0 | I19: 0 | J19: 0 | K19: =SUM(I19:J19) -> 0 | L19: 0 | M19: 0 | N19: =SUM(L19:M19) -> 0 | O19: 0 | P19: 0 | Q19: =SUM(O19:P19) -> 0 | R19: =C19+F19+I19+L19+O19 -> 0 | S19: =D19+G19+J19+M19+P19 -> 0 | T19: =SUM(R19:S19) -> 0
B20: Итого граждане России | C20: =SUM(C15:C19) -> 0 | D20: =SUM(D15:D19) -> 15 | E20: =SUM(E15:E19) -> 15 | F20: =SUM(F15:F19) -> 0 | G20: =SUM(G15:G19) -> 35 | H20: =SUM(H15:H19) -> 35 | I20: =SUM(I15:I19) -> 0 | J20: =SUM(J15:J19) -> 15 | ... T20: =SUM(T15:T19) -> 65
B21: Граждане иностранных государств (вкл. Украину)
B22: 08.03.01 Строительство | C22: 0 | D22: 0 | E22: =SUM(C22:D22) -> 0 | F22: 0 | G22: 0 | H22: =SUM(F22:G22) -> 0 | I22: 0 | J22: 0 | K22: =SUM(I22:J22) -> 0 | L22: 0 | M22: 0 | N22: =SUM(L22:M22) -> 0 | O22: 0 | P22: 0 | Q22: =SUM(O22:P22) -> 0 | R22: =C22+F22+I22+L22+O22 -> 0 | S22: =D22+G22+J22+M22+P22 -> 0 | T22: =SUM(R22:S22) -> 0
B23: 13.03.02 Электроэнергетика и электротехника | C23: 0 | D23: 0 | E23: =SUM(C23:D23) -> 0 | F23: 0 | G23: 0 | H23: =SUM(F23:G23) -> 0 | I23: 0 | J23: 0 | K23: =SUM(I23:J23) -> 0 | L23: 0 | M23: 0 | N23: =SUM(L23:M23) -> 0 | O23: 0 | P23: 0 | Q23: =SUM(O23:P23) -> 0 | R23: =C23+F23+I23+L23+O23 -> 0 | S23: =D23+G23+J23+M23+P23 -> 0 | T23: =SUM(R23:S23) -> 0
B24: 20.03.02 Природообустройство и водопользование | C24: 0 | D24: 0 | E24: =SUM(C24:D24) -> 0 | F24: 0 | G24: 0 | H24: =SUM(F24:G24) -> 0 | I24: 0 | J24: 0 | K24: =SUM(I24:J24) -> 0 | L24: 0 | M24: 0 | N24: =SUM(L24:M24) -> 0 | O24: 0 | P24: 0 | Q24: =SUM(O24:P24) -> 0 | R24: =C24+F24+I24+L24+O24 -> 0 | S24: =D24+G24+J24+M24+P24 -> 0 | T24: =SUM(R24:S24) -> 0
C25: 0 | D25: 0 | E25: =SUM(C25:D25) -> 0 | F25: 0 | G25: 0 | H25: =SUM(F25:G25) -> 0 | I25: 0 | J25: 0 | K25: =SUM(I25:J25) -> 0 | L25: 0 | M25: 0 | N25: =SUM(L25:M25) -> 0 | O25: 0 | P25: 0 | Q25: =SUM(O25:P25) -> 0 | R25: =C25+F25+I25+L25+O25 -> 0 | S25: =D25+G25+J25+M25+P25 -> 0 | T25: =SUM(R25:S25) -> 0
B26: Итого граждане иностранных государств | C26: =SUM(C22:C25) -> 0 | D26: =SUM(D22:D25) -> 0 | E26: =SUM(E22:E25) -> 0 | F26: =SUM(F22:F25) -> 0 | G26: =SUM(G22:G25) -> 0 | H26: =SUM(H22:H25) -> 0 | I26: =SUM(I22:I25) -> 0 | J26: =SUM(J22:J25) -> 0 | ... T26: =SUM(T22:T25) -> 0
B27: ИТОГО по подразделению граждане России | C27: =C20 -> 0 | D27: =D20 -> 15 | E27: =E20 -> 15 | F27: =F20 -> 0 | G27: =G20 -> 35 | H27: =H20 -> 35 | I27: =I20 -> 0 | J27: =J20 -> 15 | ... T27: =T20 -> 65
B28: ИТОГО по подразделению граждане иностранных государств | C28: =C26 -> 0 | D28: =D26 -> 0 | E28: =E26 -> 0 | F28: =F26 -> 0 | G28: =G26 -> 0 | H28: =H26 -> 0 | I28: =I26 -> 0 | J28: =J26 -> 0 | ... T28: =T26 -> 0
B29: Свод по направлениям подготовки | C29: =SUM(C27:C28) -> 0 | D29: =SUM(D27:D28) -> 15 | E29: =SUM(E27:E28) -> 15 | F29: =SUM(F27:F28) -> 0 | G29: =SUM(G27:G28) -> 35 | H29: =SUM(H27:H28) -> 35 | I29: =SUM(I27:I28) -> 0 | J29: =SUM(J27:J28) -> 15 | ... T29: =SUM(T27:T28) -> 65

Sheet Бакалавр ЗФО АСИА
A2: ИНСТИТУТ "АКАДЕМИЯ СТРОИТЕЛЬСТВА И АРХИТЕКТУРЫ"
A3: Контингент заочной формы обучения на 01.01.2025 г.(Бакалавриат)
B5: Факультет/направление подготовки | C5: 1 | F5: 2 | I5: 3 | L5: 4 | O5: 5 | R5: Всего бакалавриата
C7: За счет бюджетных ассигнований | D7: На основе догов. о платных образов. услугах | E7: ВСЕГО | F7: За счет бюджетных ассигнований | G7: На основе догов. о платных образов. услугах | H7: ВСЕГО | I7: За счет бюджетных ассигнований | J7: На основе догов. о платных образов. услугах | K7: ВСЕГО | L7: За счет бюджетных ассигнований | M7: На основе догов. о платных образов. услугах | N7: ВСЕГО | O7: За счет бюджетных ассигнований | P7: На основе догов. о платных образов. услугах | Q7: ВСЕГО | R7: За счет бюджетных ассигнований | S7: На основе догов. о платных образов. услугах | T7: ВСЕГО
B8: Свод по направлениям подготовки
B9: 08.03.01 Строительство | C9: =C23+C16 -> 0 | D9: =D23+D16 -> 0 | E9: =E23+E16 -> 0 | F9: =F23+F16 -> 0 | G9: =G23+G16 -> 0 | H9: =H23+H16 -> 0 | I9: =I23+I16 -> 0 | J9: =J23+J16 -> 2 | ... T9: =T23+T16 -> 46
B10: 13.03.02 Электроэнергетика и электротехника | C10: =C24+C17 -> 0 | D10: =D24+D17 -> 0 | E10: =E24+E17 -> 0 | F10: =F24+F17 -> 0 | G10: =G24+G17 -> 0 | H10: =H24+H17 -> 0 | I10: =I24+I17 -> 0 | J10: =J24+J17 -> 0 | ... T10: =T24+T17 -> 0
B11: 20.03.02 Природообустройство и водопользование | C11: =C25+C18 -> 0 | D11: =D25+D18 -> 0 | E11: =E25+E18 -> 0 | F11: =F25+F18 -> 0 | G11: =G25+G18 -> 0 | H11: =H25+H18 -> 0 | I11: =I25+I18 -> 0 | J11: =J25+J18 -> 0 | ... T11: =T25+T18 -> 0
B12: 15.03.04 Автоматизация технологических процессов и производств | C12: =C27+C19 -> 0 | D12: =D27+D19 -> 0 | E12: =E27+E19 -> 0 | F12: =F27+F19 -> 0 | G12: =G27+G19 -> 0 | H12: =H27+H19 -> 0 | I12: =I27+I19 -> 0 | J12: =J27+J19 -> 0 | ... Q12: =Q27+Q19 -> 0 | R12: =C12+F12+I12+L12+O12 -> 0 | S12: =D12+G12+J12+M12+P12 -> 1 | T12: =SUM(R12:S12) -> 1
B13: Итого по направлениям подготовки | C13: =SUM(C9:C12) -> 0 | D13: =SUM(D9:D12) -> 0 | E13: =SUM(E9:E12) -> 0 | F13: =SUM(F9:F12) -> 0 | G13: =SUM(G9:G12) -> 0 | H13: =SUM(H9:H12) -> 0 | I13: =SUM(I9+I11) -> 0 | J13: =SUM(J9:J12) -> 2 | K13: =SUM(K9:K12) -> 2 | L13: =SUM(L9:L12) -> 0 | M13: =SUM(M9:M12) -> 1 | N13: =SUM(N9:N12) -> 1 | O13: =SUM(O9:O12) -> 0 | P13: =SUM(P9:P12) -> 44 | Q13: =SUM(Q9:Q12) -> 44 | ... T13: =SUM(T9:T12) -> 47
B14: В том числе:
B15: Граждане России
B16: 08.03.01 Строительство | C16: 0 | D16: 0 | E16: =SUM(C16:D16) -> 0 | F16: 0 | G16: 0 | H16: =SUM(F16:G16) -> 0 | I16: 0 | J16: 2 | K16: 2 | L16: 0 | M16: 0 | N16: =SUM(L16:M16) -> 0 | O16: 0 | P16: 40 | Q16: =SUM(O16:P16) -> 40 | R16: =C16+F16+I16+L16+O16 -> 0 | S16: =D16+G16+J16+M16+P16 -> 42 | T16: =SUM(R16:S16) -> 42
B17: 13.03.02 Электроэнергетика и электротехника | E17: =SUM(C17:D17) -> 0 | H17: =SUM(F17:G17) -> 0 | K17: =SUM(I17:J17) -> 0 | N17: =SUM(L17:M17) -> 0 | Q17: =SUM(O17:P17) -> 0 | R17: =C17+F17+I17+L17+O17 -> 0 | S17: =D17+G17+J17+M17+P17 -> 0 | T17: =SUM(R17:S17) -> 0
B18: 20.03.02 Природообустройство и водопользование | C18: 0 | D18: 0 | E18: =SUM(C18:D18) -> 0 | F18: 0 | G18: 0 | H18: =SUM(F18:G18) -> 0 | I18: 0 | J18: 0 | K18: =SUM(I18:J18) -> 0 | L18: 0 | M18: 0 | N18: =SUM(L18:M18) -> 0 | O18: 0 | P18: 0 | Q18: =SUM(O18:P18) -> 0 | R18: =C18+F18+I18+L18+O18 -> 0 | S18: =D18+G18+J18+M18+P18 -> 0 | T18: =SUM(R18:S18) -> 0
B19: 15.03.04 Автоматизация технологических процессов и производств | C19: 0 | D19: 0 | E19: =SUM(C19:D19) -> 0 | F19: 0 | G19: 0 | H19: =SUM(F19:G19) -> 0 | I19: 0 | J19: 0 | K19: =SUM(I19:J19) -> 0 | L19: 0 | M19: 1 | N19: =SUM(L19:M19) -> 1 | O19: 0 | P19: 0 | Q19: =SUM(O19:P19) -> 0 | R19: =C19+F19+I19+L19+O19 -> 0 | S19: =D19+G19+J19+M19+P19 -> 1 | T19: =SUM(R19:S19) -> 1
C20: 0 | D20: 0 | E20: =SUM(C20:D20) -> 0 | F20: 0 | G20: 0 | H20: =SUM(F20:G20) -> 0 | I20: 0 | J20: 0 | K20: =SUM(I20:J20) -> 0 | L20: 0 | M20: 0 | N20: =SUM(L20:M20) -> 0 | O20: 0 | P20: 0 | Q20: =SUM(O20:P20) -> 0 | R20: =C20+F20+I20+L20+O20 -> 0 | S20: =D20+G20+J20+M20+P20 -> 0 | T20: =SUM(R20:S20) -> 0
B21: Итого граждане России | C21: =SUM(C16:C20) -> 0 | D21: =SUM(D16:D20) -> 0 | E21: =SUM(E16:E20) -> 0 | F21: =SUM(F16:F20) -> 0 | G21: =SUM(G16:G20) -> 0 | H21: =SUM(H16:H20) -> 0 | I21: =SUM(I16:I20) -> 0 | J21: =SUM(J16:J20) -> 2 | ... T21: =SUM(T16:T20) -> 43
B22: Граждане иностранных государств (вкл. Украину)
B23: 08.03.01 Строительство | C23: 0 | D23: 0 | E23: =SUM(C23:D23) -> 0 | F23: 0 | G23: 0 | H23: =SUM(F23:G23) -> 0 | I23: 0 | J23: 0 | K23: =SUM(I23:J23) -> 0 | L23: 0 | M23: 0 | N23: =SUM(L23:M23) -> 0 | O23: 0 | P23: 4 | Q23: =SUM(O23:P23) -> 4 | R23: =C23+F23+I23+L23+O23 -> 0 | S23: =D23+G23+J23+M23+P23 -> 4 | T23: =SUM(R23:S23) -> 4
B24: 13.03.02 Электроэнергетика и электротехника | C24: 0 | D24: 0 | E24: =SUM(C24:D24) -> 0 | F24: 0 | G24: 0 | H24: =SUM(F24:G24) -> 0 | I24: 0 | J24: 0 | K24: =SUM(I24:J24) -> 0 | L24: 0 | M24: 0 | N24: =SUM(L24:M24) -> 0 | O24: 0 | P24: 0 | Q24: =SUM(O24:P24) -> 0 | R24: =C24+F24+I24+L24+O24 -> 0 | S24: =D24+G24+J24+M24+P24 -> 0 | T24: =SUM(R24:S24) -> 0
B25: 20.03.02 Природообустройство и водопользование | C25: 0 | D25: 0 | E25: =SUM(C25:D25) -> 0 | F25: 0 | G25: 0 | H25: =SUM(F25:G25) -> 0 | I25: 0 | J25: 0 | K25: =SUM(I25:J25) -> 0 | L25: 0 | M25: 0 | N25: =SUM(L25:M25) -> 0 | O25: 0 | P25: 0 | Q25: =SUM(O25:P25) -> 0 | R25: =C25+F25+I25+L25+O25 -> 0 | S25: =D25+G25+J25+M25+P25 -> 0 | T25: =SUM(R25:S25) -> 0
B26: 15.03.04 Автоматизация технологических процессов и производств | C26: 0 | D26: 0 | E26: =SUM(C26:D26) -> 0 | F26: 0 | G26: 0 | H26: =SUM(F26:G26) -> 0 | I26: 0 | J26: 0 | K26: =SUM(I26:J26) -> 0 | L26: 0 | M26: 0 | N26: =SUM(L26:M26) -> 0 | O26: 0 | P26: 0 | Q26: =SUM(O26:P26) -> 0 | R26: =C26+F26+I26+L26+O26 -> 0 | S26: =D26+G26+J26+M26+P26 -> 0 | T26: =SUM(R26:S26) -> 0
C27: 0 | D27: 0 | E27: =SUM(C27:D27) -> 0 | F27: 0 | G27: 0 | H27: =SUM(F27:G27) -> 0 | I27: 0 | J27: 0 | K27: =SUM(I27:J27) -> 0 | L27: 0 | M27: 0 | N27: =SUM(L27:M27) -> 0 | O27: 0 | P27: 0 | Q27: =SUM(O27:P27) -> 0 | R27: =C27+F27+I27+L27+O27 -> 0 | S27: =D27+G27+J27+M27+P27 -> 0 | T27: =SUM(R27:S27) -> 0
B28: Итого граждане иностранных государств | C28: =SUM(C23:C27) -> 0 | D28: =SUM(D23:D27) -> 0 | E28: =SUM(E23:E27) -> 0 | F28: =SUM(F23:F27) -> 0 | G28: =SUM(G23:G27) -> 0 | H28: =SUM(H23:H27) -> 0 | I28: =SUM(I23:I27) -> 0 | J28: =SUM(J23:J27) -> 0 | ... T28: =SUM(T23:T27) -> 4
B29: ИТОГО по подразделению граждане России | C29: =C21 -> 0 | D29: =D21 -> 0 | E29: =E21 -> 0 | F29: =F21 -> 0 | G29: =G21 -> 0 | H29: =H21 -> 0 | I29: =I21 -> 0 | J29: =J21 -> 2 | ... T29: =T21 -> 43
B30: ИТОГО по подразделению граждане иностранных государств | C30: =C28 -> 0 | D30: =D28 -> 0 | E30: =E28 -> 0 | F30: =F28 -> 0 | G30: =G28 -> 0 | H30: =H28 -> 0 | I30: =I28 -> 0 | J30: =J28 -> 0 | ... T30: =T28 -> 4
B31: Свод по направлениям подготовки | C31: =SUM(C29:C30) -> 0 | D31: =SUM(D29:D30) -> 0 | E31: =SUM(E29:E30) -> 0 | F31: =SUM(F29:F30) -> 0 | G31: =SUM(G29:G30) -> 0 | H31: =SUM(H29:H30) -> 0 | I31: =SUM(I29:I30) -> 0 | J31: =SUM(J29:J30) -> 2 | ... T31: =SUM(T29:T30) -> 47

Sheet МАГ ОФО АСИА
A2: ИНСТИТУТ "АКАДЕМИЯ СТРОИТЕЛЬСТВА И АРХИТЕКТУРЫ"
A3: Контингент очной формы обучения на 01.01.2025 г.(Магистратура)
A5: Факультет/направление подготовки | B5: 1 год обучения | E5: 2 год обучения | H5: Всего магистратуры
B6: МАГИСТР | E6: МАГИСТР
B7: За счет бюджетных ассигнований | C7: На основе догов. о платных образов. услугах | D7: ВСЕГО | E7: За счет бюджетных ассигнований | F7: На основе догов. о платных образов. услугах | G7: ВСЕГО | H7: За счет бюджетных ассигнований | I7: На основе догов. о платных образов. услугах | J7: ВСЕГО
A8: Свод по направлениям подготовки
A9: 07.04.04 Градостроительство | B9: =B15+B21+B27 -> 27 | C9: =C15+C21 -> 1 | D9: =D15+D21+D27 -> 28 | E9: =E15+E21+E27 -> 45 | F9: =F15+F21 -> 5 | G9: =G15+G21+G27 -> 50 | H9: =H15+H21+H27 -> 72 | I9: =I15+I21 -> 6 | J9: =J15+J21+J27 -> 78
A10: 08.04.01 Строительство | B10: =B16+B22 -> 60 | C10: =C16+C22 -> 2 | D10: =D16+D22 -> 62 | E10: 82 | F10: =F16+F22 -> 9 | G10: =G16+G22 -> 91 | H10: =H16+H22 -> 142 | I10: =I16+I22 -> 11 | J10: =J16+J22 -> 153
A11: 20.04.02 Природообустройство и водопользование | B11: =B17+B23 -> 0 | C11: =C17+C23 -> 0 | D11: =D17+D23 -> 0 | E11: =E17+E23 -> 0 | F11: =F17+F23 -> 0 | G11: =G17+G23 -> 0 | H11: =H17+H23 -> 0 | I11: =I17+I23 -> 0 | J11: =J17+J23 -> 0
A12: Итого по направлениям подготовки: | B12: =SUM(B8:B11) -> 87 | C12: =SUM(C8:C11) -> 3 | D12: =SUM(D8:D11) -> 90 | E12: =SUM(E8:E11) -> 127 | F12: =SUM(F8:F11) -> 14 | G12: =SUM(G8:G11) -> 141 | H12: =SUM(H9:H11) -> 214 | I12: =SUM(I9:I11) -> 17 | J12: =SUM(J9:J11) -> 231
A13: В том числе:
A14: Граждане России
A15: 07.04.04 Градостроительство | B15: 25 | C15: 1 | D15: =SUM(B15:C15) -> 26 | E15: 45 | F15: 5 | G15: =SUM(E15:F15) -> 50 | H15: =B15+E15 -> 70 | I15: =C15+F15 -> 6 | J15: =D15+G15 -> 76
A16: 08.04.01 Строительство | B16: 60 | C16: 2 | D16: =SUM(B16:C16) -> 62 | E16: 81 | F16: 9 | G16: =SUM(E16:F16) -> 90 | H16: =B16+E16 -> 141 | I16: =C16+F16 -> 11 | J16: =D16+G16 -> 152
A17: 20.04.02 Природообустройство и водопользование | B17: 0 | C17: 0 | D17: =SUM(B17:C17) -> 0 | E17: 0 | F17: 0 | G17: =SUM(E17:F17) -> 0 | H17: =B17+E17 -> 0 | I17: =C17+F17 -> 0 | J17: =D17+G17 -> 0
B18: 0 | C18: 0 | D18: =SUM(B18:C18) -> 0 | E18: 0 | F18: 0 | G18: =SUM(E18:F18) -> 0 | H18: =B18+E18 -> 0 | I18: =C18+F18 -> 0 | J18: =D18+G18 -> 0
A19: Итого граждане России | B19: =SUM(B15:B18) -> 85 | C19: =SUM(C15:C18) -> 3 | D19: =SUM(D15:D18) -> 88 | E19: =SUM(E15:E18) -> 126 | F19: =SUM(F15:F18) -> 14 | G19: =SUM(G15:G18) -> 140 | H19: =SUM(H15:H18) -> 211 | I19: =SUM(I15:I18) -> 17 | J19: =SUM(J15:J18) -> 228
A20: Граждане иностранных государств (вкл. Украину)
A21: 07.04.04 Градостроительство | B21: 2 | C21: 0 | D21: =SUM(B21:C21) -> 2 | E21: 0 | F21: 0 | G21: =SUM(E21:F21) -> 0 | H21: =B21+E21 -> 2 | I21: =C21+F21 -> 0 | J21: =D21+G21 -> 2
A22: 08.04.01 Строительство | B22: 0 | C22: 0 | D22: =SUM(B22:C22) -> 0 | E22: 1 | F22: 0 | G22: =SUM(E22:F22) -> 1 | H22: =B22+E22 -> 1 | I22: =C22+F22 -> 0 | J22: =D22+G22 -> 1
A23: 20.04.02 Природообустройство и водопользование | B23: 0 | C23: 0 | D23: =SUM(B23:C23) -> 0 | E23: 0 | F23: 0 | G23: =SUM(E23:F23) -> 0 | H23: =B23+E23 -> 0 | I23: =C23+F23 -> 0 | J23: =D23+G23 -> 0
B24: 0 | C24: 0 | D24: =SUM(B24:C24) -> 0 | E24: 0 | F24: 0 | G24: =SUM(E24:F24) -> 0 | H24: =B24+E24 -> 0 | I24: =C24+F24 -> 0 | J24: =D24+G24 -> 0
A25: Итого граждане иностранных государств | B25: =SUM(B21:B24) -> 2 | C25: =SUM(C21:C24) -> 0 | D25: =SUM(D21:D24) -> 2 | E25: =SUM(E21:E24) -> 1 | F25: =SUM(F21:F24) -> 0 | G25: =SUM(G21:G24) -> 1 | H25: =SUM(H21:H24) -> 3 | I25: =SUM(I21:I24) -> 0 | J25: =SUM(J21:J24) -> 3
A26: Граждане ЛНР и ДНР
A27: 07.04.04 Градостроительство | B27: 0 | D27: =SUM(B27:C27) -> 0 | E27: 0 | G27: =SUM(E27:F27) -> 0 | H27: =B27+E27 -> 0 | I27: =C27+F27 -> 0 | J27: =D27+G27 -> 0
A28: 08.04.01 Строительство | B28: 0 | C28: 0 | D28: =SUM(B28:C28) -> 0 | F28: 0 | G28: =SUM(E28:F28) -> 0 | H28: =B28+E28 -> 0 | I28: =C28+F28 -> 0 | J28: =D28+G28 -> 0
A29: 15.03.04 Автоматизация технологических процессов и производств | D29: =SUM(B29:C29) -> 0 | G29: =SUM(E29:F29) -> 0 | H29: =B29+E29 -> 0 | I29: =C29+F29 -> 0 | J29: =D29+G29 -> 0
A30: 20.04.02 Природообустройство и водопользование | D30: =SUM(B30:C30) -> 0 | G30: =SUM(E30:F30) -> 0 | H30: =B30+E30 -> 0 | I30: =C30+F30 -> 0 | J30: =D30+G30 -> 0
B31: 0 | C31: 0 | D31: =SUM(B31:C31) -> 0 | E31: 0 | F31: 0 | G31: =SUM(E31:F31) -> 0 | H31: =B31+E31 -> 0 | I31: =C31+F31 -> 0 | J31: =D31+G31 -> 0
A32: Итого граждане ЛНР и ДНР | B32: =SUM(B27:B31) -> 0 | C32: =SUM(C27:C31) -> 0 | D32: =SUM(D27:D31) -> 0 | E32: =SUM(E27:E31) -> 0 | F32: =SUM(F27:F31) -> 0 | G32: =SUM(G27:G31) -> 0 | H32: =SUM(H27:H31) -> 0 | I32: =SUM(I27:I31) -> 0 | J32: =SUM(J27:J31) -> 0
A33: ИТОГО по подразделению граждане России | B33: =B19 -> 85 | C33: =C19 -> 3 | D33: =D19 -> 88 | E33: =E19 -> 126 | F33: =F19 -> 14 | G33: =G19 -> 140 | H33: =H19 -> 211 | I33: =I19 -> 17 | J33: =J19 -> 228
A34: ИТОГО по подразделению иностранные граждане | B34: =B25+B32 -> 2 | C34: =C25 -> 0 | D34: =D25+D32 -> 2 | E34: =E25 -> 1 | F34: =F25 -> 0 | G34: =G25 -> 1 | H34: =H25+H32 -> 3 | I34: =I25 -> 0 | J34: =J25+J32 -> 3
A35: Итого | B35: =SUM(B33:B34) -> 87 | C35: =SUM(C33:C34) -> 3 | D35: =SUM(D33:D34) -> 90 | E35: =SUM(E33:E34) -> 127 | F35: =SUM(F33:F34) -> 14 | G35: =SUM(G33:G34) -> 141 | H35: =SUM(H33:H34) -> 214 | I35: =SUM(I33:I34) -> 17 | J35: =SUM(J33:J34) -> 231

Sheet МАГ ЗФО АСИА
A2: ИНСТИТУТ "АКАДЕМИЯ СТРОИТЕЛЬСТВА И АРХИТЕКТУРЫ"
A3: Контингент заочной формы обучения на 01.01.2025 г.(Магистратура)
A5: Факультет/направление подготовки | B5: 1 год обучения | E5: 2 год обучения | H5: 3 год обучения | K5: Всего магистратуры
B6: МАГИСТР | E6: МАГИСТР | H6: МАГИСТР
B7: За счет бюджетных ассигнований | C7: На основе догов. о платных образов. услугах | D7: ВСЕГО | E7: За счет бюджетных ассигнований | F7: На основе догов. о платных образов. услугах | G7: ВСЕГО | H7: За счет бюджетных ассигнований | I7: На основе догов. о платных образов. услугах | J7: ВСЕГО | K7: За счет бюджетных ассигнований | L7: На основе догов. о платных образов. услугах | M7: ВСЕГО
A8: Свод по направлениям подготовки
A9: 08.04.01 Строительство | B9: =B15+B15 -> 0 | C9: =C20+C15 -> 68 | D9: =D20+D15 -> 68 | E9: =E21+E15 -> 0 | F9: =F20+F15 -> 49 | G9: =G20+G15 -> 49 | H9: =H21+H15 -> 0 | I9: =I15+I20 -> 46 | J9: =J15+J20 -> 46 | K9: =B9+E9+H9 -> 0 | L9: =C9+F9+I9 -> 163 | M9: =D9+G9+J9 -> 163
A10: 15.03.04 Автоматизация технологических процессов и производств | B10: =B22+B16 -> 0 | C10: =C22+C16 -> 0 | D10: =D22+D16 -> 0 | E10: =E22+E16 -> 0 | F10: =F22+F16 -> 0 | G10: =G22+G16 -> 0 | H10: =H22+H16 -> 0 | I10: =I22+I16 -> 0 | J10: =J22+J16 -> 0 | K10: =B10+E10+H10 -> 0 | L10: =C10+F10+I10 -> 0 | M10: =D10+G10+J10 -> 0
A11: 20.04.02 Природообустройство и водопользование | B11: =B23+B17 -> 0 | C11: =C23+C17 -> 0 | D11: =D23+D17 -> 0 | E11: =E23+E17 -> 0 | F11: =F23+F17 -> 0 | G11: =G23+G17 -> 0 | H11: =H23+H17 -> 0 | I11: =I23+I17 -> 0 | J11: =J23+J17 -> 0 | K11: =B11+E11+H11 -> 0 | L11: =C11+F11+I11 -> 0 | M11: =D11+G11+J11 -> 0
A12: Итого по направлениям подготовки: | B12: =SUM(B8:B11) -> 0 | C12: =SUM(C8:C11) -> 68 | D12: =SUM(D8:D11) -> 68 | E12: =SUM(E8:E11) -> 0 | F12: =SUM(F8:F11) -> 49 | G12: =SUM(G8:G11) -> 49 | H12: =SUM(H8:H11) -> 0 | I12: =SUM(I8:I11) -> 46 | ... M12: =SUM(M8:M11) -> 163
A13: В том числе:
A14: Граждане России
A15: 08.04.01 Строительство | B15: 0 | C15: 68 | D15: =SUM(B15:C15) -> 68 | E15: 0 | F15: 49 | G15: =SUM(E15:F15) -> 49 | H15: 0 | I15: 45 | J15: =SUM(H15:I15) -> 45 | K15: =B15+E15+H15 -> 0 | L15: =C15+F15+I15 -> 162 | M15: =D15+G15+J15 -> 162
A16: 15.03.04 Автоматизация технологических процессов и производств | D16: =SUM(B16:C16) -> 0 | G16: =SUM(E16:F16) -> 0 | H16: 0 | I16: 0 | J16: =SUM(H16:I16) -> 0 | K16: =B16+E16+H16 -> 0 | L16: =C16+F16+I16 -> 0 | M16: =D16+G16+J16 -> 0
A17: 20.04.02 Природообустройство и водопользование | B17: 0 | C17: 0 | D17: =SUM(B17:C17) -> 0 | E17: 0 | F17: 0 | G17: =SUM(E17:F17) -> 0 | H17: 0 | I17: 0 | J17: =SUM(H17:I17) -> 0 | K17: =B17+E17+H17 -> 0 | L17: =C17+F17+I17 -> 0 | M17: =D17+G17+J17 -> 0
A18: Итого граждане России | B18: =SUM(B15:B17) -> 0 | C18: =SUM(C15:C17) -> 68 | D18: =SUM(D15:D17) -> 68 | E18: =SUM(E15:E17) -> 0 | F18: =SUM(F15:F17) -> 49 | G18: =SUM(G15:G17) -> 49 | H18: =SUM(H15:H17) -> 0 | I18: =SUM(I15:I17) -> 45 | ... M18: =SUM(M15:M17) -> 162
A19: Граждане иностранных государств (вкл. Украину)
A20: 08.04.01 Строительство | B20: 0 | C20: 0 | D20: =SUM(B20:C20) -> 0 | E20: 0 | F20: 0 | G20: =SUM(E20:F20) -> 0 | H20: 0 | I20: 1 | J20: =SUM(H20:I20) -> 1 | K20: =B20+E20+H20 -> 0 | L20: =C20+F20+I20 -> 1 | M20: =D20+G20+J20 -> 1
A21: 15.03.04 Автоматизация технологических процессов и производств | B21: 0 | C21: 0 | D21: =SUM(B21:C21) -> 0 | E21: 0 | F21: 0 | G21: =SUM(E21:F21) -> 0 | H21: 0 | I21: 0 | J21: =SUM(H21:I21) -> 0 | K21: =B21+E21+H21 -> 0 | L21: =C21+F21+I21 -> 0 | M21: =D21+G21+J21 -> 0
A22: 20.04.02 Природообустройство и водопользование | B22: 0 | C22: 0 | D22: =SUM(B22:C22) -> 0 | E22: 0 | F22: 0 | G22: =SUM(E22:F22) -> 0 | H22: 0 | I22: 0 | J22: =SUM(H22:I22) -> 0 | K22: =B22+E22+H22 -> 0 | L22: =C22+F22+I22 -> 0 | M22: =D22+G22+J22 -> 0
A25: Итого граждане иностранных государств | B25: =SUM(B20:B24) -> 0 | C25: =SUM(C20:C24) -> 0 | D25: =SUM(D20:D24) -> 0 | E25: =SUM(E20:E24) -> 0 | F25: =SUM(F20:F24) -> 0 | G25: =SUM(G20:G24) -> 0 | H25: =SUM(H20:H24) -> 0 | I25: =SUM(I20:I24) -> 1 | ... M25: =SUM(M20:M24) -> 1
A26: ИТОГО по подразделению граждане России | B26: =B18 -> 0 | C26: =C18 -> 68 | D26: =D18 -> 68 | E26: =E18 -> 0 | F26: =F18 -> 49 | G26: =G18 -> 49 | H26: =H18 -> 0 | I26: =I18 -> 45 | ... M26: =M18 -> 162
A27: ИТОГО по подразделению иностранные граждане | B27: =B25 -> 0 | C27: =C25 -> 0 | D27: =D25 -> 0 | E27: =E25 -> 0 | F27: =F25 -> 0 | G27: =G25 -> 0 | H27: =H25 -> 0 | I27: =I25 -> 1 | ... M27: =M25 -> 1
A28: Итого | B28: =SUM(B26:B27) -> 0 | C28: =SUM(C26:C27) -> 68 | D28: =SUM(D26:D27) -> 68 | E28: =SUM(E26:E27) -> 0 | F28: =SUM(F26:F27) -> 49 | G28: =SUM(G26:G27) -> 49 | H28: =SUM(H26:H27) -> 0 | I28: =SUM(I26:I27) -> 46 | ... M28: =SUM(M26:M27) -> 163

Sheet Бакалавр ОФО АТА
A1: институт "АГРОТЕХНОЛОГИЧЕСКАЯ АКАДЕМИЯ "КФУ
A2: Контингент Дневной формы обучения на 01.01.2025
C3: 1 | E3: 2 | H3: 3 | K3: 4
B4: За счет бюджетных ассигнований | C4: На основе догов.о платных образов.услугах | D4: ВСЕГО | E4: За счет бюджетных ассигнований | F4: На основе догов.о платных образов.услугах | G4: ВСЕГО | H4: За счет бюджетных ассигнований | I4: На основе догов.о платных образов.услугах | J4: ВСЕГО | K4: За счет бюджетных ассигнований | L4: На основе догов.о платных образов.услугах | M4: ВСЕГО | N4: За счет бюджетных ассигнований | O4: На основе догов.о платных образов.услугах | P4: ВСЕГО
A5: Свод по направлениям подготовкии
A6: 35.03.04 Агрономия | B6: =B18+B30 -> 24 | C6: =C18+C30 -> 3 | D6: =B6+C6 -> 27 | E6: =E18+E30 -> 22 | F6: =F18+F30 -> 2 | G6: =E6+F6 -> 24 | H6: =H18+H30 -> 14 | I6: =I18+I30 -> 0 | J6: =H6+I6 -> 14 | K6: =K18+K30 -> 14 | L6: =L18+L30 -> 1 | M6: =K6+L6 -> 15 | N6: =B6+E6+H6+K6 -> 74 | O6: =C6+F6+I6+L6 -> 6 | P6: =N6+O6 -> 80
A7: 35.03.07 Технология производства и переработки с.х. продукции | B7: 15 | C7: 0 | D7: 15 | E7: 0 | F7: 0 | G7: 0 | H7: 0 | I7: 0 | J7: 0 | K7: 0 | L7: 0 | M7: 0 | N7: 15 | O7: 0 | P7: 15
A8: 35.03.05 Садоводство | B8: =B20+B31 -> 21 | C8: =C20+C31 -> 0 | D8: =B8+C8 -> 21 | E8: =E20+E31 -> 19 | F8: =F20+F31 -> 0 | G8: =E8+F8 -> 19 | H8: =H20+H31 -> 12 | I8: =I20+I31 -> 0 | J8: =H8+I8 -> 12 | K8: =K20+K31 -> 9 | L8: =L20+L31 -> 0 | M8: =K8+L8 -> 9 | N8: =B8+E8+H8+K8 -> 61 | O8: =C8+F8+I8+L8 -> 0 | P8: =N8+O8 -> 61
A9: 21.03.02 Землеустройство и кадастры | B9: =B21+B32 -> 27 | C9: =C21+C32 -> 1 | D9: =B9+C9 -> 28 | E9: =E21+E32 -> 31 | F9: =F21+F32 -> 1 | G9: =E9+F9 -> 32 | H9: =H21+H32 -> 26 | I9: =I21+I32 -> 1 | J9: =H9+I9 -> 27 | K9: =K21+K32 -> 35 | L9: =L21+L32 -> 0 | M9: =K9+L9 -> 35 | N9: =B9+E9+H9+K9 -> 119 | O9: =C9+F9+I9+L9 -> 3 | P9: =N9+O9 -> 122
A10: 21.03.03Геодезия и дистанционное зондирование | B10: =B22+B33 -> 27 | C10: =C22+C33 -> 1 | D10: =B10+C10 -> 28 | E10: =E22+E33 -> 22 | F10: =F22+F33 -> 0 | G10: =E10+F10 -> 22 | H10: =H22+H33 -> 17 | I10: =I22+I33 -> 0 | J10: =H10+I10 -> 17 | K10: =K22+K33 -> 16 | L10: =L22+L33 -> 0 | M10: =K10+L10 -> 16 | N10: =B10+E10+H10+K10 -> 82 | O10: =C10+F10+I10+L10 -> 1 | P10: =N10+O10 -> 83
A11: 35.03.01 Лесное дело | B11: =B23+B34 -> 16 | C11: =C23+C34 -> 0 | D11: =B11+C11 -> 16 | E11: =E23+E34 -> 20 | F11: =F23+F34 -> 0 | G11: =E11+F11 -> 20 | H11: =H23+H34 -> 6 | I11: =I23+I34 -> 0 | J11: =H11+I11 -> 6 | K11: =K23+K34 -> 8 | L11: =L23+L34 -> 0 | M11: =K11+L11 -> 8 | N11: =B11+E11+H11+K11 -> 50 | O11: =C11+F11+I11+L11 -> 0 | P11: =N11+O11 -> 50
A12: 19.03.02 Продукты питания из растительного сырья | B12: =B24+B35 -> 24 | C12: =C24+C35 -> 0 | D12: =B12+C12 -> 24 | E12: =E24+E35 -> 37 | F12: =F24+F35 -> 2 | G12: =E12+F12 -> 39 | H12: =H24+H35 -> 14 | I12: =I24+I35 -> 0 | J12: =H12+I12 -> 14 | K12: =K24+K35 -> 20 | L12: =L24+L35 -> 0 | M12: =K12+L12 -> 20 | N12: =B12+E12+H12+K12 -> 95 | O12: =C12+F12+I12+L12 -> 2 | P12: =N12+O12 -> 97
A13: 19.03.03 Продукты питания животного происхождения | B13: =B25+B36 -> 16 | C13: =C25+C36 -> 0 | D13: =B13+C13 -> 16 | E13: =E25+E36 -> 18 | F13: =F25+F36 -> 0 | G13: =E13+F13 -> 18 | H13: =H25+H36 -> 5 | I13: =I25+I36 -> 0 | J13: =H13+I13 -> 5 | K13: =K25+K36 -> 8 | L13: =L25+L36 -> 0 | M13: =K13+L13 -> 8 | N13: =B13+E13+H13+K13 -> 47 | O13: =C13+F13+I13+L13 -> 0 | P13: =N13+O13 -> 47
A14: 35.03.06 Агроинженерия | B14: =B26+B37 -> 34 | C14: 1 | D14: =B14+C14 -> 35 | E14: =E26+E37 -> 42 | F14: =F26+F37 -> 1 | G14: =E14+F14 -> 43 | H14: =H26+H37 -> 34 | I14: =I26+I37 -> 1 | J14: =H14+I14 -> 35 | K14: =K26+K37 -> 28 | L14: =L26+L37 -> 0 | M14: =K14+L14 -> 28 | N14: =B14+E14+H14+K14 -> 138 | O14: =C14+F14+I14+L14 -> 3 | P14: =N14+O14 -> 141
A15: Итого по направлениям подготовки: | B15: 0 | C15: =SUM(C6:C14) -> 6 | D15: =SUM(D6:D14) -> 210 | E15: =SUM(E6:E14) -> 211 | F15: =SUM(F6:F14) -> 6 | G15: =SUM(G6:G14) -> 217 | H15: =SUM(H6:H14) -> 128 | I15: =SUM(I6:I14) -> 2 | J15: =SUM(J6:J14) -> 130 | ... P15: =SUM(P6:P14) -> 696
A16: В том числе:
A17: Граждане России
A18: 35.03.04 Агрономия | B18: 24 | C18: 3 | D18: =B18+C18 -> 27 | E18: 22 | F18: 2 | G18: =E18+F18 -> 24 | H18: 14 | I18: 0 | J18: =I18+H18 -> 14 | K18: 14 | L18: 1 | M18: =K18+L18 -> 15 | N18: =B18+E18+H18+K18 -> 74 | O18: =C18+F18+I18+L18 -> 6 | P18: =N18+O18 -> 80
A19: 35.03.07 Технология производства и переработки с.х. продукции | B19: 15 | C19: 0 | D19: 15 | E19: 0 | F19: 0 | G19: =E19+F19 -> 0 | H19: 0 | I19: 0 | J19: 0 | K19: 0 | L19: 0 | M19: 0 | N19: 15 | O19: 0 | P19: 15
A20: 35.03.05 Садоводство | B20: 21 | C20: 0 | D20: =B20+C20 -> 21 | E20: 19 | F20: 0 | G20: =E20+F20 -> 19 | H20: 12 | I20: 0 | J20: =I20+H20 -> 12 | K20: 9 | L20: 0 | M20: =K20+L20 -> 9 | N20: =B20+E20+H20+K20 -> 61 | O20: =C20+F20+I20+L20 -> 0 | P20: =N20+O20 -> 61
A21: 21.03.02 Землеустройство и кадастры | B21: 27 | C21: 1 | D21: =B21+C21 -> 28 | E21: 31 | F21: 1 | G21: =E21+F21 -> 32 | H21: 26 | I21: 1 | J21: 27 | K21: 35 | L21: 0 | M21: =K21+L21 -> 35 | N21: =B21+E21+H21+K21 -> 119 | O21: =C21+F21+I21+L21 -> 3 | P21: =N21+O21 -> 122
A22: 21.03.03 Геодезия и дистанцион. | B22: 27 | C22: 1 | D22: =B22+C22 -> 28 | E22: 22 | F22: 0 | G22: 22 | H22: 17 | I22: 0 | J22: =I22+H22 -> 17 | K22: 16 | L22: 0 | M22: =K22+L22 -> 16 | N22: =B22+E22+H22+K22 -> 82 | O22: =C22+F22+I22+L22 -> 1 | P22: =N22+O22 -> 83
A23: 35.03.01 Лесное дело | B23: 16 | C23: 0 | D23: =B23+C23 -> 16 | E23: 20 | F23: 0 | G23: =E23+F23 -> 20 | H23: 6 | I23: 0 | J23: =I23+H23 -> 6 | K23: 8 | L23: 0 | M23: =K23+L23 -> 8 | N23: =B23+E23+H23+K23 -> 50 | O23: =C23+F23+I23+L23 -> 0 | P23: =N23+O23 -> 50
A24: 19.03.02 Продукты питания из растительного сырья | B24: 24 | C24: 0 | D24: =B24+C24 -> 24 | E24: 37 | F24: 2 | G24: =E24+F24 -> 39 | H24: 14 | I24: 0 | J24: =I24+H24 -> 14 | K24: 20 | L24: 0 | M24: =K24+L24 -> 20 | N24: =B24+E24+H24+K24 -> 95 | O24: =C24+F24+I24+L24 -> 2 | P24: =N24+O24 -> 97
A25: 19.03.03 Продукты питания животного происхождения | B25: 16 | C25: 0 | D25: 16 | E25: 18 | F25: 0 | G25: =E25+F25 -> 18 | H25: 5 | I25: 0 | J25: 5 | K25: 8 | L25: 0 | M25: =K25+L25 -> 8 | N25: =B25+E25+H25+K25 -> 47 | O25: =C25+F25+I25+L25 -> 0 | P25: =N25+O25 -> 47
A26: 35.03.10 Агроинженерия | B26: 34 | C26: 0 | D26: =B26+C26 -> 34 | E26: 42 | F26: 1 | G26: =E26+F26 -> 43 | H26: 34 | I26: 1 | J26: =I26+H26 -> 35 | K26: 28 | L26: 0 | M26: =K26+L26 -> 28 | N26: =B26+E26+H26+K26 -> 138 | O26: =C26+F26+I26+L26 -> 2 | P26: =N26+O26 -> 140
A27: Итого граждане России | B27: =SUM(B18:B26) -> 204 | C27: =C18+C20+C21+C22+C23+C24+C25+C26 -> 5 | D27: =SUM(D18:D26) -> 209 | E27: =E18+E20+E21+E22+E23+E24+E25+E26 -> 211 | F27: =F18+F20+F21+F22+F23+F24+F25+F26 -> 6 | G27: =G18+G20+G21+G22+G23+G24+G25+G26 -> 217 | H27: =H18+H20+H21+H22+H23+H24+H25+H26 -> 128 | I27: =I18+I20+I21+I22+I23+I24+I25+I26 -> 2 | J27: =J18+J20+J21+J22+J23+J24+J25+J26 -> 130 | K27: =K18+K20+K21+K22+K23+K24+K25+K26 -> 138 | L27: =L18+L20+L21+L22+L23+L24+L25+L26 -> 1 | M27: =M18+M20+M21+M22+M23+M24+M25+M26 -> 139 | N27: =SUM(N18:N26) -> 681 | O27: 9 | P27: =SUM(P18:P26) -> 695
A28: Граждане иностранных государст(вкл.Украину)
A29: 35.03.07 Технология производства и переработки с.х. продукции | B29: 0 | C29: 0 | D29: 0 | E29: 0 | F29: 0 | G29: 0 | H29: 0 | I29: 0 | J29: 0 | K29: 0 | L29: 0 | M29: 0 | N29: 0 | O29: 0 | P29: 0
A30: 35.03.04 Агрономия | B30: 0 | C30: 0 | D30: =B30+C30 -> 0 | E30: 0 | F30: =0 -> 0 | G30: 0 | H30: 0 | I30: 0 | J30: =I30+H30 -> 0 | K30: 0 | L30: 0 | M30: =K30+L30 -> 0 | N30: =B30+E30+H30+K30 -> 0 | O30: =C30+F30+I30+L30 -> 0 | P30: =N30+O30 -> 0
A31: 35.03.05 Садоводство | B31: 0 | C31: 0 | D31: =B31+C31 -> 0 | E31: 0 | F31: 0 | G31: =E31+F31 -> 0 | H31: =0 -> 0 | I31: 0 | J31: =I31+H31 -> 0 | K31: 0 | L31: 0 | M31: =K31+L31 -> 0 | N31: =B31+E31+H31+K31 -> 0 | O31: =C31+F31+I31+L31 -> 0 | P31: =N31+O31 -> 0
A32: 21.03.02 Землеустройство и кадастры | B32: 0 | C32: 0 | D32: =B32+C32 -> 0 | E32: 0 | F32: 0 | G32: =0 -> 0 | H32: 0 | I32: 0 | J32: =I32+H32 -> 0 | K32: 0 | L32: 0 | M32: =K32+L32 -> 0 | N32: =B32+E32+H32+K32 -> 0 | O32: =C32+F32+I32+L32 -> 0 | P32: =N32+O32 -> 0
A33: 21.03.03 Геодезия и дистанцион. | B33: 0 | C33: 0 | D33: =B33+C33 -> 0 | E33: 0 | F33: 0 | G33: =E33+F33 -> 0 | H33: 0 | I33: 0 | J33: =I33+H33 -> 0 | K33: 0 | L33: 0 | M33: =K33+L33 -> 0 | N33: =B33+E33+H33+K33 -> 0 | O33: =C33+F33+I33+L33 -> 0 | P33: =N33+O33 -> 0
A34: 35.03.01 Лесное дело | B34: 0 | C34: 0 | D34: =B34+C34 -> 0 | E34: 0 | F34: 0 | G34: =E34+F34 -> 0 | H34: 0 | I34: 0 | J34: =I34+H34 -> 0 | K34: 0 | L34: 0 | M34: =K34+L34 -> 0 | N34: =B34+E34+H34+K34 -> 0 | O34: =C34+F34+I34+L34 -> 0 | P34: =N34+O34 -> 0
A35: 19.03.02 Продукты питания из растительного сырья | B35: 0 | C35: 0 | D35: =B35+C35 -> 0 | E35: 0 | F35: 0 | G35: =E35+F35 -> 0 | H35: 0 | I35: 0 | J35: =I35+H35 -> 0 | K35: 0 | L35: 0 | M35: =K35+L35 -> 0 | N35: =B35+E35+H35+K35 -> 0 | O35: =C35+F35+I35+L35 -> 0 | P35: =N35+O35 -> 0
A36: 19.03.03 Продукты питания животного происхождения | B36: 0 | C36: 0 | D36: =B36+C36 -> 0 | E36: 0 | F36: 0 | G36: =E36+F36 -> 0 | H36: 0 | I36: 0 | J36: =I36+H36 -> 0 | K36: 0 | L36: 0 | M36: =K36+L36 -> 0 | N36: =B36+E36+H36+K36 -> 0 | O36: =C36+F36+I36+L36 -> 0 | P36: =N36+O36 -> 0
A37: 35.03.10 Агроинженерия | B37: 0 | C37: 1 | D37: =B37+C37 -> 1 | E37: 0 | F37: 0 | G37: =E37+F37 -> 0 | H37: 0 | I37: 0 | J37: =I37+H37 -> 0 | K37: =0 -> 0 | L37: 0 | M37: =K37+L37 -> 0 | N37: =B37+E37+H37+K37 -> 0 | O37: =C37+F37+I37+L37 -> 1 | P37: =N37+O37 -> 1
A38: Итого граждане иностранных государст(вкл.Украину) | B38: =B30+B31+B32+B33+B34+B35+B36+B37 -> 0 | C38: =C30+C31+C32+C33+C34+C35+C36+C37 -> 1 | D38: =D30+D31+D32+D33+D34+D35+D36+D37 -> 1 | E38: =E30+E31+E32+E33+E34+E35+E36+E37 -> 0 | F38: =F30+F31+F32+F33+F34+F35+F36+F37 -> 0 | G38: =G30+G31+G32+G33+G34+G35+G36+G37 -> 0 | H38: =H30+H31+H32+H33+H34+H35+H36+H37 -> 0 | I38: =I30+I31+I32+I33+I34+I35+I36+I37 -> 0 | ... P38: =P30+P31+P32+P33+P34+P35+P36+P37 -> 1
A39: Итого граждане России | B39: =B27 -> 204 | C39: =C27 -> 5 | D39: =D27 -> 209 | E39: =E27 -> 211 | F39: =F27 -> 6 | G39: =G27 -> 217 | H39: =H27 -> 128 | I39: =I27 -> 2 | ... P39: =P27 -> 695
A40: Итого граждане иностранных государст(вкл.Украину) | B40: =B38 -> 0 | C40: =C38 -> 1 | D40: =D38 -> 1 | E40: =E38 -> 0 | F40: =F38 -> 0 | G40: =G38 -> 0 | H40: =H38 -> 0 | I40: =I38 -> 0 | ... P40: =P38 -> 1
A41: Всего по АТА | B41: =B39+B40 -> 204 | C41: =C39+C40 -> 6 | D41: =D39+D40 -> 210 | E41: =E39+E40 -> 211 | F41: =F39+F40 -> 6 | G41: =G39+G40 -> 217 | H41: =H39+H40 -> 128 | I41: =I39+I40 -> 2 | ... P41: =P39+P40 -> 696

Sheet Бакалавр ЗФО АTA
A1: институт "АГРОТЕХНОЛОГИЧЕСКАЯ АКАДЕМИЯ "КФУ
A2: Факультет/направление подготовки | E2: Контингент Заочной формы обучения на 01.01.2025
B3: 1 | E3: 2 | H3: 3 | K3: 4 | N3: 5
B5: За счет бюджетных ассигнований | C5: На основе догов.о платных образов.услугах | D5: ВСЕГО | E5: За счет бюджетных ассигнований | F5: На основе догов.о платных образов.услугах | G5: ВСЕГО | H5: За счет бюджетных ассигнований | I5: На основе догов.о платных образов.услугах | J5: ВСЕГО | K5: За счет бюджетных ассигнований | L5: На основе догов.о платных образов.услугах | M5: ВСЕГО | N5: За счет бюджетных ассигнований | O5: На основе догов.о платных образов.услугах | P5: ВСЕГО | Q5: За счет бюджетных ассигнований | R5: На основе догов.о платных образов.услугах | S5: ВСЕГО
A6: Свод по направлениям подготовкии
A7: 35.03.04 Агрономия | B7: 5 | C7: =C18+C28 -> 6 | D7: =B7+C7 -> 11 | E7: 19 | F7: =F18+F28 -> 5 | G7: =E7+F7 -> 24 | H7: =H18+H28 -> 12 | I7: =I18+I28 -> 3 | J7: =H7+I7 -> 15 | K7: =K18+K28 -> 14 | L7: =L18+L28 -> 0 | M7: =K7+L7 -> 14 | N7: =N18+N28 -> 23 | O7: =O18+O28 -> 1 | P7: =N7+O7 -> 24 | Q7: =B7+E7+H7+K7+N7 -> 73 | R7: =C7+F7+I7+L7+O7 -> 15 | S7: =D7+G7+J7+M7+P7 -> 88
A8: 35.03.05 Садоводство | B8: =B19+B29 -> 8 | C8: =C19+C29 -> 2 | D8: =B8+C8 -> 10 | E8: =E19+E29 -> 10 | F8: =F19+F29 -> 0 | G8: =E8+F8 -> 10 | H8: =H19+H29 -> 20 | I8: =I19+I29 -> 0 | J8: =H8+I8 -> 20 | K8: =K19+K29 -> 13 | L8: =L19+L29 -> 0 | M8: =K8+L8 -> 13 | N8: =N19+N29 -> 18 | O8: =O19+O29 -> 4 | P8: =N8+O8 -> 22 | Q8: =B8+E8+H8+K8+N8 -> 69 | R8: =C8+F8+I8+L8+O8 -> 6 | S8: =D8+G8+J8+M8+P8 -> 75
A9: 21.03.02 Землеустройство и кадастры | B9: =B20+B30 -> 15 | C9: =C20+C30 -> 4 | D9: =B9+C9 -> 19 | E9: =E20+E30 -> 15 | F9: =F20+F30 -> 4 | G9: =E9+F9 -> 19 | H9: =H20+H30 -> 24 | I9: =I20+I30 -> 5 | J9: =H9+I9 -> 29 | K9: 26 | L9: =L20+L30 -> 9 | M9: =K9+L9 -> 35 | N9: =N20+N30 -> 22 | O9: =O20+O30 -> 1 | P9: =N9+O9 -> 23 | Q9: =B9+E9+H9+K9+N9 -> 102 | R9: =C9+F9+I9+L9+O9 -> 23 | S9: =D9+G9+J9+M9+P9 -> 125
A10: 21.03.03 Геодезия и дистанцион. | B10: =B21+B31 -> 11 | C10: =C21+C31 -> 2 | D10: =B10+C10 -> 13 | E10: =E21+E31 -> 0 | F10: =F21+F31 -> 0 | G10: =E10+F10 -> 0 | H10: =H21+H31 -> 9 | I10: =I21+I31 -> 4 | J10: =H10+I10 -> 13 | K10: =K21+K31 -> 13 | L10: =L21+L31 -> 1 | M10: =K10+L10 -> 14 | N10: =N21+N31 -> 14 | O10: =O21+O31 -> 0 | P10: =N10+O10 -> 14 | Q10: =B10+E10+H10+K10+N10 -> 47 | R10: =C10+F10+I10+L10+O10 -> 7 | S10: =D10+G10+J10+M10+P10 -> 54
A11: 35.03.01 Лесное дело | B11: =B22+B32 -> 0 | C11: =C22+C32 -> 0 | D11: =B11+C11 -> 0 | E11: =E22+E32 -> 0 | F11: =F22+F32 -> 0 | G11: =E11+F11 -> 0 | H11: =H22+H32 -> 0 | I11: =I22+I32 -> 0 | J11: =H11+I11 -> 0 | K11: =K22+K32 -> 0 | L11: =L22+L32 -> 0 | M11: =K11+L11 -> 0 | N11: =N22+N32 -> 14 | O11: =O22+O32 -> 1 | P11: =N11+O11 -> 15 | Q11: =B11+E11+H11+K11+N11 -> 14 | R11: =C11+F11+I11+L11+O11 -> 1 | S11: =D11+G11+J11+M11+P11 -> 15
A12: 19.03.02 Продукты питания из растительного сырья | B12: =B23+B33 -> 9 | C12: =C23+C33 -> 3 | D12: =B12+C12 -> 12 | E12: =E23+E33 -> 14 | F12: =F23+F33 -> 3 | G12: =E12+F12 -> 17 | H12: =H23+H33 -> 11 | I12: =I23+I33 -> 2 | J12: =H12+I12 -> 13 | K12: =K23+K33 -> 18 | L12: =L23+L33 -> 4 | M12: =K12+L12 -> 22 | N12: =N23+N33 -> 26 | O12: =O23+O33 -> 0 | P12: =N12+O12 -> 26 | Q12: =B12+E12+H12+K12+N12 -> 78 | R12: =C12+F12+I12+L12+O12 -> 12 | S12: =D12+G12+J12+M12+P12 -> 90
A13: 19.03.03 Продукты питания животного происхождения | B13: =B24+B34 -> 7 | C13: =C24+C34 -> 1 | D13: =B13+C13 -> 8 | E13: =E24+E34 -> 9 | F13: =F24+F34 -> 0 | G13: =E13+F13 -> 9 | H13: =H24+H34 -> 11 | I13: =I24+I34 -> 1 | J13: =H13+I13 -> 12 | K13: =K24+K34 -> 11 | L13: =L24+L34 -> 0 | M13: =K13+L13 -> 11 | N13: =N24+N34 -> 7 | O13: =O24+O34 -> 0 | P13: =N13+O13 -> 7 | Q13: =B13+E13+H13+K13+N13 -> 45 | R13: =C13+F13+I13+L13+O13 -> 2 | S13: =D13+G13+J13+M13+P13 -> 47
A14: 35.03.06 Агроинженерия | B14: =B25+B35 -> 10 | C14: =C25+C35 -> 2 | D14: =B14+C14 -> 12 | E14: =E25+E35 -> 18 | F14: =F25+F35 -> 2 | G14: =E14+F14 -> 20 | H14: =H25+H35 -> 21 | I14: =I25+I35 -> 1 | J14: =H14+I14 -> 22 | K14: =K25+K35 -> 18 | L14: =L25+L35 -> 1 | M14: =K14+L14 -> 19 | N14: =N25+N35 -> 21 | O14: =O25+O35 -> 1 | P14: =N14+O14 -> 22 | Q14: =B14+E14+H14+K14+N14 -> 88 | R14: =C14+F14+I14+L14+O14 -> 7 | S14: =D14+G14+J14+M14+P14 -> 95
A15: Итого по направлениям подготовки: | B15: =SUM(B7:B14) -> 65 | C15: =SUM(C7:C14) -> 20 | D15: =SUM(D7:D14) -> 85 | E15: =SUM(E7:E14) -> 85 | F15: =SUM(F7:F14) -> 14 | G15: =SUM(G7:G14) -> 99 | H15: =SUM(H7:H14) -> 108 | I15: =SUM(I7:I14) -> 16 | ... S15: =SUM(S7:S14) -> 589
A16: В том числе:
A17: Граждане России
A18: 35.03.04 Агрономия | B18: 5 | C18: 6 | D18: =B18+C18 -> 11 | E18: 19 | F18: 5 | G18: =E18+F18 -> 24 | H18: 12 | I18: 3 | J18: =H18+I18 -> 15 | K18: 14 | L18: 0 | M18: =K18+L18 -> 14 | N18: 23 | O18: 1 | P18: =N18+O18 -> 24 | Q18: =B18+E18+H18+K18+N18 -> 73 | R18: =C18+F18+I18+L18+O18 -> 15 | S18: =D18+G18+J18+M18+P18 -> 88
A19: 35.03.05 Садоводство | B19: 8 | C19: 2 | D19: =B19+C19 -> 10 | E19: 10 | F19: 0 | G19: =E19+F19 -> 10 | H19: 20 | I19: 0 | J19: =H19+I19 -> 20 | K19: 13 | L19: 0 | M19: =K19+L19 -> 13 | N19: 18 | O19: 4 | P19: =N19+O19 -> 22 | Q19: =B19+E19+H19+K19+N19 -> 69 | R19: =C19+F19+I19+L19+O19 -> 6 | S19: =D19+G19+J19+M19+P19 -> 75
A20: 21.03.02 Землеустройство и кадастры | B20: 15 | C20: 4 | D20: =B20+C20 -> 19 | E20: 15 | F20: 4 | G20: 19 | H20: 24 | I20: 5 | J20: =H20+I20 -> 29 | K20: 26 | L20: 9 | M20: =K20+L20 -> 35 | N20: 22 | O20: 1 | P20: =N20+O20 -> 23 | Q20: =B20+E20+H20+K20+N20 -> 102 | R20: =C20+F20+I20+L20+O20 -> 23 | S20: =D20+G20+J20+M20+P20 -> 125
A21: 21.03.03 Геодезия и дистанцион. | B21: 11 | C21: 2 | D21: =B21+C21 -> 13 | E21: 0 | F21: 0 | G21: =E21+F21 -> 0 | H21: 9 | I21: 4 | J21: =H21+I21 -> 13 | K21: 13 | L21: 1 | M21: =K21+L21 -> 14 | N21: 14 | O21: 0 | P21: =N21+O21 -> 14 | Q21: =B21+E21+H21+K21+N21 -> 47 | R21: =C21+F21+I21+L21+O21 -> 7 | S21: =D21+G21+J21+M21+P21 -> 54
A22: 35.03.01 Лесное дело | B22: 0 | C22: 0 | D22: =B22+C22 -> 0 | E22: 0 | F22: 0 | G22: =E22+F22 -> 0 | H22: 0 | I22: 0 | J22: =H22+I22 -> 0 | K22: 0 | L22: 0 | M22: =K22+L22 -> 0 | N22: 14 | O22: 1 | P22: =N22+O22 -> 15 | Q22: =B22+E22+H22+K22+N22 -> 14 | R22: =C22+F22+I22+L22+O22 -> 1 | S22: =D22+G22+J22+M22+P22 -> 15
A23: 19.03.02 Продукты питания из растительного сырья | B23: 9 | C23: 3 | D23: =B23+C23 -> 12 | E23: 14 | F23: 3 | G23: =E23+F23 -> 17 | H23: 11 | I23: 2 | J23: =H23+I23 -> 13 | K23: 18 | L23: 4 | M23: =K23+L23 -> 22 | N23: 26 | O23: 0 | P23: =N23+O23 -> 26 | Q23: =B23+E23+H23+K23+N23 -> 78 | R23: =C23+F23+I23+L23+O23 -> 12 | S23: =D23+G23+J23+M23+P23 -> 90
A24: 19.03.03 Продукты питания животного происхождения | B24: 7 | C24: 1 | D24: =B24+C24 -> 8 | E24: 9 | F24: 0 | G24: =E24+F24 -> 9 | H24: 11 | I24: 1 | J24: =H24+I24 -> 12 | K24: 11 | L24: 0 | M24: =K24+L24 -> 11 | N24: 7 | O24: 0 | P24: =N24+O24 -> 7 | Q24: =B24+E24+H24+K24+N24 -> 45 | R24: =C24+F24+I24+L24+O24 -> 2 | S24: =D24+G24+J24+M24+P24 -> 47
A25: 35.03.06 Агроинженерия | B25: 10 | C25: 2 | D25: 12 | E25: 18 | F25: 2 | G25: 20 | H25: 21 | I25: 1 | J25: =H25+I25 -> 22 | K25: 18 | L25: 1 | M25: 19 | N25: 21 | O25: 1 | P25: 22 | Q25: =B25+E25+H25+K25+N25 -> 88 | R25: =C25+F25+I25+L25+O25 -> 7 | S25: =D25+G25+J25+M25+P25 -> 95
B26: =SUM(B18:B25) -> 65 | C26: =SUM(C18:C25) -> 20 | D26: =SUM(D18:D25) -> 85 | E26: =SUM(E18:E25) -> 85 | F26: =SUM(F18:F25) -> 14 | G26: =SUM(G18:G25) -> 99 | H26: =SUM(H18:H25) -> 108 | I26: =SUM(I18:I25) -> 16 | ... S26: =SUM(S18:S25) -> 589
A27: Граждане иностранных государст(вкл.Украину)
A28: 35.03.04 Агрономия | B28: 0 | C28: 0 | D28: =B28+C28 -> 0 | E28: 0 | F28: 0 | G28: =E28+F28 -> 0 | H28: 0 | I28: 0 | J28: =H28+I28 -> 0 | K28: 0 | L28: 0 | M28: =K28+L28 -> 0 | N28: 0 | O28: 0 | P28: =N28+O28 -> 0 | Q28: =E28+H28+K28+N28 -> 0 | R28: =F28+I28+L28+O28 -> 0 | S28: =Q28+R28 -> 0
A29: 35.03.05 Садоводство | B29: 0 | C29: 0 | D29: =B29+C29 -> 0 | E29: 0 | F29: 0 | G29: =E29+F29 -> 0 | H29: 0 | I29: 0 | J29: =H29+I29 -> 0 | K29: 0 | L29: 0 | M29: =K29+L29 -> 0 | N29: 0 | O29: 0 | P29: =N29+O29 -> 0 | Q29: =E29+H29+K29+N29 -> 0 | R29: =F29+I29+L29+O29 -> 0 | S29: =Q29+R29 -> 0
A30: 21.03.02 Землеустройство и кадастры | B30: 0 | C30: 0 | D30: =B30+C30 -> 0 | E30: 0 | F30: 0 | G30: =E30+F30 -> 0 | H30: 0 | I30: 0 | J30: =H30+I30 -> 0 | K30: 0 | L30: 0 | M30: =K30+L30 -> 0 | N30: 0 | O30: 0 | P30: =N30+O30 -> 0 | Q30: =E30+H30+K30+N30 -> 0 | R30: =F30+I30+L30+O30 -> 0 | S30: =Q30+R30 -> 0
A31: 21.03.03 Геодезия и дистанцион. | B31: 0 | C31: 0 | D31: =B31+C31 -> 0 | E31: 0 | F31: 0 | G31: =E31+F31 -> 0 | H31: 0 | I31: 0 | J31: =H31+I31 -> 0 | K31: 0 | L31: 0 | M31: =K31+L31 -> 0 | N31: 0 | O31: 0 | P31: =N31+O31 -> 0 | Q31: =E31+H31+K31+N31 -> 0 | R31: =F31+I31+L31+O31 -> 0 | S31: =Q31+R31 -> 0
A32: 35.03.01 Лесное дело | B32: 0 | C32: 0 | D32: =B32+C32 -> 0 | E32: 0 | F32: 0 | G32: =E32+F32 -> 0 | H32: 0 | I32: 0 | J32: =H32+I32 -> 0 | K32: 0 | L32: 0 | M32: =K32+L32 -> 0 | N32: 0 | O32: 0 | P32: =N32+O32 -> 0 | Q32: =E32+H32+K32+N32 -> 0 | R32: =F32+I32+L32+O32 -> 0 | S32: =Q32+R32 -> 0
A33: 19.03.02 Продукты питания из растительного сырья | B33: 0 | C33: 0 | D33: =B33+C33 -> 0 | E33: 0 | F33: 0 | G33: =E33+F33 -> 0 | H33: 0 | I33: 0 | J33: =H33+I33 -> 0 | K33: 0 | L33: 0 | M33: =K33+L33 -> 0 | N33: 0 | O33: 0 | P33: =N33+O33 -> 0 | Q33: =E33+H33+K33+N33 -> 0 | R33: =F33+I33+L33+O33 -> 0 | S33: =Q33+R33 -> 0
A34: 21.03.02 Продукты питания животного происхождения | B34: 0 | C34: 0 | D34: =B34+C34 -> 0 | E34: 0 | F34: 0 | G34: =E34+F34 -> 0 | H34: 0 | I34: 0 | J34: =H34+I34 -> 0 | K34: 0 | L34: 0 | M34: =K34+L34 -> 0 | N34: 0 | O34: 0 | P34: =N34+O34 -> 0 | Q34: =E34+H34+K34+N34 -> 0 | R34: =F34+I34+L34+O34 -> 0 | S34: =Q34+R34 -> 0
A35: 35.03.06 Агроинженерия | B35: 0 | C35: 0 | D35: =B35+C35 -> 0 | E35: 0 | F35: 0 | G35: =E35+F35 -> 0 | H35: 0 | I35: 0 | J35: =H35+I35 -> 0 | K35: 0 | L35: 0 | M35: =K35+L35 -> 0 | N35: 0 | O35: 0 | P35: =N35+O35 -> 0 | Q35: =E35+H35+K35+N35 -> 0 | R35: =F35+I35+L35+O35 -> 0 | S35: =Q35+R35 -> 0
A36: Итого граждане иностранных государст(вкл.Украину) | B36: =SUM(B28:B35) -> 0 | C36: =SUM(C28:C35) -> 0 | D36: =SUM(D28:D35) -> 0 | E36: =SUM(E28:E35) -> 0 | F36: =SUM(F28:F35) -> 0 | G36: =SUM(G28:G35) -> 0 | H36: =SUM(H28:H35) -> 0 | I36: =SUM(I28:I35) -> 0 | ... S36: =SUM(S28:S35) -> 0
A37: Всего по АТА | B37: =B26+B36 -> 65 | C37: =C26+C36 -> 20 | D37: =D26+D36 -> 85 | E37: =E26+E36 -> 85 | F37: =F26+F36 -> 14 | G37: =G26+G36 -> 99 | H37: =H26+H36 -> 108 | I37: =I26+I36 -> 16 | ... S37: =S26+S36 -> 589

Sheet Специалист ОФО АTA
A1: институт "АГРОТЕХНОЛОГИЧЕСКАЯ АКАДЕМИЯ "КФУ
A2: Контингент Дневной формы обучения на 01.01.2025 г.(специалитет)
B3: выпуск 2029 | E3: выпуск 2028 | H3: выпуск 2027 | K3: выпуск 2026 | N3: выпуск 2025 | Q3: ВСЕГО специалитет
A4: Факультет/направление подготовки | B4: 1 | E4: 2 | H4: 3 | K4: 4 | N4: 5
B5: специалисты | E5: специалисты | H5: специалисты | K5: специалисты | N5: специалисты
B6: За счет бюджетных ассигнований | C6: На основе догов.о платных образов.услугах | D6: ВСЕГО | E6: За счет бюджетных ассигнований | F6: На основе догов.о платных образов.услугах | G6: ВСЕГО | H6: За счет бюджетных ассигнований | I6: На основе догов.о платных образов.услугах | J6: ВСЕГО | K6: За счет бюджетных ассигнований | L6: На основе догов.о платных образов.услугах | M6: ВСЕГО | N6: За счет бюджетных ассигнований | O6: На основе догов.о платных образов.услугах | P6: ВСЕГО | Q6: За счет бюджетных ассигнований | R6: На основе догов.о платных образов.услугах | S6: ВСЕГО
A7: Факультет ветеринарной медицины
A8: 36.05.01 Ветеринария | B8: 59 | C8: 2 | D8: =C8+B8 -> 61 | E8: 60 | F8: 0 | G8: 60 | H8: 44 | I8: 0 | J8: 44 | K8: 54 | L8: 2 | M8: 56 | N8: 73 | O8: 1 | P8: 74 | Q8: =B8+E8+H8+K8+N8 -> 290 | R8: =I8+L8+O8+C8+F8 -> 5 | S8: =Q8+R8 -> 295
A9: Итого граждане России | B9: =B8 -> 59 | C9: =C8 -> 2 | D9: =D8 -> 61 | E9: =E8 -> 60 | F9: =F8 -> 0 | G9: =G8 -> 60 | H9: =H8 -> 44 | I9: =I8 -> 0 | ... S9: =S8 -> 295
A10: 36.05.01 Ветеринария | B10: 0 | C10: 0 | D10: =B10+C10 -> 0 | E10: 0 | F10: 0 | G10: 0 | H10: 0 | I10: 0 | J10: =H10+I10 -> 0 | K10: 0 | L10: 0 | M10: =K10+L10 -> 0 | N10: 0 | O10: 0 | P10: =N10+O10 -> 0 | Q10: =B10+E10+H10+K10+N10 -> 0 | R10: =I10+L10+O10+C10+F10 -> 0 | S10: =Q10+R10 -> 0
A11: Итого граждане иностранных государст(вкл.Украину) | B11: =B10 -> 0 | C11: =C10 -> 0 | D11: =D10 -> 0 | E11: =E10 -> 0 | F11: =F10 -> 0 | G11: =G10 -> 0 | H11: =H10 -> 0 | I11: =I10 -> 0 | J11: =J10 -> 0 | K11: 1 | L11: =L10 -> 0 | M11: 1 | N11: =N10 -> 0 | O11: =O10 -> 0 | P11: =P10 -> 0 | Q11: =B11+E11+H11+K11+N11 -> 1 | R11: =I11+L11+O11+C11+F11 -> 0 | S11: =Q11+R11 -> 1
A12: Итого по факультету | B12: =B9+B11 -> 59 | C12: =C9+C11 -> 2 | D12: =D9+D11 -> 61 | E12: =E9+E11 -> 60 | F12: =F9+F11 -> 0 | G12: =G9+G11 -> 60 | H12: =H9+H11 -> 44 | I12: =I9+I11 -> 0 | ... P12: =P9+P11 -> 74 | Q12: =B12+E12+H12+K12+N12 -> 291 | R12: =I12+L12+O12+C12+F12 -> 5 | S12: =Q12+R12 -> 296

Sheet Специал. ЗФО АТА
A1: институт "АГРОТЕХНОЛОГИЧЕСКАЯ АКАДЕМИЯ "КФУ
A2: Контингент Заочной формы обучения на 01.01.2025 (специалитет)
A3: Факультет/направление подготовки | B3: 1 | E3: 2 | H3: 3 | K3: 4 | N3: 5 | Q3: 6
B4: За счет бюджетных ассигнований | C4: На основе догов.о платных образов.услугах | D4: ВСЕГО | E4: За счет бюджетных ассигнований | F4: На основе догов.о платных образов.услугах | G4: ВСЕГО | H4: За счет бюджетных ассигнований | I4: На основе догов.о платных образов.услугах | J4: ВСЕГО | K4: За счет бюджетных ассигнований | L4: На основе догов.о платных образов.услугах | M4: ВСЕГО | N4: За счет бюджетных ассигнований | O4: На основе догов.о платных образов.услугах | P4: ВСЕГО | Q4: За счет бюджетных ассигнований | R4: На основе догов.о платных образов.услугах | S4: На основе догов.о платных образов.услугах | T4: ВСЕГО | U4: За счет бюджетных ассигнований | V4: На основе догов.о платных образов.услугах | W4: ВСЕГО
A5: 36.05.01 Ветеринария | B5: 0 | C5: 30 | D5: 30 | E5: 0 | F5: 0 | G5: 0 | H5: 0 | I5: 0 | J5: 0 | K5: 0 | L5: 0 | M5: 0 | N5: 0 | O5: 0 | P5: 0 | Q5: 0 | R5: 0 | S5: 0 | T5: 0 | U5: 0 | V5: 30 | W5: 30
A6: Итого граждане России | B6: 0 | C6: 30 | D6: 30 | E6: 0 | F6: 0 | G6: 0 | H6: 0 | I6: 0 | J6: 0 | K6: 0 | L6: 0 | M6: 0 | N6: 0 | O6: 0 | P6: 0 | Q6: 0 | R6: 0 | S6: 0 | T6: 0 | U6: 0 | V6: 30 | W6: 30
A7: 36.05.01 Ветеринария | B7: 0 | C7: 30 | D7: 30 | E7: 0 | F7: 0 | G7: 0 | H7: 0 | I7: 0 | J7: 0 | K7: 0 | L7: 0 | M7: 0 | N7: 0 | O7: 0 | P7: 0 | Q7: 0 | R7: 0 | S7: 0 | T7: 0 | U7: 0 | V7: 0 | W7: 0
A8: Итого граждане иностранных государст(вкл.Украину) | B8: 0 | C8: 0 | D8: 0 | E8: 0 | F8: 0 | G8: 0 | H8: 0 | I8: 0 | J8: 0 | K8: 0 | L8: 0 | M8: 0 | N8: 0 | O8: 0 | P8: 0 | Q8: 0 | R8: 0 | S8: 0 | T8: 0 | U8: 0 | V8: 0 | W8: 0
A9: Итого по факультету | B9: 0 | C9: 30 | D9: 30 | E9: 0 | F9: 0 | G9: 0 | H9: 0 | I9: 0 | J9: 0 | K9: 0 | L9: 0 | M9: 0 | N9: 0 | O9: 0 | P9: 0 | Q9: 0 | R9: 0 | S9: 0 | T9: 0 | U9: 0 | V9: 30 | W9: 30

Sheet МАГ ОФО АTA
A1: институт "АГРОТЕХНОЛОГИЧЕСКАЯ АКАДЕМИЯ "КФУ
A2: Контингент Дневной формы обучения на 01.01.2025
B3: 1 | E3: 2 | H3: Итого магистратуры
B4: магистр | E4: магистр
B5: За счет бюджетных ассигнований | C5: На основе догов.о платных образов.услугах | D5: ВСЕГО | E5: За счет бюджетных ассигнований | F5: На основе догов.о платных образов.услугах | G5: ВСЕГО | H5: За счет бюджетных ассигнований | I5: На основе догов.о платных образов.услугах | J5: ВСЕГО
A6: Свод по направлениям подготовкии
A7: 35.04.04 Агрономия | B7: =B18+B28 -> 11 | C7: =C18+C28 -> 0 | D7: =D18+D28 -> 11 | E7: =E18+E28 -> 12 | F7: =F18+F28 -> 0 | G7: =G18+G28 -> 12 | H7: =E7+B7 -> 23 | I7: =F7+C7 -> 0 | J7: =H7+I7 -> 23
A8: 35.04.05 Садоводство | B8: =B19+B29 -> 10 | C8: =C19+C29 -> 1 | D8: =D19+D29 -> 11 | E8: =E19+E29 -> 12 | F8: =F19+F29 -> 0 | G8: =G19+G29 -> 12 | H8: =E8+B8 -> 22 | I8: =F8+C8 -> 1 | J8: =H8+I8 -> 23
A9: 21.04.02 Землеустройство и кадастры | B9: =B20+B30 -> 15 | C9: =C20+C30 -> 0 | D9: =D20+D30 -> 15 | E9: =E20+E30 -> 20 | F9: =F20+F30 -> 3 | G9: =G20+G30 -> 23 | H9: =E9+B9 -> 35 | I9: =F9+C9 -> 3 | J9: =H9+I9 -> 38
A10: 35.04.01 Лесное дело | B10: =B21+B31 -> 10 | C10: =C21+C31 -> 0 | D10: =D21+D31 -> 10 | E10: =E21+E31 -> 15 | F10: =F21+F31 -> 0 | G10: =G21+G31 -> 15 | H10: =E10+B10 -> 25 | I10: =F10+C10 -> 0 | J10: =H10+I10 -> 25
A11: 19.04.02 Продукты питания из растительного сырья | B11: =B22+B32 -> 10 | C11: =C22+C32 -> 1 | D11: =D22+D32 -> 11 | E11: =E22+E32 -> 10 | F11: =F22+F32 -> 0 | G11: =G22+G32 -> 10 | H11: =E11+B11 -> 20 | I11: =F11+C11 -> 1 | J11: =H11+I11 -> 21
A12: 19.04.03 Продукты питания животного происхождения | B12: =B24+B33 -> 8 | C12: =C24+C33 -> 0 | D12: =D24+D33 -> 8 | E12: =E24+E33 -> 5 | F12: =F24+F33 -> 1 | G12: =G24+G33 -> 6 | H12: =E12+B12 -> 13 | I12: =F12+C12 -> 1 | J12: =H12+I12 -> 14
A13: 19.04.04 Технология продукции и организации общественного питания | B13: 10 | C13: 0 | D13: =C13+B13 -> 10 | E13: 0 | F13: 0 | G13: =F13+E13 -> 0 | H13: =E13+B13 -> 10 | I13: =F13+C13 -> 0 | J13: =H13+I13 -> 10
A14: 35.04.06 Агроинженерия | B14: =B25+B35 -> 22 | C14: =C25+C35 -> 0 | D14: =D25+D35 -> 22 | E14: =E25+E35 -> 20 | F14: =F25+F35 -> 0 | G14: =G25+G35 -> 20 | H14: =E14+B14 -> 42 | I14: =F14+C14 -> 0 | J14: =H14+I14 -> 42
A15: Итого по направлениям подготовки: | B15: =SUM(B7:B14) -> 96 | C15: =SUM(C7:C14) -> 2 | D15: =SUM(D7:D14) -> 98 | E15: =SUM(E7:E14) -> 94 | F15: =SUM(F7:F14) -> 4 | G15: =SUM(G7:G14) -> 98 | H15: =SUM(H7:H14) -> 190 | I15: =SUM(I7:I14) -> 6 | J15: =SUM(J7:J14) -> 196
A16: В том числе:
A17: Граждане России
A18: 35.04.04 Агрономия | B18: 11 | C18: 0 | D18: =C18+B18 -> 11 | E18: 11 | F18: 0 | G18: =F18+E18 -> 11 | H18: 23 | I18: 0 | J18: =H18+I18 -> 23
A19: 35.04.05 Садоводство | B19: 10 | C19: 0 | D19: =C19+B19 -> 10 | E19: 12 | F19: 0 | G19: =F19+E19 -> 12 | H19: =E19+B19 -> 22 | I19: =F19+C19 -> 0 | J19: =H19+I19 -> 22
A20: 21.04.02 Землеустройство и кадастры | B20: 15 | C20: 0 | D20: 15 | E20: 20 | F20: 3 | G20: =F20+E20 -> 23 | H20: =E20+B20 -> 35 | I20: =F20+C20 -> 3 | J20: =H20+I20 -> 38
A21: 35.04.01 Лесное дело | B21: 10 | C21: 0 | D21: =C21+B21 -> 10 | E21: 15 | F21: 0 | G21: =F21+E21 -> 15 | H21: =E21+B21 -> 25 | I21: =F21+C21 -> 0 | J21: =H21+I21 -> 25
A22: 19.04.02 Продукты питания из растительного сырья | B22: 10 | C22: 1 | D22: =C22+B22 -> 11 | E22: 10 | F22: 0 | G22: =F22+E22 -> 10 | H22: =E22+B22 -> 20 | I22: =F22+C22 -> 1 | J22: =H22+I22 -> 21
A23: 19.04.04 Технология продукции и организации общественного питания | B23: 10 | C23: 0 | D23: =C23+B23 -> 10 | E23: 0 | F23: 0 | G23: =F23+E23 -> 0 | H23: =E23+B23 -> 10 | I23: =F23+C23 -> 0 | J23: =H23+I23 -> 10
A24: 19.04.03 Продукты питания животного происхождения | B24: 8 | C24: 0 | D24: =C24+B24 -> 8 | E24: 5 | F24: 1 | G24: =F24+E24 -> 6 | H24: =E24+B24 -> 13 | I24: =F24+C24 -> 1 | J24: =H24+I24 -> 14
A25: 35.04.06 Агроинженерия | B25: 22 | C25: 0 | D25: =C25+B25 -> 22 | E25: 20 | F25: 0 | G25: =F25+E25 -> 20 | H25: =E25+B25 -> 42 | I25: =F25+C25 -> 0 | J25: =H25+I25 -> 42
A26: Итого граждане России | B26: =SUM(B18:B25) -> 96 | C26: =SUM(C18:C25) -> 1 | D26: =SUM(D18:D25) -> 97 | E26: =SUM(E18:E25) -> 93 | F26: =SUM(F18:F25) -> 4 | G26: =SUM(G18:G25) -> 97 | H26: =SUM(H18:H25) -> 190 | I26: =SUM(I18:I25) -> 5 | J26: =SUM(J18:J25) -> 195
A27: Граждане иностранных государст(вкл.Украину)
A28: 35.04.04 Агрономия | B28: 0 | C28: 0 | D28: =C28+B28 -> 0 | E28: 1 | F28: 0 | G28: =F28+E28 -> 1 | H28: =E28+B28 -> 1 | I28: =F28+C28 -> 0 | J28: =H28+I28 -> 1
A29: 35.04.05 Садоводство | B29: 0 | C29: 1 | D29: =C29+B29 -> 1 | E29: 0 | F29: 0 | G29: =F29+E29 -> 0 | H29: =E29+B29 -> 0 | I29: =F29+C29 -> 1 | J29: =H29+I29 -> 1
A30: 21.04.02 Землеустройство и кадастры | B30: 0 | C30: 0 | D30: =C30+B30 -> 0 | E30: 0 | F30: 0 | G30: =F30+E30 -> 0 | H30: =E30+B30 -> 0 | I30: =F30+C30 -> 0 | J30: =H30+I30 -> 0
A31: 35.04.01 Лесное дело | B31: 0 | C31: 0 | D31: =C31+B31 -> 0 | E31: 0 | F31: 0 | G31: =F31+E31 -> 0 | H31: =E31+B31 -> 0 | I31: =F31+C31 -> 0 | J31: =H31+I31 -> 0
A32: 19.04.02 Продукты питания из растительного сырья | B32: 0 | C32: 0 | D32: =C32+B32 -> 0 | E32: 0 | F32: 0 | G32: =F32+E32 -> 0 | H32: =E32+B32 -> 0 | I32: =F32+C32 -> 0 | J32: =H32+I32 -> 0
A33: 19.04.03 Продукты питания животного происхождения | B33: 0 | C33: 0 | D33: =C33+B33 -> 0 | E33: 0 | F33: 0 | G33: =F33+E33 -> 0 | H33: =E33+B33 -> 0 | I33: =F33+C33 -> 0 | J33: =H33+I33 -> 0
A34: 19.04.04 Технология продукции и организации общественного питания | B34: 0 | C34: 0 | D34: =C34+B34 -> 0 | E34: 0 | F34: 0 | G34: =F34+E34 -> 0 | H34: =E34+B34 -> 0 | I34: =F34+C34 -> 0 | J34: =H34+I34 -> 0
A35: 35.04.06 Агроинженерия | B35: 0 | C35: 0 | D35: =C35+B35 -> 0 | E35: 0 | F35: 0 | G35: =F35+E35 -> 0 | H35: =E35+B35 -> 0 | I35: =F35+C35 -> 0 | J35: =H35+I35 -> 0
A36: Итого граждане иностранных государст(вкл.Украину) | B36: =SUM(B28:B35) -> 0 | C36: =SUM(C28:C35) -> 1 | D36: =SUM(D28:D35) -> 1 | E36: =SUM(E28:E35) -> 1 | F36: =SUM(F28:F35) -> 0 | G36: =SUM(G28:G35) -> 1 | H36: =SUM(H28:H35) -> 1 | I36: =SUM(I28:I35) -> 1 | J36: =SUM(J28:J35) -> 2
A37: Всего по АТА | B37: =B26 -> 96 | C37: =C26 -> 1 | D37: =D26 -> 97 | E37: =E26 -> 93 | F37: =F26 -> 4 | G37: =G26 -> 97 | H37: =H26 -> 190 | I37: =I26 -> 5 | J37: =J26 -> 195
A38: Итого граждане иностранных государст(вкл.Украину) | B38: =B36 -> 0 | C38: =C36 -> 1 | D38: =D36 -> 1 | E38: =E36 -> 1 | F38: =F36 -> 0 | G38: =G36 -> 1 | H38: =H36 -> 1 | I38: =I36 -> 1 | J38: =G38+D38 -> 2
A39: Всего по АТА | B39: =B38+B37 -> 96 | C39: =C38+C37 -> 2 | D39: =D38+D37 -> 98 | E39: =E38+E37 -> 94 | F39: =F38+F37 -> 4 | G39: =G38+G37 -> 98 | H39: =E39+B39 -> 190 | I39: =F39+C39 -> 6 | J39: =G39+D39 -> 196

Sheet МАГ ЗФО АTA
A1: институт "АГРОТЕХНОЛОГИЧЕСКАЯ АКАДЕМИЯ" КФУ
A2: Контингент Заочной формы обучения на 01.01.2025 МАГИСТРАТУРА
B3: 1 | E3: 2 | H3: 3 | K3: Итого магистратуры
B4: магистр | E4: магистр | H4: магистр
B5: За счет бюджетных ассигнований | C5: На основе догов.о платных образов.услугах | D5: ВСЕГО | E5: За счет бюджетных ассигнований | F5: На основе догов.о платных образов.услугах | G5: ВСЕГО | H5: За счет бюджетных ассигнований | I5: На основе догов.о платных образов.услугах | J5: ВСЕГО | K5: За счет бюджетных ассигнований | L5: На основе догов.о платных образов.услугах | M5: ВСЕГО
A6: Свод по направлениям подготовкии
A7: 35.04.04 Агрономия | B7: =B17+B26 -> 10 | C7: =C17+C26 -> 3 | D7: =D17+D26 -> 13 | E7: =E17+E26 -> 9 | F7: =F17+F26 -> 2 | G7: =G17+G26 -> 11 | H7: =H17+H26 -> 10 | I7: =I17+I26 -> 1 | J7: =J17+J26 -> 11 | K7: =E7+B7+H7 -> 29 | L7: =F7+C7+I7 -> 6 | M7: =K7+L7 -> 35
A8: 35.04.05 Садоводство | B8: =B18+B27 -> 10 | C8: =C18+C27 -> 3 | D8: =D18+D27 -> 13 | E8: =E18+E27 -> 8 | F8: =F18+F27 -> 5 | G8: =G18+G27 -> 13 | H8: =H18+H27 -> 13 | I8: =I18+I27 -> 5 | J8: =J18+J27 -> 18 | K8: =E8+B8+H8 -> 31 | L8: =F8+C8+I8 -> 13 | M8: =K8+L8 -> 44
A9: 21.04.02 Землеустройство и кадастры | B9: =B19+B28 -> 0 | C9: =C19+C28 -> 8 | D9: =D19+D28 -> 8 | E9: =E19+E28 -> 0 | F9: =F19+F28 -> 0 | G9: =G19+G28 -> 0 | H9: =H19+H28 -> 0 | I9: =I19+I28 -> 12 | J9: =J19+J28 -> 12 | K9: =E9+B9+H9 -> 0 | L9: =F9+C9+I9 -> 20 | M9: =K9+L9 -> 20
A10: 35.04.01 Лесное дело | B10: =B20+B29 -> 0 | C10: =C20+C29 -> 0 | D10: =D20+D29 -> 0 | E10: =E20+E29 -> 9 | F10: =F20+F29 -> 3 | G10: =G20+G29 -> 12 | H10: =H20+H29 -> 9 | I10: =I20+I29 -> 2 | J10: =J20+J29 -> 11 | K10: =E10+B10+H10 -> 18 | L10: =F10+C10+I10 -> 5 | M10: =K10+L10 -> 23
A11: 19.04.02 Продукты питания из растительного сырья | B11: 0 | C11: =C21+C30 -> 4 | D11: 4 | E11: =E21+E30 -> 0 | F11: =F21+F30 -> 0 | G11: =G21+G30 -> 0 | H11: =H21+H30 -> 0 | I11: =I21+I30 -> 0 | J11: =J21+J30 -> 0 | K11: =E11+B11+H11 -> 0 | L11: =F11+C11+I11 -> 4 | M11: =K11+L11 -> 4
A12: 19.04.03 Продукты питания животного происхождения | B12: =B22+B31 -> 0 | C12: =C22+C31 -> 0 | D12: =D22+D31 -> 0 | E12: =E22+E31 -> 0 | F12: =F22+F31 -> 0 | G12: =G22+G31 -> 0 | H12: =H22+H31 -> 0 | I12: =I22+I31 -> 0 | J12: =J22+J31 -> 0 | K12: =E12+B12+H12 -> 0 | L12: =F12+C12+I12 -> 0 | M12: =K12+L12 -> 0
A13: 35.04.06 Агроинженерия | B13: =B23+B32 -> 15 | C13: =C23+C32 -> 0 | D13: =D23+D32 -> 15 | E13: =E23+E32 -> 18 | F13: =F23+F32 -> 0 | G13: =G23+G32 -> 18 | H13: =H23+H32 -> 20 | I13: =I23+I32 -> 2 | J13: =J23+J32 -> 22 | K13: =E13+B13+H13 -> 53 | L13: =F13+C13+I13 -> 2 | M13: =K13+L13 -> 55
A14: Итого по направлениям подготовки: | B14: =SUM(B7:B13) -> 35 | C14: =SUM(C7:C13) -> 18 | D14: =SUM(D7:D13) -> 53 | E14: =SUM(E7:E13) -> 44 | F14: =SUM(F7:F13) -> 10 | G14: =SUM(G7:G13) -> 54 | H14: =SUM(H7:H13) -> 52 | I14: =SUM(I7:I13) -> 22 | ... M14: =SUM(M7:M13) -> 181
A15: В том числе:
A16: Граждане России
A17: 35.04.04 Агрономия | B17: 10 | C17: 3 | D17: =C17+B17 -> 13 | E17: 9 | F17: 2 | G17: =F17+E17 -> 11 | H17: 10 | I17: 1 | J17: =I17+H17 -> 11 | K17: =E17+B17+H17 -> 29 | L17: =F17+C17+I17 -> 6 | M17: =K17+L17 -> 35
A18: 35.04.05 Садоводство | B18: 10 | C18: 3 | D18: =C18+B18 -> 13 | E18: 8 | F18: 5 | G18: =F18+E18 -> 13 | H18: 13 | I18: 5 | J18: =I18+H18 -> 18 | K18: =E18+B18+H18 -> 31 | L18: =F18+C18+I18 -> 13 | M18: =K18+L18 -> 44
A19: 21.04.02 Землеустройство и кадастры | B19: 0 | C19: 8 | D19: 8 | E19: 0 | F19: 0 | G19: =F19+E19 -> 0 | H19: 0 | I19: 12 | J19: =I19+H19 -> 12 | K19: =E19+B19+H19 -> 0 | L19: =F19+C19+I19 -> 20 | M19: =K19+L19 -> 20
A20: 35.04.01 Лесное дело | B20: 0 | C20: 0 | D20: =C20+B20 -> 0 | E20: 9 | F20: 3 | G20: =F20+E20 -> 12 | H20: 9 | I20: 2 | J20: =I20+H20 -> 11 | K20: =E20+B20+H20 -> 18 | L20: =F20+C20+I20 -> 5 | M20: =K20+L20 -> 23
A21: 19.04.02 Продукты питания из растительного сырья | B21: 0 | C21: 4 | D21: 4 | E21: 0 | F21: 0 | G21: =F21+E21 -> 0 | H21: 0 | I21: 0 | J21: =I21+H21 -> 0 | K21: =E21+B21+H21 -> 0 | L21: =F21+C21+I21 -> 4 | M21: =K21+L21 -> 4
A22: 19.04.03 Продукты питания животного происхождения | B22: 0 | C22: 0 | D22: =C22+B22 -> 0 | E22: 0 | F22: 0 | G22: =F22+E22 -> 0 | H22: 0 | I22: 0 | J22: =I22+H22 -> 0 | K22: =E22+B22+H22 -> 0 | L22: =F22+C22+I22 -> 0 | M22: =K22+L22 -> 0
A23: 35.04.06 Агроинженерия | B23: 15 | C23: 0 | D23: =C23+B23 -> 15 | E23: 18 | F23: 0 | G23: =F23+E23 -> 18 | H23: 20 | I23: 2 | J23: =I23+H23 -> 22 | K23: =E23+B23+H23 -> 53 | L23: =F23+C23+I23 -> 2 | M23: =K23+L23 -> 55
A24: Итого граждане России | B24: =SUM(B17:B23) -> 35 | C24: =SUM(C17:C23) -> 18 | D24: =SUM(D17:D23) -> 53 | E24: =SUM(E17:E23) -> 44 | F24: =SUM(F17:F23) -> 10 | G24: =SUM(G17:G23) -> 54 | H24: =SUM(H17:H23) -> 52 | I24: =SUM(I17:I23) -> 22 | ... M24: =SUM(M17:M23) -> 181
A25: Граждане иностранных государст(вкл.Украину)
A26: 35.04.04 Агрономия | B26: 0 | C26: 0 | D26: =C26+B26 -> 0 | E26: 0 | F26: 0 | G26: =F26+E26 -> 0 | H26: 0 | I26: 0 | J26: =I26+H26 -> 0 | K26: =E26+B26+H26 -> 0 | L26: =F26+C26+I26 -> 0 | M26: =K26+L26 -> 0
A27: 35.04.05 Садоводство | B27: 0 | C27: 0 | D27: =C27+B27 -> 0 | F27: 0 | G27: =F27+E27 -> 0 | H27: 0 | I27: 0 | J27: =I27+H27 -> 0 | K27: =E27+B27+H27 -> 0 | L27: =F27+C27+I27 -> 0 | M27: =K27+L27 -> 0
A28: 21.04.02 Землеустройство и кадастры | B28: 0 | C28: 0 | D28: =C28+B28 -> 0 | E28: 0 | F28: 0 | G28: =F28+E28 -> 0 | H28: 0 | I28: 0 | J28: =I28+H28 -> 0 | K28: =E28+B28+H28 -> 0 | L28: =F28+C28+I28 -> 0 | M28: =K28+L28 -> 0
A29: 35.04.01 Лесное дело | B29: 0 | C29: 0 | D29: =C29+B29 -> 0 | E29: 0 | F29: 0 | G29: =F29+E29 -> 0 | H29: 0 | I29: 0 | J29: =I29+H29 -> 0 | K29: =E29+B29+H29 -> 0 | L29: =F29+C29+I29 -> 0 | M29: =K29+L29 -> 0
A30: 19.04.02 Продукты питания из растительного сырья | B30: 0 | C30: 0 | D30: =C30+B30 -> 0 | E30: 0 | F30: 0 | G30: =F30+E30 -> 0 | H30: 0 | I30: 0 | J30: =I30+H30 -> 0 | K30: =E30+B30+H30 -> 0 | L30: =F30+C30+I30 -> 0 | M30: =K30+L30 -> 0
A31: 19.04.03 Продукты питания животного происхождения | B31: 0 | C31: 0 | D31: 0 | E31: 0 | F31: 0 | G31: =F31+E31 -> 0 | H31: 0 | I31: 0 | J31: =I31+H31 -> 0 | K31: =E31+B31+H31 -> 0 | L31: =F31+C31+I31 -> 0 | M31: =K31+L31 -> 0
A32: 35.04.06 Агроинженерия | B32: 0 | C32: 0 | D32: =C32+B32 -> 0 | E32: 0 | F32: 0 | G32: =F32+E32 -> 0 | H32: 0 | I32: 0 | J32: =I32+H32 -> 0 | K32: =E32+B32+H32 -> 0 | L32: =F32+C32+I32 -> 0 | M32: =K32+L32 -> 0
A33: Итого граждане иностранных государст(вкл.Украину) | B33: =SUM(B26:B32) -> 0 | C33: =SUM(C26:C32) -> 0 | D33: =SUM(D26:D32) -> 0 | E33: =SUM(E26:E32) -> 0 | F33: =SUM(F26:F32) -> 0 | G33: =SUM(G26:G32) -> 0 | H33: =SUM(H26:H32) -> 0 | I33: =SUM(I26:I32) -> 0 | ... M33: =SUM(M26:M32) -> 0
A34: Всего по АТА | B34: =B24+B33 -> 35 | C34: =C24+C33 -> 18 | D34: =D24+D33 -> 53 | E34: =E24+E33 -> 44 | F34: =F24+F33 -> 10 | G34: =G24+G33 -> 54 | H34: =H24+H33 -> 52 | I34: =I24+I33 -> 22 | ... M34: =M24+M33 -> 181

Sheet Бакалавр ОФО ИЭиУ
A1: ФГАОУ ВО "КФУ им. В.И. Вернадского"
A2: ИНСТИТУТ ЭКОНОМИКИ И УПРАВЛЕНИЯ
A3: Контингент очной формы обучения на 01.01.2025 г. (Бакалавриат)
A5: Факультет/направление подготовки | B5: 1 | E5: 2 | H5: 3 | K5: 4 | N5: Всего бакалавры
B7: За счет бюджетных ассигнований | C7: На основе догов. о платных образов. услугах | D7: ВСЕГО | E7: За счет бюджетных ассигнований | F7: На основе догов. о платных образов. услугах | G7: ВСЕГО | H7: За счет бюджетных ассигнований | I7: На основе догов. о платных образов. услугах | J7: ВСЕГО | K7: За счет бюджетных ассигнований | L7: На основе догов. о платных образов. услугах | M7: ВСЕГО | N7: За счет бюджетных ассигнований | O7: На основе догов. о платных образов. услугах | P7: ВСЕГО
A8: Свод по направлениям подготовки
A9: 38.03.01 Экономика | B9: =B18+B26 -> 88 | C9: =C18+C26 -> 7 | D9: =B9+C9 -> 95 | E9: =E18+E26 -> 128 | F9: =F18+F26 -> 6 | G9: =E9+F9 -> 134 | H9: =H18+H26 -> 117 | I9: =I18+I26 -> 4 | J9: =H9+I9 -> 121 | K9: =K18+K26 -> 104 | L9: =L18+L26 -> 14 | M9: =K9+L9 -> 118 | N9: =SUM(B9+E9+H9+K9) -> 437 | O9: =SUM(C9+F9+I9+L9) -> 31 | P9: =SUM(N9:O9) -> 468
A10: 38.03.02 Экономика (сокращенный срок обучения) | B10: =B19+B27 -> 0 | C10: =C19+C27 -> 0 | D10: =B10+C10 -> 0 | E10: =E19+E27 -> 0 | F10: =F19+F27 -> 0 | G10: =E10+F10 -> 0 | H10: =H19+H27 -> 0 | I10: =I19+I27 -> 0 | J10: =J19+J27 -> 0 | K10: =K19+K27 -> 0 | L10: =L19+L27 -> 0 | M10: =K10+L10 -> 0 | N10: =SUM(B10+E10+H10+K10) -> 0 | O10: =SUM(C10+F10+I10+L10) -> 0 | P10: =SUM(N10:O10) -> 0
A11: 38.03.02 Менеджмент | B11: =B20+B28 -> 45 | C11: =C20+C28 -> 6 | D11: =B11+C11 -> 51 | E11: =E20+E28 -> 49 | F11: =F20+F28 -> 6 | G11: =E11+F11 -> 55 | H11: =H20+H28 -> 47 | I11: =I20+I28 -> 3 | J11: =H11+I11 -> 50 | K11: =K20+K28 -> 44 | L11: =L20+L28 -> 8 | M11: =K11+L11 -> 52 | N11: =SUM(B11+E11+H11+K11) -> 185 | O11: =SUM(C11+F11+I11+L11) -> 23 | P11: =SUM(N11:O11) -> 208
A12: 38.03.03 Управление персоналом | B12: =B21+B29 -> 23 | C12: =C21+C29 -> 0 | D12: =B12+C12 -> 23 | E12: =E21+E29 -> 28 | F12: =F21+F29 -> 1 | G12: =E12+F12 -> 29 | H12: =H21+H29 -> 21 | I12: =I21+I29 -> 0 | J12: =H12+I12 -> 21 | K12: =K21+K29 -> 16 | L12: =L21+L29 -> 4 | M12: =K12+L12 -> 20 | N12: =SUM(B12+E12+H12+K12) -> 88 | O12: =SUM(C12+F12+I12+L12) -> 5 | P12: =SUM(N12:O12) -> 93
A13: 38.03.04 Государственное и муниципальное управление | B13: =B22+B30 -> 47 | C13: =C22+C30 -> 3 | D13: =B13+C13 -> 50 | E13: =E22+E30 -> 48 | F13: =F22+F30 -> 7 | G13: =E13+F13 -> 55 | H13: =H22+H30 -> 46 | I13: =I22+I30 -> 2 | J13: =H13+I13 -> 48 | K13: =K22+K30 -> 50 | L13: =L22+L30 -> 8 | M13: =K13+L13 -> 58 | N13: =SUM(B13+E13+H13+K13) -> 191 | O13: =SUM(C13+F13+I13+L13) -> 20 | P13: =SUM(N13:O13) -> 211
A14: 38.03.06 Торговое дело | B14: =B23+B31 -> 24 | C14: =C23+C31 -> 0 | D14: =B14+C14 -> 24 | E14: =E23+E31 -> 26 | F14: =F23+F31 -> 1 | G14: =E14+F14 -> 27 | H14: =H23+H31 -> 24 | I14: =I23+I31 -> 3 | J14: =H14+I14 -> 27 | K14: =K23+K31 -> 12 | L14: =L23+L31 -> 0 | M14: =K14+L14 -> 12 | N14: =SUM(B14+E14+H14+K14) -> 86 | O14: =SUM(C14+F14+I14+L14) -> 4 | P14: =SUM(N14:O14) -> 90
A15: Итого по направлениям подготовки: | B15: =SUM(B9:B14) -> 227 | C15: =SUM(C9:C14) -> 16 | D15: =SUM(D9:D14) -> 243 | E15: =SUM(E9:E14) -> 279 | F15: =SUM(F9:F14) -> 21 | G15: =SUM(G9:G14) -> 300 | H15: =SUM(H9:H14) -> 255 | I15: =SUM(I9:I14) -> 12 | ... P15: =SUM(P9:P14) -> 1070
A16: В том числе:
A17: Граждане России
A18: 38.03.01 Экономика | B18: 88 | C18: 6 | D18: =SUM(B18:C18) -> 94 | E18: 127 | F18: 6 | G18: =SUM(E18:F18) -> 133 | H18: 117 | I18: 4 | J18: =SUM(H18:I18) -> 121 | K18: 104 | L18: 14 | M18: =SUM(K18:L18) -> 118 | N18: =SUM(B18+E18+H18+K18) -> 436 | O18: =SUM(C18+F18+I18+L18) -> 30 | P18: =SUM(N18:O18) -> 466
A19: 38.03.02 Экономика (сокращенный срок обучения) | B19: 0 | C19: 0 | D19: =SUM(B19:C19) -> 0 | E19: 0 | F19: 0 | G19: =SUM(E19:F19) -> 0 | H19: 0 | I19: 0 | J19: =SUM(H19:I19) -> 0 | K19: 0 | L19: 0 | M19: =SUM(K19:L19) -> 0 | N19: =SUM(B19+E19+H19+K19) -> 0 | O19: =SUM(C19+F19+I19+L19) -> 0 | P19: =SUM(N19:O19) -> 0
A20: 38.03.02 Менеджмент | B20: 45 | C20: 3 | D20: =SUM(B20:C20) -> 48 | E20: 49 | F20: 6 | G20: =SUM(E20:F20) -> 55 | H20: 46 | I20: 3 | J20: =SUM(H20:I20) -> 49 | K20: 44 | L20: 8 | M20: =SUM(K20:L20) -> 52 | N20: =SUM(B20+E20+H20+K20) -> 184 | O20: =SUM(C20+F20+I20+L20) -> 20 | P20: =SUM(N20:O20) -> 204
A21: 38.03.03 Управление персоналом | B21: 23 | C21: 0 | D21: =SUM(B21:C21) -> 23 | E21: 27 | F21: 1 | G21: =SUM(E21:F21) -> 28 | H21: 21 | I21: 0 | J21: =SUM(H21:I21) -> 21 | K21: 16 | L21: 4 | M21: =SUM(K21:L21) -> 20 | N21: =SUM(B21+E21+H21+K21) -> 87 | O21: =SUM(C21+F21+I21+L21) -> 5 | P21: =SUM(N21:O21) -> 92
A22: 38.03.04 Государственное и муниципальное управление | B22: 47 | C22: 3 | D22: =SUM(B22:C22) -> 50 | E22: 48 | F22: 7 | G22: =SUM(E22:F22) -> 55 | H22: 45 | I22: 2 | J22: =SUM(H22:I22) -> 47 | K22: 50 | L22: 8 | M22: =SUM(K22:L22) -> 58 | N22: =SUM(B22+E22+H22+K22) -> 190 | O22: =SUM(C22+F22+I22+L22) -> 20 | P22: =SUM(N22:O22) -> 210
A23: 38.03.06 Торговое дело | B23: 24 | C23: 0 | D23: =SUM(B23:C23) -> 24 | E23: 26 | F23: 1 | G23: =SUM(E23:F23) -> 27 | H23: 23 | I23: 3 | J23: =SUM(H23:I23) -> 26 | K23: 12 | L23: 0 | M23: =SUM(K23:L23) -> 12 | N23: =SUM(B23+E23+H23+K23) -> 85 | O23: =SUM(C23+F23+I23+L23) -> 4 | P23: =SUM(N23:O23) -> 89
A24: Итого граждан России | B24: =SUM(B18:B23) -> 227 | C24: =SUM(C18:C23) -> 12 | D24: =SUM(D18:D23) -> 239 | E24: =SUM(E18:E23) -> 277 | F24: =SUM(F18:F23) -> 21 | G24: =SUM(G18:G23) -> 298 | H24: =SUM(H18:H23) -> 252 | I24: =SUM(I18:I23) -> 12 | ... P24: =SUM(P18:P23) -> 1061
A25: Граждане иностранных государств (вкл. Украину) | N25: =SUM(B25+E25+H25+K25) -> 0 | O25: =SUM(C25+F25+I25+L25) -> 0 | P25: =SUM(N25:O25) -> 0
A26: 38.03.01 Экономика | B26: 0 | C26: 1 | D26: =SUM(B26:C26) -> 1 | E26: 1 | F26: 0 | G26: =SUM(E26:F26) -> 1 | H26: 0 | I26: 0 | J26: =SUM(H26:I26) -> 0 | K26: 0 | L26: 0 | M26: =SUM(K26:L26) -> 0 | N26: =SUM(B26+E26+H26+K26) -> 1 | O26: =SUM(C26+F26+I26+L26) -> 1 | P26: =SUM(N26:O26) -> 2
A27: 38.03.02 Экономика (сокращенный срок обучения) | B27: 0 | C27: 0 | D27: =SUM(B27:C27) -> 0 | E27: 0 | F27: 0 | G27: =SUM(E27:F27) -> 0 | H27: 0 | I27: 0 | J27: =SUM(H27:I27) -> 0 | K27: 0 | L27: 0 | M27: =SUM(K27:L27) -> 0 | N27: =SUM(B27+E27+H27+K27) -> 0 | O27: =SUM(C27+F27+I27+L27) -> 0 | P27: =SUM(N27:O27) -> 0
A28: 38.03.02 Менеджмент | B28: 0 | C28: 3 | D28: =SUM(B28:C28) -> 3 | E28: 0 | F28: 0 | G28: =SUM(E28:F28) -> 0 | H28: 1 | I28: 0 | J28: =SUM(H28:I28) -> 1 | K28: 0 | L28: 0 | M28: =SUM(K28:L28) -> 0 | N28: =SUM(B28+E28+H28+K28) -> 1 | O28: =SUM(C28+F28+I28+L28) -> 3 | P28: =SUM(N28:O28) -> 4
A29: 38.03.03 Управление персоналом | B29: 0 | C29: 0 | D29: =SUM(B29:C29) -> 0 | E29: 1 | F29: 0 | G29: =SUM(E29:F29) -> 1 | H29: 0 | I29: 0 | J29: =SUM(H29:I29) -> 0 | K29: 0 | L29: 0 | M29: =SUM(K29:L29) -> 0 | N29: =SUM(B29+E29+H29+K29) -> 1 | O29: =SUM(C29+F29+I29+L29) -> 0 | P29: =SUM(N29:O29) -> 1
A30: 38.03.04 Государственное и муниципальное управление | B30: 0 | C30: 0 | D30: =SUM(B30:C30) -> 0 | E30: 0 | F30: 0 | G30: =SUM(E30:F30) -> 0 | H30: 1 | I30: 0 | J30: =SUM(H30:I30) -> 1 | K30: 0 | L30: 0 | M30: =SUM(K30:L30) -> 0 | N30: =SUM(B30+E30+H30+K30) -> 1 | O30: =SUM(C30+F30+I30+L30) -> 0 | P30: =SUM(N30:O30) -> 1
A31: 38.03.06 Торговое дело | B31: 0 | C31: 0 | D31: =SUM(B31:C31) -> 0 | E31: 0 | F31: 0 | G31: =SUM(E31:F31) -> 0 | H31: 1 | I31: 0 | J31: =SUM(H31:I31) -> 1 | K31: 0 | L31: 0 | M31: =SUM(K31:L31) -> 0 | N31: =SUM(B31+E31+H31+K31) -> 1 | O31: =SUM(C31+F31+I31+L31) -> 0 | P31: =SUM(N31:O31) -> 1
A32: Итого граждане иностранных государств | B32: =SUM(B26:B31) -> 0 | C32: =SUM(C26:C31) -> 4 | D32: =SUM(D26:D31) -> 4 | E32: =SUM(E26:E31) -> 2 | F32: =SUM(F26:F31) -> 0 | G32: =SUM(G26:G31) -> 2 | H32: =SUM(H26:H31) -> 3 | I32: =SUM(I26:I31) -> 0 | ... P32: =SUM(P26:P31) -> 9
A33: ИТОГО по подразделению граждане России | B33: =B24 -> 227 | C33: =C24 -> 12 | D33: =D24 -> 239 | E33: =E24 -> 277 | F33: =F24 -> 21 | G33: =G24 -> 298 | H33: =H24 -> 252 | I33: =I24 -> 12 | ... P33: =P24 -> 1061
A34: ИТОГО по подразделению иностранные граждане | B34: =B32 -> 0 | C34: =C32 -> 4 | D34: =D32 -> 4 | E34: =E32 -> 2 | F34: =F32 -> 0 | G34: =G32 -> 2 | H34: =H32 -> 3 | I34: =I32 -> 0 | ... P34: =P32 -> 9
A35: Итого | B35: =SUM(B33:B34) -> 227 | C35: =SUM(C33:C34) -> 16 | D35: =SUM(D33:D34) -> 243 | E35: =SUM(E33:E34) -> 279 | F35: =SUM(F33:F34) -> 21 | G35: =SUM(G33:G34) -> 300 | H35: =SUM(H33:H34) -> 255 | I35: =SUM(I33:I34) -> 12 | ... P35: =SUM(P33:P34) -> 1070

Sheet Бакалавр ЗФО ИЭиУ
A2: ФГАОУ ВО "КФУ им. Вернадского"
A3: ИНСТИТУТ ЭКОНОМИКИ И УПРАВЛЕНИЯ
A4: (структурное подразделение)
A5: Контингент заочная форма обучения на 01.01.2025 г. (Бакалавриат)
A7: Факультет/направление подготовки | B7: 1 | E7: 2 | H7: 3 | K7: 4 | N7: 5 | Q7: Всего бакалавриата
B9: За счет бюджетных ассигнований | C9: На основе догов. о платных образов. услугах | D9: ВСЕГО | E9: За счет бюджетных ассигнований | F9: На основе догов. о платных образов. услугах | G9: ВСЕГО | H9: За счет бюджетных ассигнований | I9: На основе догов. о платных образов. услугах | J9: ВСЕГО | K9: За счет бюджетных ассигнований | L9: На основе догов. о платных образов. услугах | M9: ВСЕГО | N9: За счет бюджетных ассигнований | O9: На основе догов. о платных образов. услугах | P9: ВСЕГО | Q9: За счет бюджетных ассигнований | R9: На основе догов. о платных образов. услугах | S9: ВСЕГО
A10: Свод по направлениям подготовки
A11: 38.03.01 Экономика | B11: =B19+B26 -> 0 | C11: =C19+C26 -> 0 | D11: =B11+C11 -> 0 | E11: =E19+E26 -> 0 | F11: =F19+F26 -> 0 | G11: =E11+F11 -> 0 | H11: =H19+H26 -> 0 | I11: =I19+I26 -> 0 | J11: =H11+I11 -> 0 | K11: =K19+K26 -> 0 | L11: =L19+L26 -> 0 | M11: =K11+L11 -> 0 | N11: =N19+N26 -> 0 | O11: =O19+O26 -> 35 | P11: =N11+O11 -> 35 | Q11: =SUM(B11+E11+H11+K11+N11) -> 0 | R11: =SUM(C11+F11+I11+L11+O11) -> 35 | S11: =SUM(Q11:R11) -> 35
A12: 38.03.02 Менеджмент | B12: =B20+B27 -> 0 | C12: =C20+C27 -> 0 | D12: =B12+C12 -> 0 | E12: =E20+E27 -> 0 | F12: =F20+F27 -> 0 | G12: =E12+F12 -> 0 | H12: =H20+H27 -> 0 | I12: =I20+I27 -> 0 | J12: =H12+I12 -> 0 | K12: =K20+K27 -> 0 | L12: =L20+L27 -> 0 | M12: =K12+L12 -> 0 | N12: =N20+N27 -> 0 | O12: =O20+O27 -> 0 | P12: =N12+O12 -> 0 | Q12: =SUM(B12+E12+H12+K12+N12) -> 0 | R12: =SUM(C12+F12+I12+L12+O12) -> 0 | S12: =SUM(Q12:R12) -> 0
A13: 38.03.03 Управление персоналом | B13: =B21+B28 -> 0 | C13: =C21+C28 -> 0 | D13: =B13+C13 -> 0 | E13: =E21+E28 -> 0 | F13: =F21+F28 -> 0 | G13: =E13+F13 -> 0 | H13: =H21+H28 -> 0 | I13: =I21+I28 -> 0 | J13: =H13+I13 -> 0 | K13: =K21+K28 -> 0 | L13: =L21+L28 -> 0 | M13: =K13+L13 -> 0 | N13: =N21+N28 -> 0 | O13: =O21+O28 -> 0 | P13: =N13+O13 -> 0 | Q13: =SUM(B13+E13+H13+K13+N13) -> 0 | R13: =SUM(C13+F13+I13+L13+O13) -> 0 | S13: =SUM(Q13:R13) -> 0
A14: 38.03.04 Государственное и муниципальное управление | B14: =B22+B29 -> 0 | C14: =C22+C29 -> 0 | D14: =B14+C14 -> 0 | E14: =E22+E29 -> 0 | F14: =F22+F29 -> 0 | G14: =E14+F14 -> 0 | H14: =H22+H29 -> 0 | I14: =I22+I29 -> 0 | J14: =H14+I14 -> 0 | K14: =K22+K29 -> 0 | L14: =L22+L29 -> 1 | M14: =K14+L14 -> 1 | N14: =N22+N29 -> 0 | O14: =O22+O29 -> 29 | P14: =N14+O14 -> 29 | Q14: =SUM(B14+E14+H14+K14+N14) -> 0 | R14: =SUM(C14+F14+I14+L14+O14) -> 30 | S14: =SUM(Q14:R14) -> 30
A15: 38.03.06 Торговое дело | B15: =B23+B30 -> 0 | C15: =C23+C30 -> 0 | D15: =B15+C15 -> 0 | E15: =E23+E30 -> 0 | F15: =F23+F30 -> 0 | G15: =E15+F15 -> 0 | H15: =H23+H30 -> 0 | I15: =I23+I30 -> 0 | J15: =H15+I15 -> 0 | K15: =K23+K30 -> 0 | L15: =L23+L30 -> 0 | M15: =K15+L15 -> 0 | N15: =N23+N30 -> 0 | O15: =O23+O30 -> 0 | P15: =N15+O15 -> 0 | Q15: =SUM(B15+E15+H15+K15+N15) -> 0 | R15: =SUM(C15+F15+I15+L15+O15) -> 0 | S15: =SUM(Q15:R15) -> 0
A16: Итого по направлениям подготовки | B16: =SUM(B11:B15) -> 0 | C16: =SUM(C11:C15) -> 0 | D16: =SUM(D11:D15) -> 0 | E16: =SUM(E11:E15) -> 0 | F16: =SUM(F11:F15) -> 0 | G16: =SUM(G11:G15) -> 0 | H16: =SUM(H11:H15) -> 0 | I16: =SUM(I11:I15) -> 0 | ... S16: =SUM(S11:S15) -> 65
A17: В том числе:
A18: Граждане России
A19: 38.03.01; 02;03;04;06 Экономика | B19: 0 | C19: 0 | D19: =SUM(B19:C19) -> 0 | E19: 0 | F19: 0 | G19: =SUM(E19:F19) -> 0 | H19: 0 | I19: 0 | J19: =SUM(H19:I19) -> 0 | K19: 0 | L19: 0 | M19: =SUM(K19:L19) -> 0 | N19: 0 | O19: 35 | P19: =N19+O19 -> 35 | Q19: =SUM(B19+E19+H19+K19+N19) -> 0 | R19: =SUM(C19+F19+I19+L19+O19) -> 35 | S19: =SUM(Q19:R19) -> 35
A20: 38.03.02 Менеджмент | B20: 0 | C20: 0 | D20: =SUM(B20:C20) -> 0 | E20: 0 | F20: 0 | G20: 0 | H20: 0 | I20: 0 | J20: =SUM(H20:I20) -> 0 | K20: 0 | L20: 0 | M20: =SUM(K20:L20) -> 0 | N20: 0 | O20: 0 | P20: =N20+O20 -> 0 | Q20: =SUM(B20+E20+H20+K20+N20) -> 0 | R20: =SUM(C20+F20+I20+L20+O20) -> 0 | S20: =SUM(Q20:R20) -> 0
A21: 38.03.03 Управление персоналом | B21: 0 | C21: 0 | D21: =SUM(B21:C21) -> 0 | E21: 0 | F21: 0 | G21: =SUM(E21:F21) -> 0 | H21: 0 | I21: 0 | J21: =SUM(H21:I21) -> 0 | K21: 0 | L21: 0 | M21: =SUM(K21:L21) -> 0 | N21: 0 | O21: 0 | P21: =N21+O21 -> 0 | Q21: =SUM(B21+E21+H21+K21+N21) -> 0 | R21: =SUM(C21+F21+I21+L21+O21) -> 0 | S21: =SUM(Q21:R21) -> 0
A22: 38.03.04 Государственное и муниципальное управление | B22: 0 | C22: 0 | D22: =SUM(B22:C22) -> 0 | E22: 0 | F22: 0 | G22: =SUM(E22:F22) -> 0 | H22: 0 | I22: 0 | J22: =SUM(H22:I22) -> 0 | K22: 0 | L22: 1 | M22: =SUM(K22:L22) -> 1 | N22: 0 | O22: 29 | P22: 29 | Q22: =SUM(B22+E22+H22+K22+N22) -> 0 | R22: =SUM(C22+F22+I22+L22+O22) -> 30 | S22: =SUM(Q22:R22) -> 30
A23: 38.03.06 Торговое дело | B23: 0 | C23: 0 | D23: =SUM(B23:C23) -> 0 | E23: 0 | F23: 0 | G23: =SUM(E23:F23) -> 0 | H23: 0 | I23: 0 | J23: =SUM(H23:I23) -> 0 | K23: 0 | L23: 0 | M23: =SUM(K23:L23) -> 0 | N23: 0 | O23: 0 | P23: =N23+O23 -> 0 | Q23: =SUM(B23+E23+H23+K23+N23) -> 0 | R23: =SUM(C23+F23+I23+L23+O23) -> 0 | S23: =SUM(Q23:R23) -> 0
A24: Итого граждане России | B24: =SUM(B19:B23) -> 0 | C24: =SUM(C19:C23) -> 0 | D24: =SUM(D19:D23) -> 0 | E24: =SUM(E19:E23) -> 0 | F24: =SUM(F19:F23) -> 0 | G24: =SUM(G19:G23) -> 0 | H24: =SUM(H19:H23) -> 0 | I24: =SUM(I19:I23) -> 0 | ... R24: =SUM(R19:R23) -> 65 | S24: =Q24+R24 -> 65
A25: Граждане иностранных государств (вкл. Украину)
A26: 38.03.01; 02;03;04;06 Экономика | B26: 0 | C26: 0 | D26: =SUM(B26:C26) -> 0 | E26: 0 | F26: 0 | G26: =SUM(E26:F26) -> 0 | H26: 0 | I26: 0 | J26: =SUM(H26:I26) -> 0 | K26: 0 | L26: 0 | M26: =SUM(K26:L26) -> 0 | N26: 0 | O26: 0 | P26: =N26+O26 -> 0 | Q26: =B26+E26+H26+K26+N26 -> 0 | R26: =C26+F26+I26+L26+O26 -> 0 | S26: =SUM(Q26:R26) -> 0
A27: 38.03.02 Менеджмент | B27: 0 | C27: 0 | D27: =SUM(B27:C27) -> 0 | E27: 0 | F27: 0 | G27: =SUM(E27:F27) -> 0 | H27: 0 | I27: 0 | J27: =SUM(H27:I27) -> 0 | K27: 0 | L27: 0 | M27: =SUM(K27:L27) -> 0 | N27: 0 | O27: 0 | P27: =N27+O27 -> 0 | Q27: =B27+E27+H27+K27+N27 -> 0 | R27: =C27+F27+I27+L27+O27 -> 0 | S27: =SUM(Q27:R27) -> 0
A28: 38.03.03 Управление персоналом | B28: 0 | C28: 0 | D28: =SUM(B28:C28) -> 0 | E28: 0 | F28: 0 | G28: =SUM(E28:F28) -> 0 | H28: 0 | I28: 0 | J28: =SUM(H28:I28) -> 0 | K28: 0 | L28: 0 | M28: =SUM(K28:L28) -> 0 | N28: 0 | O28: 0 | P28: =N28+O28 -> 0 | Q28: =B28+E28+H28+K28+N28 -> 0 | R28: =C28+F28+I28+L28+O28 -> 0 | S28: =SUM(Q28:R28) -> 0
A29: 38.03.04 Государственное и муниципальное управление | B29: 0 | C29: 0 | D29: =SUM(B29:C29) -> 0 | E29: 0 | F29: 0 | G29: =SUM(E29:F29) -> 0 | H29: 0 | I29: 0 | J29: =SUM(H29:I29) -> 0 | K29: 0 | L29: 0 | M29: =SUM(K29:L29) -> 0 | N29: 0 | O29: 0 | P29: =N29+O29 -> 0 | Q29: =B29+E29+H29+K29+N29 -> 0 | R29: =C29+F29+I29+L29+O29 -> 0 | S29: =SUM(Q29:R29) -> 0
A30: 38.03.06 Торговое дело | B30: 0 | C30: 0 | D30: =SUM(B30:C30) -> 0 | E30: 0 | F30: 0 | G30: =SUM(E30:F30) -> 0 | H30: 0 | I30: 0 | J30: =SUM(H30:I30) -> 0 | K30: 0 | L30: 0 | M30: =SUM(K30:L30) -> 0 | N30: 0 | O30: 0 | P30: =N30+O30 -> 0 | Q30: =B30+E30+H30+K30+N30 -> 0 | R30: =C30+F30+I30+L30+O30 -> 0 | S30: =SUM(Q30:R30) -> 0
A31: Итого граждане иностранных государств | B31: =SUM(B26:B30) -> 0 | C31: =SUM(C26:C30) -> 0 | D31: =SUM(D26:D30) -> 0 | E31: =SUM(E26:E30) -> 0 | F31: =SUM(F26:F30) -> 0 | G31: =SUM(G26:G30) -> 0 | H31: =SUM(H26:H30) -> 0 | I31: =SUM(I26:I30) -> 0 | ... S31: =SUM(S26:S30) -> 0
A32: ИТОГО по подразделению граждане России | B32: =B24 -> 0 | C32: =C24 -> 0 | D32: =D24 -> 0 | E32: =E24 -> 0 | F32: =F24 -> 0 | G32: =G24 -> 0 | H32: =H24 -> 0 | I32: =I24 -> 0 | ... S32: =S24 -> 65
A33: ИТОГО по подразделению граждане иностранных государств | B33: =B31 -> 0 | C33: =C31 -> 0 | D33: =D31 -> 0 | E33: =E31 -> 0 | F33: =F31 -> 0 | G33: =G31 -> 0 | H33: =H31 -> 0 | I33: =I31 -> 0 | ... S33: =S31 -> 0
A34: Свод по направлениям подготовки | B34: =SUM(B32:B33) -> 0 | C34: =SUM(C32:C33) -> 0 | D34: =SUM(D32:D33) -> 0 | E34: =SUM(E32:E33) -> 0 | F34: =SUM(F32:F33) -> 0 | G34: =SUM(G32:G33) -> 0 | H34: =SUM(H32:H33) -> 0 | I34: =SUM(I32:I33) -> 0 | ... S34: =SUM(S32:S33) -> 65

Sheet Бакалав ОЗФО ИЭиУ
A2: ФГАОУ ВО "КФУ им. Вернадского"
A3: ИНСТИТУТ ЭКОНОМИКИ И УПРАВЛЕНИЯ
A4: Контингент очно-заочная форма обучения на 01.01.2025 г. (Бакалавриат)
A6: Факультет/направление подготовки | B6: 1 | E6: 2 | H6: 3 | K6: 4 | N6: 5 | Q6: Всего бакалавриата
B8: За счет бюджетных ассигнований | C8: На основе догов. о платных образов. услугах | D8: ВСЕГО | E8: За счет бюджетных ассигнований | F8: На основе догов. о платных образов. услугах | G8: ВСЕГО | H8: За счет бюджетных ассигнований | I8: На основе догов. о платных образов. услугах | J8: ВСЕГО | K8: За счет бюджетных ассигнований | L8: На основе догов. о платных образов. услугах | M8: ВСЕГО | N8: За счет бюджетных ассигнований | O8: На основе догов. о платных образов. услугах | P8: ВСЕГО | Q8: За счет бюджетных ассигнований | R8: На основе догов. о платных образов. услугах | S8: ВСЕГО
A9: Свод по направлениям подготовки
A10: 38.03.01; 02;03;04;06 Экономика | B10: =B18+B25 -> 0 | C10: 0 | D10: =B10+C10 -> 0 | E10: =E18+E25 -> 0 | F10: =F18+F25 -> 0 | G10: =E10+F10 -> 0 | H10: =H18+H25 -> 0 | I10: =I18+I25 -> 6 | J10: =H10+I10 -> 6 | K10: =K18+K25 -> 0 | L10: =L18+L25 -> 9 | M10: =K10+L10 -> 9 | N10: =N18+N25 -> 0 | O10: =O18+O25 -> 0 | P10: =N10+O10 -> 0 | Q10: =SUM(B10+E10+H10+K10+N10) -> 0 | R10: =SUM(C10+F10+I10+L10+O10) -> 15 | S10: =SUM(Q10:R10) -> 15
A11: 38.03.02 Менеджмент | B11: =B19+B26 -> 0 | C11: =C19+C26 -> 0 | D11: =B11+C11 -> 0 | E11: =E19+E26 -> 0 | F11: =F19+F26 -> 0 | G11: =E11+F11 -> 0 | H11: =H19+H26 -> 0 | I11: =I19+I26 -> 0 | J11: =H11+I11 -> 0 | K11: =K19+K26 -> 0 | L11: =L19+L26 -> 0 | M11: =K11+L11 -> 0 | N11: =N19+N26 -> 0 | O11: =O19+O26 -> 0 | P11: =N11+O11 -> 0 | Q11: =SUM(B11+E11+H11+K11+N11) -> 0 | R11: =SUM(C11+F11+I11+L11+O11) -> 0 | S11: =SUM(Q11:R11) -> 0
A12: 38.03.03 Управление персоналом | B12: =B20+B27 -> 0 | C12: =C20+C27 -> 0 | D12: =B12+C12 -> 0 | E12: =E20+E27 -> 0 | F12: =F20+F27 -> 0 | G12: =E12+F12 -> 0 | H12: =H20+H27 -> 0 | I12: =I20+I27 -> 0 | J12: =H12+I12 -> 0 | K12: =K20+K27 -> 0 | L12: =L20+L27 -> 0 | M12: =K12+L12 -> 0 | N12: =N20+N27 -> 0 | O12: =O20+O27 -> 0 | P12: =N12+O12 -> 0 | Q12: =SUM(B12+E12+H12+K12+N12) -> 0 | R12: =SUM(C12+F12+I12+L12+O12) -> 0 | S12: =SUM(Q12:R12) -> 0
A13: 38.03.04 Государственное и муниципальное управление | B13: =B21+B28 -> 0 | C13: =C21+C28 -> 0 | D13: =B13+C13 -> 0 | E13: =E21+E28 -> 0 | F13: =F21+F28 -> 0 | G13: =E13+F13 -> 0 | H13: =H21+H28 -> 0 | I13: =I21+I28 -> 0 | J13: =H13+I13 -> 0 | K13: =K21+K28 -> 0 | L13: =L21+L28 -> 0 | M13: =K13+L13 -> 0 | N13: =N21+N28 -> 0 | O13: =O21+O28 -> 0 | P13: =N13+O13 -> 0 | Q13: =SUM(B13+E13+H13+K13+N13) -> 0 | R13: =SUM(C13+F13+I13+L13+O13) -> 0 | S13: =SUM(Q13:R13) -> 0
A14: 38.03.06 Торговое дело | B14: =B22+B29 -> 0 | C14: =C22+C29 -> 0 | D14: =B14+C14 -> 0 | E14: =E22+E29 -> 0 | F14: =F22+F29 -> 0 | G14: =E14+F14 -> 0 | H14: =H22+H29 -> 0 | I14: =I22+I29 -> 0 | J14: =H14+I14 -> 0 | K14: =K22+K29 -> 0 | L14: =L22+L29 -> 0 | M14: =K14+L14 -> 0 | N14: =N22+N29 -> 0 | O14: =O22+O29 -> 0 | P14: =N14+O14 -> 0 | Q14: =SUM(B14+E14+H14+K14+N14) -> 0 | R14: =SUM(C14+F14+I14+L14+O14) -> 0 | S14: =SUM(Q14:R14) -> 0
A15: Итого по направлениям подготовки | B15: =SUM(B10:B14) -> 0 | C15: =SUM(C10:C14) -> 0 | D15: =SUM(D10:D14) -> 0 | E15: =SUM(E10:E14) -> 0 | F15: =SUM(F10:F14) -> 0 | G15: =SUM(G10:G14) -> 0 | H15: =SUM(H10:H14) -> 0 | I15: =SUM(I10:I14) -> 6 | ... T15: =SUM(T10:T14) -> 0
A16: В том числе:
A17: Граждане России
A18: 38.03.01; 02;03;04;06 Экономика | B18: 0 | C18: 0 | D18: =SUM(B18:C18) -> 0 | E18: 0 | F18: 0 | G18: =SUM(E18:F18) -> 0 | H18: 0 | I18: 6 | J18: =SUM(H18:I18) -> 6 | K18: 0 | L18: 9 | M18: =SUM(K18:L18) -> 9 | N18: 0 | O18: 0 | P18: =N18+O18 -> 0 | Q18: =SUM(B18+E18+H18+K18+N18) -> 0 | R18: =SUM(C18+F18+I18+L18+O18) -> 15 | S18: =SUM(Q18:R18) -> 15
A19: 38.03.02 Менеджмент | B19: 0 | C19: 0 | D19: =SUM(B19:C19) -> 0 | E19: 0 | F19: 0 | G19: 0 | H19: 0 | I19: 0 | J19: =SUM(H19:I19) -> 0 | K19: 0 | L19: 0 | M19: =SUM(K19:L19) -> 0 | N19: 0 | O19: 0 | P19: =N19+O19 -> 0 | Q19: =SUM(B19+E19+H19+K19+N19) -> 0 | R19: =SUM(C19+F19+I19+L19+O19) -> 0 | S19: =SUM(Q19:R19) -> 0
A20: 38.03.03 Управление персоналом | B20: 0 | C20: 0 | D20: =SUM(B20:C20) -> 0 | E20: 0 | F20: 0 | G20: =SUM(E20:F20) -> 0 | H20: 0 | I20: 0 | J20: =SUM(H20:I20) -> 0 | K20: 0 | L20: 0 | M20: =SUM(K20:L20) -> 0 | N20: 0 | O20: 0 | P20: =N20+O20 -> 0 | Q20: =SUM(B20+E20+H20+K20+N20) -> 0 | R20: =SUM(C20+F20+I20+L20+O20) -> 0 | S20: =SUM(Q20:R20) -> 0
A21: 38.03.04 Государственное и муниципальное управление | B21: 0 | C21: 0 | D21: =SUM(B21:C21) -> 0 | E21: 0 | F21: 0 | G21: =SUM(E21:F21) -> 0 | H21: 0 | I21: 0 | J21: =SUM(H21:I21) -> 0 | K21: 0 | L21: 0 | M21: =SUM(K21:L21) -> 0 | N21: 0 | O21: 0 | P21: =N21+O21 -> 0 | Q21: =SUM(B21+E21+H21+K21+N21) -> 0 | R21: =SUM(C21+F21+I21+L21+O21) -> 0 | S21: =SUM(Q21:R21) -> 0
A22: 38.03.06 Торговое дело | B22: 0 | C22: 0 | D22: =SUM(B22:C22) -> 0 | E22: 0 | F22: 0 | G22: =SUM(E22:F22) -> 0 | H22: 0 | I22: 0 | J22: =SUM(H22:I22) -> 0 | K22: 0 | L22: 0 | M22: =SUM(K22:L22) -> 0 | N22: 0 | O22: 0 | P22: =N22+O22 -> 0 | Q22: =SUM(B22+E22+H22+K22+N22) -> 0 | R22: =SUM(C22+F22+I22+L22+O22) -> 0 | S22: =SUM(Q22:R22) -> 0
A23: Итого граждане России | B23: =SUM(B18:B22) -> 0 | C23: =SUM(C18:C22) -> 0 | D23: =SUM(D18:D22) -> 0 | E23: =SUM(E18:E22) -> 0 | F23: =SUM(F18:F22) -> 0 | G23: =SUM(G18:G22) -> 0 | H23: =SUM(H18:H22) -> 0 | I23: =SUM(I18:I22) -> 6 | ... R23: =SUM(R18:R22) -> 15 | S23: =Q23+R23 -> 15 | T23: =SUM(T18:T22) -> 0
A24: Граждане иностранных государств (вкл. Украину)
A25: 38.03.01; 02;03;04;06 Экономика | B25: 0 | C25: 0 | D25: =SUM(B25:C25) -> 0 | E25: 0 | F25: 0 | G25: =SUM(E25:F25) -> 0 | H25: 0 | I25: 0 | J25: =SUM(H25:I25) -> 0 | K25: 0 | L25: 0 | M25: =SUM(K25:L25) -> 0 | N25: 0 | O25: 0 | P25: =N25+O25 -> 0 | Q25: =B25+E25+H25+K25+N25 -> 0 | R25: =C25+F25+I25+L25+O25 -> 0 | S25: =SUM(Q25:R25) -> 0
A26: 38.03.02 Менеджмент | B26: 0 | C26: 0 | D26: =SUM(B26:C26) -> 0 | E26: 0 | F26: 0 | G26: =SUM(E26:F26) -> 0 | H26: 0 | I26: 0 | J26: =SUM(H26:I26) -> 0 | K26: 0 | L26: 0 | M26: =SUM(K26:L26) -> 0 | N26: 0 | O26: 0 | P26: =N26+O26 -> 0 | Q26: =B26+E26+H26+K26+N26 -> 0 | R26: =C26+F26+I26+L26+O26 -> 0 | S26: =SUM(Q26:R26) -> 0
A27: 38.03.03 Управление персоналом | B27: 0 | C27: 0 | D27: =SUM(B27:C27) -> 0 | E27: 0 | F27: 0 | G27: =SUM(E27:F27) -> 0 | H27: 0 | I27: 0 | J27: =SUM(H27:I27) -> 0 | K27: 0 | L27: 0 | M27: =SUM(K27:L27) -> 0 | N27: 0 | O27: 0 | P27: =N27+O27 -> 0 | Q27: =B27+E27+H27+K27+N27 -> 0 | R27: =C27+F27+I27+L27+O27 -> 0 | S27: =SUM(Q27:R27) -> 0
A28: 38.03.04 Государственное и муниципальное управление | B28: 0 | C28: 0 | D28: =SUM(B28:C28) -> 0 | E28: 0 | F28: 0 | G28: =SUM(E28:F28) -> 0 | H28: 0 | I28: 0 | J28: =SUM(H28:I28) -> 0 | K28: 0 | L28: 0 | M28: =SUM(K28:L28) -> 0 | N28: 0 | O28: 0 | P28: =N28+O28 -> 0 | Q28: =B28+E28+H28+K28+N28 -> 0 | R28: =C28+F28+I28+L28+O28 -> 0 | S28: =SUM(Q28:R28) -> 0
A29: 38.03.06 Торговое дело | B29: 0 | C29: 0 | D29: =SUM(B29:C29) -> 0 | E29: 0 | F29: 0 | G29: =SUM(E29:F29) -> 0 | H29: 0 | I29: 0 | J29: =SUM(H29:I29) -> 0 | K29: 0 | L29: 0 | M29: =SUM(K29:L29) -> 0 | N29: 0 | O29: 0 | P29: =N29+O29 -> 0 | Q29: =B29+E29+H29+K29+N29 -> 0 | R29: =C29+F29+I29+L29+O29 -> 0 | S29: =SUM(Q29:R29) -> 0
A30: Итого граждане иностранных государств | B30: =SUM(B25:B29) -> 0 | C30: =SUM(C25:C29) -> 0 | D30: =SUM(D25:D29) -> 0 | E30: =SUM(E25:E29) -> 0 | F30: =SUM(F25:F29) -> 0 | G30: =SUM(G25:G29) -> 0 | H30: =SUM(H25:H29) -> 0 | I30: =SUM(I25:I29) -> 0 | ... S30: =SUM(S25:S29) -> 0
A31: ИТОГО по подразделению граждане России | B31: =B23 -> 0 | C31: =C23 -> 0 | D31: =D23 -> 0 | E31: =E23 -> 0 | F31: =F23 -> 0 | G31: =G23 -> 0 | H31: =H23 -> 0 | I31: =I23 -> 6 | ... S31: =S23 -> 15
A32: ИТОГО по подразделению граждане иностранных государств | B32: =B30 -> 0 | C32: =C30 -> 0 | D32: =D30 -> 0 | E32: =E30 -> 0 | F32: =F30 -> 0 | G32: =G30 -> 0 | H32: =H30 -> 0 | I32: =I30 -> 0 | ... S32: =S30 -> 0
A33: Свод по направлениям подготовки | B33: =SUM(B31:B32) -> 0 | C33: =SUM(C31:C32) -> 0 | D33: =SUM(D31:D32) -> 0 | E33: =SUM(E31:E32) -> 0 | F33: =SUM(F31:F32) -> 0 | G33: =SUM(G31:G32) -> 0 | H33: =SUM(H31:H32) -> 0 | I33: =SUM(I31:I32) -> 6 | ... S33: =SUM(S31:S32) -> 15

Sheet МАГ ОФО ИЭиУ
A1: ФГАОУ ВО "КФУ им. В.И. Вернадского"
A2: ИНСТИТУТ ЭКОНОМИКИ И УПРАВЛЕНИЯ
A3: Контингент очной формы обучения на 01.01.2025 г. (Магистратура)
A5: Факультет/направление подготовки | B5: 1 год обучения | E5: 2 год обучения | H5: Всего магистратуры
B6: МАГИСТР | E6: МАГИСТР
B7: За счет бюджетных ассигнований | C7: На основе догов. о платных образов. услугах | D7: ВСЕГО | E7: За счет бюджетных ассигнований | F7: На основе догов. о платных образов. услугах | G7: ВСЕГО | H7: За счет бюджетных ассигнований | I7: На основе догов. о платных образов. услугах | J7: ВСЕГО
A8: Свод по направлениям подготовки
A9: 38.04.01 Экономика | B9: =B18+B26 -> 36 | C9: =C18+C26 -> 4 | D9: =D18+D26 -> 40 | E9: =E18+E26 -> 59 | F9: =F18+F26 -> 8 | G9: =G18+G26 -> 67 | H9: =SUM(B9+E9) -> 95 | I9: =SUM(C9+F9) -> 12 | J9: =SUM(H9:I9) -> 107
A10: 38.04.02 Менеджмент | B10: =B19+B27 -> 23 | C10: =C19+C27 -> 2 | D10: =D19+D27 -> 25 | E10: =E19+E27 -> 23 | F10: =F19+F27 -> 2 | G10: =G19+G27 -> 25 | H10: =SUM(B10+E10) -> 46 | I10: =SUM(C10+F10) -> 4 | J10: =SUM(H10:I10) -> 50
A11: 38.04.03 Управление персоналом | B11: =B20+B28 -> 20 | C11: =C20+C28 -> 2 | D11: =D20+D28 -> 22 | E11: =E20+E28 -> 17 | F11: =F20+F28 -> 0 | G11: =G20+G28 -> 17 | H11: =SUM(B11+E11) -> 37 | I11: =SUM(C11+F11) -> 2 | J11: =SUM(H11:I11) -> 39
A12: 38.04.04 Государственное и муниципальное управление | B12: =B21+B29 -> 21 | C12: =C21+C29 -> 2 | D12: =D21+D29 -> 23 | E12: =E21+E29 -> 18 | F12: =F21+F29 -> 5 | G12: =G21+G29 -> 23 | H12: =SUM(B12+E12) -> 39 | I12: =SUM(C12+F12) -> 7 | J12: =SUM(H12:I12) -> 46
A13: 38.04.06 Торговое дело | B13: =B22+B30 -> 21 | C13: =C22+C30 -> 0 | D13: =D22+D30 -> 21 | E13: =E22+E30 -> 19 | F13: =F22+F30 -> 2 | G13: =G22+G30 -> 21 | H13: =SUM(B13+E13) -> 40 | I13: =SUM(C13+F13) -> 2 | J13: =SUM(H13:I13) -> 42
A14: 38.04.08 Финансы и кредит | B14: =B23+B31 -> 18 | C14: =C23+C31 -> 0 | D14: =D23+D31 -> 18 | E14: =E23+E31 -> 17 | F14: =F23+F31 -> 0 | G14: =G23+G31 -> 17 | H14: =SUM(B14+E14) -> 35 | I14: =SUM(C14+F14) -> 0 | J14: =SUM(H14:I14) -> 35
A15: Итого по направлениям подготовки: | B15: =SUM(B8:B14) -> 139 | C15: =SUM(C8:C14) -> 10 | D15: =SUM(D8:D14) -> 149 | E15: =SUM(E8:E14) -> 153 | F15: =SUM(F8:F14) -> 17 | G15: =SUM(G8:G14) -> 170 | H15: =SUM(H8:H14) -> 292 | I15: =SUM(I8:I14) -> 27 | J15: =SUM(J8:J14) -> 319
A16: В том числе:
A17: Граждане России
A18: 38.04.01 Экономика | B18: 36 | C18: 4 | D18: =SUM(B18:C18) -> 40 | E18: 58 | F18: 8 | G18: =SUM(E18:F18) -> 66 | H18: =SUM(B18+E18) -> 94 | I18: =SUM(C18+F18) -> 12 | J18: =SUM(H18:I18) -> 106
A19: 38.04.02 Менеджмент | B19: 22 | C19: 2 | D19: =SUM(B19:C19) -> 24 | E19: 23 | F19: 2 | G19: =SUM(E19:F19) -> 25 | H19: =SUM(B19+E19) -> 45 | I19: =SUM(C19+F19) -> 4 | J19: =SUM(H19:I19) -> 49
A20: 38.04.03 Управление персоналом | B20: 20 | C20: 2 | D20: =SUM(B20:C20) -> 22 | E20: 17 | F20: 0 | G20: =SUM(E20:F20) -> 17 | H20: =SUM(B20+E20) -> 37 | I20: =SUM(C20+F20) -> 2 | J20: =SUM(H20:I20) -> 39
A21: 38.04.04 Государственное и муниципальное управление | B21: 21 | C21: 2 | D21: =SUM(B21:C21) -> 23 | E21: 18 | F21: 5 | G21: =SUM(E21:F21) -> 23 | H21: =SUM(B21+E21) -> 39 | I21: =SUM(C21+F21) -> 7 | J21: =SUM(H21:I21) -> 46
A22: 38.04.06 Торговое дело | B22: 21 | C22: 0 | D22: =SUM(B22:C22) -> 21 | E22: 19 | F22: 2 | G22: =SUM(E22:F22) -> 21 | H22: =SUM(B22+E22) -> 40 | I22: =SUM(C22+F22) -> 2 | J22: =SUM(H22:I22) -> 42
A23: 38.04.08 Финансы и кредит | B23: 18 | C23: 0 | D23: =SUM(B23:C23) -> 18 | E23: 17 | F23: 0 | G23: =SUM(E23:F23) -> 17 | H23: =SUM(B23+E23) -> 35 | I23: =SUM(C23+F23) -> 0 | J23: =SUM(H23:I23) -> 35
A24: Итого граждане России | B24: =SUM(B18:B23) -> 138 | C24: =SUM(C18:C23) -> 10 | D24: =SUM(D18:D23) -> 148 | E24: =SUM(E18:E23) -> 152 | F24: =SUM(F18:F23) -> 17 | G24: =SUM(G18:G23) -> 169 | H24: =SUM(H18:H23) -> 290 | I24: =SUM(I18:I23) -> 27 | J24: =SUM(J18:J23) -> 317
A25: Граждане иностранных государств (вкл. Украину)
A26: 38.04.01 Экономика | B26: 0 | C26: 0 | D26: =SUM(B26:C26) -> 0 | E26: 1 | F26: 0 | G26: =SUM(E26:F26) -> 1 | H26: =SUM(B26+E26) -> 1 | I26: =SUM(C26+F26) -> 0 | J26: =D26+G26 -> 1
A27: 38.04.02 Менеджмент | B27: 1 | C27: 0 | D27: =SUM(B27:C27) -> 1 | E27: 0 | F27: 0 | G27: =SUM(E27:F27) -> 0 | H27: =B27+E27 -> 1 | I27: =C27+F27 -> 0 | J27: =D27+G27 -> 1
A28: 38.04.03 Управление персоналом | B28: 0 | C28: 0 | D28: =SUM(B28:C28) -> 0 | E28: 0 | F28: 0 | G28: =SUM(E28:F28) -> 0 | H28: =B28+E28 -> 0 | I28: =C28+F28 -> 0 | J28: =D28+G28 -> 0
A29: 38.04.04 Государственное и муниципальное управление | B29: 0 | C29: 0 | D29: =SUM(B29:C29) -> 0 | E29: 0 | F29: 0 | G29: =SUM(E29:F29) -> 0 | H29: =B29+E29 -> 0 | I29: =C29+F29 -> 0 | J29: =D29+G29 -> 0
A30: 38.04.06 Торговое дело | B30: 0 | C30: 0 | D30: =SUM(B30:C30) -> 0 | E30: 0 | F30: 0 | G30: =SUM(E30:F30) -> 0 | H30: =B30+E30 -> 0 | I30: =C30+F30 -> 0 | J30: =D30+G30 -> 0
A31: 38.04.08 Финансы и кредит | B31: 0 | C31: 0 | D31: =SUM(B31:C31) -> 0 | E31: 0 | F31: 0 | G31: =SUM(E31:F31) -> 0 | H31: =B31+E31 -> 0 | I31: =C31+F31 -> 0 | J31: =D31+G31 -> 0
A32: Итого граждане иностранных государств | B32: =SUM(B26:B31) -> 1 | C32: =SUM(C26:C31) -> 0 | D32: =SUM(D26:D31) -> 1 | E32: =SUM(E26:E31) -> 1 | F32: =SUM(F26:F31) -> 0 | G32: =SUM(G26:G31) -> 1 | H32: =SUM(H26:H31) -> 2 | I32: =SUM(I26:I31) -> 0 | J32: =SUM(J26:J31) -> 2
A33: ИТОГО по подразделению граждане России | B33: =B24 -> 138 | C33: =C24 -> 10 | D33: =D24 -> 148 | E33: =E24 -> 152 | F33: =F24 -> 17 | G33: =G24 -> 169 | H33: =H24 -> 290 | I33: =I24 -> 27 | J33: =J24 -> 317
A34: ИТОГО по подразделению иностранные граждане | B34: =B32 -> 1 | C34: =C32 -> 0 | D34: =D32 -> 1 | E34: =E32 -> 1 | F34: =F32 -> 0 | G34: =G32 -> 1 | H34: =H32 -> 2 | I34: =I32 -> 0 | J34: =J32 -> 2
A35: Итого | B35: =SUM(B33:B34) -> 139 | C35: =SUM(C33:C34) -> 10 | D35: =SUM(D33:D34) -> 149 | E35: =SUM(E33:E34) -> 153 | F35: =SUM(F33:F34) -> 17 | G35: =SUM(G33:G34) -> 170 | H35: =SUM(H33:H34) -> 292 | I35: =SUM(I33:I34) -> 27 | J35: =SUM(J33:J34) -> 319

Sheet МАГ ЗФО ИЭиУ
A1: ФГАОУ ВО "КФУ им. В.И. Вернадского"
A2: ИНСТИТУТ ЭКОНОМИКИ И УПРАВЛЕНИЯ
A3: Контингент заочной формы обучения 01.01.2025 г. (Магистратура)
A5: Факультет/направление подготовки | B5: 1 год обучения | E5: 2 год обучения | H5: 3 год обучения | K5: Всего магистратуры
B6: МАГИСТР | E6: МАГИСТР | H6: МАГИСТР
B7: За счет бюджетных ассигнований | C7: На основе догов. о платных образов. услугах | D7: ВСЕГО | E7: За счет бюджетных ассигнований | F7: На основе догов. о платных образов. услугах | G7: ВСЕГО | H7: За счет бюджетных ассигнований | I7: На основе догов. о платных образов. услугах | J7: ВСЕГО | K7: За счет бюджетных ассигнований | L7: На основе догов. о платных образов. услугах | M7: ВСЕГО
A8: Свод по направлениям подготовки
A9: 38.04.01 Экономика | B9: =B18+B26 -> 10 | C9: =C18+C26 -> 2 | D9: =B9+C9 -> 12 | E9: =E18+E26 -> 10 | F9: =F18+F26 -> 8 | G9: =E9+F9 -> 18 | H9: =H18+H26 -> 13 | I9: =I18+I26 -> 11 | J9: =H9+I9 -> 24 | K9: =SUM(B9+E9+H9) -> 33 | L9: =SUM(C9+F9+I9) -> 21 | M9: =SUM(K9:L9) -> 54
A10: 38.04.02 Менеджмент | B10: =B19+B27 -> 0 | C10: =C19+C27 -> 0 | D10: =B10+C10 -> 0 | E10: =E19+E27 -> 0 | F10: =F19+F27 -> 0 | G10: =E10+F10 -> 0 | H10: =H19+H27 -> 0 | I10: =I19+I27 -> 0 | J10: =H10+I10 -> 0 | K10: =SUM(B10+E10+H10) -> 0 | L10: =SUM(C10+F10+I10) -> 0 | M10: =SUM(K10:L10) -> 0
A11: 38.04.03 Управление персоналом | B11: =B20+B28 -> 0 | C11: =C20+C28 -> 0 | D11: =B11+C11 -> 0 | E11: =E20+E28 -> 9 | F11: =F20+F28 -> 6 | G11: =E11+F11 -> 15 | H11: =H20+H28 -> 0 | I11: =I20+I28 -> 0 | J11: =H11+I11 -> 0 | K11: =SUM(B11+E11+H11) -> 9 | L11: =SUM(C11+F11+I11) -> 6 | M11: =SUM(K11:L11) -> 15
A12: 38.04.04 Государственное и муниципальное управление | B12: =B21+B29 -> 10 | C12: =C21+C29 -> 26 | D12: =B12+C12 -> 36 | E12: =E21+E29 -> 0 | F12: =F21+F29 -> 12 | G12: =E12+F12 -> 12 | H12: =H21+H29 -> 0 | I12: =I21+I29 -> 39 | J12: =H12+I12 -> 39 | K12: =SUM(B12+E12+H12) -> 10 | L12: =SUM(C12+F12+I12) -> 77 | M12: =SUM(K12:L12) -> 87
A13: 38.04.06 Торговое дело | B13: =B22+B30 -> 0 | C13: =C22+C30 -> 0 | D13: =B13+C13 -> 0 | E13: =E22+E30 -> 6 | F13: =F22+F30 -> 0 | G13: =G22+G30 -> 6 | H13: =H22+H30 -> 0 | I13: =I22+I30 -> 0 | J13: =J22+J30 -> 0 | K13: =SUM(B13+E13+H13) -> 6 | L13: =SUM(C13+F13+I13) -> 0 | M13: =SUM(D13+G13+J13) -> 6
A14: 38.04.08 Финансы и кредит | B14: =B23+B31 -> 10 | C14: =C23+C31 -> 1 | D14: =B14+C14 -> 11 | E14: =E23+E31 -> 1 | F14: =F23+F31 -> 0 | G14: =E14+F14 -> 1 | H14: =H23+H31 -> 15 | I14: =I23+I31 -> 3 | J14: =H14+I14 -> 18 | K14: =SUM(B14+E14+H14) -> 26 | L14: =SUM(C14+F14+I14) -> 4 | M14: =SUM(K14:L14) -> 30
A15: Итого по направлениям подготовки: | B15: =SUM(B9:B14) -> 30 | C15: =SUM(C9:C14) -> 29 | D15: =SUM(D9:D14) -> 59 | E15: =SUM(E9:E14) -> 26 | F15: =SUM(F9:F14) -> 26 | G15: =SUM(G9:G14) -> 52 | H15: =SUM(H9:H14) -> 28 | I15: =SUM(I9:I14) -> 53 | ... M15: =SUM(M9:M14) -> 192
A16: В том числе:
A17: Граждане России
A18: 38.04.01 Экономика | B18: 10 | C18: 2 | D18: =SUM(B18:C18) -> 12 | E18: 10 | F18: 8 | G18: =SUM(E18:F18) -> 18 | H18: 13 | I18: 11 | J18: =SUM(H18:I18) -> 24 | K18: =B18+E18+H18 -> 33 | L18: =C18+F18+I18 -> 21 | M18: =D18+G18+J18 -> 54
A19: 38.04.02 Менеджмент | B19: 0 | C19: 0 | D19: =SUM(B19:C19) -> 0 | E19: 0 | F19: 0 | G19: =SUM(E19:F19) -> 0 | H19: 0 | I19: 0 | J19: =SUM(H19:I19) -> 0 | K19: =B19+E19+H19 -> 0 | L19: =C19+F19+I19 -> 0 | M19: =D19+G19+J19 -> 0
A20: 38.04.03 Управление персоналом | B20: 0 | C20: 0 | D20: =SUM(B20:C20) -> 0 | E20: 9 | F20: 6 | G20: =SUM(E20:F20) -> 15 | H20: 0 | I20: 0 | J20: =SUM(H20:I20) -> 0 | K20: =B20+E20+H20 -> 9 | L20: =C20+F20+I20 -> 6 | M20: =D20+G20+J20 -> 15
A21: 38.04.04 Государственное и муниципальное управление | B21: 10 | C21: 26 | D21: =SUM(B21:C21) -> 36 | E21: 0 | F21: 12 | G21: =SUM(E21:F21) -> 12 | H21: 0 | I21: 38 | J21: =SUM(H21:I21) -> 38 | K21: =B21+E21+H21 -> 10 | L21: =C21+F21+I21 -> 76 | M21: =D21+G21+J21 -> 86
A22: 38.04.06 Торговое дело | B22: 0 | C22: 0 | D22: =SUM(B22:C22) -> 0 | E22: 5 | F22: 0 | G22: =SUM(E22:F22) -> 5 | H22: 0 | I22: 0 | J22: 0 | K22: =B22+E22+H22 -> 5 | L22: =C22+F22+I22 -> 0 | M22: =D22+G22+J22 -> 5
A23: 38.04.08 Финансы и кредит | B23: 10 | C23: 1 | D23: =SUM(B23:C23) -> 11 | E23: 1 | F23: 0 | G23: =SUM(E23:F23) -> 1 | H23: 15 | I23: 3 | J23: =SUM(H23:I23) -> 18 | K23: =B23+E23+H23 -> 26 | L23: =C23+F23+I23 -> 4 | M23: =D23+G23+J23 -> 30
A24: Итого граждане России | B24: =SUM(B18:B23) -> 30 | C24: =SUM(C18:C23) -> 29 | D24: =SUM(D18:D23) -> 59 | E24: =SUM(E18:E23) -> 25 | F24: =SUM(F18:F23) -> 26 | G24: =SUM(G18:G23) -> 51 | H24: =SUM(H18:H23) -> 28 | I24: =SUM(I18:I23) -> 52 | ... M24: =SUM(M18:M23) -> 190
A25: Граждане иностранных государств (вкл. Украину)
A26: 38.04.01 Экономика | B26: 0 | C26: 0 | D26: =SUM(B26:C26) -> 0 | E26: 0 | F26: 0 | G26: =SUM(E26:F26) -> 0 | H26: 0 | I26: 0 | J26: =SUM(H26:I26) -> 0 | K26: =B26+E26+H26 -> 0 | L26: =C26+F26+I26 -> 0 | M26: =D26+G26+J26 -> 0
A27: 38.04.02 Менеджмент | B27: 0 | C27: 0 | D27: =SUM(B27:C27) -> 0 | E27: 0 | F27: 0 | G27: =SUM(E27:F27) -> 0 | H27: 0 | I27: 0 | J27: =SUM(H27:I27) -> 0 | K27: =B27+E27+H27 -> 0 | L27: =C27+F27+I27 -> 0 | M27: =D27+G27+J27 -> 0
A28: 38.04.03 Управление персоналом | B28: 0 | C28: 0 | D28: =SUM(B28:C28) -> 0 | E28: 0 | F28: 0 | G28: =SUM(E28:F28) -> 0 | H28: 0 | I28: 0 | J28: =SUM(H28:I28) -> 0 | K28: =B28+E28+H28 -> 0 | L28: =C28+F28+I28 -> 0 | M28: =D28+G28+J28 -> 0
A29: 38.04.04 Государственное и муниципальное управление | B29: 0 | C29: 0 | D29: =SUM(B29:C29) -> 0 | E29: 0 | F29: 0 | G29: =SUM(E29:F29) -> 0 | H29: 0 | I29: 1 | J29: =SUM(H29:I29) -> 1 | K29: =B29+E29+H29 -> 0 | L29: =C29+F29+I29 -> 1 | M29: =D29+G29+J29 -> 1
A30: 38.04.06 Торговое дело | B30: 0 | C30: 0 | D30: =SUM(B30:C30) -> 0 | E30: 1 | F30: 0 | G30: =SUM(E30:F30) -> 1 | H30: 0 | I30: 0 | J30: 0 | K30: =B30+E30+H30 -> 1 | L30: =C30+F30+I30 -> 0 | M30: =D30+G30+J30 -> 1
A31: 38.04.08 Финансы и кредит | B31: 0 | C31: 0 | D31: =SUM(B31:C31) -> 0 | E31: 0 | F31: 0 | G31: =SUM(E31:F31) -> 0 | H31: 0 | I31: 0 | J31: =SUM(H31:I31) -> 0 | K31: =B31+E31+H31 -> 0 | L31: =C31+F31+I31 -> 0 | M31: =D31+G31+J31 -> 0
A32: Итого граждане иностранных государств | B32: =SUM(B26:B31) -> 0 | C32: =SUM(C26:C31) -> 0 | D32: =SUM(D26:D31) -> 0 | E32: =SUM(E26:E31) -> 1 | F32: =SUM(F26:F31) -> 0 | G32: =SUM(G26:G31) -> 1 | H32: =SUM(H26:H31) -> 0 | I32: =SUM(I26:I31) -> 1 | ... M32: =SUM(M26:M31) -> 2
A33: ИТОГО по подразделению граждане России | B33: =B24 -> 30 | C33: =C24 -> 29 | D33: =D24 -> 59 | E33: =E24 -> 25 | F33: =F24 -> 26 | G33: =G24 -> 51 | H33: =H24 -> 28 | I33: =I24 -> 52 | ... M33: =M24 -> 190
A34: ИТОГО по подразделению иностранные граждане | B34: =B32 -> 0 | C34: =C32 -> 0 | D34: =D32 -> 0 | E34: =E32 -> 1 | F34: =F32 -> 0 | G34: =G32 -> 1 | H34: =H32 -> 0 | I34: =I32 -> 1 | ... M34: =M32 -> 2
A35: Итого | B35: =SUM(B33:B34) -> 30 | C35: =SUM(C33:C34) -> 29 | D35: =SUM(D33:D34) -> 59 | E35: =SUM(E33:E34) -> 26 | F35: =SUM(F33:F34) -> 26 | G35: =SUM(G33:G34) -> 52 | H35: =SUM(H33:H34) -> 28 | I35: =SUM(I33:I34) -> 53 | ... M35: =SUM(M33:M34) -> 192

Sheet Бак ОФО ГПА
B1: Гуманитарно-педагогическая академия (филиал) ФГАОУ ВО «КФУ им. В. И. Вернадского» в г. Ялте
B3: Контингент очной формы обучения на | G3: 01.06.2017 г. | I3: (Бакалавры)
B5: Факультет/направление подготовки | D5: 1 | G5: 2 | J5: 3 | M5: 4 | P5: 5 | S5: Всего бакалавры
D7: За счет бюджетных ассигнований | E7: На основе догов. о платных образов. услугах | F7: ВСЕГО | G7: За счет бюджетных ассигнований | H7: На основе догов. о платных образов. услугах | I7: ВСЕГО | J7: За счет бюджетных ассигнований | K7: На основе догов. о платных образов. услугах | L7: ВСЕГО | M7: За счет бюджетных ассигнований | N7: На основе догов. о платных образов. услугах | O7: ВСЕГО | P7: За счет бюджетных ассигнований | Q7: На основе догов. о платных образов. услугах | R7: ВСЕГО | S7: За счет бюджетных ассигнований | T7: На основе догов. о платных образов. услугах | U7: ВСЕГО
B8: Свод по направлениям подготовки | D8: =SUM(D9:D30) -> 320 | E8: =SUM(E9:E30) -> 14 | F8: =SUM(F9:F30) -> 334 | G8: =SUM(G9:G30) -> 278 | H8: =SUM(H9:H30) -> 13 | I8: =SUM(I9:I30) -> 291 | J8: =SUM(J9:J30) -> 285 | K8: =SUM(K9:K30) -> 56 | ... U8: =SUM(U9:U30) -> 1209
A9: 1 | B9: 01.03.01 | C9: Математика | D9: 0 | E9: 0 | F9: 0 | G9: 0 | H9: 0 | I9: 0 | J9: 0 | K9: 0 | L9: 0 | M9: 0 | N9: 0 | O9: 0 | P9: 0 | Q9: 0 | R9: 0 | S9: 0 | T9: 0 | U9: 0
B10: 09.03.03 | C10: Прикладная информатика | D10: 19 | E10: 0 | F10: 19 | G10: 20 | H10: 0 | I10: 20 | J10: 17 | K10: 3 | L10: 20 | M10: 13 | N10: 0 | O10: 13 | P10: 0 | Q10: 0 | R10: 0 | S10: 69 | T10: 3 | U10: 72
B11: 37.03.01 | C11: Психология | D11: 13 | E11: 0 | F11: 13 | G11: 13 | H11: 1 | I11: 14 | J11: 17 | K11: 2 | L11: 19 | M11: 22 | N11: 2 | O11: 24 | P11: 0 | Q11: 0 | R11: 0 | S11: 65 | T11: 5 | U11: 70
B12: 38.03.01 | C12: Экономика | D12: 17 | E12: 4 | F12: 21 | G12: 35 | H12: 0 | I12: 35 | J12: 14 | K12: 3 | L12: 17 | M12: 23 | N12: 3 | O12: 26 | P12: 0 | Q12: 0 | R12: 0 | S12: 89 | T12: 10 | U12: 99
B13: 38.03.02 | C13: Менеджмент | D13: 18 | E13: 0 | F13: 18 | G13: 23 | H13: 1 | I13: 24 | J13: 20 | K13: 16 | L13: 36 | M13: 13 | N13: 2 | O13: 15 | P13: 0 | Q13: 0 | R13: 0 | S13: 74 | T13: 19 | U13: 93
B14: 43.03.02 | C14: Туризм | D14: 19 | E14: 1 | F14: 20 | G14: 8 | H14: 3 | I14: 11 | J14: 17 | K14: 2 | L14: 19 | M14: 11 | N14: 0 | O14: 11 | P14: 0 | Q14: 0 | R14: 0 | S14: 55 | T14: 6 | U14: 61
B15: 44.03.01 | C15: Педагогическое образование | D15: 52 | E15: 0 | F15: 52 | G15: 41 | H15: 0 | I15: 41 | J15: 45 | K15: 0 | L15: 45 | M15: 5 | N15: 0 | O15: 5 | P15: 0 | Q15: 0 | R15: 0 | S15: 143 | T15: 0 | U15: 143
B16: 44.03.02 | C16: Психолого-педагогическое образование | D16: 15 | E16: 0 | F16: 15 | G16: 12 | H16: 0 | I16: 12 | J16: 15 | K16: 1 | L16: 16 | M16: 7 | N16: 0 | O16: 7 | P16: 0 | Q16: 0 | R16: 0 | S16: 49 | T16: 1 | U16: 50
B17: 44.03.05 | C17: Педагогическое образование (с двумя профилями подготовки) | D17: 16 | E17: 0 | F17: 16 | G17: 12 | H17: 0 | I17: 12 | J17: 15 | K17: 2 | L17: 17 | M17: 25 | N17: 2 | O17: 27 | P17: 14 | Q17: 0 | R17: 14 | S17: 82 | T17: 4 | U17: 86
B18: 45.03.01 | C18: Филология | D18: 50 | E18: 5 | F18: 55 | G18: 36 | H18: 4 | I18: 40 | J18: 40 | K18: 9 | L18: 49 | M18: 30 | N18: 4 | O18: 34 | P18: 0 | Q18: 0 | R18: 0 | S18: 156 | T18: 22 | U18: 178
B19: 46.03.01 | C19: История | D19: 14 | E19: 0 | F19: 14 | G19: 9 | H19: 0 | I19: 9 | J19: 8 | K19: 1 | L19: 9 | M19: 9 | N19: 0 | O19: 9 | P19: 0 | Q19: 0 | R19: 0 | S19: 40 | T19: 1 | U19: 41
B20: 47.03.01 | C20: Философия | D20: 10 | E20: 0 | F20: 10 | G20: 0 | H20: 0 | I20: 0 | J20: 6 | K20: 0 | L20: 6 | M20: 0 | N20: 0 | O20: 0 | P20: 0 | Q20: 0 | R20: 0 | S20: 16 | T20: 0 | U20: 16
B21: 49.03.02 | C21: Физическая культура для лиц с отклонениями в состоянии здоровья (адаптивная физическая культура) | D21: 15 | E21: 1 | F21: 16 | G21: 16 | H21: 1 | I21: 17 | J21: 7 | K21: 0 | L21: 7 | M21: 11 | N21: 4 | O21: 15 | P21: 0 | Q21: 0 | R21: 0 | S21: 49 | T21: 6 | U21: 55
... B30: 54.03.02 | C30: Декоративно-прикладное искусство и народные промыслы | D30: 11 | E30: 0 | F30: 11 | G30: 4 | H30: 0 | I30: 4 | J30: 15 | K30: 0 | L30: 15 | M30: 5 | N30: 0 | O30: 5 | P30: 0 | Q30: 0 | R30: 0 | S30: 35 | T30: 0 | U30: 35
B31: Итого по направлениям подготовки | D31: =SUM(D9:D30) -> 320 | E31: =SUM(E9:E30) -> 14 | F31: =SUM(F9:F30) -> 334 | G31: =SUM(G9:G30) -> 278 | H31: =SUM(H9:H30) -> 13 | I31: =SUM(I9:I30) -> 291 | J31: =SUM(J9:J30) -> 285 | K31: =SUM(K9:K30) -> 56 | ... U31: =SUM(U9:U30) -> 1209
B32: В том числе:
B33: Граждане России
B34: 01.03.01 | C34: Математика | D34: 0 | E34: 0 | F34: 0 | G34: 0 | H34: 0 | I34: 0 | J34: 0 | K34: 0 | L34: 0 | M34: 0 | N34: 0 | O34: 0 | P34: 0 | Q34: 0 | R34: 0 | S34: 0 | T34: 0 | U34: 0
B35: 09.03.03 | C35: Прикладная информатика | D35: 17 | E35: 0 | F35: 17 | G35: 19 | H35: 0 | I35: 19 | J35: 17 | K35: 2 | L35: 19 | M35: 12 | N35: 0 | O35: 12 | P35: 0 | Q35: 0 | R35: 0 | S35: 65 | T35: 2 | U35: 67
B36: 37.03.01 | C36: Психология | D36: 13 | E36: 0 | F36: 13 | G36: 13 | H36: 1 | I36: 14 | J36: 17 | K36: 2 | L36: 19 | M36: 21 | N36: 2 | O36: 23 | P36: 0 | Q36: 0 | R36: 0 | S36: 64 | T36: 5 | U36: 69
B37: 38.03.01 | C37: Экономика | D37: 17 | E37: 4 | F37: 21 | G37: 33 | H37: 0 | I37: 33 | J37: 12 | K37: 1 | L37: 13 | M37: 21 | N37: 3 | O37: 24 | P37: 0 | Q37: 0 | R37: 0 | S37: 83 | T37: 8 | U37: 91
B38: 38.03.02 | C38: Менеджмент | D38: 17 | E38: 0 | F38: 17 | G38: 23 | H38: 1 | I38: 24 | J38: 18 | K38: 12 | L38: 30 | M38: 13 | N38: 2 | O38: 15 | P38: 0 | Q38: 0 | R38: 0 | S38: 71 | T38: 15 | U38: 86
B39: 43.03.02 | C39: Туризм | D39: 19 | E39: 0 | F39: 19 | G39: 8 | H39: 3 | I39: 11 | J39: 17 | K39: 2 | L39: 19 | M39: 10 | N39: 0 | O39: 10 | P39: 0 | Q39: 0 | R39: 0 | S39: 54 | T39: 5 | U39: 59
B40: 44.03.01 | C40: Педагогическое образование | D40: 51 | E40: 0 | F40: 51 | G40: 41 | H40: 0 | I40: 41 | J40: 43 | K40: 0 | L40: 43 | M40: 5 | N40: 0 | O40: 5 | P40: 0 | Q40: 0 | R40: 0 | S40: 140 | T40: 0 | U40: 140
B41: 44.03.02 | C41: Психолого-педагогическое образование | D41: 15 | E41: 0 | F41: 15 | G41: 12 | H41: 0 | I41: 12 | J41: 15 | K41: 1 | L41: 16 | M41: 7 | N41: 0 | O41: 7 | P41: 0 | Q41: 0 | R41: 0 | S41: 49 | T41: 1 | U41: 50
B42: 44.03.05 | C42: Педагогическое образование (с двумя профилями подготовки) | D42: 16 | E42: 0 | F42: 16 | G42: 12 | H42: 0 | I42: 12 | J42: 15 | K42: 0 | L42: 15 | M42: 25 | N42: 2 | O42: 27 | P42: 14 | Q42: 0 | R42: 14 | S42: 82 | T42: 2 | U42: 84
B43: 45.03.01 | C43: Филология | D43: 49 | E43: 4 | F43: 53 | G43: 34 | H43: 3 | I43: 37 | J43: 37 | K43: 9 | L43: 46 | M43: 24 | N43: 4 | O43: 28 | P43: 0 | Q43: 0 | R43: 0 | S43: 144 | T43: 20 | U43: 164
B44: 46.03.01 | C44: История | D44: 14 | E44: 0 | F44: 14 | G44: 9 | H44: 0 | I44: 9 | J44: 7 | K44: 1 | L44: 8 | M44: 9 | N44: 0 | O44: 9 | P44: 0 | Q44: 0 | R44: 0 | S44: 39 | T44: 1 | U44: 40
B45: 47.03.01 | C45: Философия | D45: 10 | E45: 0 | F45: 10 | G45: 0 | H45: 0 | I45: 0 | J45: 6 | K45: 0 | L45: 6 | M45: 0 | N45: 0 | O45: 0 | P45: 0 | Q45: 0 | R45: 0 | S45: 16 | T45: 0 | U45: 16
... B55: 54.03.02 | C55: Декоративно-прикладное искусство и народные промыслы | D55: 11 | E55: 0 | F55: 11 | G55: 4 | H55: 0 | I55: 4 | J55: 15 | K55: 0 | L55: 15 | M55: 5 | N55: 0 | O55: 5 | P55: 0 | Q55: 0 | R55: 0 | S55: 35 | T55: 0 | U55: 35
B56: Итого граждане России | D56: =SUM(D34:D55) -> 314 | E56: =SUM(E34:E55) -> 10 | F56: =SUM(F34:F55) -> 324 | G56: =SUM(G34:G55) -> 272 | H56: =SUM(H34:H55) -> 12 | I56: =SUM(I34:I55) -> 284 | J56: =SUM(J34:J55) -> 273 | K56: =SUM(K34:K55) -> 47 | ... U56: =SUM(U34:U55) -> 1147
B57: Граждане иностранных государств (вкл. Украину)
B58: 09.03.03 | C58: Прикладная информатика | D58: 2 | E58: 0 | F58: 2 | G58: 1 | H58: 0 | I58: 1 | J58: 0 | K58: 1 | L58: 1 | M58: 1 | N58: 0 | O58: 1 | P58: 0 | Q58: 0 | R58: 0 | S58: 4 | T58: 1 | U58: 5
B59: 37.03.01 | C59: Психология | D59: 0 | E59: 0 | F59: 0 | G59: 0 | H59: 0 | I59: 0 | J59: 0 | K59: 0 | L59: 0 | M59: 1 | N59: 0 | O59: 1 | P59: 0 | Q59: 0 | R59: 0 | S59: 1 | T59: 0 | U59: 1
B60: 38.03.01 | C60: Экономика | D60: 0 | E60: 0 | F60: 0 | G60: 2 | H60: 0 | I60: 2 | J60: 2 | K60: 2 | L60: 4 | M60: 2 | N60: 0 | O60: 2 | P60: 0 | Q60: 0 | R60: 0 | S60: 6 | T60: 2 | U60: 8
B61: 38.03.02 | C61: Менеджмент | D61: 1 | E61: 0 | F61: 1 | G61: 0 | H61: 0 | I61: 0 | J61: 2 | K61: 4 | L61: 6 | M61: 0 | N61: 0 | O61: 0 | P61: 0 | Q61: 0 | R61: 0 | S61: 3 | T61: 4 | U61: 7
B62: 43.03.02 | C62: Туризм | D62: 0 | E62: 1 | F62: 1 | G62: 0 | H62: 0 | I62: 0 | J62: 0 | K62: 0 | L62: 0 | M62: 1 | N62: 0 | O62: 1 | P62: 0 | Q62: 0 | R62: 0 | S62: 1 | T62: 1 | U62: 2
B63: 44.03.01 | C63: Педагогическое образование | D63: 1 | E63: 0 | F63: 1 | G63: 0 | H63: 0 | I63: 0 | J63: 2 | K63: 0 | L63: 2 | M63: 0 | N63: 0 | O63: 0 | P63: 0 | Q63: 0 | R63: 0 | S63: 3 | T63: 0 | U63: 3
B64: 44.03.05 | C64: Педагогическое образование (с двумя профилями подготовки) | D64: 0 | E64: 0 | F64: 0 | G64: 0 | H64: 0 | I64: 0 | J64: 0 | K64: 2 | L64: 2 | M64: 0 | N64: 0 | O64: 0 | P64: 0 | Q64: 0 | R64: 0 | S64: 0 | T64: 2 | U64: 2
B65: 45.03.01 | C65: Филология | D65: 1 | E65: 1 | F65: 2 | G65: 2 | H65: 1 | I65: 3 | J65: 3 | K65: 0 | L65: 3 | M65: 6 | N65: 0 | O65: 6 | P65: 0 | Q65: 0 | R65: 0 | S65: 12 | T65: 2 | U65: 14
B66: 46.03.01 | C66: История | D66: 0 | E66: 0 | F66: 0 | G66: 0 | H66: 0 | I66: 0 | J66: 1 | K66: 0 | L66: 1 | M66: 0 | N66: 0 | O66: 0 | P66: 0 | Q66: 0 | R66: 0 | S66: 1 | T66: 0 | U66: 1
B67: 49.03.02 | C67: Физическая культура для лиц с отклонениями в состоянии здоровья (адаптивная физическая культура) | D67: 0 | E67: 0 | F67: 0 | G67: 0 | H67: 0 | I67: 0 | J67: 0 | K67: 0 | L67: 0 | M67: 0 | N67: 2 | O67: 2 | P67: 0 | Q67: 0 | R67: 0 | S67: 0 | T67: 2 | U67: 2
B68: 52.03.01 | C68: Хореография | D68: 0 | E68: 0 | F68: 0 | G68: 0 | H68: 0 | I68: 0 | J68: 2 | K68: 0 | L68: 2 | M68: 1 | N68: 0 | O68: 1 | P68: 0 | Q68: 0 | R68: 0 | S68: 3 | T68: 0 | U68: 3
B69: 53.03.01 | C69: Музыкальное искусство эстрады | D69: 0 | E69: 2 | F69: 2 | G69: 0 | H69: 0 | I69: 0 | J69: 0 | K69: 0 | L69: 0 | M69: 1 | N69: 0 | O69: 1 | P69: 0 | Q69: 0 | R69: 0 | S69: 1 | T69: 2 | U69: 3
... B73: 54.03.01 | C73: Дизайн | D73: 1 | E73: 0 | F73: 1 | G73: 1 | H73: 0 | I73: 1 | J73: 0 | K73: 0 | L73: 0 | M73: 1 | N73: 0 | O73: 1 | P73: 0 | Q73: 0 | R73: 0 | S73: 3 | T73: 0 | U73: 3
B74: Итого граждане иностранных государств | D74: =SUM(D58:D73) -> 6 | E74: =SUM(E58:E73) -> 4 | F74: =SUM(F58:F73) -> 10 | G74: =SUM(G58:G73) -> 6 | H74: =SUM(H58:H73) -> 1 | I74: =SUM(I58:I73) -> 7 | J74: =SUM(J58:J73) -> 12 | K74: =SUM(K58:K73) -> 9 | ... O74: =SUM(O58:O73) -> 24 | P74: 0 | Q74: =SUM(Q34:Q55) -> 0 | R74: 0 | S74: =SUM(S58:S73) -> 41 | T74: =SUM(T58:T73) -> 21 | U74: =SUM(S74:T74) -> 62
B75: ИТОГО по подразделению граждане России | D75: =SUM(D34:D55) -> 314 | E75: =SUM(E34:E55) -> 10 | F75: =SUM(F34:F55) -> 324 | G75: =SUM(G34:G55) -> 272 | H75: =SUM(H34:H55) -> 12 | I75: =SUM(I34:I55) -> 284 | J75: =SUM(J34:J55) -> 273 | K75: =SUM(K34:K55) -> 47 | ... U75: =SUM(U34:U55) -> 1147
B76: ИТОГО по подразделению граждане иностранных государств | D76: =D74 -> 6 | E76: =E74 -> 4 | F76: =F74 -> 10 | G76: =G74 -> 6 | H76: =H74 -> 1 | I76: =I74 -> 7 | J76: =J74 -> 12 | K76: =K74 -> 9 | ... O76: =O74 -> 24 | P76: 0 | Q76: =Q74+Q75 -> 0 | R76: 0 | S76: =S74 -> 41 | T76: =T74 -> 21 | U76: =U74 -> 62
B77: Свод по направлениям подготовки | D77: =D75+D76 -> 320 | E77: =E75+E76 -> 14 | F77: =F75+F76 -> 334 | G77: =G75+G76 -> 278 | H77: =H75+H76 -> 13 | I77: =I75+I76 -> 291 | J77: =J75+J76 -> 285 | K77: =K75+K76 -> 56 | ... S77: =S75+S76 -> 1103 | T77: =SUM(T75:T76) -> 106 | U77: =SUM(S77:T77) -> 1209
B79: Начальник УМО___________________И.И. Линник

Sheet БАК ОФО   ГПА
B1: Гуманитарно-педагогическая академия (филиал) ФГАОУ ВО «КФУ им. В. И. Вернадского» в г. Ялте
B3: Контингент очной формы обучения на | G3: 01.01.2025 г. | I3: (Бакалавры)
B5: Факультет/направление подготовки | D5: 1 | G5: 2 | J5: 3 | M5: 4 | P5: 5 | S5: Всего бакалавры
D7: За счет бюджетных ассигнований | E7: На основе догов. о платных образов. услугах | F7: ВСЕГО | G7: За счет бюджетных ассигнований | H7: На основе догов. о платных образов. услугах | I7: ВСЕГО | J7: За счет бюджетных ассигнований | K7: На основе догов. о платных образов. услугах | L7: ВСЕГО | M7: За счет бюджетных ассигнований | N7: На основе догов. о платных образов. услугах | O7: ВСЕГО | P7: За счет бюджетных ассигнований | Q7: На основе догов. о платных образов. услугах | R7: ВСЕГО | S7: За счет бюджетных ассигнований | T7: На основе догов. о платных образов. услугах | U7: ВСЕГО
B8: Свод по направлениям подготовки | D8: =SUM(D9:D16) -> 108 | E8: =SUM(E9:E16) -> 2 | F8: =SUM(F9:F16) -> 110 | G8: =SUM(G9:G16) -> 114 | H8: =SUM(H9:H16) -> 2 | I8: =SUM(I9:I16) -> 116 | J8: =SUM(J9:J16) -> 129 | K8: =SUM(K9:K16) -> 0 | ... U8: =SUM(U9:U16) -> 498
B9: 09.03.03 | C9: Прикладная информатика | D9: 11 | E9: 1 | F9: 12 | G9: 0 | H9: 0 | I9: 0 | J9: 28 | K9: 0 | L9: 28 | M9: 22 | N9: 0 | O9: 22 | P9: 0 | Q9: 0 | R9: 0 | S9: 61 | T9: 1 | U9: 62
B10: 38.03.01 | C10: Экономика | D10: 0 | E10: 0 | F10: 0 | G10: 0 | H10: 0 | I10: 0 | J10: 14 | K10: 0 | L10: 14 | M10: 29 | N10: 0 | O10: 29 | P10: 0 | Q10: 0 | R10: 0 | S10: 43 | T10: 0 | U10: 43
B11: 38.03.02 | C11: Менеджмент | D11: 0 | E11: 0 | F11: 0 | G11: 20 | H11: 0 | I11: 20 | J11: 0 | K11: 0 | L11: 0 | M11: 0 | N11: 0 | O11: 0 | P11: 0 | Q11: 0 | R11: 0 | S11: 20 | T11: 0 | U11: 20
B12: 43.03.02 | C12: Туризм | D12: 0 | E12: 0 | F12: 0 | G12: 0 | H12: 0 | I12: 0 | J12: 0 | K12: 0 | L12: 0 | M12: 9 | N12: 0 | O12: 9 | P12: 0 | Q12: 0 | R12: 0 | S12: 9 | T12: 0 | U12: 9
B13: 44.03.01 | C13: Педагогическое образование | D13: 35 | E13: 1 | F13: 36 | G13: 14 | H13: 1 | I13: 15 | J13: 30 | K13: 0 | L13: 30 | M13: 11 | N13: 0 | O13: 11 | P13: 0 | Q13: 0 | R13: 0 | S13: 90 | T13: 2 | U13: 92
B14: 44.03.02 | C14: Психолого-педагогическое образование | D14: 21 | E14: 0 | F14: 21 | G14: 18 | H14: 0 | I14: 18 | J14: 15 | K14: 0 | L14: 15 | M14: 17 | N14: 0 | O14: 17 | P14: 0 | Q14: 0 | R14: 0 | S14: 71 | T14: 0 | U14: 71
B15: 44.03.05 | C15: Педагогическое образование (с двумя профилями подготовки) | D15: 20 | E15: 0 | F15: 20 | G15: 40 | H15: 1 | I15: 41 | J15: 19 | K15: 0 | L15: 19 | M15: 19 | N15: 0 | O15: 19 | P15: 15 | Q15: 0 | R15: 15 | S15: 113 | T15: 1 | U15: 114
B16: 45.03.01 | C16: Филология | D16: 21 | E16: 0 | F16: 21 | G16: 22 | H16: 0 | I16: 22 | J16: 23 | K16: 0 | L16: 23 | M16: 20 | N16: 1 | O16: 21 | P16: 0 | Q16: 0 | R16: 0 | S16: 86 | T16: 1 | U16: 87
B17: Итого по направлениям подготовки | D17: =SUM(D9:D16) -> 108 | E17: =SUM(E9:E16) -> 2 | F17: =SUM(F9:F16) -> 110 | G17: =SUM(G9:G16) -> 114 | H17: =SUM(H9:H16) -> 2 | I17: =SUM(I9:I16) -> 116 | J17: =SUM(J9:J16) -> 129 | K17: =SUM(K9:K16) -> 0 | ... U17: =SUM(U9:U16) -> 498
B18: В том числе:
B19: Граждане России
B20: 09.03.03 | C20: Прикладная информатика | D20: 11 | E20: 1 | F20: 12 | G20: 0 | H20: 0 | I20: 0 | J20: 27 | K20: 0 | L20: 27 | M20: 22 | N20: 0 | O20: 22 | P20: 0 | Q20: 0 | R20: 0 | S20: 60 | T20: 1 | U20: 61
B21: 38.03.01 | C21: Экономика | D21: 0 | E21: 0 | F21: 0 | G21: 0 | H21: 0 | I21: 0 | J21: 13 | K21: 0 | L21: 13 | M21: 29 | N21: 0 | O21: 29 | P21: 0 | Q21: 0 | R21: 0 | S21: 42 | T21: 0 | U21: 42
B22: 38.03.02 | C22: Менеджмент | D22: 0 | E22: 0 | F22: 0 | G22: 20 | H22: 0 | I22: 20 | J22: 0 | K22: 0 | L22: 0 | M22: 0 | N22: 0 | O22: 0 | P22: 0 | Q22: 0 | R22: 0 | S22: 20 | T22: 0 | U22: 20
B23: 43.03.02 | C23: Туризм | D23: 0 | E23: 0 | F23: 0 | G23: 0 | H23: 0 | I23: 0 | J23: 0 | K23: 0 | L23: 0 | M23: 9 | N23: 0 | O23: 9 | P23: 0 | Q23: 0 | R23: 0 | S23: 9 | T23: 0 | U23: 9
B24: 44.03.01 | C24: Педагогическое образование | D24: 35 | E24: 1 | F24: 36 | G24: 14 | H24: 1 | I24: 15 | J24: 29 | K24: 0 | L24: 29 | M24: 11 | N24: 0 | O24: 11 | P24: 0 | Q24: 0 | R24: 0 | S24: 89 | T24: 2 | U24: 91
B25: 44.03.02 | C25: Психолого-педагогическое образование | D25: 21 | E25: 0 | F25: 21 | G25: 18 | H25: 0 | I25: 18 | J25: 15 | K25: 0 | L25: 15 | M25: 17 | N25: 0 | O25: 17 | P25: 0 | Q25: 0 | R25: 0 | S25: 71 | T25: 0 | U25: 71
B26: 44.03.05 | C26: Педагогическое образование (с двумя профилями подготовки) | D26: 20 | E26: 0 | F26: 20 | G26: 40 | H26: 1 | I26: 41 | J26: 19 | K26: 0 | L26: 19 | M26: 19 | N26: 0 | O26: 19 | P26: 15 | Q26: 0 | R26: 15 | S26: 113 | T26: 1 | U26: 114
B27: 45.03.01 | C27: Филология | D27: 20 | E27: 0 | F27: 20 | G27: 22 | H27: 0 | I27: 22 | J27: 23 | K27: 0 | L27: 23 | M27: 20 | N27: 1 | O27: 21 | P27: 0 | Q27: 0 | R27: 0 | S27: 85 | T27: 1 | U27: 86
B28: Итого граждане России | D28: =SUM(D20:D27) -> 107 | E28: =SUM(E20:E27) -> 2 | F28: =SUM(F20:F27) -> 109 | G28: =SUM(G20:G27) -> 114 | H28: =SUM(H20:H27) -> 2 | I28: =SUM(I20:I27) -> 116 | J28: =SUM(J20:J27) -> 126 | K28: =SUM(K20:K27) -> 0 | ... U28: =SUM(U20:U27) -> 494
B29: Граждане иностранных государств (вкл. Украину)
B30: 09.03.03 | C30: Прикладная информатика | D30: 0 | E30: 0 | F30: 0 | G30: 0 | H30: 0 | I30: 0 | J30: 1 | K30: 0 | L30: 1 | M30: 0 | N30: 0 | O30: 0 | P30: 0 | Q30: 0 | R30: 0 | S30: 1 | T30: 0 | U30: 1
B31: 38.03.01 | C31: Экономика | D31: 0 | E31: 0 | F31: 0 | G31: 0 | H31: 0 | I31: 0 | J31: 1 | K31: 0 | L31: 1 | M31: 0 | N31: 0 | O31: 0 | P31: 0 | Q31: 0 | R31: 0 | S31: 1 | T31: 0 | U31: 1
B32: 44.03.01 | C32: Педагогическое образование | D32: 0 | E32: 0 | F32: 0 | G32: 0 | H32: 0 | I32: 0 | J32: 1 | K32: 0 | L32: 1 | M32: 0 | N32: 0 | O32: 0 | P32: 0 | Q32: 0 | R32: 0 | S32: 1 | T32: 0 | U32: 1
B33: 45.03.01 | C33: Филология | D33: 1 | E33: 0 | F33: 1 | G33: 0 | H33: 0 | I33: 0 | J33: 0 | K33: 0 | L33: 0 | M33: 0 | N33: 0 | O33: 0 | P33: 0 | Q33: 0 | R33: 0 | S33: 1 | T33: 0 | U33: 1
B34: Итого по направлениям подготовки | D34: 1 | E34: =SUM(E30:E32) -> 0 | F34: 1 | G34: =SUM(G30:G32) -> 0 | H34: =SUM(H30:H32) -> 0 | I34: =SUM(I30:I32) -> 0 | J34: =SUM(J30:J32) -> 3 | K34: =SUM(K30:K32) -> 0 | L34: =SUM(L30:L32) -> 3 | M34: =SUM(M30:M32) -> 0 | N34: =SUM(N30:N32) -> 0 | ... R34: =SUM(R30:R32) -> 0 | S34: 4 | T34: =SUM(T30:T32) -> 0 | U34: 4
B35: ИТОГО по подразделению граждане России | D35: =SUM(D20:D27) -> 107 | E35: =SUM(E20:E27) -> 2 | F35: =SUM(F20:F27) -> 109 | G35: =SUM(G20:G27) -> 114 | H35: =SUM(H20:H27) -> 2 | I35: =SUM(I20:I27) -> 116 | J35: =SUM(J20:J27) -> 126 | K35: =SUM(K20:K27) -> 0 | ... U35: =SUM(U20:U27) -> 494
B36: ИТОГО по подразделению граждане иностранных государств | D36: =D34 -> 1 | E36: =E34 -> 0 | F36: =F34 -> 1 | G36: =G34 -> 0 | H36: =H34 -> 0 | I36: =I34 -> 0 | J36: =J34 -> 3 | K36: =K34 -> 0 | ... U36: =U34 -> 4
B37: Свод по направлениям подготовки | D37: =D35+D36 -> 108 | E37: =E35+E36 -> 2 | F37: =F35+F36 -> 110 | G37: =G35+G36 -> 114 | H37: =H35+H36 -> 2 | I37: =I35+I36 -> 116 | J37: =J35+J36 -> 129 | K37: =K35+K36 -> 0 | ... U37: =U35+U36 -> 498

Sheet БАК ОЗО ГПА
B1: Гуманитарно-педагогическая академия (филиал) ФГАОУ ВО «КФУ им. В. И. Вернадского» в г. Ялте
B3: Контингент очно-заочной формы обучения на | I3: 45658 | K3: (Бакалавры)
B5: Факультет/направление подготовки | D5: 1 | G5: 2 | J5: 3 | M5: 4 | P5: 5 | S5: Всего бакалавры
D7: За счет бюджетных ассигнований | E7: На основе догов. о платных образов. услугах | F7: ВСЕГО | G7: За счет бюджетных ассигнований | H7: На основе догов. о платных образов. услугах | I7: ВСЕГО | J7: За счет бюджетных ассигнований | K7: На основе догов. о платных образов. услугах | L7: ВСЕГО | M7: За счет бюджетных ассигнований | N7: На основе догов. о платных образов. услугах | O7: ВСЕГО | P7: За счет бюджетных ассигнований | Q7: На основе догов. о платных образов. услугах | R7: ВСЕГО | S7: За счет бюджетных ассигнований | T7: На основе догов. о платных образов. услугах | U7: ВСЕГО
B8: Свод по направлениям подготовки | D8: =SUM(D9:D11) -> 0 | E8: =SUM(E9:E11) -> 52 | F8: =SUM(F9:F11) -> 52 | G8: =SUM(G9:G11) -> 0 | H8: =SUM(H9:H11) -> 31 | I8: =SUM(I9:I11) -> 31 | J8: =SUM(J9:J11) -> 0 | K8: =SUM(K9:K11) -> 22 | ... U8: =SUM(U9:U11) -> 105
B9: 38.03.01 | C9: Экономика | D9: 0 | E9: 23 | F9: 23 | G9: 0 | H9: 19 | I9: 19 | J9: 0 | K9: 0 | L9: 0 | M9: 0 | N9: 0 | O9: 0 | P9: 0 | Q9: 0 | R9: 0 | S9: 0 | T9: 42 | U9: 42
B10: 43.03.02 | C10: Туризм | D10: 0 | E10: 13 | F10: 13 | G10: 0 | H10: 0 | I10: 0 | J10: 0 | K10: 13 | L10: 13 | M10: 0 | N10: 0 | O10: 0 | P10: 0 | Q10: 0 | R10: 0 | S10: 0 | T10: 26 | U10: 26
B11: 54.03.01 | C11: Дизайн | D11: 0 | E11: 16 | F11: 16 | G11: 0 | H11: 12 | I11: 12 | J11: 0 | K11: 9 | L11: 9 | M11: 0 | N11: 0 | O11: 0 | P11: 0 | Q11: 0 | R11: 0 | S11: 0 | T11: 37 | U11: 37
B12: Итого по направлениям подготовки | D12: =SUM(D9:D11) -> 0 | E12: =SUM(E9:E11) -> 52 | F12: =SUM(F9:F11) -> 52 | G12: =SUM(G9:G11) -> 0 | H12: =SUM(H9:H11) -> 31 | I12: =SUM(I9:I11) -> 31 | J12: =SUM(J9:J11) -> 0 | K12: =SUM(K9:K11) -> 22 | ... U12: =SUM(U9:U11) -> 105
B13: В том числе:
B14: Граждане России
B15: 38.03.01 | C15: Экономика | D15: 0 | E15: 23 | F15: 23 | G15: 0 | H15: 19 | I15: 19 | J15: 0 | K15: 0 | L15: 0 | M15: 0 | N15: 0 | O15: 0 | P15: 0 | Q15: 0 | R15: 0 | S15: 0 | T15: 42 | U15: 42
B16: 43.03.02 | C16: Туризм | D16: 0 | E16: 13 | F16: 13 | G16: 0 | H16: 0 | I16: 0 | J16: 0 | K16: 13 | L16: 13 | M16: 0 | N16: 0 | O16: 0 | P16: 0 | Q16: 0 | R16: 0 | S16: 0 | T16: 26 | U16: 26
B17: 54.03.01 | C17: Дизайн | D17: 0 | E17: 16 | F17: 16 | G17: 0 | H17: 12 | I17: 12 | J17: 0 | K17: 9 | L17: 9 | M17: 0 | N17: 0 | O17: 0 | P17: 0 | Q17: 0 | R17: 0 | S17: 0 | T17: 37 | U17: 37
B18: Итого граждане России | D18: =SUM(D15:D17) -> 0 | E18: =SUM(E15:E17) -> 52 | F18: =SUM(F15:F17) -> 52 | G18: =SUM(G15:G17) -> 0 | H18: =SUM(H15:H17) -> 31 | I18: =SUM(I15:I17) -> 31 | J18: =SUM(J15:J17) -> 0 | K18: =SUM(K15:K17) -> 22 | ... U18: =SUM(U15:U17) -> 105
B19: Граждане иностранных государств (вкл. Украину)
B20: 37.03.01 | C20: Психология | D20: 0 | E20: 0 | F20: 0 | G20: 0 | H20: 0 | I20: 0 | J20: 0 | K20: 0 | L20: 0 | M20: 0 | N20: 0 | O20: 0 | P20: 0 | Q20: 0 | R20: 0 | S20: 0 | T20: 0 | U20: 0
B21: Итого граждане иностранных государств | D21: =SUM(D20:D20) -> 0 | E21: =SUM(E20:E20) -> 0 | F21: =SUM(F20:F20) -> 0 | G21: =SUM(G20:G20) -> 0 | H21: =SUM(H20:H20) -> 0 | I21: =SUM(I20:I20) -> 0 | J21: 0 | K21: =SUM(K20:K20) -> 0 | L21: 0 | M21: =SUM(M20:M20) -> 0 | N21: =SUM(N20:N20) -> 0 | O21: =SUM(O20:O20) -> 0 | P21: =SUM(P20:P20) -> 0 | Q21: =SUM(Q20:Q20) -> 0 | R21: =SUM(R20:R20) -> 0 | S21: =SUM(S20:S20) -> 0 | T21: =SUM(T20:T20) -> 0 | U21: =SUM(U20:U20) -> 0
B22: ИТОГО по подразделению граждане России | D22: =D18 -> 0 | E22: =E18 -> 52 | F22: =F18 -> 52 | G22: =G18 -> 0 | H22: =H18 -> 31 | I22: =I18 -> 31 | J22: =J18 -> 0 | K22: =K18 -> 22 | ... U22: =U18 -> 105
B23: ИТОГО по подразделению граждане иностранных государств | D23: =D21 -> 0 | E23: =E21 -> 0 | F23: =F21 -> 0 | G23: =G21 -> 0 | H23: =H21 -> 0 | I23: =I21 -> 0 | J23: =J21 -> 0 | K23: =K21 -> 0 | ... U23: =U21 -> 0
B24: Свод по направлениям подготовки | D24: =D22+D23 -> 0 | E24: =E22+E23 -> 52 | F24: =F22+F23 -> 52 | G24: =G22+G23 -> 0 | H24: =H22+H23 -> 31 | I24: =I22+I23 -> 31 | J24: =J22+J23 -> 0 | K24: =K22+K23 -> 22 | ... U24: =U22+U23 -> 105

Sheet Бак ЗФО ГПА
B1: Гуманитарно-педагогическая академия (филиал) ФГАОУ ВО «КФУ им. В. И. Вернадского» в г. Ялте
B3: Контингент заочной формы обучения на | I3: 45658 | K3: (Бакалавры)
B5: Факультет/направление подготовки | D5: 1 | G5: 2 | J5: 3 | M5: 4 | P5: 5 | S5: 6 | V5: Всего бакалавры
D7: За счет бюджетных ассигнований | E7: На основе догов. о платных образов. услугах | F7: ВСЕГО | G7: За счет бюджетных ассигнований | H7: На основе догов. о платных образов. услугах | I7: ВСЕГО | J7: За счет бюджетных ассигнований | K7: На основе догов. о платных образов. услугах | L7: ВСЕГО | M7: За счет бюджетных ассигнований | N7: На основе догов. о платных образов. услугах | O7: ВСЕГО | P7: За счет бюджетных ассигнований | Q7: На основе догов. о платных образов. услугах | R7: ВСЕГО | S7: За счет бюджетных ассигнований | T7: На основе догов. о платных образов. услугах | U7: ВСЕГО | V7: За счет бюджетных ассигнований | W7: На основе догов. о платных образов. услугах | X7: ВСЕГО
B8: Свод по направлениям подготовки | D8: =SUM(D9:D11) -> 20 | E8: =SUM(E9:E11) -> 2 | F8: =SUM(F9:F11) -> 22 | G8: =SUM(G9:G11) -> 23 | H8: =SUM(H9:H11) -> 1 | I8: =SUM(I9:I11) -> 24 | J8: =SUM(J9:J11) -> 18 | K8: =SUM(K9:K11) -> 0 | ... R8: =SUM(R9:R11) -> 7 | S8: 0 | T8: 0 | U8: 0 | V8: =SUM(V9:V11) -> 85 | W8: =SUM(W9:W11) -> 6 | X8: =SUM(X9:X11) -> 91
B9: 44.03.01 | C9: Педагогическое образование | D9: 20 | E9: 2 | F9: 22 | G9: 23 | H9: 1 | I9: 24 | J9: 18 | K9: 0 | L9: 18 | M9: 19 | N9: 0 | O9: 19 | P9: 5 | Q9: 1 | R9: 6 | S9: 0 | T9: 0 | U9: 0 | V9: 85 | W9: 4 | X9: 89
B10: 49.03.02 | C10: Физическая культура для лиц с отклонениями в состоянии здоровья (адаптивная физическая культура) | D10: 0 | E10: 0 | F10: 0 | G10: 0 | H10: 0 | I10: 0 | J10: 0 | K10: 0 | L10: 0 | M10: 0 | N10: 0 | O10: 0 | P10: 0 | Q10: 1 | R10: 1 | S10: 0 | T10: 0 | U10: 0 | V10: 0 | W10: 1 | X10: 1
B11: 53.03.06 | C11: Музыкознание и музыкально-прикладное искусство | D11: 0 | E11: 0 | F11: 0 | G11: 0 | H11: 0 | I11: 0 | J11: 0 | K11: 0 | L11: 0 | M11: 0 | N11: 1 | O11: 1 | P11: 0 | Q11: 0 | R11: 0 | S11: 0 | T11: 0 | U11: 0 | V11: 0 | W11: 1 | X11: 1
B12: Итого по направлениям подготовки | D12: =SUM(D9:D11) -> 20 | E12: =SUM(E9:E11) -> 2 | F12: =SUM(F9:F11) -> 22 | G12: =SUM(G9:G11) -> 23 | H12: =SUM(H9:H11) -> 1 | I12: =SUM(I9:I11) -> 24 | J12: =SUM(J9:J11) -> 18 | K12: =SUM(K9:K11) -> 0 | ... R12: =SUM(R9:R11) -> 7 | S12: 0 | T12: 0 | U12: 0 | V12: =SUM(V9:V11) -> 85 | W12: =SUM(W9:W11) -> 6 | X12: =SUM(X9:X11) -> 91
B13: В том числе:
B14: Граждане России
B15: 44.03.01 | C15: Педагогическое образование | D15: 20 | E15: 2 | F15: 22 | G15: 23 | H15: 1 | I15: 24 | J15: 18 | K15: 0 | L15: 18 | M15: 19 | N15: 0 | O15: 19 | P15: 5 | Q15: 1 | R15: 6 | S15: 0 | T15: 0 | U15: 0 | V15: 85 | W15: 4 | X15: 89
B16: 49.03.02 | C16: Физическая культура для лиц с отклонениями в состоянии здоровья (адаптивная физическая культура) | D16: 0 | E16: 0 | F16: 0 | G16: 0 | H16: 0 | I16: 0 | J16: 0 | K16: 0 | L16: 0 | M16: 0 | N16: 0 | O16: 0 | P16: 0 | Q16: 1 | R16: 1 | S16: 0 | T16: 0 | U16: 0 | V16: 0 | W16: 1 | X16: 1
B17: 53.03.06 | C17: Музыкознание и музыкально-прикладное искусство | D17: 0 | E17: 0 | F17: 0 | G17: 0 | H17: 0 | I17: 0 | J17: 0 | K17: 0 | L17: 0 | M17: 0 | N17: 1 | O17: 1 | P17: 0 | Q17: 0 | R17: 0 | S17: 0 | T17: 0 | U17: 0 | V17: 0 | W17: 1 | X17: 1
B18: Итого по направлениям подготовки | D18: =SUM(D15:D17) -> 20 | E18: =SUM(E15:E17) -> 2 | F18: =SUM(F15:F17) -> 22 | G18: =SUM(G15:G17) -> 23 | H18: =SUM(H15:H17) -> 1 | I18: =SUM(I15:I17) -> 24 | J18: =SUM(J15:J17) -> 18 | K18: =SUM(K15:K17) -> 0 | ... R18: =SUM(R15:R17) -> 7 | S18: 0 | T18: 0 | U18: 0 | V18: =SUM(V15:V17) -> 85 | W18: =SUM(W15:W17) -> 6 | X18: =SUM(X15:X17) -> 91
B19: Граждане иностранных государств (вкл. Украину)
B20: 45.03.01 | C20: Филология | D20: 0 | E20: 0 | F20: 0 | G20: 0 | H20: 0 | I20: 0 | J20: 0 | K20: 0 | L20: 0 | M20: 0 | N20: 0 | O20: 0 | P20: 0 | Q20: 0 | R20: 0 | S20: 0 | T20: 0 | U20: 0 | V20: 0 | W20: 0 | X20: 0
B21: Итого по направлениям подготовки | D21: =SUM(D20:D20) -> 0 | E21: =SUM(E20:E20) -> 0 | F21: =SUM(F20:F20) -> 0 | G21: =SUM(G20:G20) -> 0 | H21: =SUM(H20:H20) -> 0 | I21: =SUM(I20:I20) -> 0 | J21: =SUM(J20:J20) -> 0 | K21: =SUM(K20:K20) -> 0 | ... R21: =SUM(R20:R20) -> 0 | S21: 0 | T21: 0 | U21: 0 | V21: =SUM(V20:V20) -> 0 | W21: =SUM(W20:W20) -> 0 | X21: =SUM(X20:X20) -> 0
B22: ИТОГО по подразделению граждане России | D22: =D18 -> 20 | E22: =E18 -> 2 | F22: =F18 -> 22 | G22: =G18 -> 23 | H22: =H18 -> 1 | I22: =I18 -> 24 | J22: =J18 -> 18 | K22: =K18 -> 0 | ... R22: =R18 -> 7 | S22: 0 | T22: 0 | U22: 0 | V22: =V18 -> 85 | W22: =W18 -> 6 | X22: =X18 -> 91
B23: ИТОГО по подразделению граждане иностранных государств | D23: =D21 -> 0 | E23: =E21 -> 0 | F23: =F21 -> 0 | G23: =G21 -> 0 | H23: =H21 -> 0 | I23: =I21 -> 0 | J23: =J21 -> 0 | K23: =K21 -> 0 | ... R23: =R21 -> 0 | S23: 0 | T23: 0 | U23: 0 | V23: =V21 -> 0 | W23: =W21 -> 0 | X23: =X21 -> 0
B24: Свод по направлениям подготовки | D24: =D22+D23 -> 20 | E24: =E22+E23 -> 2 | F24: =F22+F23 -> 22 | G24: =G22+G23 -> 23 | H24: =H22+H23 -> 1 | I24: =I22+I23 -> 24 | J24: =J22+J23 -> 18 | K24: =K22+K23 -> 0 | ... R24: =R22+R23 -> 7 | S24: 0 | T24: 0 | U24: 0 | V24: =V22+V23 -> 85 | W24: =W22+W23 -> 6 | X24: =X22+X23 -> 91

Sheet Спец ОФО ГПА
B1: ='[5]Бакалавриат ЗО'!B1:U1 -> Гуманитарно-педагогическая академия (филиал) ФГАОУ ВО «КФУ им. В. И. Вернадского» в г. Ялте
B3: Контингент очной формы обучения на | D3: 45658 | F3: (Специалитет)
B5: Факультет/направление подготовки | D5: 1 | G5: 2 | J5: 3 | M5: 4 | P5: 5 | S5: 6 | V5: Всего специалисты
D7: За счет бюджетных ассигнований | E7: На основе догов. о платных образов. услугах | F7: ВСЕГО | G7: За счет бюджетных ассигнований | H7: На основе догов. о платных образов. услугах | I7: ВСЕГО | J7: За счет бюджетных ассигнований | K7: На основе догов. о платных образов. услугах | L7: ВСЕГО | M7: За счет бюджетных ассигнований | N7: На основе догов. о платных образов. услугах | O7: ВСЕГО | P7: За счет бюджетных ассигнований | Q7: На основе догов. о платных образов. услугах | R7: ВСЕГО | S7: За счет бюджетных ассигнований | T7: На основе догов. о платных образов. услугах | U7: ВСЕГО | V7: За счет бюджетных ассигнований | W7: На основе догов. о платных образов. услугах | X7: ВСЕГО
B8: Свод по направлениям подготовки | D8: =SUM(D9:D10) -> 31 | E8: =SUM(E9:E10) -> 1 | F8: =SUM(F9:F10) -> 32 | G8: =SUM(G9:G10) -> 28 | H8: =SUM(H9:H10) -> 0 | I8: =SUM(I9:I10) -> 28 | J8: =SUM(J9:J10) -> 24 | K8: =SUM(K9:K10) -> 1 | ... U8: =SUM(U9:U10) -> 6 | V8: =D8+G8+J8+M8+P8+S8 -> 130 | W8: =E8+H8+K8+N8+Q8+T8 -> 2 | X8: =F8+I8+L8+O8+R8+U8 -> 132
B9: 44.05.01 | C9: Педагогика и психология девиантного поведения | D9: 23 | E9: 1 | F9: 24 | G9: 19 | H9: 0 | I9: 19 | J9: 17 | K9: 0 | L9: 17 | M9: 13 | N9: 0 | O9: 13 | P9: 11 | Q9: 0 | R9: 11 | S9: 0 | T9: 0 | U9: 0 | V9: =D9+G9+J9+M9+P9+S9 -> 83 | W9: =E9+H9+K9+N9+Q9+T9 -> 1 | X9: =F9+I9+L9+O9+R9+U9 -> 84
B10: 54.05.02 | C10: Живопись | D10: 8 | E10: 0 | F10: 8 | G10: 9 | H10: 0 | I10: 9 | J10: 7 | K10: 1 | L10: 8 | M10: 9 | N10: 0 | O10: 9 | P10: 8 | Q10: 0 | R10: 8 | S10: 6 | T10: 0 | U10: 6 | V10: =D10+G10+J10+M10+P10+S10 -> 47 | W10: =E10+H10+K10+N10+Q10+T10 -> 1 | X10: =F10+I10+L10+O10+R10+U10 -> 48
B11: Итого по направлениям подготовки | D11: =SUM(D9:D10) -> 31 | E11: =SUM(E9:E10) -> 1 | F11: =SUM(F9:F10) -> 32 | G11: =SUM(G9:G10) -> 28 | H11: =SUM(H9:H10) -> 0 | I11: =SUM(I9:I10) -> 28 | J11: =SUM(J9:J10) -> 24 | K11: =SUM(K9:K10) -> 1 | ... U11: =SUM(U9:U10) -> 6 | V11: =D11+G11+J11+M11+P11+S11 -> 130 | W11: =E11+H11+K11+N11+Q11+T11 -> 2 | X11: =F11+I11+L11+O11+R11+U11 -> 132
B12: В том числе:
B13: Граждане России
B14: 44.05.01 | C14: Педагогика и психология девиантного поведения | D14: 23 | E14: 1 | F14: 24 | G14: 19 | H14: 0 | I14: 19 | J14: 17 | K14: 0 | L14: 17 | M14: 13 | N14: 0 | O14: 13 | P14: 11 | Q14: 0 | R14: 11 | S14: 0 | T14: 0 | U14: 0 | V14: =D14+G14+J14+M14+P14+S14 -> 83 | W14: =E14+H14+K14+N14+Q14+T14 -> 1 | X14: =F14+I14+L14+O14+R14+U14 -> 84
B15: 54.05.02 | C15: Живопись | D15: 8 | E15: 0 | F15: 8 | G15: 9 | H15: 0 | I15: 9 | J15: 7 | K15: 1 | L15: 8 | M15: 9 | N15: 0 | O15: 9 | P15: 8 | Q15: 0 | R15: 8 | S15: 6 | T15: 0 | U15: 6 | V15: =D15+G15+J15+M15+P15+S15 -> 47 | W15: =E15+H15+K15+N15+Q15+T15 -> 1 | X15: =F15+I15+L15+O15+R15+U15 -> 48
B16: Итого граждане России | D16: =SUM(D14:D15) -> 31 | E16: =SUM(E14:E15) -> 1 | F16: =SUM(F14:F15) -> 32 | G16: =SUM(G14:G15) -> 28 | H16: =SUM(H14:H15) -> 0 | I16: =SUM(I14:I15) -> 28 | J16: =SUM(J14:J15) -> 24 | K16: =SUM(K14:K15) -> 1 | ... U16: =SUM(U14:U15) -> 6 | V16: =D16+G16+J16+M16+P16+S16 -> 130 | W16: =E16+H16+K16+N16+Q16+T16 -> 2 | X16: =F16+I16+L16+O16+R16+U16 -> 132
B17: Граждане иностранных государств (вкл. Украину)
B18: 44.05.01 | C18: Педагогика и психология девиантного поведения | D18: 0 | E18: 0 | F18: 0 | G18: 0 | H18: 0 | I18: 0 | J18: 0 | K18: 0 | L18: 0 | M18: 0 | N18: 0 | O18: 0 | P18: 0 | Q18: 0 | R18: 0 | S18: 0 | T18: 0 | U18: 0 | V18: =D18+G18+J18+M18+P18+S18 -> 0 | W18: =E18+H18+K18+N18+Q18+T18 -> 0 | X18: =F18+I18+L18+O18+R18+U18 -> 0
B19: Итого граждане иностранных государств | D19: =SUM(D18:D18) -> 0 | E19: =SUM(E18:E18) -> 0 | F19: =SUM(F18:F18) -> 0 | G19: =SUM(G18:G18) -> 0 | H19: =SUM(H18:H18) -> 0 | I19: =SUM(I18:I18) -> 0 | J19: =SUM(J18:J18) -> 0 | K19: =SUM(K18:K18) -> 0 | L19: =SUM(L18:L18) -> 0 | M19: 0 | N19: =SUM(N18:N18) -> 0 | O19: 0 | P19: =SUM(P18:P18) -> 0 | Q19: =SUM(Q18:Q18) -> 0 | R19: =SUM(R18:R18) -> 0 | S19: =SUM(S18:S18) -> 0 | T19: =SUM(T18:T18) -> 0 | U19: =SUM(U18:U18) -> 0 | V19: =D19+G19+J19+M19+P19+S19 -> 0 | W19: =E19+H19+K19+N19+Q19+T19 -> 0 | X19: =F19+I19+L19+O19+R19+U19 -> 0
B20: ИТОГО по подразделению граждане России | D20: =D16 -> 31 | E20: =E16 -> 1 | F20: =F16 -> 32 | G20: =G16 -> 28 | H20: =H16 -> 0 | I20: =I16 -> 28 | J20: =J16 -> 24 | K20: =K16 -> 1 | ... U20: =U16 -> 6 | V20: =D20+G20+J20+M20+P20+S20 -> 130 | W20: =E20+H20+K20+N20+Q20+T20 -> 2 | X20: =F20+I20+L20+O20+R20+U20 -> 132
B21: ИТОГО по подразделению граждане иностранных государств | D21: =D19 -> 0 | E21: =E19 -> 0 | F21: =F19 -> 0 | G21: =G19 -> 0 | H21: =H19 -> 0 | I21: =I19 -> 0 | J21: =J19 -> 0 | K21: =K19 -> 0 | ... U21: =U19 -> 0 | V21: =D21+G21+J21+M21+P21+S21 -> 0 | W21: =E21+H21+K21+N21+Q21+T21 -> 0 | X21: =F21+I21+L21+O21+R21+U21 -> 0
B22: Свод по направлениям подготовки | D22: =D20+D21 -> 31 | E22: =E20+E21 -> 1 | F22: =F20+F21 -> 32 | G22: =G20+G21 -> 28 | H22: =H20+H21 -> 0 | I22: =I20+I21 -> 28 | J22: =J20+J21 -> 24 | K22: =K20+K21 -> 1 | ... X22: =X20+X21 -> 132

Sheet МАГ ОФО ГПА
B1: Гуманитарно-педагогическая академия (филиал) ФГАОУ ВО «КФУ им. В. И. Вернадского» в г. Ялте
B3: Контингент очной формы обучения на | D3: 45658 | F3: (Магистры)
B5: Факультет/направление подготовки | D5: 1 | G5: 2 | J5: Всего магистры
D7: За счет бюджетных ассигнований | E7: На основе догов. о платных образов. услугах | F7: ВСЕГО | G7: За счет бюджетных ассигнований | H7: На основе догов. о платных образов. услугах | I7: ВСЕГО | J7: За счет бюджетных ассигнований | K7: На основе догов. о платных образов. услугах | L7: ВСЕГО
B8: Свод по направлениям подготовки | D8: =SUM(D9:D10) -> 21 | E8: =SUM(E9:E10) -> 4 | F8: =SUM(F9:F10) -> 25 | G8: =SUM(G9:G10) -> 37 | H8: =SUM(H9:H10) -> 1 | I8: =SUM(I9:I10) -> 38 | J8: =SUM(J9:J10) -> 58 | K8: =SUM(K9:K10) -> 5 | L8: =SUM(L9:L10) -> 63
B9: 44.04.01 | C9: Педагогическое образование | D9: 21 | E9: 4 | F9: 25 | G9: 26 | H9: 0 | I9: 26 | J9: 47 | K9: 4 | L9: 51
B10: 45.04.01 | C10: Филология | D10: 0 | E10: 0 | F10: 0 | G10: 11 | H10: 1 | I10: 12 | J10: 11 | K10: 1 | L10: 12
B11: Итого по направлениям подготовки | D11: =SUM(D9:D10) -> 21 | E11: =SUM(E9:E10) -> 4 | F11: =SUM(F9:F10) -> 25 | G11: =SUM(G9:G10) -> 37 | H11: =SUM(H9:H10) -> 1 | I11: =SUM(I9:I10) -> 38 | J11: =SUM(J9:J10) -> 58 | K11: =SUM(K9:K10) -> 5 | L11: =SUM(L9:L10) -> 63
B12: В том числе:
B13: Граждане России
B14: 44.04.01 | C14: Педагогическое образование | D14: 21 | E14: 4 | F14: 25 | G14: 26 | H14: 0 | I14: 26 | J14: 47 | K14: 4 | L14: 51
B15: 45.04.01 | C15: Филология | D15: 0 | E15: 0 | F15: 0 | G15: 11 | H15: 1 | I15: 12 | J15: 11 | K15: 1 | L15: 12
B16: Итого граждане России | D16: =SUM(D14:D15) -> 21 | E16: =SUM(E14:E15) -> 4 | F16: =SUM(F14:F15) -> 25 | G16: =SUM(G14:G15) -> 37 | H16: =SUM(H14:H15) -> 1 | I16: =SUM(I14:I15) -> 38 | J16: =SUM(J14:J15) -> 58 | K16: =SUM(K14:K15) -> 5 | L16: =SUM(L14:L15) -> 63
B17: Граждане иностранных государств (вкл. Украину)
B18: 45.04.01 | C18: Филология | D18: 0 | E18: 0 | F18: 0 | G18: 0 | H18: 0 | I18: 0 | J18: 0 | K18: 0 | L18: 0
B19: Итого граждане иностранных государств | D19: =SUM(D18:D18) -> 0 | E19: =SUM(E18:E18) -> 0 | F19: =SUM(F18:F18) -> 0 | G19: =SUM(G18:G18) -> 0 | H19: =SUM(H18:H18) -> 0 | I19: =SUM(I18:I18) -> 0 | J19: =SUM(J18:J18) -> 0 | K19: =SUM(K18:K18) -> 0 | L19: =SUM(L18:L18) -> 0
B20: ИТОГО по подразделению граждане России | D20: =D16 -> 21 | E20: =E16 -> 4 | F20: =F16 -> 25 | G20: =G16 -> 37 | H20: =H16 -> 1 | I20: =I16 -> 38 | J20: =J16 -> 58 | K20: =K16 -> 5 | L20: =L16 -> 63
B21: ИТОГО по подразделению граждане иностранных государств | D21: =D19 -> 0 | E21: =E19 -> 0 | F21: =F19 -> 0 | G21: =G19 -> 0 | H21: =H19 -> 0 | I21: =I19 -> 0 | J21: =J19 -> 0 | K21: =K19 -> 0 | L21: =L19 -> 0
B22: Свод по направлениям подготовки | D22: =D20+D21 -> 21 | E22: =E20+E21 -> 4 | F22: =F20+F21 -> 25 | G22: =G20+G21 -> 37 | H22: =H20+H21 -> 1 | I22: =I20+I21 -> 38 | J22: =J20+J21 -> 58 | K22: =K20+K21 -> 5 | L22: =L20+L21 -> 63
B23: ИТОГО по подразделению граждане иностранных государств | D23: =D21 -> 0 | E23: =E21 -> 0 | F23: =F21 -> 0 | G23: =G21 -> 0 | H23: =H21 -> 0 | I23: =I21 -> 0 | J23: =J21 -> 0 | K23: =K21 -> 0 | L23: =L21 -> 0
B24: Свод по направлениям подготовки | D24: =D22+D23 -> 21 | E24: =E22+E23 -> 4 | F24: =F22+F23 -> 25 | G24: =G22+G23 -> 37 | H24: =H22+H23 -> 1 | I24: =I22+I23 -> 38 | J24: =J22+J23 -> 58 | K24: =K22+K23 -> 5 | L24: =L22+L23 -> 63

Sheet МАГ ЗФО ГПА
B1: Гуманитарно-педагогическая академия (филиал) ФГАОУ ВО «КФУ им. В. И. Вернадского» в г. Ялте
B3: Контингент заочной формы обучения на | F3: 45658 | H3: (Магистры)
B5: Факультет/направление подготовки | D5: 1 | G5: 2 | J5: 3 | M5: Всего магистры
D7: За счет бюджетных ассигнований | E7: На основе догов. о платных образов. услугах | F7: ВСЕГО | G7: За счет бюджетных ассигнований | H7: На основе догов. о платных образов. услугах | I7: ВСЕГО | J7: За счет бюджетных ассигнований | K7: На основе догов. о платных образов. услугах | L7: ВСЕГО | M7: За счет бюджетных ассигнований | N7: На основе догов. о платных образов. услугах | O7: ВСЕГО
B8: Свод по направлениям подготовки
B9: 44.04.01 | C9: Педагогическое образование | D9: 0 | E9: 0 | F9: 0 | G9: 20 | H9: 1 | I9: 21 | J9: 0 | K9: 0 | L9: 0 | M9: 20 | N9: 1 | O9: 21
B10: 44.04.02 | C10: Психолого-педагогическое образование | D10: 0 | E10: 0 | F10: 0 | G10: 0 | H10: 0 | I10: 0 | J10: 15 | K10: 10 | L10: 25 | M10: 15 | N10: 10 | O10: 25
B11: 45.04.01 | C11: Филология | D11: 0 | E11: 0 | F11: 0 | G11: 0 | H11: 0 | I11: 0 | J11: 0 | K11: 1 | L11: 1 | M11: 0 | N11: 1 | O11: 1
B12: 53.04.01 | C12: Музыкально-инструментальное искусство | D12: 0 | E12: 9 | F12: 9 | G12: 0 | H12: 0 | I12: 0 | J12: 0 | K12: 0 | L12: 0 | M12: 0 | N12: 9 | O12: 9
B13: Итого по направлениям подготовки | D13: 0 | E13: 9 | F13: 9 | G13: 20 | H13: 1 | I13: 21 | J13: =SUM(J10:J11) -> 15 | K13: =SUM(K10:K11) -> 11 | L13: =SUM(L10:L11) -> 26 | M13: 35 | N13: 21 | O13: 56
B14: В том числе:
B15: Граждане России
B16: 44.04.01 | C16: Педагогическое образование | D16: 0 | E16: 0 | F16: 0 | G16: 20 | H16: 1 | I16: 21 | J16: 0 | K16: 0 | L16: 0 | M16: 20 | N16: 1 | O16: 21
B17: 44.04.02 | C17: Психолого-педагогическое образование | D17: 0 | E17: 0 | F17: 0 | G17: 0 | H17: 0 | I17: 0 | J17: 15 | K17: 10 | L17: 25 | M17: 15 | N17: 10 | O17: 25
B18: 45.04.01 | C18: Филология | D18: 0 | E18: 0 | F18: 0 | G18: 0 | H18: 0 | I18: 0 | J18: 0 | K18: 1 | L18: 1 | M18: 0 | N18: 1 | O18: 1
B19: 53.04.01 | C19: Музыкально-инструментальное искусство | D19: 0 | E19: 9 | F19: 9 | G19: 0 | H19: 0 | I19: 0 | J19: 0 | K19: 0 | L19: 0 | M19: 0 | N19: 9 | O19: 9
B20: Итого граждан Росии | D20: 0 | E20: 9 | F20: 9 | G20: 20 | H20: 1 | I20: 21 | J20: =SUM(J17:J18) -> 15 | K20: 11 | L20: =SUM(L17:L18) -> 26 | M20: 35 | N20: 21 | O20: 56
B21: Граждане иностранных государств (вкл. Украину)
B22: 44.04.02 | C22: Психолого-педагогическое образование | D22: 0 | E22: 0 | F22: 0 | G22: 0 | H22: 0 | I22: 0 | J22: 0 | K22: 0 | L22: 0 | M22: 0 | N22: 0 | O22: 0
B23: Итого граждане иностранных государств | D23: =SUM(D22:D22) -> 0 | E23: =SUM(E22:E22) -> 0 | F23: =SUM(F22:F22) -> 0 | G23: =SUM(G22:G22) -> 0 | H23: =SUM(H22:H22) -> 0 | I23: =SUM(I22:I22) -> 0 | J23: =SUM(J22:J22) -> 0 | K23: =SUM(K22:K22) -> 0 | ... O23: =SUM(O22:O22) -> 0
B24: ИТОГО по подразделению граждане России | D24: =D20 -> 0 | E24: =E20 -> 9 | F24: =F20 -> 9 | G24: =G20 -> 20 | H24: =H20 -> 1 | I24: =I20 -> 21 | J24: =J20 -> 15 | K24: =K20 -> 11 | ... O24: =O20 -> 56
B25: ИТОГО по подразделению граждане иностранных государств | D25: =SUM(D22:D22) -> 0 | E25: =SUM(E22:E22) -> 0 | F25: =SUM(F22:F22) -> 0 | G25: =SUM(G22:G22) -> 0 | H25: =SUM(H22:H22) -> 0 | I25: =SUM(I22:I22) -> 0 | J25: =SUM(J22:J22) -> 0 | K25: =SUM(K22:K22) -> 0 | ... O25: =SUM(O22:O22) -> 0
B26: Свод по направлениям подготовки | D26: =D24+D25 -> 0 | E26: =E24+E25 -> 9 | F26: =F24+F25 -> 9 | G26: =G24+G25 -> 20 | H26: =H24+H25 -> 1 | I26: =I24+I25 -> 21 | J26: =J24+J25 -> 15 | K26: =K24+K25 -> 11 | ... O26: =O24+O25 -> 56
B28: Начальник УМО _____________________ О.И. Игнатова
D30: =D26=D13 -> TRUE | E30: =E26=E13 -> TRUE | F30: =F26=F13 -> TRUE | G30: =G26=G13 -> TRUE | H30: =H26=H13 -> TRUE | I30: =I26=I13 -> TRUE | J30: =J26=J13 -> TRUE | K30: =K26=K13 -> TRUE | ... O30: =O26=O13 -> TRUE
D33: =D13=D26 -> TRUE | E33: =E13=E26 -> TRUE | F33: =F13=F26 -> TRUE | G33: =G13=G26 -> TRUE | H33: =H13=H26 -> TRUE | I33: =I13=I26 -> TRUE | J33: =J13=J26 -> TRUE | K33: =K13=K26 -> TRUE | ... O33: =O13=O26 -> TRUE

Sheet Маг ОЗФО ГПА
B1: 0
A2: Гуманитарно-педагогическая академия (филиал) ФГАОУ ВО «КФУ им. В. И. Вернадского» в г. Ялте
B3: Контингент очно-заочной формы обучения на | F3: 45658 | H3: (Магистры)
B5: Факультет/направление подготовки | D5: 1 | G5: 2 | J5: 3 | M5: Всего магистры
D7: За счет бюджетных ассигнований | E7: На основе догов. о платных образов. услугах | F7: ВСЕГО | G7: За счет бюджетных ассигнований | H7: На основе догов. о платных образов. услугах | I7: ВСЕГО | J7: За счет бюджетных ассигнований | K7: На основе догов. о платных образов. услугах | L7: ВСЕГО | M7: За счет бюджетных ассигнований | N7: На основе догов. о платных образов. услугах | O7: ВСЕГО
B8: Свод по направлениям подготовки | D8: =SUM(D11:D11) -> 0 | E8: 41 | F8: 41 | G8: =SUM(G11:G11) -> 0 | H8: 41 | I8: 41 | J8: =SUM(J11:J11) -> 0 | K8: =SUM(K11:K11) -> 0 | L8: =SUM(L11:L11) -> 0 | M8: =SUM(M11:M11) -> 0 | N8: 82 | O8: 82
B9: 37.04.01 | C9: Психология | D9: 0 | E9: 19 | F9: 19 | G9: 0 | H9: 14 | I9: 14 | J9: 0 | K9: 0 | L9: 0 | M9: 0 | N9: 33 | O9: 33
B10: 38.04.01 | C10: Экономика | D10: 0 | E10: 13 | F10: 13 | G10: 0 | H10: 14 | I10: 14 | J10: 0 | K10: 0 | L10: 0 | M10: 0 | N10: 27 | O10: 27
B11: 38.04.02 | C11: Менеджмент | D11: 0 | E11: 9 | F11: 9 | G11: 0 | H11: 13 | I11: 13 | J11: 0 | K11: 0 | L11: 0 | M11: 0 | N11: 22 | O11: 22
B12: Итого по направлениям подготовки | D12: =SUM(D11:D11) -> 0 | E12: 41 | F12: 41 | G12: =SUM(G11:G11) -> 0 | H12: 41 | I12: 41 | J12: =SUM(J11:J11) -> 0 | K12: =SUM(K11:K11) -> 0 | L12: =SUM(L11:L11) -> 0 | M12: =SUM(M11:M11) -> 0 | N12: 82 | O12: 82
B13: В том числе:
B14: Граждане России
B15: 37.04.01 | C15: Психология | D15: 0 | E15: 19 | F15: 19 | G15: 0 | H15: 14 | I15: 14 | J15: 0 | K15: 0 | L15: 0 | M15: 0 | N15: 33 | O15: 33
B16: 38.04.01 | C16: Экономика | D16: 0 | E16: 13 | F16: 13 | G16: 0 | H16: 14 | I16: 14 | J16: 0 | K16: 0 | L16: 0 | M16: 0 | N16: 27 | O16: 27
B17: 38.04.02 | C17: Менеджмент | D17: 0 | E17: 9 | F17: 9 | G17: 0 | H17: 13 | I17: 13 | J17: 0 | K17: 0 | L17: 0 | M17: 0 | N17: 22 | O17: 22
B18: Итого граждане России | D18: =SUM(D15:D15) -> 0 | E18: 41 | F18: 41 | G18: =SUM(G15:G15) -> 0 | H18: 41 | I18: 41 | J18: =SUM(J15:J15) -> 0 | K18: =SUM(K15:K15) -> 0 | L18: =SUM(L15:L15) -> 0 | M18: =SUM(M15:M15) -> 0 | N18: 82 | O18: 82
B19: Граждане иностранных государств (вкл. Украину)
B20: 54.04.01 | C20: Дизайн | D20: 0 | E20: 0 | F20: 0 | G20: 0 | H20: 0 | I20: 0 | J20: 0 | K20: 0 | L20: 0 | M20: 0 | N20: 0 | O20: 0
B21: Итого граждане иностранных государств | D21: =SUM(D20:D20) -> 0 | E21: =SUM(E20:E20) -> 0 | F21: =SUM(F20:F20) -> 0 | G21: =SUM(G20:G20) -> 0 | H21: =SUM(H20:H20) -> 0 | I21: =SUM(I20:I20) -> 0 | J21: =SUM(J20:J20) -> 0 | K21: =SUM(K20:K20) -> 0 | ... O21: =SUM(O20:O20) -> 0
B22: ИТОГО по подразделению граждане России | D22: =D18 -> 0 | E22: =E18 -> 41 | F22: =F18 -> 41 | G22: =G18 -> 0 | H22: =H18 -> 41 | I22: =I18 -> 41 | J22: =J18 -> 0 | K22: =K18 -> 0 | ... O22: =O18 -> 82
B23: ИТОГО по подразделению граждане иностранных государств | D23: =D21 -> 0 | E23: =E21 -> 0 | F23: =F21 -> 0 | G23: =G21 -> 0 | H23: =H21 -> 0 | I23: =I21 -> 0 | J23: =J21 -> 0 | K23: =K21 -> 0 | ... O23: =O21 -> 0
B24: Свод по направлениям подготовки | D24: =D22+D23 -> 0 | E24: =E22+E23 -> 41 | F24: =F22+F23 -> 41 | G24: =G22+G23 -> 0 | H24: =H22+H23 -> 41 | I24: =I22+I23 -> 41 | J24: =J22+J23 -> 0 | K24: =K22+K23 -> 0 | ... O24: =O22+O23 -> 82

Sheet Бак ОФО ЕИСН
A2: Евпаторийский институт социальных наук (филиал)
A3: Контингент очной формы обучения на 01.01.2025 г. (Бакалавриат)
A5: Направление подготовки | B5: 1 год обучения | E5: 2 год обучения | H5: 3 год обучения | K5: 4 год обучения | N5: Всего бакалавры
B6: За счет бюджетных ассигнований | C6: На основе догов. о платных образов. услугах | D6: ВСЕГО | E6: За счет бюджетных ассигнований | F6: На основе догов. о платных образов. услугах | G6: ВСЕГО | H6: За счет бюджетных ассигнований | I6: На основе догов. о платных образов. услугах | J6: ВСЕГО | K6: За счет бюджетных ассигнований | L6: На основе догов. о платных образов. услугах | M6: ВСЕГО | N6: За счет бюджетных ассигнований | O6: На основе догов. о платных образов. услугах | P6: ВСЕГО
A7: Свод по направлениям подготовки
A8: 44.03.01 Педагогическое образование | B8: 12 | C8: 2 | D8: =SUM(B8:C8) -> 14 | E8: 9 | F8: 0 | G8: 9 | H8: 30 | I8: 1 | J8: =SUM(H8:I8) -> 31 | K8: 19 | L8: 0 | M8: =SUM(K8:L8) -> 19 | N8: =B8+E8+H8+K8 -> 70 | O8: =C8+F8+I8+L8 -> 3 | P8: =N8+O8 -> 73
A9: 44.03.02 Психолого-педагогическое образование | B9: 14 | C9: 2 | D9: =SUM(B9:C9) -> 16 | E9: 9 | F9: 1 | G9: =SUM(E9:F9) -> 10 | H9: 13 | I9: 0 | J9: =SUM(H9:I9) -> 13 | K9: 17 | L9: 0 | M9: =SUM(K9:L9) -> 17 | N9: =B9+E9+H9+K9 -> 53 | O9: =C9+F9+I9+L9 -> 3 | P9: =N9+O9 -> 56
A10: Итого по направлениям подготовки: | B10: =SUM(B8:B9) -> 26 | C10: =SUM(C8:C9) -> 4 | D10: =SUM(D8:D9) -> 30 | E10: =SUM(E8:E9) -> 18 | F10: =SUM(F8:F9) -> 1 | G10: =SUM(G8:G9) -> 19 | H10: =SUM(H8:H9) -> 43 | I10: =SUM(I8:I9) -> 1 | ... O10: =SUM(O8:O9) -> 6 | P10: =SUM(N10:O10) -> 129
A11: В том числе:
A12: Граждане России
A13: 44.03.01 Педагогическое образование | B13: 12 | C13: 2 | D13: =SUM(B13:C13) -> 14 | E13: 9 | F13: 0 | G13: 9 | H13: 30 | I13: 1 | J13: =SUM(H13:I13) -> 31 | K13: 19 | L13: 0 | M13: =SUM(K13:L13) -> 19 | N13: =B13+E13+H13+K13 -> 70 | O13: =C13+F13+I13+L13 -> 3 | P13: =SUM(N13:O13) -> 73
A14: 44.03.02 Психолого-педагогическое образование | B14: 14 | C14: 2 | D14: =SUM(B14:C14) -> 16 | E14: 9 | F14: 1 | G14: =SUM(E14:F14) -> 10 | H14: 13 | I14: 0 | J14: =SUM(H14:I14) -> 13 | K14: 17 | L14: 0 | M14: =SUM(K14:L14) -> 17 | N14: =B14+E14+H14+K14 -> 53 | O14: =C14+F14+I14+L14 -> 3 | P14: =SUM(N14:O14) -> 56
A15: Итого граждане России | B15: =SUM(B13:B14) -> 26 | C15: =SUM(C13:C14) -> 4 | D15: =SUM(D13:D14) -> 30 | E15: =SUM(E13:E14) -> 18 | F15: =SUM(F13:F14) -> 1 | G15: =SUM(G13:G14) -> 19 | H15: =SUM(H13:H14) -> 43 | I15: =SUM(I13:I14) -> 1 | ... P15: =SUM(P13:P14) -> 129
A16: Граждане иностранных государств (вкл. Украину)
A17: 44.03.01 Педагогическое образование | B17: 0 | C17: 0 | D17: =SUM(B17:C17) -> 0 | E17: 0 | F17: 0 | G17: =SUM(E17:F17) -> 0 | H17: 0 | I17: 0 | J17: 0 | K17: 0 | L17: 0 | M17: =SUM(K17:L17) -> 0 | N17: =B17+E17+H17+K17 -> 0 | O17: =C17+F17+I17+L17 -> 0 | P17: =SUM(N17:O17) -> 0
A18: 44.03.02 Психолого-педагогическое образование | B18: 0 | C18: 0 | D18: 0 | E18: 0 | F18: 0 | G18: 0 | H18: 0 | I18: 0 | J18: =SUM(H18,I18) -> 0 | K18: 0 | L18: 0 | M18: =SUM(K18:L18) -> 0 | N18: =B18+E18+H18+K18 -> 0 | O18: =C18+F18+I18+L18 -> 0 | P18: =SUM(N18:O18) -> 0
A19: Итого граждане иностранных государств | B19: =SUM(B17:B18) -> 0 | C19: 0 | D19: =SUM(D17:D18) -> 0 | E19: =SUM(E17:E18) -> 0 | F19: 0 | G19: =SUM(G17:G18) -> 0 | H19: =SUM(H17:H18) -> 0 | I19: =SUM(I17:I18) -> 0 | J19: =SUM(J17:J18) -> 0 | K19: =SUM(K17:K18) -> 0 | L19: =SUM(L17:L18) -> 0 | M19: =SUM(M17:M18) -> 0 | N19: =SUM(N17:N18) -> 0 | O19: =SUM(O17:O18) -> 0 | P19: =SUM(N19:O19) -> 0
A20: ИТОГО по подразделению граждане России | B20: =B15 -> 26 | C20: =C15 -> 4 | D20: =D15 -> 30 | E20: =E15 -> 18 | F20: =F15 -> 1 | G20: =G15 -> 19 | H20: =H15 -> 43 | I20: =I15 -> 1 | J20: =J15 -> 44 | K20: =SUM(K15) -> 36 | L20: =SUM(L15) -> 0 | M20: =SUM(M15) -> 36 | N20: =B20+E20+H20+K20 -> 123 | O20: =C20+F20+I20+L20 -> 6 | P20: =SUM(N20:O20) -> 129
A21: ИТОГО по подразделению иностранные граждане | B21: =SUM(B19) -> 0 | C21: =C19 -> 0 | D21: =SUM(D19) -> 0 | E21: =E19 -> 0 | F21: =F19 -> 0 | G21: =G19 -> 0 | H21: =H19 -> 0 | I21: =I19 -> 0 | J21: =J19 -> 0 | K21: 0 | L21: 0 | M21: 0 | N21: =B21+E21+H21+K21 -> 0 | O21: =C21+F21+I21+L21 -> 0 | P21: =SUM(N21:O21) -> 0
A22: Итого | B22: =SUM(B20:B21) -> 26 | C22: =SUM(C20:C21) -> 4 | D22: =SUM(D20:D21) -> 30 | E22: =SUM(E20:E21) -> 18 | F22: =SUM(F20:F21) -> 1 | G22: =SUM(G20:G21) -> 19 | H22: =SUM(H20:H21) -> 43 | I22: =SUM(I20:I21) -> 1 | ... M22: =SUM(M20:M21) -> 36 | N22: =SUM(B22+E22+H22+K22) -> 123 | O22: =SUM(C22+F22+I22+L22) -> 6 | P22: =SUM(N22:O22) -> 129

Sheet Бак ЗФО ЕИСН
A1: Евпаторийский институт социальных наук (филиал) Контингент заочной формы обучения на 01.01.2025 г. (Бакалавриат)
A6: Направление подготовки | B6: 1 год обучения | E6: 2 год обучения | H6: 3 год обучения | K6: 4 год обучения | N6: 5 год обучения | Q6: Всего бакалавров
B7: За счет бюджетных ассигнований | C7: На основе догов. о платных образов. услугах | D7: ВСЕГО | E7: За счет бюджетных ассигнований | F7: На основе догов. о платных образов. услугах | G7: ВСЕГО | H7: За счет бюджетных ассигнований | I7: На основе догов. о платных образов. услугах | J7: ВСЕГО | K7: За счет бюджетных ассигнований | L7: На основе догов. о платных образов. услугах | M7: ВСЕГО | N7: За счет бюджетных ассигнований | O7: На основе догов. о платных образов. услугах | P7: ВСЕГО | Q7: За счет бюджетных ассигнований | R7: На основе догов. о платных образов. услугах | S7: ВСЕГО
A8: Свод по направлениям подготовки
A9: 44.03.01 Педагогическое образование | B9: 20 | C9: 1 | D9: 21 | E9: 25 | F9: 2 | G9: 27 | H9: 23 | I9: 5 | J9: =SUM(H9:I9) -> 28 | K9: 13 | L9: 0 | M9: 13 | N9: 21 | O9: 0 | P9: 21 | Q9: =SUM(B9+E9+H9+K9+N9) -> 102 | R9: =SUM(C9+F9+I9+L9+O9) -> 8 | S9: =SUM(Q9:R9) -> 110
A10: 44.03.02 Психолого-педагогическое образование | B10: 0 | C10: 0 | D10: 0 | E10: 0 | F10: 0 | G10: 0 | H10: 0 | I10: 0 | J10: =SUM(H10:I10) -> 0 | K10: 0 | L10: 0 | M10: 0 | N10: 0 | O10: 0 | P10: 0 | Q10: =SUM(B10+E10+H10+K10+N10) -> 0 | R10: =SUM(C10+F10+I10+L10+O10) -> 0 | S10: =SUM(Q10:R10) -> 0
A11: 45.03.01 Филология | B11: 0 | C11: 0 | D11: 0 | E11: 0 | F11: 0 | G11: 0 | H11: 0 | I11: 0 | J11: =SUM(H11:I11) -> 0 | K11: 0 | L11: 0 | M11: 0 | N11: 1 | O11: 0 | P11: =SUM(N11:O11) -> 1 | Q11: =SUM(B11+E11+H11+K11+N11) -> 1 | R11: =SUM(C11+F11+I11+L11+O11) -> 0 | S11: =SUM(Q11:R11) -> 1
A12: Итого по направлениям подготовки: | B12: =SUM(B9:B11) -> 20 | C12: =SUM(C9:C11) -> 1 | D12: =SUM(D9:D11) -> 21 | E12: =SUM(E9:E11) -> 25 | F12: =SUM(F9:F11) -> 2 | G12: =SUM(G9:G11) -> 27 | H12: =SUM(H9:H11) -> 23 | I12: =SUM(I9:I11) -> 5 | ... P12: =SUM(P9:P11) -> 22 | Q12: =SUM(B12+E12+H12+K12+N12) -> 103 | R12: =SUM(C12+F12+I12+L12+O12) -> 8 | S12: =SUM(Q12:R12) -> 111
A13: В том числе:
A14: Граждане России
A15: 44.03.01 Педагогическое образование | B15: 20 | C15: 1 | D15: =SUM(B15:C15) -> 21 | E15: 25 | F15: 2 | G15: =SUM(E15:F15) -> 27 | H15: 23 | I15: 5 | J15: =SUM(H15:I15) -> 28 | K15: 13 | L15: 0 | M15: 13 | N15: 21 | O15: 0 | P15: =SUM(N15+O15) -> 21 | Q15: =SUM(B15+E15+H15+K15+N15) -> 102 | R15: =SUM(C15+F15+I15+L15+O15) -> 8 | S15: =SUM(Q15:R15) -> 110
A16: 44.03.02 Психолого-педагогическое образование | B16: 0 | C16: 0 | D16: 0 | E16: 0 | F16: 0 | G16: 0 | H16: 0 | I16: 0 | J16: 0 | K16: 0 | L16: 0 | M16: 0 | N16: 0 | O16: 0 | P16: 0 | Q16: =SUM(B16+E16+H16+K16+N16) -> 0 | R16: =SUM(C16+F16+I16+L16+O16) -> 0 | S16: =SUM(Q16:R16) -> 0
A17: 45.03.01 Филология | B17: 0 | C17: 0 | D17: 0 | E17: 0 | F17: 0 | G17: 0 | H17: 0 | I17: 0 | J17: 0 | K17: 0 | L17: 0 | M17: 0 | N17: 1 | O17: 0 | P17: =SUM(N17:O17) -> 1 | Q17: =SUM(B17+E17+H17+K17+N17) -> 1 | R17: =SUM(C17+F17+I17+L17+O17) -> 0 | S17: =SUM(Q17:R17) -> 1
A18: Итого граждане России | B18: =SUM(B15:B17) -> 20 | C18: =SUM(C15:C17) -> 1 | D18: =SUM(D15:D17) -> 21 | E18: =SUM(E15:E17) -> 25 | F18: =SUM(F15:F17) -> 2 | G18: =SUM(G15:G17) -> 27 | H18: =SUM(H15:H17) -> 23 | I18: =SUM(I15:I17) -> 5 | ... N18: =SUM(N15:N17) -> 22 | O18: 0 | P18: =SUM(P15:P17) -> 22 | Q18: =SUM(B18+E18+H18+K18+N18) -> 103 | R18: =SUM(C18+F18+I18+L18+O18) -> 8 | S18: =SUM(Q18:R18) -> 111
A19: Граждане иностранных государств (вкл. Украину)
A20: 44.03.01 Педагогическое образование | B20: 0 | C20: 0 | D20: =SUM(B20:C20) -> 0 | E20: 0 | F20: 0 | G20: =SUM(E20:F20) -> 0 | H20: 0 | I20: 0 | J20: 0 | K20: 0 | L20: 0 | M20: 0 | N20: 0 | O20: 0 | P20: 0 | Q20: =SUM(B20+E20+H20+K20+N20) -> 0 | R20: =SUM(C20+F20+I20+L20+O20) -> 0 | S20: =SUM(Q20:R20) -> 0
A21: 44.03.02 Психолого-педагогическое образование | B21: 0 | C21: 0 | D21: 0 | E21: 0 | F21: 0 | G21: 0 | H21: 0 | I21: 0 | J21: 0 | K21: 0 | L21: 0 | M21: 0 | N21: 0 | O21: 0 | P21: 0 | Q21: =SUM(B21+E21+H21+K21+N21) -> 0 | R21: =SUM(C21+F21+I21+L21+O21) -> 0 | S21: =SUM(Q21:R21) -> 0
A22: 45.03.01 Филология | B22: 0 | C22: 0 | D22: 0 | E22: 0 | F22: 0 | G22: 0 | H22: 0 | I22: 0 | J22: 0 | K22: 0 | L22: 0 | M22: 0 | N22: 0 | O22: 0 | P22: 0 | Q22: =SUM(B22+E22+H22+K22+N22) -> 0 | R22: =SUM(C22+F22+I22+L22+O22) -> 0 | S22: =SUM(Q22:R22) -> 0
A23: Итого граждане иностранных государств | B23: =SUM(B20:B22) -> 0 | C23: =SUM(C20:C22) -> 0 | D23: =SUM(D20:D22) -> 0 | E23: =SUM(E20:E22) -> 0 | F23: =SUM(F20:F22) -> 0 | G23: =SUM(G20:G22) -> 0 | H23: =SUM(H20:H22) -> 0 | I23: =SUM(I20:I22) -> 0 | ... P23: =SUM(P20:P22) -> 0 | Q23: =SUM(B23+E23+H23+K23+N23) -> 0 | R23: =SUM(C23+F23+I23+L23+O23) -> 0 | S23: =SUM(Q23:R23) -> 0
A24: ИТОГО по подразделению граждане России | B24: =SUM(B18) -> 20 | C24: =SUM(C18) -> 1 | D24: =SUM(D18) -> 21 | E24: =SUM(E18) -> 25 | F24: =SUM(F18) -> 2 | G24: =SUM(G18) -> 27 | H24: =SUM(H18) -> 23 | I24: =SUM(I18) -> 5 | ... S24: =SUM(S18) -> 111
A25: ИТОГО по подразделению иностранные граждане | B25: =SUM(B23) -> 0 | C25: =SUM(C23) -> 0 | D25: =SUM(D23) -> 0 | E25: =SUM(E23) -> 0 | F25: =SUM(F23) -> 0 | G25: =SUM(G23) -> 0 | H25: =SUM(H23) -> 0 | I25: =SUM(I23) -> 0 | ... S25: =SUM(S23) -> 0
A26: Итого | B26: =SUM(B24:B25) -> 20 | C26: =SUM(C24:C25) -> 1 | D26: =SUM(D24:D25) -> 21 | E26: =SUM(E24:E25) -> 25 | F26: =SUM(F24:F25) -> 2 | G26: =SUM(G24:G25) -> 27 | H26: =SUM(H24:H25) -> 23 | I26: =SUM(I24:I25) -> 5 | ... S26: =SUM(S24:S25) -> 111

Sheet Маг ОФО ЕИСН
A2: Евпаторийский институт социальных наук (филиал)
A3: Контингент очной формы обучения на 01.01.2025 г. (Магистратура)
A5: Направление подготовки | B5: 1 год обучения | E5: 2 год обучения | H5: Всего магистры
B6: За счет бюджетных ассигнований | C6: На основе догов. о платных образов. услугах | D6: ВСЕГО | E6: За счет бюджетных ассигнований | F6: На основе догов. о платных образов. услугах | G6: ВСЕГО | H6: За счет бюджетных ассигнований | I6: На основе догов. о платных образов. услугах | J6: ВСЕГО
A7: Свод по направлениям подготовки
A8: 44.04.02 Психолого-педагогическое образование | B8: 11 | C8: 2 | D8: =SUM(B8:C8) -> 13 | E8: 14 | F8: 2 | G8: =SUM(E8:F8) -> 16 | H8: =B8+E8 -> 25 | I8: =C8+F8 -> 4 | J8: =H8+I8 -> 29
A9: 45.04.01 Филология | B9: 20 | C9: 1 | D9: =SUM(B9:C9) -> 21 | E9: 10 | F9: 0 | G9: =SUM(E9:F9) -> 10 | H9: =B9+E9 -> 30 | I9: =C9+F9 -> 1 | J9: =H9+I9 -> 31
A10: Итого по направлениям подготовки: | B10: =SUM(B8:B9) -> 31 | C10: =SUM(C8:C9) -> 3 | D10: =SUM(D8:D9) -> 34 | E10: =SUM(E8:E9) -> 24 | F10: 0 | G10: =SUM(G8:G9) -> 26 | H10: =SUM(H8:H9) -> 55 | I10: =SUM(I8:I9) -> 5 | J10: =SUM(H10:I10) -> 60
A11: В том числе:
A12: Граждане России
A13: 44.04.02 Психолого-педагогическое образование | B13: 11 | C13: 2 | D13: =SUM(B13:C13) -> 13 | E13: 14 | F13: 2 | G13: =SUM(E13:F13) -> 16 | H13: =B13+E13 -> 25 | I13: =C13+F13 -> 4 | J13: =H13+I13 -> 29
A14: 45.04.01 Филология | B14: 20 | C14: 1 | D14: =SUM(B14:C14) -> 21 | E14: 10 | F14: 0 | G14: =SUM(E14:F14) -> 10 | H14: =B14+E14 -> 30 | I14: =C14+F14 -> 1 | J14: =H14+I14 -> 31
A15: Итого граждане России | B15: =SUM(B13:B14) -> 31 | C15: =SUM(C13:C14) -> 3 | D15: =SUM(D13:D14) -> 34 | E15: =SUM(E13:E14) -> 24 | F15: 0 | G15: =SUM(G13:G14) -> 26 | H15: =SUM(H13:H14) -> 55 | I15: =SUM(I13:I14) -> 5 | J15: =SUM(H15:I15) -> 60
A16: Граждане иностранных государств (вкл. Украину)
A17: 44.04.02 Психолого-педагогическое образование | B17: 0 | C17: 0 | D17: =SUM(B17:C17) -> 0 | E17: =SUM(C17:D17) -> 0 | F17: =SUM(D17:E17) -> 0 | G17: =SUM(E17:F17) -> 0 | H17: =B17+E17 -> 0 | I17: =C17+F17 -> 0 | J17: =SUM(H17:I17) -> 0
A18: 45.04.01 Филология | B18: 0 | C18: 0 | D18: =SUM(B18:C18) -> 0 | E18: =SUM(C18:D18) -> 0 | F18: =SUM(D18:E18) -> 0 | G18: =SUM(E18:F18) -> 0 | H18: 0 | I18: =C18+F18 -> 0 | J18: =SUM(H18:I18) -> 0
A19: Итого граждане иностранных государств | B19: 0 | C19: 0 | D19: =SUM(D17:D18) -> 0 | E19: =SUM(C19:D19) -> 0 | F19: =SUM(D19:E19) -> 0 | G19: =SUM(E19:F19) -> 0 | H19: =SUM(H17:H18) -> 0 | I19: =SUM(I17:I18) -> 0 | J19: =SUM(H19:I19) -> 0
A20: ИТОГО по подразделению граждане России | B20: =B15 -> 31 | C20: =C15 -> 3 | D20: =D15 -> 34 | E20: =SUM(E13:E14) -> 24 | F20: =SUM(F13:F14) -> 2 | G20: =SUM(G13:G14) -> 26 | H20: =B20+E20 -> 55 | I20: =I8+I9 -> 5 | J20: =SUM(H20:I20) -> 60
A21: ИТОГО по подразделению иностранные граждане | B21: =B19 -> 0 | C21: =C19 -> 0 | D21: =D19 -> 0 | E21: 0 | F21: 0 | G21: 0 | H21: =B21+E21 -> 0 | I21: =C21+F21 -> 0 | J21: =SUM(H21:I21) -> 0
A22: Итого | B22: =SUM(B20:B21) -> 31 | C22: =SUM(C20:C21) -> 3 | D22: =SUM(D20:D21) -> 34 | E22: =SUM(E20) -> 24 | F22: =SUM(F20) -> 2 | G22: =SUM(G20) -> 26 | H22: =SUM(B22+E22) -> 55 | I22: =SUM(I20+I21) -> 5 | J22: =SUM(H22:I22) -> 60

Sheet МАГ ЗФО ЕИСН
A2: Евпаторийский институт социальных наук (филиал)
A3: Контингент заочной формы обучения на 01.01.2025 г. (Магистратура)
A5: Направление подготовки | B5: 1 год обучения | E5: 2 год обучения | H5: 3 год обучения | K5: Всего магистры
B6: За счет бюджетных ассигнований | C6: На основе догов. о платных образов. услугах | D6: ВСЕГО | E6: За счет бюджетных ассигнований | F6: На основе догов. о платных образов. услугах | G6: ВСЕГО | H6: За счет бюджетных ассигнований | I6: На основе догов. о платных образов. услугах | J6: ВСЕГО | K6: За счет бюджетных ассигнований | L6: На основе догов. о платных образов. услугах | M6: ВСЕГО
A7: Свод по направлениям подготовки
A8: 44.04.01 Педагогическое образование | B8: 10 | C8: 1 | D8: =SUM(B8:C8) -> 11 | E8: 13 | F8: 0 | G8: =SUM(E8:F8) -> 13 | H8: 13 | I8: 1 | J8: =SUM(H8:I8) -> 14 | K8: =SUM(B8+E8+H8) -> 36 | L8: =SUM(C8+F8+I8) -> 2 | M8: =SUM(K8+L8) -> 38
A9: 45.04.01 Филология | B9: 0 | C9: 0 | D9: =SUM(B9:C9) -> 0 | E9: 0 | F9: 0 | G9: =SUM(E9:F9) -> 0 | H9: 10 | I9: 0 | J9: =SUM(H9:I9) -> 10 | K9: =SUM(B9+E9+H9) -> 10 | L9: =SUM(C9+F9+I9) -> 0 | M9: =SUM(K9+L9) -> 10
A10: Итого по направлениям подготовки: | B10: =SUM(B8:B9) -> 10 | C10: =SUM(C8:C9) -> 1 | D10: =SUM(D8:D9) -> 11 | E10: =SUM(E8:E9) -> 13 | F10: =SUM(F8:F9) -> 0 | G10: =SUM(G8:G9) -> 13 | H10: =SUM(H8:H9) -> 23 | I10: =SUM(I8:I9) -> 1 | ... M10: =SUM(M8:M9) -> 48
A11: В том числе:
A12: Граждане России
A13: 44.04.01 Педагогическое образование | B13: 10 | C13: 1 | D13: =SUM(B13:C13) -> 11 | E13: 13 | F13: 0 | G13: =SUM(E13:F13) -> 13 | H13: 13 | I13: 1 | J13: =SUM(H13:I13) -> 14 | K13: =SUM(B13+E13+H13) -> 36 | L13: =SUM(C13+F13+I13) -> 2 | M13: =SUM(K13+L13) -> 38
A14: 45.04.01 Филология | B14: 0 | C14: 0 | D14: =SUM(B14:C14) -> 0 | E14: 0 | F14: 0 | G14: =SUM(E14:F14) -> 0 | H14: 10 | I14: 0 | J14: =SUM(H14:I14) -> 10 | K14: =SUM(B14+E14+H14) -> 10 | L14: =SUM(C14+F14+I14) -> 0 | M14: =SUM(K14+L14) -> 10
A15: Итого граждане России | B15: =SUM(B13:B14) -> 10 | C15: =SUM(C13:C14) -> 1 | D15: =SUM(D13:D14) -> 11 | E15: =SUM(E13:E14) -> 13 | F15: =SUM(F13:F14) -> 0 | G15: =SUM(G13:G14) -> 13 | H15: =SUM(H13:H14) -> 23 | I15: =SUM(I13:I14) -> 1 | ... M15: =SUM(M13:M14) -> 48
A16: Граждане иностранных государств (вкл. Украину)
A17: 44.04.01 Педагогическое образование | B17: 0 | C17: 0 | D17: 0 | E17: 0 | F17: 0 | G17: 0 | H17: 0 | I17: 0 | J17: 0 | K17: 0 | L17: 0 | M17: 0
A18: 45.04.01 Филология | B18: 0 | C18: 0 | D18: 0 | E18: 0 | F18: 0 | G18: 0 | H18: 0 | I18: 0 | J18: 0 | K18: 0 | L18: 0 | M18: 0
A19: Итого граждане иностранных государств | B19: 0 | C19: 0 | D19: 0 | E19: 0 | F19: 0 | G19: 0 | H19: 0 | I19: 0 | J19: 0 | K19: 0 | L19: 0 | M19: 0
A20: ИТОГО по подразделению граждане России | B20: =SUM(B15) -> 10 | C20: =SUM(C15) -> 1 | D20: =SUM(D15) -> 11 | E20: =SUM(E15) -> 13 | F20: =SUM(F15) -> 0 | G20: =SUM(G15) -> 13 | H20: =SUM(H13:H14) -> 23 | I20: =SUM(I13:I14) -> 1 | J20: =SUM(J13:J14) -> 24 | K20: =SUM(K13:K14) -> 46 | L20: =SUM(L13:L14) -> 2 | M20: =SUM(M13:M14) -> 48
A21: ИТОГО по подразделению иностранные граждане | B21: =SUM(B19) -> 0 | C21: =SUM(C19) -> 0 | D21: =SUM(D19) -> 0 | E21: =SUM(E19) -> 0 | F21: =SUM(F19) -> 0 | G21: =SUM(G19) -> 0 | H21: 0 | I21: 0 | J21: 0 | K21: =SUM(B21+E21+H21) -> 0 | L21: =SUM(C21+F21+I21) -> 0 | M21: =SUM(K21+L21) -> 0
A22: Итого | B22: =SUM(B20,B21) -> 10 | C22: =SUM(C20,C21) -> 1 | D22: =SUM(D20,D21) -> 11 | E22: =SUM(E20:E21) -> 13 | F22: =SUM(F20:F21) -> 0 | G22: =SUM(G20:G21) -> 13 | H22: =SUM(H20:H21) -> 23 | I22: =SUM(I20:I21) -> 1 | J22: =SUM(J20:J21) -> 24 | K22: =SUM(K20:K21) -> 46 | L22: =SUM(L20:L21) -> 2 | M22: =SUM(M20:M21) -> 48

Sheet Бак ОФО СЕГИ
A1: Севастопольский экономико-гуманитарный институт (филиал)
A2: ФГАОУ ВО "Крымский федеральный университет имени В. И. Вернадского"
A3: Контингент очной формы обучения на 01.01.2025 г. (Бакалавриат)
A5: Факультет/направление подготовки | B5: 1 | E5: 2 | H5: 3 | K5: 4 | N5: Всего бакалавриата
B7: За счет бюджетных ассигнований | C7: На основе догов. о платных образов. услугах | D7: ВСЕГО | E7: За счет бюджетных ассигнований | F7: На основе догов. о платных образов. услугах | G7: ВСЕГО | H7: За счет бюджетных ассигнова ний | I7: На основе догов. о платных образов. услугах | J7: ВСЕГО | K7: За счет бюджетных ассигнова ний | L7: На основе догов. о платных образов. услугах | M7: ВСЕГО | N7: За счет бюджетных ассигнований | O7: На основе догов. о платных образов. услугах | P7: ВСЕГО
A8: Свод по направлениям подготовки
A9: 37.03.01 Психология | B9: 14 | C9: 1 | D9: =SUM(B9:C9) -> 15 | E9: 15 | F9: 2 | G9: =SUM(E9:F9) -> 17 | H9: 16 | I9: 0 | J9: =SUM(H9:I9) -> 16 | K9: 20 | L9: 1 | M9: =SUM(K9:L9) -> 21 | N9: =B9+E9+H9+K9 -> 65 | O9: =C9+F9+I9+L9 -> 4 | P9: =SUM(N9:O9) -> 69
A10: 38.03.02 Менеджмент | B10: 10 | C10: 1 | D10: 11 | E10: 0 | F10: 0 | G10: =SUM(E10:F10) -> 0 | H10: 11 | I10: 0 | J10: =SUM(H10:I10) -> 11 | K10: 12 | L10: 0 | M10: =SUM(K10:L10) -> 12 | N10: =B10+E297+H10+K10+E10 -> 33 | O10: =C10+F298+I10+L10+F10 -> 1 | P10: =SUM(N10:O10) -> 34
A11: 38.03.04 Государственное и муниципальное управление | B11: 0 | C11: 0 | D11: =B11+C11 -> 0 | E11: 0 | F11: 0 | G11: =SUM(E11:F11) -> 0 | H11: 10 | I11: 0 | J11: =SUM(H11:I11) -> 10 | K11: 12 | L11: 0 | M11: =SUM(K11:L11) -> 12 | N11: =B11+E11+H11+K11 -> 22 | O11: =C11+I11+L11+F11 -> 0 | P11: =SUM(N11:O11) -> 22
A12: 40.03.01 Юриспруденция | B12: 0 | C12: 8 | D12: =SUM(B12:C12) -> 8 | E12: 3 | F12: 2 | G12: =SUM(E12:F12) -> 5 | H12: 1 | I12: 0 | J12: =SUM(H12:I12) -> 1 | K12: 6 | L12: 5 | M12: 11 | N12: =B12+E12+H12+K12 -> 10 | O12: =C12+F12+I12+L12 -> 15 | P12: =SUM(N12:O12) -> 25
A13: 43.03.02 Туризм | B13: 0 | C13: 0 | D13: =B13+C13 -> 0 | E13: 0 | F13: 0 | G13: =SUM(E13:F13) -> 0 | H13: 8 | I13: 0 | J13: =SUM(H13:I13) -> 8 | K13: 14 | L13: 0 | M13: =SUM(K13:L13) -> 14 | N13: =B13+E13+H13+K13 -> 22 | O13: =C13+F13+I13+L13 -> 0 | P13: =SUM(N13:O13) -> 22
A14: 49.03.01 Физическая культура | B14: 0 | C14: 0 | D14: =B14+C14 -> 0 | E14: 0 | F14: 0 | G14: =SUM(E14:F14) -> 0 | H14: 0 | I14: 0 | J14: =SUM(H14:I14) -> 0 | K14: 0 | L14: 0 | M14: 0 | N14: =B14+E14+H14+K14 -> 0 | O14: =C14+F14+I14+L14 -> 0 | P14: =SUM(N14:O14) -> 0
A15: 49.03.02 Физическая культура для лиц с отклонениями в состоянии здоровья (адаптивная физическая культура) | B15: 0 | C15: 0 | D15: =B15+C15 -> 0 | E15: 0 | F15: 0 | G15: =SUM(E15:F15) -> 0 | H15: 0 | I15: 0 | J15: =SUM(H15:I15) -> 0 | K15: 0 | L15: 0 | M15: 0 | N15: =B15+E15+H15+K15 -> 0 | O15: =C15+F15+I15+L15 -> 0 | P15: =SUM(N15:O15) -> 0
A16: Итого по направлениям подготовки: | B16: =SUM(B9:B15) -> 24 | C16: =SUM(C9:C15) -> 10 | D16: =SUM(D9:D15) -> 34 | E16: =SUM(E9:E15) -> 18 | F16: =SUM(F9:F15) -> 4 | G16: =SUM(G9:G15) -> 22 | H16: =SUM(H9:H15) -> 46 | I16: =SUM(I9:I15) -> 0 | ... P16: =SUM(P9:P15) -> 172
A17: В том числе:
A18: Граждане России
A19: 37.03.01 Психология | B19: 14 | C19: 1 | D19: =SUM(B19:C19) -> 15 | E19: 15 | F19: 2 | G19: =SUM(E19:F19) -> 17 | H19: 16 | I19: 0 | J19: =SUM(H19:I19) -> 16 | K19: 20 | L19: 1 | M19: =SUM(K19:L19) -> 21 | N19: =B19+E19+H19+K19 -> 65 | O19: =C19+F19+I19+L19 -> 4 | P19: =SUM(N19:O19) -> 69
A20: 38.03.02 Менеджмент | B20: 10 | C20: 1 | D20: =SUM(B20:C20) -> 11 | E20: 0 | F20: 0 | G20: =SUM(E20:F20) -> 0 | H20: 11 | I20: 0 | J20: =SUM(H20:I20) -> 11 | K20: 12 | L20: 0 | M20: =SUM(K20:L20) -> 12 | N20: =B20+E20+H20+K20 -> 33 | O20: =C20+F20+I20+L20 -> 1 | P20: =SUM(N20:O20) -> 34
A21: 38.03.04 Государственное и муниципальное управление | B21: 0 | C21: 0 | D21: =SUM(B21:C21) -> 0 | E21: 0 | F21: 0 | G21: =SUM(E21:F21) -> 0 | H21: 10 | I21: 0 | J21: =SUM(H21:I21) -> 10 | K21: 12 | L21: 0 | M21: =SUM(K21:L21) -> 12 | N21: =B21+E21+H21+K21 -> 22 | O21: =C21+F21+I21+L21 -> 0 | P21: =SUM(N21:O21) -> 22
A22: 40.03.01 Юриспруденция | B22: 0 | C22: 8 | D22: =SUM(B22:C22) -> 8 | E22: 3 | F22: 2 | G22: 5 | H22: 1 | I22: 0 | J22: =SUM(H22:I22) -> 1 | K22: 6 | L22: 5 | M22: =SUM(K22:L22) -> 11 | N22: =B22+E22+H22+K22 -> 10 | O22: =C22+F22+I22+L22 -> 15 | P22: =SUM(N22:O22) -> 25
A23: 43.03.02 Туризм | B23: 0 | C23: 0 | D23: =SUM(B23:C23) -> 0 | E23: 0 | F23: 0 | G23: =SUM(E23:F23) -> 0 | H23: 8 | I23: 0 | J23: =SUM(H23:I23) -> 8 | K23: 14 | L23: 0 | M23: =SUM(K23:L23) -> 14 | N23: =B23+E23+H23+K23 -> 22 | O23: =C23+F23+I23+L23 -> 0 | P23: =SUM(N23:O23) -> 22
A24: 49.03.01 Физическая культура | B24: 0 | C24: 0 | D24: =SUM(B24:C24) -> 0 | E24: 0 | F24: 0 | G24: =SUM(E24:F24) -> 0 | H24: 0 | I24: 0 | J24: =SUM(H24:I24) -> 0 | K24: 0 | L24: 0 | M24: =SUM(K24:L24) -> 0 | N24: =B24+E24+H24+K24 -> 0 | O24: =C24+F24+I24+L24 -> 0 | P24: =SUM(N24:O24) -> 0
A25: 49.03.02 Физическая культура для лиц с отклонениями в состоянии здоровья (адаптивная физическая культура) | B25: 0 | C25: 0 | D25: =SUM(B25:C25) -> 0 | E25: 0 | F25: 0 | G25: =SUM(E25:F25) -> 0 | H25: 0 | I25: 0 | J25: =SUM(H25:I25) -> 0 | K25: 0 | L25: 0 | M25: 0 | N25: =B25+E25+H25+K25 -> 0 | O25: =C25+F25+I25+L25 -> 0 | P25: =SUM(N25:O25) -> 0
A26: Итого граждане России | B26: =SUM(B19:B25) -> 24 | C26: =SUM(C19:C25) -> 10 | D26: =SUM(D19:D25) -> 34 | E26: =SUM(E19:E25) -> 18 | F26: =SUM(F19:F25) -> 4 | G26: =SUM(G19:G25) -> 22 | H26: =SUM(H19:H25) -> 46 | I26: =SUM(I19:I25) -> 0 | ... M26: =SUM(M19:M25) -> 70 | N26: =B26+E26+H26+K26 -> 152 | O26: =C26+F26+I26+L26 -> 20 | P26: =SUM(N26:O26) -> 172
A27: Граждане иностранных государств (вкл. Украину)
A28: 37.03.01 Психология | B28: 0 | C28: 0 | D28: =SUM(B28:C28) -> 0 | E28: 0 | F28: 0 | G28: 0 | H28: 0 | I28: 0 | J28: =SUM(H28:I28) -> 0 | K28: 0 | L28: 0 | M28: 0 | N28: =B28+E28+H28+K28 -> 0 | O28: =C28+F28+I28+L28 -> 0 | P28: =SUM(N28:O28) -> 0
A29: 38.03.02 Менеджмент | B29: 0 | C29: 0 | D29: =SUM(B29:C29) -> 0 | E29: 0 | F29: 0 | G29: =SUM(E29:F29) -> 0 | H29: 0 | I29: 0 | J29: =SUM(H29:I29) -> 0 | K29: 0 | L29: 0 | M29: =SUM(K29:L29) -> 0 | N29: =B29+E29+H29+K29 -> 0 | O29: =C29+F29+I29+L29 -> 0 | P29: =SUM(N29:O29) -> 0
A30: 38.03.04 Государственное и муниципальное управление | B30: 0 | C30: 0 | D30: =SUM(B30:C30) -> 0 | E30: 0 | F30: 0 | G30: =SUM(E30:F30) -> 0 | H30: 0 | I30: 0 | J30: =SUM(H30:I30) -> 0 | K30: 0 | L30: 0 | M30: =SUM(K30:L30) -> 0 | N30: =B30+E30+H30+K30 -> 0 | O30: =C30+F30+I30+L30 -> 0 | P30: =SUM(N30:O30) -> 0
A31: 40.03.01 Юриспруденция | B31: 0 | C31: 0 | D31: 0 | E31: 0 | F31: 0 | G31: =SUM(E31:F31) -> 0 | H31: 0 | I31: 0 | J31: =SUM(H31:I31) -> 0 | K31: 0 | L31: 0 | M31: 0 | N31: =B31+E31+H31+K31 -> 0 | O31: =C31+F31+I31+L31 -> 0 | P31: =SUM(N31:O31) -> 0
A32: 43.03.02 Туризм | B32: 0 | C32: 0 | D32: 0 | E32: 0 | F32: 0 | G32: 0 | H32: 0 | I32: 0 | J32: 0 | K32: 0 | L32: 0 | M32: 0 | N32: =B32+E32+H32+K32 -> 0 | O32: =C32+F32+I32+L32 -> 0 | P32: =SUM(N32:O32) -> 0
A33: 49.03.01 Физическая культура | B33: 0 | C33: 0 | D33: =SUM(B33:C33) -> 0 | E33: 0 | F33: 0 | G33: =SUM(E33:F33) -> 0 | H33: 0 | I33: 0 | J33: =SUM(H33:I33) -> 0 | K33: 0 | L33: 0 | M33: =SUM(K33:L33) -> 0 | N33: =B33+E33+H33+K33 -> 0 | O33: =C33+F33+I33+L33 -> 0 | P33: =SUM(N33:O33) -> 0
A34: 49.03.02 Физическая культура для лиц с отклонениями в состоянии здоровья (адаптивная физическая культура) | B34: 0 | C34: 0 | D34: =SUM(B34:C34) -> 0 | E34: 0 | F34: 0 | G34: =SUM(E34:F34) -> 0 | H34: 0 | I34: 0 | J34: =SUM(H34:I34) -> 0 | K34: 0 | L34: 0 | M34: 0 | N34: =B34+E34+H34+K34 -> 0 | O34: =C34+F34+I34+L34 -> 0 | P34: =SUM(N34:O34) -> 0
A35: Итого граждане иностранных государств | B35: =SUM(B28:B34) -> 0 | C35: =SUM(C28:C34) -> 0 | D35: =SUM(D28:D34) -> 0 | E35: =SUM(E28:E34) -> 0 | F35: =SUM(F28:F34) -> 0 | G35: =SUM(G28:G34) -> 0 | H35: =SUM(H28:H34) -> 0 | I35: =SUM(I28:I34) -> 0 | ... M35: =SUM(M28:M34) -> 0 | N35: =SUM(N27:N34) -> 0 | O35: =SUM(O28:O34) -> 0 | P35: =SUM(P28:P34) -> 0
A36: ИТОГО по подразделению граждане России | B36: =B26 -> 24 | C36: =C26 -> 10 | D36: =D26 -> 34 | E36: =E26 -> 18 | F36: =F26 -> 4 | G36: =G26 -> 22 | H36: =H26 -> 46 | I36: =I26 -> 0 | ... P36: =P26 -> 172
A37: ИТОГО по подразделению иностранные граждане | B37: =B35 -> 0 | C37: =C35 -> 0 | D37: =D35 -> 0 | E37: =E35 -> 0 | F37: =F35 -> 0 | G37: =G35 -> 0 | H37: =H35 -> 0 | I37: =I35 -> 0 | ... M37: =M35 -> 0 | N37: 0 | O37: =O35 -> 0 | P37: =P35 -> 0
A38: Итого | B38: =SUM(B36:B37) -> 24 | C38: =SUM(C36:C37) -> 10 | D38: =SUM(D36:D37) -> 34 | E38: =SUM(E36:E37) -> 18 | F38: =SUM(F36:F37) -> 4 | G38: =SUM(G36:G37) -> 22 | H38: =SUM(H36:H37) -> 46 | I38: =SUM(I36:I37) -> 0 | ... P38: =SUM(P36:P37) -> 172

Sheet Бак ОЗФО СЕГИ
