Workbook

Sheet Специал ОФО МА 
A1: Медицинская академия имени С.И.Георгиевского
A2: Контингент очной формы обучения на 01.01.2026 г.
A3: Контингент очной формы обучения по состоянию на 01.01.2022 г .
B5: Факультет/направление подготовки | C5: 1 год обучения | F5: 2 год обучения | I5: 3 год обучения | L5: 4 год обучения | O5: 5 год обучения | R5: 6 год обучения | U5: Всего специалитет
C7: За счет бюджетных ассигнований | D7: На основе догов. о платных образов. услугах | E7: ВСЕГО | F7: За счет бюджетных ассигнований | G7: На основе догов. о платных образов. услугах | H7: ВСЕГО | I7: За счет бюджетных ассигнований | J7: На основе догов. о платных образов. услугах | K7: ВСЕГО | L7: За счет бюджетных ассигнований | M7: На основе догов. о платных образов. услугах | N7: ВСЕГО | O7: За счет бюджетных ассигнований | P7: На основе догов. о платных образов. услугах | Q7: ВСЕГО | R7: За счет бюджетных ассигнований | S7: На основе догов. о платных образов. услугах | T7: ВСЕГО | U7: За счет бюджетных ассигнований | V7: На основе догов. о платных образов. услугах | W7: ВСЕГО
B8: Свод по направлениям подготовки
B9: 31.05.01 Лечебное дело | C9: 292 | D9: 398 | E9: 690 | F9: 292 | G9: 565 | H9: 857 | I9: 303 | J9: 299 | K9: 602 | L9: 312 | M9: 356 | N9: 668 | O9: 278 | P9: 654 | Q9: 932 | R9: 277 | S9: 415 | T9: 692 | U9: =C9+F9+I9+L9+O9+R9 -> 1754 | V9: =D9+G9+J9+M9+P9+S9 -> 2687 | W9: =E9+H9+K9+N9+Q9+T9 -> 4441
B10: 31.05.02 Педиатрия | C10: 100 | D10: 65 | E10: 165 | F10: 94 | G10: 57 | H10: 151 | I10: 95 | J10: 15 | K10: 110 | L10: 87 | M10: 20 | N10: 107 | O10: 80 | P10: 8 | Q10: 88 | R10: 68 | S10: 4 | T10: 72 | U10: =C10+F10+I10+L10+O10+R10 -> 524 | V10: =D10+G10+J10+M10+P10+S10 -> 169 | W10: =E10+H10+K10+N10+Q10+T10 -> 693
B11: 31.05.03 Стоматология | C11: 16 | D11: 161 | E11: 177 | F11: 21 | G11: 197 | H11: 218 | I11: 23 | J11: 101 | K11: 124 | L11: 32 | M11: 101 | N11: 133 | O11: 26 | P11: 81 | Q11: 107 | U11: =C11+F11+I11+L11+O11+R11 -> 118 | V11: =D11+G11+J11+M11+P11+S11 -> 641 | W11: =E11+H11+K11+N11+Q11+T11 -> 759
B12: 30.05.03 Медицинская биохимия | C12: 5 | D12: 0 | E12: 5 | F12: 4 | G12: 3 | H12: 7 | U12: =C12+F12+I12+L12+O12+R12 -> 9 | V12: =D12+G12+J12+M12+P12+S12 -> 3 | W12: =E12+H12+K12+N12+Q12+T12 -> 12
B13: Итого по направлениям подготовки | C13: =SUM(C9:C12) -> 413 | D13: =SUM(D9:D12) -> 624 | E13: =SUM(E9:E12) -> 1037 | F13: =SUM(F9:F12) -> 411 | G13: =SUM(G9:G12) -> 822 | H13: =SUM(H9:H12) -> 1233 | I13: =SUM(I9:I12) -> 421 | J13: =SUM(J9:J12) -> 415 | ... W13: =SUM(W9:W12) -> 5905
B14: В том числе:
B15: Граждане России
B16: 31.05.01 Лечебное дело | C16: 285 | D16: 52 | E16: 337 | F16: 287 | G16: 102 | H16: 389 | I16: 298 | J16: 66 | K16: 364 | L16: 308 | M16: 66 | N16: 374 | O16: 273 | P16: 57 | Q16: 330 | R16: 264 | S16: 45 | T16: 309 | U16: =C16+F16+I16+L16+O16+R16 -> 1715 | V16: =D16+G16+J16+M16+P16+S16 -> 388 | W16: =E16+H16+K16+N16+Q16+T16 -> 2103
B17: 31.05.02 Педиатрия | C17: 100 | D17: 65 | E17: 165 | F17: 94 | G17: 57 | H17: 151 | I17: 95 | J17: 15 | K17: 110 | L17: 87 | M17: 20 | N17: 107 | O17: 80 | P17: 8 | Q17: 88 | R17: 67 | S17: 4 | T17: 71 | U17: =C17+F17+I17+L17+O17+R17 -> 523 | V17: =D17+G17+J17+M17+P17+S17 -> 169 | W17: =E17+H17+K17+N17+Q17+T17 -> 692
B18: 31.05.03 Стоматология | C18: 14 | D18: 159 | E18: 173 | F18: 19 | G18: 197 | H18: 216 | I18: 22 | J18: 101 | K18: 123 | L18: 28 | M18: 100 | N18: 128 | O18: 25 | P18: 80 | Q18: 105 | U18: =C18+F18+I18+L18+O18+R18 -> 108 | V18: =D18+G18+J18+M18+P18+S18 -> 637 | W18: =E18+H18+K18+N18+Q18+T18 -> 745
B19: 30.05.01 Медицинская биохимия | C19: 5 | D19: 0 | E19: 5 | F19: 4 | G19: 3 | H19: 7 | J19: 0 | K19: 0 | L19: 0 | M19: 0 | N19: 0 | O19: 0 | P19: 0 | Q19: 0 | U19: =C19+F19+I19+L19+O19+R19 -> 9 | V19: =D19+G19+J19+M19+P19+S19 -> 3 | W19: =E19+H19+K19+N19+Q19+T19 -> 12
B20: Итого граждане России | C20: =SUM(C16:C19) -> 404 | D20: =SUM(D16:D19) -> 276 | E20: =SUM(E16:E19) -> 680 | F20: =SUM(F16:F19) -> 404 | G20: =SUM(G16:G19) -> 359 | H20: =SUM(H16:H19) -> 763 | I20: =SUM(I16:I19) -> 415 | J20: =SUM(J16:J19) -> 182 | ... W20: =SUM(W16:W19) -> 3552
B21: Граждане иностранных государств (вкл. Украину)
B22: 31.05.01 Лечебное дело | C22: 7 | D22: 346 | E22: 353 | F22: 5 | G22: 463 | H22: 468 | I22: 5 | J22: 233 | K22: 238 | L22: 4 | M22: 290 | N22: 294 | O22: 5 | P22: 597 | Q22: 602 | R22: 13 | S22: 370 | T22: 383 | U22: =C22+F22+I22+L22+O22+R22 -> 39 | V22: =D22+G22+J22+M22+P22+S22 -> 2299 | W22: =E22+H22+K22+N22+Q22+T22 -> 2338
B23: 31.05.02 Педиатрия | C23: 0 | D23: 0 | E23: 0 | F23: 0 | G23: 0 | H23: 0 | I23: 0 | J23: 0 | K23: 0 | L23: 0 | M23: 0 | N23: 0 | O23: 0 | P23: 0 | Q23: 0 | R23: 1 | S23: 0 | T23: 1 | U23: =C23+F23+I23+L23+O23+R23 -> 1 | V23: =D23+G23+J23+M23+P23+S23 -> 0 | W23: =E23+H23+K23+N23+Q23+T23 -> 1
B24: 31.05.03 Стоматология | C24: 2 | D24: 2 | E24: 4 | F24: 2 | G24: 0 | H24: 2 | I24: 1 | J24: 0 | K24: 1 | L24: 4 | M24: 1 | N24: 5 | O24: 1 | P24: 1 | Q24: 2 | R24: 0 | S24: 0 | T24: 0 | U24: =C24+F24+I24+L24+O24+R24 -> 10 | V24: =D24+G24+J24+M24+P24+S24 -> 4 | W24: =E24+H24+K24+N24+Q24+T24 -> 14
B25: Итого граждане иностранных государств | C25: =SUM(C22:C24) -> 9 | D25: =SUM(D22:D24) -> 348 | E25: =SUM(E22:E24) -> 357 | F25: =SUM(F22:F24) -> 7 | G25: =SUM(G22:G24) -> 463 | H25: =SUM(H22:H24) -> 470 | I25: =SUM(I22:I24) -> 6 | J25: =SUM(J22:J24) -> 233 | ... W25: =SUM(W22:W24) -> 2353
B26: Всего: | C26: =C20+C25 -> 413 | D26: =D20+D25 -> 624 | E26: =E20+E25 -> 1037 | F26: =F20+F25 -> 411 | G26: =G20+G25 -> 822 | H26: =H20+H25 -> 1233 | I26: =I20+I25 -> 421 | J26: =J20+J25 -> 415 | ... W26: =W20+W25 -> 5905

Sheet Бак ОФО МА
A1: Медицинская академия имени С.И.Георгиевского
A3: Контингент очной формы обучения на 01.01.2026 г. (Бакалавриат)
A5: Факультет/направление подготовки | B5: 1 год обучения | E5: 2 год обучения | H5: 3 год обучения | K5: 4 год обучения | N5: Всего бакалавриата
B6: За счет бюджетных ассигнований | C6: На основе догов. о платных образов. услугах | D6: ВСЕГО | E6: За счет бюджетных ассигнований | F6: На основе догов. о платных образов. услугах | G6: ВСЕГО | H6: За счет бюджетных ассигнований | I6: На основе догов. о платных образов. услугах | J6: ВСЕГО | K6: За счет бюджетных ассигнований | L6: На основе догов. о платных образов. услугах | M6: ВСЕГО | N6: За счет бюджетных ассигнований | O6: На основе догов. о платных образов. услугах | P6: ВСЕГО
A7: Свод по направлениям подготовки
A8: 49.03.01. Физическая культура | B8: 26 | C8: 9 | D8: 35 | E8: 28 | F8: 8 | G8: 36 | H8: 26 | I8: 1 | J8: 27 | K8: 21 | L8: 0 | M8: 21 | N8: =B8+E8+H8+K8 -> 101 | O8: =C8+F8+I8+L8 -> 18 | P8: =D8+G8+J8+M8 -> 119
A9: 49.03.02. Физическая культура для лиц с отклонениями в состоянии здоровья (адаптивная физическая культура) | B9: 22 | C9: 8 | D9: 30 | E9: 15 | F9: 3 | G9: 18 | H9: 22 | I9: 2 | J9: 24 | K9: 16 | L9: 2 | M9: 18 | N9: =B9+E9+H9+K9 -> 75 | O9: =C9+F9+I9+L9 -> 15 | P9: =D9+G9+J9+M9 -> 90
A10: 49.03.03. Рекреация и спортивно-оздоровительный туризм | B10: 26 | C10: 5 | D10: 31 | E10: 22 | F10: 2 | G10: 24 | H10: 0 | I10: 0 | J10: 0 | K10: 0 | L10: 0 | M10: 0 | N10: =B10+E10+H10+K10 -> 48 | O10: =C10+F10+I10+L10 -> 7 | P10: =D10+G10+J10+M10 -> 55
A11: Итого по направлениям подготовки: | B11: =SUM(B8:B10) -> 74 | C11: =SUM(C8:C10) -> 22 | D11: =SUM(D8:D10) -> 96 | E11: =SUM(E8:E10) -> 65 | F11: =SUM(F8:F10) -> 13 | G11: =SUM(G8:G10) -> 78 | H11: 48 | I11: 3 | J11: 51 | K11: =SUM(K8:K10) -> 37 | L11: =SUM(L8:L10) -> 2 | M11: =SUM(M8:M10) -> 39 | N11: =SUM(N8:N10) -> 224 | O11: =SUM(O8:O10) -> 40 | P11: =SUM(P8:P10) -> 264
A12: В том числе:
A13: Граждане России
A14: 49.03.01. Физическая культура | B14: 26 | C14: 9 | D14: 35 | E14: 28 | F14: 8 | G14: 36 | H14: 26 | I14: 1 | J14: 27 | K14: 21 | L14: 0 | M14: 21 | N14: =B14+E14+H14+K14 -> 101 | O14: =C14+F14+I14+L14 -> 18 | P14: =D14+G14+J14+M14 -> 119
A15: 49.03.02. Физическая культура для лиц с отклонениями в состоянии здоровья (адаптивная физическая культура) | B15: 22 | C15: 8 | D15: 30 | E15: 15 | F15: 3 | G15: 18 | H15: 22 | I15: 2 | J15: 24 | K15: 16 | L15: 2 | M15: 18 | N15: =B15+E15+H15+K15 -> 75 | O15: =C15+F15+I15+L15 -> 15 | P15: =D15+G15+J15+M15 -> 90
A16: 49.03.03. Рекреация и спортивно-оздоровительный туризм | B16: 26 | C16: 5 | D16: 31 | E16: 22 | F16: 2 | G16: 24 | H16: 0 | I16: 0 | J16: ='[1]ОФО бак. МЕДИК'!J15 -> 0 | K16: 0 | L16: 0 | M16: 0 | N16: =B16+E16+H16+K16 -> 48 | O16: =C16+F16+I16+L16 -> 7 | P16: =D16+G16+J16+M16 -> 55
A17: Итого граждане России | B17: =SUM(B14:B16) -> 74 | C17: =SUM(C14:C16) -> 22 | D17: =SUM(D14:D16) -> 96 | E17: =SUM(E14:E16) -> 65 | F17: =SUM(F14:F16) -> 13 | G17: =SUM(G14:G16) -> 78 | H17: =SUM(H14:H16) -> 48 | I17: =SUM(I14:I16) -> 3 | ... M17: =SUM(M14:M16) -> 39 | N17: =SUM(N13:N16) -> 224 | O17: =SUM(O14:O16) -> 40 | P17: =SUM(P14:P16) -> 264
A18: Граждане иностранных государств (вкл. Украину)
A19: 49.03.01. Физическая культура | B19: 0 | C19: 0 | D19: 0 | E19: 0 | F19: ='[1]ОФО бак. МЕДИК'!F18 -> 0 | G19: 0 | H19: ='[1]ОФО бак. МЕДИК'!H18 -> 0 | I19: ='[1]ОФО бак. МЕДИК'!I18 -> 0 | J19: ='[1]ОФО бак. МЕДИК'!J18 -> 0 | K19: 0 | L19: 0 | M19: 0 | N19: =B19+E19+H19+K19 -> 0 | O19: =C19+F19+I19+L19 -> 0 | P19: =N19+O19 -> 0
A20: 49.03.02. Физическая культура для лиц с отклонениями в состоянии здоровья (адаптивная физическая культура) | B20: 0 | C20: 0 | D20: 0 | E20: 0 | F20: ='[1]ОФО бак. МЕДИК'!F19 -> 0 | G20: 0 | H20: ='[1]ОФО бак. МЕДИК'!H19 -> 0 | I20: ='[1]ОФО бак. МЕДИК'!I19 -> 0 | J20: ='[1]ОФО бак. МЕДИК'!J19 -> 0 | K20: 0 | L20: 0 | M20: 0 | N20: =B20+E20+H20+K20 -> 0 | O20: =C20+F20+I20+L20 -> 0 | P20: =N20+O20 -> 0
A21: 49.03.03. Рекреация и спортивно-оздоровительный туризм | B21: 0 | C21: 0 | D21: =SUM(B21:C21) -> 0 | E21: 0 | F21: 0 | G21: ='[1]ОФО бак. МЕДИК'!G20 -> 0 | H21: 0 | I21: 0 | J21: ='[1]ОФО бак. МЕДИК'!J20 -> 0 | K21: 0 | L21: 0 | M21: 0 | N21: =B21+E21+H21+K21 -> 0 | O21: =C21+F21+I21+L21 -> 0 | P21: =N21+O21 -> 0
A22: Итого граждане иностранных государств | B22: =SUM(B19:B21) -> 0 | C22: =SUM(C19:C21) -> 0 | D22: =SUM(D19:D21) -> 0 | E22: =SUM(E19:E21) -> 0 | F22: =SUM(F19:F21) -> 0 | G22: =SUM(G19:G21) -> 0 | H22: =SUM(H19:H21) -> 0 | I22: =SUM(I19:I21) -> 0 | ... M22: =SUM(M19:M21) -> 0 | N22: =N19+N20+N21 -> 0 | O22: =O19+O20+O21 -> 0 | P22: =P19+P20+P21 -> 0
A23: Итого БАКАЛАВРЫ ДО | B23: =B17+B22 -> 74 | C23: =C17+C22 -> 22 | D23: =D17+D22 -> 96 | E23: =E17+E22 -> 65 | F23: =F17+F22 -> 13 | G23: =G17+G22 -> 78 | H23: =H17+H22 -> 48 | I23: =I17+I22 -> 3 | ... P23: =P17+P22 -> 264

Sheet Бак ЗФО МА
A1: Медицинская академия имени С.И.Георгиевского
A2: Контингент заочной формы обучения на 01.01.2026 г. (Бакалавриат)
A4: Факультет/направление подготовки | B4: 1 год обучения | E4: 2 год обучения | H4: 3 год обучения | K4: 4 год обучения | N4: 5 год обучения | Q4: Всего бакалавриата
B6: За счет бюджетных ассигнований | C6: На основе догов. о платных образов. услугах | D6: ВСЕГО | E6: За счет бюджетных ассигнований | F6: На основе догов. о платных образов. услугах | G6: ВСЕГО | H6: За счет бюджетных ассигнований | I6: На основе догов. о платных образов. услугах | J6: ВСЕГО | K6: За счет бюджетных ассигнований | L6: На основе догов. о платных образов. услугах | M6: ВСЕГО | N6: За счет бюджетных ассигнований | O6: На основе догов. о платных образов. услугах | P6: ВСЕГО | Q6: За счет бюджетных ассигнований | R6: На основе догов. о платных образов. услугах | S6: ВСЕГО
A7: Свод по направлениям подготовки
A8: 49.03.01. Физическая культура | B8: 9 | C8: 6 | D8: 15 | E8: 12 | F8: 4 | G8: 16 | H8: 20 | I8: 2 | J8: 22 | K8: 14 | L8: 5 | M8: 19 | N8: 2 | O8: 9 | P8: 11 | Q8: =B8+E8+H8+K8+N8 -> 57 | R8: =C8+F8+I8+L8+O8 -> 26 | S8: =D8+G8+J8+M8+P8 -> 83
A9: 49.03.01.Физическая культура для лиц с отклонениями в состоянии здоровья (адаптивная физическая культура) | B9: 9 | C9: 8 | D9: 17 | E9: 11 | F9: 13 | G9: 24 | H9: 0 | I9: 0 | J9: 0 | K9: 0 | L9: 0 | M9: 0 | N9: 0 | O9: 0 | P9: 0 | Q9: =B9+E9+H9+K9+N9 -> 20 | R9: =C9+F9+I9+L9+O9 -> 21 | S9: =D9+G9+J9+M9+P9 -> 41
A10: 49.03.03. Рекреация и спортивно-оздоровительный туризм | B10: 0 | C10: 0 | D10: 0 | E10: 0 | F10: 0 | G10: 0 | H10: 0 | I10: 0 | J10: 0 | K10: 0 | L10: 0 | M10: 0 | N10: 0 | O10: 0 | P10: 0 | Q10: =B10+E10+H10+K10+N10 -> 0 | R10: =C10+F10+I10+L10+O10 -> 0 | S10: =D10+G10+J10+M10+P10 -> 0
A11: Итого по направлениям подготовки | B11: =SUM(B8:B10) -> 18 | C11: =SUM(C8:C10) -> 14 | D11: =SUM(D8:D10) -> 32 | E11: =SUM(E8:E10) -> 23 | F11: =SUM(F8:F10) -> 17 | G11: =SUM(G8:G10) -> 40 | H11: =SUM(H8:H10) -> 20 | I11: =SUM(I8:I10) -> 2 | ... S11: =SUM(S8:S10) -> 124
A12: В том числе:
A13: Граждане России
A14: 49.03.01. Физическая культура | B14: 9 | C14: 6 | D14: 15 | E14: 12 | F14: 4 | G14: 16 | H14: 20 | I14: 2 | J14: 22 | K14: 13 | L14: 5 | M14: 18 | N14: 2 | O14: 9 | P14: 11 | Q14: =B14+E14+H14+K14+N14 -> 56 | R14: =C14+F14+I14+L14+O14 -> 26 | S14: =D14+G14+J14+M14+P14 -> 82
A15: 49.03.01.Физическая культура для лиц с отклонениями в состоянии здоровья (адаптивная физическая культура) | B15: 9 | C15: 8 | D15: 17 | E15: 11 | F15: 13 | G15: 24 | H15: 0 | I15: 0 | J15: 0 | K15: 0 | L15: 0 | M15: 0 | N15: 0 | O15: 0 | P15: 0 | Q15: =B15+E15+H15+K15+N15 -> 20 | R15: =C15+F15+I15+L15+O15 -> 21 | S15: =D15+G15+J15+M15+P15 -> 41
A16: 49.03.03. Рекреация и спортивно-оздоровительный туризм | B16: 0 | C16: 0 | D16: 0 | E16: 0 | F16: 0 | G16: ='[1]ЗФО бак. МЕДИК'!G15 -> 0 | H16: 0 | I16: 0 | J16: 0 | K16: 0 | L16: 0 | M16: 0 | N16: 0 | O16: 0 | P16: 0 | Q16: =B16+E16+H16+K16+N16 -> 0 | R16: =C16+F16+I16+L16+O16 -> 0 | S16: =D16+G16+J16+M16+P16 -> 0
A17: Итого граждане России | B17: =SUM(B14:B16) -> 18 | C17: =SUM(C14:C16) -> 14 | D17: =SUM(D14:D16) -> 32 | E17: =SUM(E14:E16) -> 23 | F17: =SUM(F14:F16) -> 17 | G17: =SUM(G14:G16) -> 40 | H17: =SUM(H14:H16) -> 20 | I17: =SUM(I14:I16) -> 2 | ... S17: =SUM(S14:S16) -> 123
A18: Граждане иностранных государств (вкл. Украину)
A19: 49.03.01. Физическая культура | B19: 0 | C19: 0 | D19: =SUM(B19:C19) -> 0 | E19: 0 | F19: ='[1]ЗФО бак. МЕДИК'!F18 -> 0 | G19: 0 | H19: 0 | I19: 0 | J19: 0 | K19: 1 | L19: 0 | M19: 1 | N19: 0 | O19: 0 | P19: 0 | Q19: =B19+E19+H19+K19+N19 -> 1 | R19: =C19+F19+I19+L19+O19 -> 0 | S19: =Q19+R19 -> 1
A20: 49.03.01.Физическая культура для лиц с отклонениями в состоянии здоровья (адаптивная физическая культура) | B20: 0 | C20: 0 | D20: 0 | E20: ='[1]ЗФО бак. МЕДИК'!E19 -> 0 | F20: ='[1]ЗФО бак. МЕДИК'!F19 -> 0 | G20: ='[1]ЗФО бак. МЕДИК'!G19 -> 0 | H20: 0 | I20: 0 | J20: 0 | K20: 0 | L20: 0 | M20: 0 | N20: 0 | O20: 0 | P20: 0 | Q20: =B20+E20+H20+K20+N20 -> 0 | R20: =C20+F20+I20+L20+O20 -> 0 | S20: =Q20+R20 -> 0
A21: 49.03.03. Рекреация и спортивно-оздоровительный туризм | B21: 0 | C21: 0 | D21: 0 | E21: 0 | F21: 0 | G21: 0 | H21: 0 | I21: 0 | J21: 0 | K21: 0 | L21: 0 | M21: 0 | N21: 0 | O21: 0 | P21: 0 | Q21: =B21+E21+H21+K21+N21 -> 0 | R21: =C21+F21+I21+L21+O21 -> 0 | S21: =Q21+R21 -> 0
A22: Итого граждане иностранных государств | B22: =B19+B20+B21 -> 0 | C22: =C19+C20+C21 -> 0 | D22: =D19+D20+D21 -> 0 | E22: =E19+E20+E21 -> 0 | F22: =F19+F20+F21 -> 0 | G22: =G19+G20+G21 -> 0 | H22: =SUM(H19:H21) -> 0 | I22: =SUM(I19:I21) -> 0 | J22: =SUM(J19:J21) -> 0 | K22: =SUM(K19:K21) -> 1 | L22: =SUM(L19:L21) -> 0 | M22: =SUM(M19:M21) -> 1 | N22: =SUM(N19:N21) -> 0 | O22: =SUM(O19:O21) -> 0 | ... S22: =SUM(S19:S21) -> 1
A23: Итого БАКАЛАВРЫ ЗО | B23: =B17+B22 -> 18 | C23: =C17+C22 -> 14 | D23: =D17+D22 -> 32 | E23: =E17+E22 -> 23 | F23: =F17+F22 -> 17 | G23: =G17+G22 -> 40 | H23: =H17+H22 -> 20 | I23: =I17+I22 -> 2 | ... S23: =S17+S22 -> 124

Sheet Маг ОФО МА
A1: Медицинская академия имени С.И.Георгиевского
A2: Контингент очной формы обучения на 01.01.2026 г. (Магистратура)
A4: Факультет/направление подготовки | B4: 1 год обучения | E4: 2 год обучения | H4: Всего магистратуры
B5: За счет бюджетных ассигнований | C5: На основе догов. о платных образов. услугах | D5: ВСЕГО | E5: За счет бюджетных ассигнований | F5: На основе догов. о платных образов. услугах | G5: ВСЕГО | H5: За счет бюджетных ассигнований | I5: На основе догов. о платных образов. услугах | J5: ВСЕГО
A6: Свод по направлениям подготовки
A7: 49.04.01. Физическая культура | B7: =B13+B18 -> 7 | C7: =C13+C18 -> 0 | D7: =D13+D18 -> 7 | E7: 8 | F7: =F13+F18 -> 0 | G7: 8 | H7: =H13+H18 -> 15 | I7: =I13+I18 -> 0 | J7: =J13+J18 -> 15
A8: 49.04.02. Физическая культура для лиц с отклонениями в состоянии здоровья (адаптивная физическая культура) | B8: =B14+B19 -> 0 | C8: =C14+C19 -> 0 | D8: =D14+D19 -> 0 | E8: =E14+E19 -> 0 | F8: =F14+F19 -> 0 | G8: =G14+G19 -> 0 | H8: =H14+H19 -> 0 | I8: =I14+I19 -> 0 | J8: =J14+J19 -> 0
A9: 49.04.03. Спорт | B9: =B15+B20 -> 7 | C9: =C15+C20 -> 0 | D9: =D15+D20 -> 7 | E9: 8 | F9: =F15+F20 -> 0 | G9: 8 | H9: =H15+H20 -> 15 | I9: =I15+I20 -> 0 | J9: =J15+J20 -> 15
A10: Итого по направлениям подготовки: | B10: =SUM(B7:B9) -> 14 | C10: =SUM(C7:C9) -> 0 | D10: =SUM(D7:D9) -> 14 | E10: =SUM(E7:E9) -> 16 | F10: =SUM(F7:F9) -> 0 | G10: =SUM(G7:G9) -> 16 | H10: =SUM(H7:H9) -> 30 | I10: =SUM(I7:I9) -> 0 | J10: =SUM(J7:J9) -> 30
A11: В том числе:
A12: Граждане России
A13: 49.04.01. Физическая культура | B13: 7 | C13: 0 | D13: 7 | E13: 8 | F13: 0 | G13: 8 | H13: =B13+E13 -> 15 | I13: =C13+F13 -> 0 | J13: =H13+I13 -> 15
A14: 49.04.02. Физическая культура для лиц с отклонениями в состоянии здоровья (адаптивная физическая культура) | B14: 0 | C14: 0 | D14: 0 | E14: 0 | F14: 0 | G14: 0 | H14: =B14+E14 -> 0 | I14: =C14+F14 -> 0 | J14: =H14+I14 -> 0
A15: 49.04.03. Спорт | B15: 7 | C15: 0 | D15: 7 | E15: 8 | F15: 0 | G15: 8 | H15: =B15+E15 -> 15 | I15: =C15+F15 -> 0 | J15: =H15+I15 -> 15
A16: Итого граждане России | B16: =SUM(B13:B15) -> 14 | C16: =SUM(C13:C15) -> 0 | D16: =SUM(D13:D15) -> 14 | E16: =SUM(E13:E15) -> 16 | F16: =SUM(F13:F15) -> 0 | G16: =SUM(G13:G15) -> 16 | H16: =SUM(H13:H15) -> 30 | I16: =SUM(I13:I15) -> 0 | J16: =SUM(J13:J15) -> 30
A17: Граждане иностранных государств (вкл. Украину)
A18: 49.04.01. Физическая культура | B18: 0 | C18: 0 | D18: 0 | E18: 0 | F18: 0 | G18: 0 | H18: =B18+E18 -> 0 | I18: =C18+F18 -> 0 | J18: =H18+I18 -> 0
A19: 49.04.02. Физическая культура для лиц с отклонениями в состоянии здоровья (адаптивная физическая культура) | B19: 0 | C19: 0 | D19: 0 | E19: 0 | F19: 0 | G19: 0 | H19: =B19+E19 -> 0 | I19: =C19+F19 -> 0 | J19: =H19+I19 -> 0
A20: 49.04.03. Спорт | B20: 0 | C20: 0 | D20: 0 | E20: 0 | F20: 0 | G20: 0 | H20: =B20+E20 -> 0 | I20: =C20+F20 -> 0 | J20: =H20+I20 -> 0
A21: Итого граждане иностранных государств | B21: =SUM(B18:B20) -> 0 | C21: =SUM(C18:C20) -> 0 | D21: =SUM(D18:D20) -> 0 | E21: =SUM(E18:E20) -> 0 | F21: =SUM(F18:F20) -> 0 | G21: =SUM(G18:G20) -> 0 | H21: =SUM(H18:H20) -> 0 | I21: =SUM(I18:I20) -> 0 | J21: =SUM(J18:J20) -> 0
A22: Итого МАГИСТРЫ ДО | B22: =B16+B21 -> 14 | C22: =C16+C21 -> 0 | D22: =D16+D21 -> 14 | E22: =E16+E21 -> 16 | F22: =F16+F21 -> 0 | G22: =G16+G21 -> 16 | H22: =H16+H21 -> 30 | I22: =I16+I21 -> 0 | J22: =J16+J21 -> 30

Sheet Маг ЗФО МА
A1: Медицинская академия имени С.И.Георгиевского
A2: Контингент заочной формы обучения на 01.01.2026 г. (Магистратурв) .
A4: Факультет/направление подготовки | B4: 1 год обучения | E4: 2 год обучения | H4: 3 год обучения | K4: Всего магистратуры
B5: За счет бюджетных ассигнований | C5: На основе догов. о платных образов. услугах | D5: ВСЕГО | E5: За счет бюджетных ассигнований | F5: На основе догов. о платных образов. услугах | G5: ВСЕГО | H5: За счет бюджетных ассигнований | I5: На основе догов. о платных образов. услугах | J5: ВСЕГО | K5: За счет бюджетных ассигнований | L5: На основе догов. о платных образов. услугах | M5: ВСЕГО
A6: Свод по направлениям подготовки
A7: 49.04.01. Физическая культура | B7: 5 | C7: 2 | D7: 7 | E7: 8 | F7: 2 | G7: 10 | H7: 9 | I7: 4 | J7: 13 | K7: =K12+K16 -> 22 | L7: =L12+L16 -> 8 | M7: =M12+M16 -> 30
A8: 49.04.02. Физическая культура для лиц с отклонениями в состоянии здоровья (адаптивная физическая культура) | B8: 6 | C8: 13 | D8: 19 | E8: 7 | F8: 4 | G8: 11 | H8: 11 | I8: 2 | J8: 13 | K8: =K13+K17 -> 24 | L8: =L13+L17 -> 19 | M8: =M13+M17 -> 43
A9: Итого по направлениям подготовки: | B9: 11 | C9: 15 | D9: 26 | E9: 15 | F9: 6 | G9: 21 | H9: 20 | I9: 6 | J9: 26 | K9: =SUM(K7:K8) -> 46 | L9: =SUM(L7:L8) -> 27 | M9: =SUM(M7:M8) -> 73
A10: В том числе:
A11: Граждане России
A12: 49.04.01. Физическая культура | B12: 5 | C12: 2 | D12: 7 | E12: 8 | F12: 2 | G12: 10 | H12: 9 | I12: 4 | J12: 13 | K12: =B12+E12+H12 -> 22 | L12: =C12+F12+I12 -> 8 | M12: =K12+L12 -> 30
A13: 49.04.02. Физическая культура для лиц с отклонениями в состоянии здоровья (адаптивная физическая культура) | B13: 6 | C13: 13 | D13: 19 | E13: 7 | F13: 4 | G13: 11 | H13: 11 | I13: 2 | J13: 13 | K13: =B13+E13+H13 -> 24 | L13: =C13+F13+I13 -> 19 | M13: =K13+L13 -> 43
A14: Итого граждане России | B14: =SUM(B12:B13) -> 11 | C14: =SUM(C12:C13) -> 15 | D14: =SUM(D12:D13) -> 26 | E14: =SUM(E12:E13) -> 15 | F14: =SUM(F12:F13) -> 6 | G14: =SUM(G12:G13) -> 21 | H14: =SUM(H12:H13) -> 20 | I14: =SUM(I12:I13) -> 6 | ... M14: =SUM(M12:M13) -> 73
A15: Граждане иностранных государств (вкл. Украину)
A16: 49.04.01. Физическая культура | B16: 0 | C16: 0 | D16: 0 | E16: 0 | F16: 0 | G16: 0 | H16: 0 | I16: 0 | J16: 0 | K16: =B16+E16+H16 -> 0 | L16: =C16+F16+I16 -> 0 | M16: =K16+L16 -> 0
A17: 49.04.02. Физическая культура для лиц с отклонениями в состоянии здоровья (адаптивная физическая культура) | B17: 0 | C17: 0 | D17: 0 | E17: 0 | F17: 0 | G17: 0 | H17: 0 | I17: 0 | J17: 0 | K17: =B17+E17+H17 -> 0 | L17: =C17+F17+I17 -> 0 | M17: =K17+L17 -> 0
A18: Итого граждане иностранных государств | B18: =SUM(B16:B17) -> 0 | C18: =SUM(C16:C17) -> 0 | D18: =SUM(D16:D17) -> 0 | E18: =SUM(E16:E17) -> 0 | F18: =SUM(F16:F17) -> 0 | G18: =SUM(G16:G17) -> 0 | H18: =SUM(H16:H17) -> 0 | I18: =SUM(I16:I17) -> 0 | ... M18: =SUM(M16:M17) -> 0
A19: Итого МАГИСТРЫ ЗО | B19: =B14+B18 -> 11 | C19: =C14+C18 -> 15 | D19: =D14+D18 -> 26 | E19: =E14+E18 -> 15 | F19: =F14+F18 -> 6 | G19: =G14+G18 -> 21 | H19: =H14+H18 -> 20 | I19: =I14+I18 -> 6 | ... M19: =M14+M18 -> 73

Sheet Бакалавр ОФО АСИА
A1: ИНСТИТУТ "АКАДЕМИЯ СТРОИТЕЛЬСТВА И АРХИТЕКТУРЫ"
A2: Контингент очной формы обучения на 01.01.20265 г.(Бакалавриат)
A4: Факультет/направление подготовки | B4: 1 год обучения | E4: 2 год обучения | H4: 3 год обучения | K4: 4 год обучения | N4: 5 год обучения | Q4: Всего бакалавриата
B6: За счет бюджетных ассигнований | C6: На основе догов. о платных образов. услугах | D6: ВСЕГО | E6: За счет бюджетных ассигнований | F6: На основе догов. о платных образов. услугах | G6: ВСЕГО | H6: За счет бюджетных ассигнований | I6: На основе догов. о платных образов. услугах | J6: ВСЕГО | K6: За счет бюджетных ассигнований | L6: На основе догов. о платных образов. услугах | M6: ВСЕГО | N6: За счет бюджетных ассигнований | O6: На основе догов. о платных образов. услугах | P6: ВСЕГО | Q6: За счет бюджетных ассигнований | R6: На основе догов. о платных образов. услугах | S6: ВСЕГО
A7: Свод по направлениям подготовки
A8: 07.03.01 Архитектура | B8: =B20+B15 -> 31 | C8: =C20+C15 -> 20 | D8: =D20+D15 -> 51 | E8: =E20+E15 -> 22 | F8: =F20+F15 -> 20 | G8: =G20+G15 -> 42 | Q8: =B8+E8+H8+K8+N8 -> 53 | R8: =C8+F8+I8+L8+O8 -> 40 | S8: =SUM(Q8:R8) -> 93
A9: 07.03.04 Градостроительство | B9: =B21+B16 -> 31 | C9: =C21+C16 -> 13 | D9: =D21+D16 -> 44 | E9: =E21+E16 -> 31 | F9: =F21+F16 -> 18 | G9: =G21+G16 -> 49 | H9: =H21+H16 -> 51 | I9: =I21+I16 -> 14 | ... M9: =M21+M16 -> 62 | N9: =SUM(N16+N22) -> 49 | O9: =SUM(O16+O22) -> 2 | P9: =SUM(P16+P22) -> 51 | Q9: =B9+E9+H9+K9+N9 -> 220 | R9: =C9+F9+I9+L9+O9 -> 51 | S9: =SUM(Q9:R9) -> 271
A10: 08.03.01Строительство | B10: =B17+B22 -> 117 | C10: =C22+C17 -> 14 | D10: =D22+D17 -> 131 | E10: =E22+E17 -> 120 | F10: =F22+F17 -> 7 | G10: =G22+G17 -> 127 | H10: =H22+H17 -> 100 | I10: =I22+I17 -> 3 | J10: =J22+J17 -> 103 | ... M10: =M22+M17 -> 91 | N10: 0 | O10: 0 | P10: 0 | Q10: =B10+E10+H10+K10+N10 -> 424 | R10: =C10+F10+I10+L10+O10 -> 28 | S10: =SUM(Q10:R10) -> 452
A11: 20.03.02 Природообустройство и водопользование | B11: =B18+B23 -> 21 | C11: =C23+C18 -> 2 | D11: =D23+D18 -> 23 | E11: =E23+E18 -> 21 | F11: =F23+F18 -> 0 | G11: =G23+G18 -> 21 | H11: =H23+H18 -> 13 | I11: =I23+I18 -> 0 | J11: =J23+J18 -> 13 | ... M11: =M23+M18 -> 7 | N11: 0 | O11: 0 | P11: 0 | Q11: =B11+E11+H11+K11+N11 -> 62 | R11: =C11+F11+I11+L11+O11 -> 2 | S11: =SUM(Q11:R11) -> 64
A12: Итого по направлениям подготовки: | B12: =SUM(B8:B11) -> 200 | C12: =SUM(C8:C11) -> 49 | D12: =SUM(D8:D11) -> 249 | E12: =SUM(E8:E11) -> 194 | F12: =SUM(F8:F11) -> 45 | G12: =SUM(G8:G11) -> 239 | H12: =SUM(H8:H11) -> 164 | I12: =SUM(I8:I11) -> 17 | J12: =SUM(J8:J11) -> 181 | K12: =SUM(K9:K11) -> 152 | L12: =SUM(L9:L11) -> 8 | M12: =SUM(M9:M11) -> 160 | N12: =SUM(N9) -> 49 | O12: =SUM(O9) -> 2 | P12: =SUM(P9) -> 51 | Q12: =SUM(Q8:Q11) -> 759 | R12: =SUM(R8:R11) -> 121 | S12: =SUM(S8:S11) -> 880
A13: В том числе:
A14: Граждане России
A15: 07.03.01 Архитектура | B15: 31 | C15: 20 | D15: =SUM(B15:C15) -> 51 | E15: 22 | F15: 20 | G15: =SUM(E15:F15) -> 42 | Q15: =B15+E15+H15+K15+N15 -> 53 | R15: =C15+F15+I15+L15+O15 -> 40 | S15: =SUM(Q15:R15) -> 93
A16: 07.03.04 Градостроительство | B16: 31 | C16: 13 | D16: =SUM(B16:C16) -> 44 | E16: 31 | F16: 18 | G16: =SUM(E16:F16) -> 49 | H16: 51 | I16: 14 | J16: =SUM(H16:I16) -> 65 | K16: 58 | L16: 4 | M16: =SUM(K16:L16) -> 62 | N16: 49 | O16: 2 | P16: 51 | Q16: =B16+E16+H16+K16+N16 -> 220 | R16: =C16+F16+I16+L16+O16 -> 51 | S16: =SUM(Q16:R16) -> 271
A17: 08.03.01Строительство | B17: 117 | C17: 14 | D17: =SUM(B17:C17) -> 131 | E17: 120 | F17: 7 | G17: =SUM(E17:F17) -> 127 | H17: 99 | I17: 3 | J17: =SUM(H17:I17) -> 102 | K17: 85 | L17: 3 | M17: =SUM(K17:L17) -> 88 | N17: 0 | O17: 0 | P17: 0 | Q17: =B17+E17+H17+K17+N17 -> 421 | R17: =C17+F17+I17+L17+O17 -> 27 | S17: =SUM(Q17:R17) -> 448
A18: 20.03.02 Природообустройство и водопользование | B18: 21 | C18: 2 | D18: =SUM(B18:C18) -> 23 | E18: 21 | F18: 0 | G18: =SUM(E18:F18) -> 21 | H18: 13 | I18: 0 | J18: =SUM(H18:I18) -> 13 | K18: 7 | L18: 0 | M18: =SUM(K18:L18) -> 7 | N18: 0 | O18: 0 | P18: 0 | Q18: =B18+E18+H18+K18+N18 -> 62 | R18: =C18+F18+I18+L18+O18 -> 2 | S18: =SUM(Q18:R18) -> 64
A19: Итого граждане России | B19: =SUM(B15:B18) -> 200 | C19: =SUM(C15:C18) -> 49 | D19: =SUM(D15:D18) -> 249 | E19: =SUM(E15:E18) -> 194 | F19: =SUM(F15:F18) -> 45 | G19: =SUM(G15:G18) -> 239 | H19: =SUM(H16:H18) -> 163 | I19: =SUM(I16:I18) -> 17 | J19: =SUM(J16:J18) -> 180 | K19: =SUM(K16:K18) -> 150 | L19: =SUM(L16:L18) -> 7 | M19: =SUM(M16:M18) -> 157 | N19: =SUM(N16:N18) -> 49 | O19: =SUM(O16:O18) -> 2 | P19: =SUM(N19:O19) -> 51 | Q19: =B19+E19+H19+K19+N19 -> 756 | R19: =C19+F19+I19+L19+O19 -> 120 | S19: =SUM(Q19:R19) -> 876
A20: Граждане иностранных государств (вкл. Украину)
A21: 07.03.04 Градостроительство | B21: 0 | C21: 0 | D21: =SUM(B21:C21) -> 0 | E21: 0 | F21: 0 | G21: =SUM(E21:F21) -> 0 | H21: 0 | I21: 0 | J21: =SUM(H21:I21) -> 0 | K21: 0 | L21: 0 | M21: =SUM(K21:L21) -> 0 | N21: 0 | O21: 0 | P21: =SUM(N21:O21) -> 0 | Q21: =B21+E21+H21+K21+N21 -> 0 | R21: =C21+F21+I21+L21+O21 -> 0 | S21: =SUM(Q21:R21) -> 0
A22: 08.03.01Строительство | B22: 0 | C22: 0 | D22: =SUM(B22:C22) -> 0 | E22: 0 | F22: 0 | G22: =SUM(E22:F22) -> 0 | H22: 1 | I22: 0 | J22: =SUM(H22:I22) -> 1 | K22: 2 | L22: 1 | M22: =SUM(K22:L22) -> 3 | N22: 0 | O22: 0 | P22: =SUM(N22:O22) -> 0 | Q22: =B22+E22+H22+K22 -> 3 | R22: =C22+F22+I22+L22 -> 1 | S22: =SUM(Q22:R22) -> 4
A23: 20.03.02 Природообустройство и водопользование | D23: =SUM(B23:C23) -> 0 | G23: =SUM(E23:F23) -> 0 | I23: 0 | J23: =SUM(H23:I23) -> 0 | K23: 0 | M23: =SUM(K23:L23) -> 0 | N23: 0 | O23: 0 | P23: =SUM(N23:O23) -> 0 | Q23: =B23+E23+H23+K23+N23 -> 0 | R23: =C23+F23+I23+L23+O23 -> 0 | S23: =SUM(Q23:R23) -> 0
A24: Итого граждане иностранных государств | B24: =SUM(B21:B23) -> 0 | C24: =SUM(C21:C23) -> 0 | D24: =SUM(D21:D23) -> 0 | E24: =SUM(E21:E23) -> 0 | F24: =SUM(F21:F23) -> 0 | G24: =SUM(G21:G23) -> 0 | H24: =SUM(H21:H23) -> 1 | I24: =SUM(I21:I23) -> 0 | ... O24: =SUM(O21:O23) -> 0 | P24: =SUM(N24:O24) -> 0 | Q24: =SUM(Q20:Q23) -> 3 | R24: =SUM(R20:R23) -> 1 | S24: =SUM(S20:S23) -> 4
A25: ИТОГО по подразделению граждане России | B25: =B19 -> 200 | C25: =C19 -> 49 | D25: =D19 -> 249 | E25: =E19 -> 194 | F25: =F19 -> 45 | G25: =G19 -> 239 | H25: =H19 -> 163 | I25: =I19 -> 17 | ... M25: =M19 -> 157 | N25: =SUM(N19) -> 49 | O25: =SUM(O19) -> 2 | P25: =SUM(N25:O25) -> 51 | Q25: =Q19 -> 756 | R25: =R19 -> 120 | S25: =Q25+R25 -> 876
A26: ИТОГО по подразделению иностранные граждане | B26: =B24 -> 0 | C26: =C24 -> 0 | D26: =D24 -> 0 | E26: =E24 -> 0 | F26: =F24 -> 0 | G26: =G24 -> 0 | H26: =H24 -> 1 | I26: =I24 -> 0 | ... M26: =M24 -> 3 | N26: =SUM(N24) -> 0 | O26: =SUM(O24) -> 0 | P26: =SUM(N26:O26) -> 0 | Q26: =Q24 -> 3 | R26: =R24 -> 1 | S26: =S24 -> 4
B27: =B25+B26 -> 200 | C27: =C25+C26 -> 49 | D27: =D25+D26 -> 249 | E27: =E25+E26 -> 194 | F27: =F25+F26 -> 45 | G27: =G25+G26 -> 239 | H27: =H25+H26 -> 164 | I27: =I25+I26 -> 17 | ... S27: =S25+S26 -> 880

Sheet Бакалавр ОЗФО АСиА
A2: ИНСТИТУТ "АКАДЕМИЯ СТРОИТЕЛЬСТВА И АРХИТЕКТУРЫ"
A3: Контингент очно-заочной формы обучения на 01.01.2026 г.(Бакалавриат)
B5: Факультет/направление подготовки | C5: 1 год обучения | F5: 2 год обучения | I5: 3 год обучения | L5: 4 год обучения | O5: 5 год обучения | R5: Всего бакалавриата
C7: За счет бюджетных ассигнований | D7: На основе догов. о платных образов. услугах | E7: ВСЕГО | F7: За счет бюджетных ассигнований | G7: На основе догов. о платных образов. услугах | H7: ВСЕГО | I7: За счет бюджетных ассигнований | J7: На основе догов. о платных образов. услугах | K7: ВСЕГО | L7: За счет бюджетных ассигнований | M7: На основе догов. о платных образов. услугах | N7: ВСЕГО | O7: За счет бюджетных ассигнований | P7: На основе догов. о платных образов. услугах | Q7: ВСЕГО | R7: За счет бюджетных ассигнований | S7: На основе догов. о платных образов. услугах | T7: ВСЕГО
B8: Свод по направлениям подготовки
B9: 08.03.01 Строительство | C9: =C23+C16 -> 0 | D9: =D23+D16 -> 22 | E9: =E23+E16 -> 22 | F9: =F23+F16 -> 0 | G9: =G23+G16 -> 35 | H9: =H23+H16 -> 35 | I9: =I23+I16 -> 0 | J9: =J23+J16 -> 24 | ... T9: =T23+T16 -> 93
B10: 13.03.02 Электроэнергетика и электротехника | C10: =C24+C17 -> 0 | D10: =D24+D17 -> 0 | E10: =E24+E17 -> 0 | F10: =F24+F17 -> 0 | G10: =G24+G17 -> 0 | H10: =H24+H17 -> 0 | I10: =I24+I17 -> 0 | J10: =J24+J17 -> 0 | ... T10: =T24+T17 -> 0
B11: 20.03.02 Природообустройство и водопользование | C11: =C25+C18 -> 0 | D11: =D25+D18 -> 0 | E11: =E25+E18 -> 0 | F11: =F25+F18 -> 0 | G11: =G25+G18 -> 0 | H11: =H25+H18 -> 0 | I11: =I25+I18 -> 0 | J11: =J25+J18 -> 0 | ... T11: =T25+T18 -> 0
C12: =C27+C19 -> 0 | D12: =D27+D19 -> 0 | E12: =E27+E19 -> 0 | F12: =F27+F19 -> 0 | G12: =G27+G19 -> 0 | H12: =H27+H19 -> 0 | I12: =I27+I19 -> 0 | J12: =J27+J19 -> 0 | ... Q12: =Q27+Q19 -> 0 | R12: =C12+F12+I12+L12+O12 -> 0 | S12: =D12+G12+J12+M12+P12 -> 0 | T12: =SUM(R12:S12) -> 0
B13: Итого по направлениям подготовки | C13: =SUM(C9:C12) -> 0 | D13: =SUM(D9:D12) -> 22 | E13: =SUM(E9:E12) -> 22 | F13: =SUM(F9:F12) -> 0 | G13: =SUM(G9:G12) -> 35 | H13: =SUM(H9:H12) -> 35 | I13: =SUM(I9+I11) -> 0 | J13: =SUM(J9:J12) -> 24 | K13: =SUM(K9:K12) -> 24 | L13: =SUM(L9:L12) -> 0 | M13: =SUM(M9:M12) -> 12 | N13: =SUM(N9:N12) -> 12 | O13: =SUM(O9:O12) -> 0 | P13: =SUM(P9:P12) -> 0 | Q13: =SUM(Q9:Q12) -> 0 | ... T13: =SUM(T9:T12) -> 93
B14: В том числе:
B15: Граждане России
B16: 08.03.01 Строительство | C16: 0 | D16: 22 | E16: =SUM(C16:D16) -> 22 | G16: 35 | H16: =SUM(F16:G16) -> 35 | J16: 24 | K16: =SUM(I16:J16) -> 24 | M16: 12 | N16: =SUM(L16:M16) -> 12 | P16: 0 | Q16: =SUM(O16:P16) -> 0 | R16: =C16+F16+I16+L16+O16 -> 0 | S16: =D16+G16+J16+M16+P16 -> 93 | T16: =SUM(R16:S16) -> 93
B17: 13.03.02 Электроэнергетика и электротехника | E17: =SUM(C17:D17) -> 0 | H17: =SUM(F17:G17) -> 0 | K17: =SUM(I17:J17) -> 0 | N17: =SUM(L17:M17) -> 0 | Q17: =SUM(O17:P17) -> 0 | R17: =C17+F17+I17+L17+O17 -> 0 | S17: =D17+G17+J17+M17+P17 -> 0 | T17: =SUM(R17:S17) -> 0
B18: 20.03.02 Природообустройство и водопользование | E18: =SUM(C18:D18) -> 0 | H18: =SUM(F18:G18) -> 0 | J18: 0 | K18: =SUM(I18:J18) -> 0 | M18: 0 | N18: =SUM(L18:M18) -> 0 | P18: 0 | Q18: =SUM(O18:P18) -> 0 | R18: =C18+F18+I18+L18+O18 -> 0 | S18: =D18+G18+J18+M18+P18 -> 0 | T18: =SUM(R18:S18) -> 0
C19: 0 | D19: 0 | E19: =SUM(C19:D19) -> 0 | F19: 0 | G19: 0 | H19: =SUM(F19:G19) -> 0 | I19: 0 | J19: 0 | K19: =SUM(I19:J19) -> 0 | L19: 0 | M19: 0 | N19: =SUM(L19:M19) -> 0 | O19: 0 | P19: 0 | Q19: =SUM(O19:P19) -> 0 | R19: =C19+F19+I19+L19+O19 -> 0 | S19: =D19+G19+J19+M19+P19 -> 0 | T19: =SUM(R19:S19) -> 0
C20: 0 | D20: 0 | E20: =SUM(C20:D20) -> 0 | F20: 0 | G20: 0 | H20: =SUM(F20:G20) -> 0 | I20: 0 | J20: 0 | K20: =SUM(I20:J20) -> 0 | L20: 0 | M20: 0 | N20: =SUM(L20:M20) -> 0 | O20: 0 | P20: 0 | Q20: =SUM(O20:P20) -> 0 | R20: =C20+F20+I20+L20+O20 -> 0 | S20: =D20+G20+J20+M20+P20 -> 0 | T20: =SUM(R20:S20) -> 0
B21: Итого граждане России | C21: =SUM(C16:C20) -> 0 | D21: =SUM(D16:D20) -> 22 | E21: =SUM(E16:E20) -> 22 | F21: =SUM(F16:F20) -> 0 | G21: =SUM(G16:G20) -> 35 | H21: =SUM(H16:H20) -> 35 | I21: =SUM(I16:I20) -> 0 | J21: =SUM(J16:J20) -> 24 | ... T21: =SUM(T16:T20) -> 93
B22: Граждане иностранных государств (вкл. Украину)
B23: 08.03.01 Строительство | C23: 0 | D23: 0 | E23: =SUM(C23:D23) -> 0 | F23: 0 | G23: 0 | H23: =SUM(F23:G23) -> 0 | I23: 0 | J23: 0 | K23: =SUM(I23:J23) -> 0 | L23: 0 | M23: 0 | N23: =SUM(L23:M23) -> 0 | O23: 0 | P23: 0 | Q23: =SUM(O23:P23) -> 0 | R23: =C23+F23+I23+L23+O23 -> 0 | S23: =D23+G23+J23+M23+P23 -> 0 | T23: =SUM(R23:S23) -> 0
B24: 13.03.02 Электроэнергетика и электротехника | C24: 0 | D24: 0 | E24: =SUM(C24:D24) -> 0 | F24: 0 | G24: 0 | H24: =SUM(F24:G24) -> 0 | I24: 0 | J24: 0 | K24: =SUM(I24:J24) -> 0 | L24: 0 | M24: 0 | N24: =SUM(L24:M24) -> 0 | O24: 0 | P24: 0 | Q24: =SUM(O24:P24) -> 0 | R24: =C24+F24+I24+L24+O24 -> 0 | S24: =D24+G24+J24+M24+P24 -> 0 | T24: =SUM(R24:S24) -> 0
B25: 20.03.02 Природообустройство и водопользование | C25: 0 | D25: 0 | E25: =SUM(C25:D25) -> 0 | F25: 0 | G25: 0 | H25: =SUM(F25:G25) -> 0 | I25: 0 | J25: 0 | K25: =SUM(I25:J25) -> 0 | L25: 0 | M25: 0 | N25: =SUM(L25:M25) -> 0 | O25: 0 | P25: 0 | Q25: =SUM(O25:P25) -> 0 | R25: =C25+F25+I25+L25+O25 -> 0 | S25: =D25+G25+J25+M25+P25 -> 0 | T25: =SUM(R25:S25) -> 0
C26: 0 | D26: 0 | E26: =SUM(C26:D26) -> 0 | F26: 0 | G26: 0 | H26: =SUM(F26:G26) -> 0 | I26: 0 | J26: 0 | K26: =SUM(I26:J26) -> 0 | L26: 0 | M26: 0 | N26: =SUM(L26:M26) -> 0 | O26: 0 | P26: 0 | Q26: =SUM(O26:P26) -> 0 | R26: =C26+F26+I26+L26+O26 -> 0 | S26: =D26+G26+J26+M26+P26 -> 0 | T26: =SUM(R26:S26) -> 0
C27: 0 | D27: 0 | E27: =SUM(C27:D27) -> 0 | F27: 0 | G27: 0 | H27: =SUM(F27:G27) -> 0 | I27: 0 | J27: 0 | K27: =SUM(I27:J27) -> 0 | L27: 0 | M27: 0 | N27: =SUM(L27:M27) -> 0 | O27: 0 | P27: 0 | Q27: =SUM(O27:P27) -> 0 | R27: =C27+F27+I27+L27+O27 -> 0 | S27: =D27+G27+J27+M27+P27 -> 0 | T27: =SUM(R27:S27) -> 0
B28: Итого граждане иностранных государств | C28: =SUM(C23:C27) -> 0 | D28: =SUM(D23:D27) -> 0 | E28: =SUM(E23:E27) -> 0 | F28: =SUM(F23:F27) -> 0 | G28: =SUM(G23:G27) -> 0 | H28: =SUM(H23:H27) -> 0 | I28: =SUM(I23:I27) -> 0 | J28: =SUM(J23:J27) -> 0 | ... T28: =SUM(T23:T27) -> 0
B29: ИТОГО по подразделению граждане России | C29: =C21 -> 0 | D29: =D21 -> 22 | E29: =E21 -> 22 | F29: =F21 -> 0 | G29: =G21 -> 35 | H29: =H21 -> 35 | I29: =I21 -> 0 | J29: =J21 -> 24 | ... T29: =T21 -> 93
B30: ИТОГО по подразделению граждане иностранных государств | C30: =C28 -> 0 | D30: =D28 -> 0 | E30: =E28 -> 0 | F30: =F28 -> 0 | G30: =G28 -> 0 | H30: =H28 -> 0 | I30: =I28 -> 0 | J30: =J28 -> 0 | ... T30: =T28 -> 0
B31: Свод по направлениям подготовки | C31: =SUM(C29:C30) -> 0 | D31: =SUM(D29:D30) -> 22 | E31: =SUM(E29:E30) -> 22 | F31: =SUM(F29:F30) -> 0 | G31: =SUM(G29:G30) -> 35 | H31: =SUM(H29:H30) -> 35 | I31: =SUM(I29:I30) -> 0 | J31: =SUM(J29:J30) -> 24 | ... T31: =SUM(T29:T30) -> 93

Sheet Бакалавр ЗФО АСИА
A2: ИНСТИТУТ "АКАДЕМИЯ СТРОИТЕЛЬСТВА И АРХИТЕКТУРЫ"
A3: Контингент заочной формы обучения на 01.01.2026 г.(Бакалавриат)
B5: Факультет/направление подготовки | C5: 1 год обучения | F5: 2 год обучения | I5: 3 год обучения | L5: 4 год обучения | O5: 5 год обучения | R5: Всего бакалавриата
C7: За счет бюджетных ассигнований | D7: На основе догов. о платных образов. услугах | E7: ВСЕГО | F7: За счет бюджетных ассигнований | G7: На основе догов. о платных образов. услугах | H7: ВСЕГО | I7: За счет бюджетных ассигнований | J7: На основе догов. о платных образов. услугах | K7: ВСЕГО | L7: За счет бюджетных ассигнований | M7: На основе догов. о платных образов. услугах | N7: ВСЕГО | O7: За счет бюджетных ассигнований | P7: На основе догов. о платных образов. услугах | Q7: ВСЕГО | R7: За счет бюджетных ассигнований | S7: На основе догов. о платных образов. услугах | T7: ВСЕГО
B8: Свод по направлениям подготовки
B9: 08.03.01 Строительство | C9: =C21+C15 -> 0 | D9: =D21+D15 -> 0 | E9: =E21+E15 -> 0 | F9: =F21+F15 -> 0 | G9: =G21+G15 -> 0 | H9: =H21+H15 -> 0 | I9: =I21+I15 -> 0 | J9: =J21+J15 -> 1 | ... O9: =O21+O15 -> 0 | P9: 0 | Q9: 0 | R9: =R21+R15 -> 0 | S9: =S21+S15 -> 1 | T9: =T21+T15 -> 1
B10: 13.03.02 Электроэнергетика и электротехника | C10: =C22+C16 -> 0 | D10: =D22+D16 -> 0 | E10: =E22+E16 -> 0 | F10: =F22+F16 -> 0 | G10: =G22+G16 -> 0 | H10: =H22+H16 -> 0 | I10: =I22+I16 -> 0 | J10: =J22+J16 -> 0 | ... O10: =O22+O16 -> 0 | P10: 0 | Q10: 0 | R10: =R22+R16 -> 0 | S10: =S22+S16 -> 0 | T10: =T22+T16 -> 0
B11: 15.03.04 Автоматизация технологических процессов и производств | C11: =C25+C17 -> 0 | D11: =D25+D17 -> 0 | E11: =E25+E17 -> 0 | F11: =F25+F17 -> 0 | G11: =G25+G17 -> 0 | H11: =H25+H17 -> 0 | I11: =I25+I17 -> 0 | J11: =J25+J17 -> 0 | ... L11: =L25+L17 -> 0 | M11: 0 | N11: 0 | O11: =O25+O17 -> 0 | P11: 1 | Q11: 1 | R11: =C11+F11+I11+L11+O11 -> 0 | S11: =D11+G11+J11+M11+P11 -> 1 | T11: =SUM(R11:S11) -> 1
B12: Итого по направлениям подготовки | C12: =SUM(C9:C11) -> 0 | D12: =SUM(D9:D11) -> 0 | E12: =SUM(E9:E11) -> 0 | F12: =SUM(F9:F11) -> 0 | G12: =SUM(G9:G11) -> 0 | H12: =SUM(H9:H11) -> 0 | I12: =SUM(I9:I11) -> 0 | J12: =SUM(J9:J11) -> 1 | ... O12: =SUM(O9:O11) -> 0 | P12: 1 | Q12: 1 | R12: =SUM(R9:R11) -> 0 | S12: =SUM(S9:S11) -> 2 | T12: =SUM(T9:T11) -> 2
B13: В том числе:
B14: Граждане России
B15: 08.03.01 Строительство | C15: 0 | D15: 0 | E15: =SUM(C15:D15) -> 0 | F15: 0 | G15: 0 | H15: =SUM(F15:G15) -> 0 | I15: 0 | J15: 1 | K15: 1 | L15: 0 | M15: 0 | N15: =SUM(L15:M15) -> 0 | O15: 0 | P15: 0 | Q15: 0 | R15: =C15+F15+I15+L15+O15 -> 0 | S15: =D15+G15+J15+M15+P15 -> 1 | T15: =SUM(R15:S15) -> 1
B16: 13.03.02 Электроэнергетика и электротехника | E16: =SUM(C16:D16) -> 0 | H16: =SUM(F16:G16) -> 0 | K16: =SUM(I16:J16) -> 0 | N16: =SUM(L16:M16) -> 0 | Q16: 0 | R16: =C16+F16+I16+L16+O16 -> 0 | S16: =D16+G16+J16+M16+P16 -> 0 | T16: =SUM(R16:S16) -> 0
B17: 15.03.04 Автоматизация технологических процессов и производств | C17: 0 | D17: 0 | E17: =SUM(C17:D17) -> 0 | F17: 0 | G17: 0 | H17: =SUM(F17:G17) -> 0 | I17: 0 | J17: 0 | K17: =SUM(I17:J17) -> 0 | L17: 0 | M17: 0 | N17: 0 | O17: 0 | P17: 1 | Q17: 1 | R17: =C17+F17+I17+L17+O17 -> 0 | S17: =D17+G17+J17+M17+P17 -> 1 | T17: =SUM(R17:S17) -> 1
C18: 0 | D18: 0 | E18: =SUM(C18:D18) -> 0 | F18: 0 | G18: 0 | H18: =SUM(F18:G18) -> 0 | I18: 0 | J18: 0 | K18: =SUM(I18:J18) -> 0 | L18: 0 | M18: 0 | N18: =SUM(L18:M18) -> 0 | O18: 0 | P18: 0 | Q18: 0 | R18: =C18+F18+I18+L18+O18 -> 0 | S18: =D18+G18+J18+M18+P18 -> 0 | T18: =SUM(R18:S18) -> 0
B19: Итого граждане России | C19: =SUM(C15:C18) -> 0 | D19: =SUM(D15:D18) -> 0 | E19: =SUM(E15:E18) -> 0 | F19: =SUM(F15:F18) -> 0 | G19: =SUM(G15:G18) -> 0 | H19: =SUM(H15:H18) -> 0 | I19: =SUM(I15:I18) -> 0 | J19: =SUM(J15:J18) -> 1 | ... O19: =SUM(O15:O18) -> 0 | P19: 1 | Q19: 1 | R19: =SUM(R15:R18) -> 0 | S19: =SUM(S15:S18) -> 2 | T19: =SUM(T15:T18) -> 2
B20: Граждане иностранных государств (вкл. Украину)
B21: 08.03.01 Строительство | C21: 0 | D21: 0 | E21: =SUM(C21:D21) -> 0 | F21: 0 | G21: 0 | H21: =SUM(F21:G21) -> 0 | I21: 0 | J21: 0 | K21: =SUM(I21:J21) -> 0 | L21: 0 | M21: 0 | N21: =SUM(L21:M21) -> 0 | O21: 0 | P21: 0 | Q21: 0 | R21: =C21+F21+I21+L21+O21 -> 0 | S21: =D21+G21+J21+M21+P21 -> 0 | T21: =SUM(R21:S21) -> 0
B22: 13.03.02 Электроэнергетика и электротехника | C22: 0 | D22: 0 | E22: =SUM(C22:D22) -> 0 | F22: 0 | G22: 0 | H22: =SUM(F22:G22) -> 0 | I22: 0 | J22: 0 | K22: =SUM(I22:J22) -> 0 | L22: 0 | M22: 0 | N22: =SUM(L22:M22) -> 0 | O22: 0 | P22: 0 | Q22: 0 | R22: =C22+F22+I22+L22+O22 -> 0 | S22: =D22+G22+J22+M22+P22 -> 0 | T22: =SUM(R22:S22) -> 0
B23: 20.03.02 Природообустройство и водопользование | C23: 0 | D23: 0 | E23: =SUM(C23:D23) -> 0 | F23: 0 | G23: 0 | H23: =SUM(F23:G23) -> 0 | I23: 0 | J23: 0 | K23: =SUM(I23:J23) -> 0 | L23: 0 | M23: 0 | N23: =SUM(L23:M23) -> 0 | O23: 0 | P23: 0 | Q23: 0 | R23: =C23+F23+I23+L23+O23 -> 0 | S23: =D23+G23+J23+M23+P23 -> 0 | T23: =SUM(R23:S23) -> 0
B24: 15.03.04 Автоматизация технологических процессов и производств | C24: 0 | D24: 0 | E24: =SUM(C24:D24) -> 0 | F24: 0 | G24: 0 | H24: =SUM(F24:G24) -> 0 | I24: 0 | J24: 0 | K24: =SUM(I24:J24) -> 0 | L24: 0 | M24: 0 | N24: =SUM(L24:M24) -> 0 | O24: 0 | P24: 0 | Q24: 0 | R24: =C24+F24+I24+L24+O24 -> 0 | S24: =D24+G24+J24+M24+P24 -> 0 | T24: =SUM(R24:S24) -> 0
C25: 0 | D25: 0 | E25: =SUM(C25:D25) -> 0 | F25: 0 | G25: 0 | H25: =SUM(F25:G25) -> 0 | I25: 0 | J25: 0 | K25: =SUM(I25:J25) -> 0 | L25: 0 | M25: 0 | N25: =SUM(L25:M25) -> 0 | O25: 0 | P25: 0 | Q25: 0 | R25: =C25+F25+I25+L25+O25 -> 0 | S25: =D25+G25+J25+M25+P25 -> 0 | T25: =SUM(R25:S25) -> 0
B26: Итого граждане иностранных государств | C26: =SUM(C21:C25) -> 0 | D26: =SUM(D21:D25) -> 0 | E26: =SUM(E21:E25) -> 0 | F26: =SUM(F21:F25) -> 0 | G26: =SUM(G21:G25) -> 0 | H26: =SUM(H21:H25) -> 0 | I26: =SUM(I21:I25) -> 0 | J26: =SUM(J21:J25) -> 0 | ... O26: =SUM(O21:O25) -> 0 | P26: 0 | Q26: 0 | R26: =SUM(R21:R25) -> 0 | S26: =SUM(S21:S25) -> 0 | T26: =SUM(T21:T25) -> 0
B27: ИТОГО по подразделению граждане России | C27: =C19 -> 0 | D27: =D19 -> 0 | E27: =E19 -> 0 | F27: =F19 -> 0 | G27: =G19 -> 0 | H27: =H19 -> 0 | I27: =I19 -> 0 | J27: =J19 -> 1 | ... O27: =O19 -> 0 | P27: 1 | Q27: 1 | R27: =R19 -> 0 | S27: =S19 -> 2 | T27: =T19 -> 2
B28: ИТОГО по подразделению граждане иностранных государств | C28: =C26 -> 0 | D28: =D26 -> 0 | E28: =E26 -> 0 | F28: =F26 -> 0 | G28: =G26 -> 0 | H28: =H26 -> 0 | I28: =I26 -> 0 | J28: =J26 -> 0 | ... O28: =O26 -> 0 | P28: 0 | Q28: 0 | R28: =R26 -> 0 | S28: =S26 -> 0 | T28: =T26 -> 0
B29: Свод по направлениям подготовки | C29: =SUM(C27:C28) -> 0 | D29: =SUM(D27:D28) -> 0 | E29: =SUM(E27:E28) -> 0 | F29: =SUM(F27:F28) -> 0 | G29: =SUM(G27:G28) -> 0 | H29: =SUM(H27:H28) -> 0 | I29: =SUM(I27:I28) -> 0 | J29: =SUM(J27:J28) -> 1 | ... O29: =SUM(O27:O28) -> 0 | P29: 1 | Q29: 1 | R29: =SUM(R27:R28) -> 0 | S29: =SUM(S27:S28) -> 2 | T29: =SUM(T27:T28) -> 2

Sheet МАГ ОФО АСИА
A2: ИНСТИТУТ "АКАДЕМИЯ СТРОИТЕЛЬСТВА И АРХИТЕКТУРЫ"
A3: Контингент очной формы обучения на 01.01.2026 г.(Магистратура)
A5: Факультет/направление подготовки | B5: 1 год обучения | E5: 2 год обучения | H5: Всего магистратуры
B6: МАГИСТР | E6: МАГИСТР
B7: За счет бюджетных ассигнований | C7: На основе догов. о платных образов. услугах | D7: ВСЕГО | E7: За счет бюджетных ассигнований | F7: На основе догов. о платных образов. услугах | G7: ВСЕГО | H7: За счет бюджетных ассигнований | I7: На основе догов. о платных образов. услугах | J7: ВСЕГО
A8: Свод по направлениям подготовки
A9: 07.04.04 Градостроительство | B9: =B15+B21+B27 -> 27 | C9: =C15+C21 -> 1 | D9: =D15+D21+D27 -> 28 | E9: =E15+E21+E27 -> 32 | F9: =F15+F21 -> 1 | G9: =G15+G21+G27 -> 33 | H9: =H15+H21+H27 -> 59 | I9: =I15+I21 -> 2 | J9: =J15+J21+J27 -> 61
A10: 08.04.01 Строительство | B10: =B16+B22 -> 64 | C10: =C16+C22 -> 7 | D10: =D16+D22 -> 71 | E10: =E16+E22 -> 61 | F10: =F16+F22 -> 1 | G10: =G16+G22 -> 62 | H10: =H16+H22 -> 125 | I10: =I16+I22 -> 8 | J10: =J16+J22 -> 133
A11: 20.04.02 Природообустройство и водопользование | B11: =B17+B23 -> 5 | C11: =C17+C23 -> 1 | D11: =D17+D23 -> 6 | E11: =E17+E23 -> 0 | F11: =F17+F23 -> 0 | G11: =G17+G23 -> 0 | H11: =H17+H23 -> 5 | I11: =I17+I23 -> 1 | J11: =J17+J23 -> 6
A12: Итого по направлениям подготовки: | B12: =SUM(B8:B11) -> 96 | C12: =SUM(C8:C11) -> 9 | D12: =SUM(D8:D11) -> 105 | E12: =SUM(E8:E11) -> 93 | F12: =SUM(F8:F11) -> 2 | G12: =SUM(G8:G11) -> 95 | H12: =SUM(H9:H11) -> 189 | I12: =SUM(I9:I11) -> 11 | J12: =SUM(J9:J11) -> 200
A13: В том числе:
A14: Граждане России
A15: 07.04.04 Градостроительство | B15: 27 | C15: 1 | D15: =SUM(B15:C15) -> 28 | E15: 30 | F15: 1 | G15: =SUM(E15:F15) -> 31 | H15: =B15+E15 -> 57 | I15: =C15+F15 -> 2 | J15: =D15+G15 -> 59
A16: 08.04.01 Строительство | B16: 64 | C16: 7 | D16: =SUM(B16:C16) -> 71 | E16: 61 | F16: 1 | G16: =SUM(E16:F16) -> 62 | H16: =B16+E16 -> 125 | I16: =C16+F16 -> 8 | J16: =D16+G16 -> 133
A17: 20.04.02 Природообустройство и водопользование | B17: 5 | C17: 1 | D17: =SUM(B17:C17) -> 6 | E17: 0 | F17: 0 | G17: =SUM(E17:F17) -> 0 | H17: =B17+E17 -> 5 | I17: =C17+F17 -> 1 | J17: =D17+G17 -> 6
B18: 0 | C18: 0 | D18: =SUM(B18:C18) -> 0 | E18: 0 | F18: 0 | G18: =SUM(E18:F18) -> 0 | H18: =B18+E18 -> 0 | I18: =C18+F18 -> 0 | J18: =D18+G18 -> 0
A19: Итого граждане России | B19: =SUM(B15:B18) -> 96 | C19: =SUM(C15:C18) -> 9 | D19: =SUM(D15:D18) -> 105 | E19: =SUM(E15:E18) -> 91 | F19: =SUM(F15:F18) -> 2 | G19: =SUM(G15:G18) -> 93 | H19: =SUM(H15:H18) -> 187 | I19: =SUM(I15:I18) -> 11 | J19: =SUM(J15:J18) -> 198
A20: Граждане иностранных государств (вкл. Украину)
A21: 07.04.04 Градостроительство | B21: 0 | D21: =SUM(B21:C21) -> 0 | E21: 2 | G21: =SUM(E21:F21) -> 2 | H21: =B21+E21 -> 2 | I21: =C21+F21 -> 0 | J21: 2
A22: 08.04.01 Строительство | B22: 0 | C22: 0 | D22: =SUM(B22:C22) -> 0 | E22: 0 | F22: 0 | G22: =SUM(E22:F22) -> 0 | H22: =B22+E22 -> 0 | I22: =C22+F22 -> 0 | J22: =D22+G22 -> 0
A23: 20.04.02 Природообустройство и водопользование | D23: =SUM(B23:C23) -> 0 | G23: =SUM(E23:F23) -> 0 | H23: =B23+E23 -> 0 | I23: =C23+F23 -> 0 | J23: =D23+G23 -> 0
B24: 0 | C24: 0 | D24: =SUM(B24:C24) -> 0 | E24: 0 | F24: 0 | G24: =SUM(E24:F24) -> 0 | H24: =B24+E24 -> 0 | I24: =C24+F24 -> 0 | J24: =D24+G24 -> 0
A25: Итого граждане иностранных государств | B25: =SUM(B21:B24) -> 0 | C25: =SUM(C21:C24) -> 0 | D25: =SUM(D21:D24) -> 0 | E25: =SUM(E21:E24) -> 2 | F25: =SUM(F21:F24) -> 0 | G25: =SUM(G21:G24) -> 2 | H25: =SUM(H21:H24) -> 2 | I25: =SUM(I21:I24) -> 0 | J25: =SUM(J21:J24) -> 2
A26: Граждане ЛНР и ДНР
A27: 07.04.04 Градостроительство | B27: 0 | D27: =SUM(B27:C27) -> 0 | E27: 0 | G27: =SUM(E27:F27) -> 0 | H27: =B27+E27 -> 0 | I27: =C27+F27 -> 0 | J27: =D27+G27 -> 0
A28: 08.04.01 Строительство | B28: 0 | C28: 0 | D28: =SUM(B28:C28) -> 0 | F28: 0 | G28: =SUM(E28:F28) -> 0 | H28: =B28+E28 -> 0 | I28: =C28+F28 -> 0 | J28: =D28+G28 -> 0
A29: 15.03.04 Автоматизация технологических процессов и производств | D29: =SUM(B29:C29) -> 0 | G29: =SUM(E29:F29) -> 0 | H29: =B29+E29 -> 0 | I29: =C29+F29 -> 0 | J29: =D29+G29 -> 0
A30: 20.04.02 Природообустройство и водопользование | D30: =SUM(B30:C30) -> 0 | G30: =SUM(E30:F30) -> 0 | H30: =B30+E30 -> 0 | I30: =C30+F30 -> 0 | J30: =D30+G30 -> 0
B31: 0 | C31: 0 | D31: =SUM(B31:C31) -> 0 | E31: 0 | F31: 0 | G31: =SUM(E31:F31) -> 0 | H31: =B31+E31 -> 0 | I31: =C31+F31 -> 0 | J31: =D31+G31 -> 0
A32: Итого граждане ЛНР и ДНР | B32: =SUM(B27:B31) -> 0 | C32: =SUM(C27:C31) -> 0 | D32: =SUM(D27:D31) -> 0 | E32: =SUM(E27:E31) -> 0 | F32: =SUM(F27:F31) -> 0 | G32: =SUM(G27:G31) -> 0 | H32: =SUM(H27:H31) -> 0 | I32: =SUM(I27:I31) -> 0 | J32: =SUM(J27:J31) -> 0
A33: ИТОГО по подразделению граждане России | B33: =B19 -> 96 | C33: =C19 -> 9 | D33: =D19 -> 105 | E33: =E19 -> 91 | F33: =F19 -> 2 | G33: =G19 -> 93 | H33: =H19 -> 187 | I33: =I19 -> 11 | J33: =J19 -> 198
A34: ИТОГО по подразделению иностранные граждане | B34: =B25+B32 -> 0 | C34: =C25 -> 0 | D34: =D25+D32 -> 0 | E34: =E25 -> 2 | F34: =F25 -> 0 | G34: =G25 -> 2 | H34: =H25+H32 -> 2 | I34: =I25 -> 0 | J34: =J25+J32 -> 2
A35: Итого | B35: =SUM(B33:B34) -> 96 | C35: =SUM(C33:C34) -> 9 | D35: =SUM(D33:D34) -> 105 | E35: =SUM(E33:E34) -> 93 | F35: =SUM(F33:F34) -> 2 | G35: =SUM(G33:G34) -> 95 | H35: =SUM(H33:H34) -> 189 | I35: =SUM(I33:I34) -> 11 | J35: =SUM(J33:J34) -> 200

Sheet МАГ ЗФО АСИА
A2: ИНСТИТУТ "АКАДЕМИЯ СТРОИТЕЛЬСТВА И АРХИТЕКТУРЫ"
A3: Контингент заочной формы обучения на 01.01.2026 г.(Магистратура)
A5: Факультет/направление подготовки | B5: 1 год обучения | E5: 2 год обучения | H5: 3 год обучения | K5: Всего магистратуры
B6: МАГИСТР | E6: МАГИСТР | H6: МАГИСТР
B7: За счет бюджетных ассигнований | C7: На основе догов. о платных образов. услугах | D7: ВСЕГО | E7: За счет бюджетных ассигнований | F7: На основе догов. о платных образов. услугах | G7: ВСЕГО | H7: За счет бюджетных ассигнований | I7: На основе догов. о платных образов. услугах | J7: ВСЕГО | K7: За счет бюджетных ассигнований | L7: На основе догов. о платных образов. услугах | M7: ВСЕГО
A8: Свод по направлениям подготовки
A9: 08.04.01 Строительство | B9: =B15+B15 -> 0 | C9: =C20+C15 -> 61 | D9: =D20+D15 -> 61 | E9: =E21+E15 -> 0 | F9: 66 | G9: 66 | H9: =H21+H15 -> 0 | I9: =I15+I20 -> 50 | J9: =J15+J20 -> 50 | K9: =B9+E9+H9 -> 0 | L9: =C9+F9+I9 -> 177 | M9: =D9+G9+J9 -> 177
A10: 15.03.04 Автоматизация технологических процессов и производств | B10: =B22+B16 -> 0 | C10: =C22+C16 -> 0 | D10: =D22+D16 -> 0 | E10: =E22+E16 -> 0 | F10: 0 | G10: 0 | H10: =H22+H16 -> 0 | I10: =I22+I16 -> 0 | J10: =J22+J16 -> 0 | K10: =B10+E10+H10 -> 0 | L10: =C10+F10+I10 -> 0 | M10: =D10+G10+J10 -> 0
A11: 20.04.02 Природообустройство и водопользование | B11: =B23+B17 -> 0 | C11: =C23+C17 -> 0 | D11: =D23+D17 -> 0 | E11: =E23+E17 -> 0 | F11: 0 | G11: 0 | H11: =H23+H17 -> 0 | I11: =I23+I17 -> 0 | J11: =J23+J17 -> 0 | K11: =B11+E11+H11 -> 0 | L11: =C11+F11+I11 -> 0 | M11: =D11+G11+J11 -> 0
A12: Итого по направлениям подготовки: | B12: =SUM(B8:B11) -> 0 | C12: =SUM(C8:C11) -> 61 | D12: =SUM(D8:D11) -> 61 | E12: =SUM(E8:E11) -> 0 | F12: 66 | G12: 66 | H12: =SUM(H8:H11) -> 0 | I12: =SUM(I8:I11) -> 50 | J12: =SUM(J8:J11) -> 50 | K12: =SUM(K8:K11) -> 0 | L12: =SUM(L8:L11) -> 177 | M12: =SUM(M8:M11) -> 177
A13: В том числе:
A14: Граждане России
A15: 08.04.01 Строительство | B15: 0 | C15: 61 | D15: =SUM(B15:C15) -> 61 | E15: 0 | F15: 66 | G15: 66 | H15: 0 | I15: 50 | J15: =SUM(H15:I15) -> 50 | K15: =B15+E15+H15 -> 0 | L15: =C15+F15+I15 -> 177 | M15: =D15+G15+J15 -> 177
A16: 15.03.04 Автоматизация технологических процессов и производств | D16: =SUM(B16:C16) -> 0 | G16: 0 | H16: 0 | I16: 0 | J16: =SUM(H16:I16) -> 0 | K16: =B16+E16+H16 -> 0 | L16: =C16+F16+I16 -> 0 | M16: =D16+G16+J16 -> 0
A17: 20.04.02 Природообустройство и водопользование | B17: 0 | D17: =SUM(B17:C17) -> 0 | E17: 0 | G17: 0 | H17: 0 | I17: 0 | J17: =SUM(H17:I17) -> 0 | K17: =B17+E17+H17 -> 0 | L17: =C17+F17+I17 -> 0 | M17: =D17+G17+J17 -> 0
A18: Итого граждане России | B18: =SUM(B15:B17) -> 0 | C18: =SUM(C15:C17) -> 61 | D18: =SUM(D15:D17) -> 61 | E18: =SUM(E15:E17) -> 0 | F18: 66 | G18: 66 | H18: =SUM(H15:H17) -> 0 | I18: =SUM(I15:I17) -> 50 | J18: =SUM(J15:J17) -> 50 | K18: =SUM(K15:K17) -> 0 | L18: =SUM(L15:L17) -> 177 | M18: =SUM(M15:M17) -> 177
A19: Граждане иностранных государств (вкл. Украину)
A20: 08.04.01 Строительство | B20: 0 | C20: 0 | D20: =SUM(B20:C20) -> 0 | E20: 0 | F20: 0 | G20: =SUM(E20:F20) -> 0 | H20: 0 | I20: 0 | J20: =SUM(H20:I20) -> 0 | K20: =B20+E20+H20 -> 0 | L20: =C20+F20+I20 -> 0 | M20: =D20+G20+J20 -> 0
A21: 15.03.04 Автоматизация технологических процессов и производств | B21: 0 | C21: 0 | D21: =SUM(B21:C21) -> 0 | E21: 0 | F21: 0 | G21: =SUM(E21:F21) -> 0 | H21: 0 | I21: 0 | J21: =SUM(H21:I21) -> 0 | K21: =B21+E21+H21 -> 0 | L21: =C21+F21+I21 -> 0 | M21: =D21+G21+J21 -> 0
A22: 20.04.02 Природообустройство и водопользование | B22: 0 | C22: 0 | D22: =SUM(B22:C22) -> 0 | E22: 0 | F22: 0 | G22: =SUM(E22:F22) -> 0 | H22: 0 | I22: 0 | J22: =SUM(H22:I22) -> 0 | K22: =B22+E22+H22 -> 0 | L22: =C22+F22+I22 -> 0 | M22: =D22+G22+J22 -> 0
A25: Итого граждане иностранных государств | B25: =SUM(B20:B24) -> 0 | C25: =SUM(C20:C24) -> 0 | D25: =SUM(D20:D24) -> 0 | E25: =SUM(E20:E24) -> 0 | F25: =SUM(F20:F24) -> 0 | G25: =SUM(G20:G24) -> 0 | H25: =SUM(H20:H24) -> 0 | I25: =SUM(I20:I24) -> 0 | ... M25: =SUM(M20:M24) -> 0
A26: ИТОГО по подразделению граждане России | B26: =B18 -> 0 | C26: =C18 -> 61 | D26: =D18 -> 61 | E26: =E18 -> 0 | F26: =F18 -> 66 | G26: =G18 -> 66 | H26: =H18 -> 0 | I26: =I18 -> 50 | ... M26: =M18 -> 177
A27: ИТОГО по подразделению иностранные граждане | B27: =B25 -> 0 | C27: =C25 -> 0 | D27: =D25 -> 0 | E27: =E25 -> 0 | F27: =F25 -> 0 | G27: =G25 -> 0 | H27: =H25 -> 0 | I27: =I25 -> 0 | ... M27: =M25 -> 0
A28: Итого | B28: =SUM(B26:B27) -> 0 | C28: =SUM(C26:C27) -> 61 | D28: =SUM(D26:D27) -> 61 | E28: =SUM(E26:E27) -> 0 | F28: =SUM(F26:F27) -> 66 | G28: =SUM(G26:G27) -> 66 | H28: =SUM(H26:H27) -> 0 | I28: =SUM(I26:I27) -> 50 | ... M28: =SUM(M26:M27) -> 177

Sheet Бакалавр ОФО АТА
A1: Институт "АГРОТЕХНОЛОГИЧЕСКАЯ АКАДЕМИЯ ФГАОУ ВО "КФУ им. В.И. Вернадского"
A2: Контингент Дневной формы обучения на 01.01.2026 (Бакалавриат)
A3: Факультет/направление подготовки | B3: выпуск 2029 | E3: выпуск 2028 | H3: выпуск 2027 | K3: выпуск 2026 | N3: Итого Бакалавриата
C5: 1 | E5: 2 | H5: 3 | K5: 4
B6: За счет бюджетных ассигнований | C6: На основе догов.о платных образов.услугах | D6: ВСЕГО | E6: За счет бюджетных ассигнований | F6: На основе догов.о платных образов.услугах | G6: ВСЕГО | H6: За счет бюджетных ассигнований | I6: На основе догов.о платных образов.услугах | J6: ВСЕГО | K6: За счет бюджетных ассигнований | L6: На основе догов.о платных образов.услугах | M6: ВСЕГО | N6: За счет бюджетных ассигнований | O6: На основе догов.о платных образов.услугах | P6: ВСЕГО
A7: Свод по направлениям подготовкии
A8: 35.03.04 Агрономия | B8: 23 | C8: 4 | D8: 27 | E8: 20 | F8: 4 | G8: 24 | H8: 19 | I8: 1 | J8: 20 | K8: 10 | L8: 0 | M8: 10 | N8: 72 | O8: 9 | P8: 81
A9: 35.03.07 Технология производства и переработки с.х. продукции | B9: 11 | C9: 0 | D9: 11 | E9: 17 | F9: 0 | G9: 17 | H9: 0 | I9: 0 | J9: 0 | K9: 0 | L9: 0 | M9: 0 | N9: 28 | O9: 0 | P9: 28
A10: 35.03.05 Садоводство | B10: 15 | C10: 2 | D10: 17 | E10: 23 | F10: 0 | G10: 23 | H10: 20 | I10: 0 | J10: 20 | K10: 7 | L10: 0 | M10: 7 | N10: 65 | O10: 2 | P10: 67
A11: 21.03.02 Землеустройство и кадастры | B11: 27 | C11: 7 | D11: 34 | E11: 24 | F11: 2 | G11: 26 | H11: 26 | I11: 0 | J11: 26 | K11: 22 | L11: 0 | M11: 22 | N11: 99 | O11: 9 | P11: 108
A12: 21.03.03 Геодезия и дистанцион. | B12: 25 | C12: 9 | D12: 34 | E12: 23 | F12: 2 | G12: 25 | H12: 18 | I12: 0 | J12: 18 | K12: 11 | L12: 0 | M12: 11 | N12: 77 | O12: 11 | P12: 88
A13: 35.03.01 Лесное дело | B13: 16 | C13: 0 | D13: 16 | E13: 13 | F13: 0 | G13: 13 | H13: 14 | I13: 0 | J13: 14 | K13: 6 | L13: 0 | M13: 6 | N13: 49 | O13: 0 | P13: 49
A14: 19.03.02 Продукты питания из растительного сырья | B14: 13 | C14: 0 | D14: 13 | E14: 26 | F14: 0 | G14: 26 | H14: 28 | I14: 2 | J14: 30 | K14: 12 | L14: 0 | M14: 12 | N14: 79 | O14: 2 | P14: 81
A15: 19.03.03 Продукты питания животного происхождения | B15: 16 | C15: 0 | D15: 16 | E15: 15 | F15: 0 | G15: 15 | H15: 10 | I15: 0 | J15: 10 | K15: 5 | L15: 0 | M15: 5 | N15: 46 | O15: 0 | P15: 46
A16: 35.03.06 Агроинженерия | B16: 38 | C16: 4 | D16: 42 | E16: 32 | F16: 0 | G16: 32 | H16: 33 | I16: 0 | J16: 33 | K16: 21 | L16: 1 | M16: 22 | N16: 124 | O16: 5 | P16: 129
A17: Итого по направлениям подготовки: | B17: 184 | C17: 26 | D17: 210 | E17: 193 | F17: 8 | G17: 201 | H17: 168 | I17: 3 | J17: 171 | K17: 94 | L17: 1 | M17: 95 | N17: 639 | O17: 38 | P17: 677
A18: В том числе:
A19: Граждане России
A20: 35.03.04 Агрономия | B20: 23 | C20: 4 | D20: 27 | E20: 20 | F20: 4 | G20: 24 | H20: 19 | I20: 1 | J20: 20 | K20: 10 | L20: 0 | M20: 10 | N20: 72 | O20: 9 | P20: 81
A21: 35.03.07 Технология производства и переработки с.х. продукции | B21: 11 | C21: 0 | D21: 11 | E21: 17 | F21: 0 | G21: 17 | H21: 0 | I21: 0 | J21: 0 | K21: 0 | L21: 0 | M21: 0 | N21: 28 | O21: 0 | P21: =N21+O21 -> 28
A22: 35.03.05 Садоводство | B22: 15 | C22: 2 | D22: 17 | E22: 23 | F22: 0 | G22: 23 | H22: 20 | I22: 0 | J22: 20 | K22: 7 | L22: 0 | M22: 7 | N22: 65 | O22: 2 | P22: 67
A23: 21.03.02 Землеустройство и кадастры | B23: 27 | C23: 7 | D23: 34 | E23: 24 | F23: 2 | G23: 26 | H23: 26 | I23: 0 | J23: 26 | K23: 22 | L23: 0 | M23: 22 | N23: 99 | O23: 9 | P23: 108
A24: 21.03.03 Геодезия и дистанцион. | B24: 25 | C24: 9 | D24: 34 | E24: 23 | F24: 2 | G24: 25 | H24: 18 | I24: 0 | J24: 18 | K24: 11 | L24: 0 | M24: 11 | N24: 77 | O24: 11 | P24: 88
A25: 35.03.01 Лесное дело | B25: 16 | C25: 0 | D25: 16 | E25: 13 | F25: 0 | G25: 13 | H25: 14 | I25: 0 | J25: 14 | K25: 6 | L25: 0 | M25: 6 | N25: 49 | O25: 0 | P25: 49
A26: 19.03.02 Продукты питания из растительного сырья | B26: 13 | C26: 0 | D26: 13 | E26: 26 | F26: 0 | G26: 26 | H26: 28 | I26: 2 | J26: 30 | K26: 12 | L26: 0 | M26: 12 | N26: 79 | O26: 2 | P26: 81
A27: 19.03.03 Продукты питания животного происхождения | B27: 16 | C27: 0 | D27: 16 | E27: 15 | F27: 0 | G27: 15 | H27: 10 | I27: 0 | J27: 10 | K27: 5 | L27: 0 | M27: 5 | N27: 46 | O27: 0 | P27: 46
A28: 35.03.06 Агроинженерия | B28: 38 | C28: 4 | D28: 42 | E28: 32 | F28: 0 | G28: 32 | H28: 33 | I28: 0 | J28: 33 | K28: 21 | L28: 1 | M28: 22 | N28: 124 | O28: 5 | P28: 129
A29: Итого граждане России | B29: 184 | C29: 26 | D29: 210 | E29: 193 | F29: 8 | G29: 201 | H29: 168 | I29: 3 | J29: 171 | K29: 94 | L29: 1 | M29: 95 | N29: 639 | O29: 38 | P29: 677
A30: Граждане иностранных государст(вкл.Украину)
A31: 35.03.07 Технология производства и переработки с.х. продукции | B31: 0 | C31: 0 | D31: 0 | E31: 0 | F31: 0 | G31: 0 | H31: 0 | I31: 0 | J31: 0 | K31: 0 | L31: 0 | M31: 0 | N31: 0 | O31: 0 | P31: 0
A32: 35.03.04 Агрономия | B32: 0 | C32: 0 | D32: 0 | E32: 0 | F32: 0 | G32: 0 | H32: 0 | I32: 0 | J32: 0 | K32: 0 | L32: 0 | M32: 0 | N32: 0 | O32: 0 | P32: 0
A33: 35.03.05 Садоводство | B33: 0 | C33: 0 | D33: 0 | E33: 0 | F33: 0 | G33: 0 | H33: 0 | I33: 0 | J33: 0 | K33: 0 | L33: 0 | M33: 0 | N33: 0 | O33: 0 | P33: 0
A34: 21.03.02 Землеустройство и кадастры | B34: 0 | C34: 0 | D34: 0 | E34: 0 | F34: 0 | G34: 0 | H34: 0 | I34: 0 | J34: 0 | K34: 0 | L34: 0 | M34: 0 | N34: 0 | O34: 0 | P34: 0
A35: 21.03.03 Геодезия и дистанцион. | B35: 0 | C35: 0 | D35: 0 | E35: 0 | F35: 0 | G35: 0 | H35: 0 | I35: 0 | J35: 0 | K35: 0 | L35: 0 | M35: 0 | N35: 0 | O35: 0 | P35: 0
A36: 35.03.01 Лесное дело | B36: 0 | C36: 0 | D36: 0 | E36: 0 | F36: 0 | G36: 0 | H36: 0 | I36: 0 | J36: 0 | K36: 0 | L36: 0 | M36: 0 | N36: 0 | O36: 0 | P36: 0
A37: 19.03.02 Продукты питания из растительного сырья | B37: 0 | C37: 0 | D37: 0 | E37: 0 | F37: 0 | G37: 0 | H37: 0 | I37: 0 | J37: 0 | K37: 0 | L37: 0 | M37: 0 | N37: 0 | O37: 0 | P37: 0
A38: 19.03.03 Продукты питания животного происхождения | B38: 0 | C38: 0 | D38: 0 | E38: 0 | F38: 0 | G38: 0 | H38: 0 | I38: 0 | J38: 0 | K38: 0 | L38: 0 | M38: 0 | N38: 0 | O38: 0 | P38: 0
A39: 35.03.06 Агроинженерия | B39: 0 | C39: 0 | D39: 0 | E39: 0 | F39: 0 | G39: 0 | H39: 0 | I39: 0 | J39: 0 | K39: 0 | L39: 0 | M39: 0 | N39: 0 | O39: 0 | P39: 0
A40: Итого граждане иностранных государст(вкл.Украину) | B40: 0 | C40: 0 | D40: 0 | E40: 0 | F40: 0 | G40: 0 | H40: 0 | I40: 0 | J40: 0 | K40: 0 | L40: 0 | M40: 0 | N40: 0 | O40: 0 | P40: 0
A41: Итого граждане России | B41: 184 | C41: 26 | D41: 210 | E41: 193 | F41: 8 | G41: 201 | H41: 168 | I41: 3 | J41: 171 | K41: 94 | L41: 1 | M41: 95 | N41: 639 | O41: 38 | P41: 677
...

Sheet Бакалавр ЗФО АTA
A1: Институт "АГРОТЕХНОЛОГИЧЕСКАЯ АКАДЕМИЯ ФГАОУ ВО "КФУ им. В.И. Вернадского"
A2: Факультет/направление подготовки | E2: Контингент Заочной формы обучения на 01.01.2026 (Бакалавриат)
B3: 1 | E3: 2 | H3: 3 | K3: 4 | N3: 5 | Q3: Итого Бакалавриата
