Workbook

Sheet Специал ОФО МА 
A1: Медицинская академия имени С.И.Георгиевского
A2: Контингент очной формы обучения на 01.01.2026 г.
A3: Контингент очной формы обучения по состоянию на 01.01.2022 г .
B5: Факультет/направление подготовки | C5: 1 год обучения | F5: 2 год обучения | I5: 3 год обучения | L5: 4 год обучения | O5: 5 год обучения | R5: 6 год обучения | U5: Всего специалитет
C7: За счет бюджетных ассигнований | D7: На основе догов. о платных образов. услугах | E7: ВСЕГО | F7: За счет бюджетных ассигнований | G7: На основе догов. о платных образов. услугах | H7: ВСЕГО | I7: За счет бюджетных ассигнований | J7: На основе догов. о платных образов. услугах | K7: ВСЕГО | L7: За счет бюджетных ассигнований | M7: На основе догов. о платных образов. услугах | N7: ВСЕГО | O7: За счет бюджетных ассигнований | P7: На основе догов. о платных образов. услугах | Q7: ВСЕГО | R7: За счет бюджетных ассигнований | S7: На основе догов. о платных образов. услугах | T7: ВСЕГО | U7: За счет бюджетных ассигнований | V7: На основе догов. о платных образов. услугах | W7: ВСЕГО
B8: Свод по направлениям подготовки
B9: 31.05.01 Лечебное дело | C9: 292 | D9: 398 | E9: 690 | F9: 292 | G9: 565 | H9: 857 | I9: 303 | J9: 299 | K9: 602 | L9: 312 | M9: 356 | N9: 668 | O9: 278 | P9: 654 | Q9: 932 | R9: 277 | S9: 415 | T9: 692 | U9: =C9+F9+I9+L9+O9+R9 -> 1754 | V9: =D9+G9+J9+M9+P9+S9 -> 2687 | W9: =E9+H9+K9+N9+Q9+T9 -> 4441
B10: 31.05.02 Педиатрия | C10: 100 | D10: 65 | E10: 165 | F10: 94 | G10: 57 | H10: 151 | I10: 95 | J10: 15 | K10: 110 | L10: 87 | M10: 20 | N10: 107 | O10: 80 | P10: 8 | Q10: 88 | R10: 68 | S10: 4 | T10: 72 | U10: =C10+F10+I10+L10+O10+R10 -> 524 | V10: =D10+G10+J10+M10+P10+S10 -> 169 | W10: =E10+H10+K10+N10+Q10+T10 -> 693
B11: 31.05.03 Стоматология | C11: 16 | D11: 161 | E11: 177 | F11: 21 | G11: 197 | H11: 218 | I11: 23 | J11: 101 | K11: 124 | L11: 32 | M11: 101 | N11: 133 | O11: 26 | P11: 81 | Q11: 107 | U11: =C11+F11+I11+L11+O11+R11 -> 118 | V11: =D11+G11+J11+M11+P11+S11 -> 641 | W11: =E11+H11+K11+N11+Q11+T11 -> 759
B12: 30.05.03 Медицинская биохимия | C12: 5 | D12: 0 | E12: 5 | F12: 4 | G12: 3 | H12: 7 | U12: =C12+F12+I12+L12+O12+R12 -> 9 | V12: =D12+G12+J12+M12+P12+S12 -> 3 | W12: =E12+H12+K12+N12+Q12+T12 -> 12
B13: Итого по направлениям подготовки | C13: =SUM(C9:C12) -> 413 | D13: =SUM(D9:D12) -> 624 | E13: =SUM(E9:E12) -> 1037 | F13: =SUM(F9:F12) -> 411 | G13: =SUM(G9:G12) -> 822 | H13: =SUM(H9:H12) -> 1233 | I13: =SUM(I9:I12) -> 421 | J13: =SUM(J9:J12) -> 415 | ... W13: =SUM(W9:W12) -> 5905
B14: В том числе:
B15: Граждане России
B16: 31.05.01 Лечебное дело | C16: 285 | D16: 52 | E16: 337 | F16: 287 | G16: 102 | H16: 389 | I16: 298 | J16: 66 | K16: 364 | L16: 308 | M16: 66 | N16: 374 | O16: 273 | P16: 57 | Q16: 330 | R16: 264 | S16: 45 | T16: 309 | U16: =C16+F16+I16+L16+O16+R16 -> 1715 | V16: =D16+G16+J16+M16+P16+S16 -> 388 | W16: =E16+H16+K16+N16+Q16+T16 -> 2103
B17: 31.05.02 Педиатрия | C17: 100 | D17: 65 | E17: 165 | F17: 94 | G17: 57 | H17: 151 | I17: 95 | J17: 15 | K17: 110 | L17: 87 | M17: 20 | N17: 107 | O17: 80 | P17: 8 | Q17: 88 | R17: 67 | S17: 4 | T17: 71 | U17: =C17+F17+I17+L17+O17+R17 -> 523 | V17: =D17+G17+J17+M17+P17+S17 -> 169 | W17: =E17+H17+K17+N17+Q17+T17 -> 692
B18: 31.05.03 Стоматология | C18: 14 | D18: 159 | E18: 173 | F18: 19 | G18: 197 | H18: 216 | I18: 22 | J18: 101 | K18: 123 | L18: 28 | M18: 100 | N18: 128 | O18: 25 | P18: 80 | Q18: 105 | U18: =C18+F18+I18+L18+O18+R18 -> 108 | V18: =D18+G18+J18+M18+P18+S18 -> 637 | W18: =E18+H18+K18+N18+Q18+T18 -> 745
B19: 30.05.01 Медицинская биохимия | C19: 5 | D19: 0 | E19: 5 | F19: 4 | G19: 3 | H19: 7 | J19: 0 | K19: 0 | L19: 0 | M19: 0 | N19: 0 | O19: 0 | P19: 0 | Q19: 0 | U19: =C19+F19+I19+L19+O19+R19 -> 9 | V19: =D19+G19+J19+M19+P19+S19 -> 3 | W19: =E19+H19+K19+N19+Q19+T19 -> 12
B20: Итого граждане России | C20: =SUM(C16:C19) -> 404 | D20: =SUM(D16:D19) -> 276 | E20: =SUM(E16:E19) -> 680 | F20: =SUM(F16:F19) -> 404 | G20: =SUM(G16:G19) -> 359 | H20: =SUM(H16:H19) -> 763 | I20: =SUM(I16:I19) -> 415 | J20: =SUM(J16:J19) -> 182 | ... W20: =SUM(W16:W19) -> 3552
B21: Граждане иностранных государств (вкл. Украину)
B22: 31.05.01 Лечебное дело | C22: 7 | D22: 346 | E22: 353 | F22: 5 | G22: 463 | H22: 468 | I22: 5 | J22: 233 | K22: 238 | L22: 4 | M22: 290 | N22: 294 | O22: 5 | P22: 597 | Q22: 602 | R22: 13 | S22: 370 | T22: 383 | U22: =C22+F22+I22+L22+O22+R22 -> 39 | V22: =D22+G22+J22+M22+P22+S22 -> 2299 | W22: =E22+H22+K22+N22+Q22+T22 -> 2338
B23: 31.05.02 Педиатрия | C23: 0 | D23: 0 | E23: 0 | F23: 0 | G23: 0 | H23: 0 | I23: 0 | J23: 0 | K23: 0 | L23: 0 | M23: 0 | N23: 0 | O23: 0 | P23: 0 | Q23: 0 | R23: 1 | S23: 0 | T23: 1 | U23: =C23+F23+I23+L23+O23+R23 -> 1 | V23: =D23+G23+J23+M23+P23+S23 -> 0 | W23: =E23+H23+K23+N23+Q23+T23 -> 1
B24: 31.05.03 Стоматология | C24: 2 | D24: 2 | E24: 4 | F24: 2 | G24: 0 | H24: 2 | I24: 1 | J24: 0 | K24: 1 | L24: 4 | M24: 1 | N24: 5 | O24: 1 | P24: 1 | Q24: 2 | R24: 0 | S24: 0 | T24: 0 | U24: =C24+F24+I24+L24+O24+R24 -> 10 | V24: =D24+G24+J24+M24+P24+S24 -> 4 | W24: =E24+H24+K24+N24+Q24+T24 -> 14
B25: Итого граждане иностранных государств | C25: =SUM(C22:C24) -> 9 | D25: =SUM(D22:D24) -> 348 | E25: =SUM(E22:E24) -> 357 | F25: =SUM(F22:F24) -> 7 | G25: =SUM(G22:G24) -> 463 | H25: =SUM(H22:H24) -> 470 | I25: =SUM(I22:I24) -> 6 | J25: =SUM(J22:J24) -> 233 | ... W25: =SUM(W22:W24) -> 2353
B26: Всего: | C26: =C20+C25 -> 413 | D26: =D20+D25 -> 624 | E26: =E20+E25 -> 1037 | F26: =F20+F25 -> 411 | G26: =G20+G25 -> 822 | H26: =H20+H25 -> 1233 | I26: =I20+I25 -> 421 | J26: =J20+J25 -> 415 | ... W26: =W20+W25 -> 5905

Sheet Бак ОФО МА
A1: Медицинская академия имени С.И.Георгиевского
A3: Контингент очной формы обучения на 01.01.2026 г. (Бакалавриат)
A5: Факультет/направление подготовки | B5: 1 год обучения | E5: 2 год обучения | H5: 3 год обучения | K5: 4 год обучения | N5: Всего бакалавриата
B6: За счет бюджетных ассигнований | C6: На основе догов. о платных образов. услугах | D6: ВСЕГО | E6: За счет бюджетных ассигнований | F6: На основе догов. о платных образов. услугах | G6: ВСЕГО | H6: За счет бюджетных ассигнований | I6: На основе догов. о платных образов. услугах | J6: ВСЕГО | K6: За счет бюджетных ассигнований | L6: На основе догов. о платных образов. услугах | M6: ВСЕГО | N6: За счет бюджетных ассигнований | O6: На основе догов. о платных образов. услугах | P6: ВСЕГО
A7: Свод по направлениям подготовки
A8: 49.03.01. Физическая культура | B8: 26 | C8: 9 | D8: 35 | E8: 28 | F8: 8 | G8: 36 | H8: 26 | I8: 1 | J8: 27 | K8: 21 | L8: 0 | M8: 21 | N8: =B8+E8+H8+K8 -> 101 | O8: =C8+F8+I8+L8 -> 18 | P8: =D8+G8+J8+M8 -> 119
A9: 49.03.02. Физическая культура для лиц с отклонениями в состоянии здоровья (адаптивная физическая культура) | B9: 22 | C9: 8 | D9: 30 | E9: 15 | F9: 3 | G9: 18 | H9: 22 | I9: 2 | J9: 24 | K9: 16 | L9: 2 | M9: 18 | N9: =B9+E9+H9+K9 -> 75 | O9: =C9+F9+I9+L9 -> 15 | P9: =D9+G9+J9+M9 -> 90
A10: 49.03.03. Рекреация и спортивно-оздоровительный туризм | B10: 26 | C10: 5 | D10: 31 | E10: 22 | F10: 2 | G10: 24 | H10: 0 | I10: 0 | J10: 0 | K10: 0 | L10: 0 | M10: 0 | N10: =B10+E10+H10+K10 -> 48 | O10: =C10+F10+I10+L10 -> 7 | P10: =D10+G10+J10+M10 -> 55
A11: Итого по направлениям подготовки: | B11: =SUM(B8:B10) -> 74 | C11: =SUM(C8:C10) -> 22 | D11: =SUM(D8:D10) -> 96 | E11: =SUM(E8:E10) -> 65 | F11: =SUM(F8:F10) -> 13 | G11: =SUM(G8:G10) -> 78 | H11: 48 | I11: 3 | J11: 51 | K11: =SUM(K8:K10) -> 37 | L11: =SUM(L8:L10) -> 2 | M11: =SUM(M8:M10) -> 39 | N11: =SUM(N8:N10) -> 224 | O11: =SUM(O8:O10) -> 40 | P11: =SUM(P8:P10) -> 264
A12: В том числе:
A13: Граждане России
A14: 49.03.01. Физическая культура | B14: 26 | C14: 9 | D14: 35 | E14: 28 | F14: 8 | G14: 36 | H14: 26 | I14: 1 | J14: 27 | K14: 21 | L14: 0 | M14: 21 | N14: =B14+E14+H14+K14 -> 101 | O14: =C14+F14+I14+L14 -> 18 | P14: =D14+G14+J14+M14 -> 119
A15: 49.03.02. Физическая культура для лиц с отклонениями в состоянии здоровья (адаптивная физическая культура) | B15: 22 | C15: 8 | D15: 30 | E15: 15 | F15: 3 | G15: 18 | H15: 22 | I15: 2 | J15: 24 | K15: 16 | L15: 2 | M15: 18 | N15: =B15+E15+H15+K15 -> 75 | O15: =C15+F15+I15+L15 -> 15 | P15: =D15+G15+J15+M15 -> 90
A16: 49.03.03. Рекреация и спортивно-оздоровительный туризм | B16: 26 | C16: 5 | D16: 31 | E16: 22 | F16: 2 | G16: 24 | H16: 0 | I16: 0 | J16: ='[1]ОФО бак. МЕДИК'!J15 -> 0 | K16: 0 | L16: 0 | M16: 0 | N16: =B16+E16+H16+K16 -> 48 | O16: =C16+F16+I16+L16 -> 7 | P16: =D16+G16+J16+M16 -> 55
A17: Итого граждане России | B17: =SUM(B14:B16) -> 74 | C17: =SUM(C14:C16) -> 22 | D17: =SUM(D14:D16) -> 96 | E17: =SUM(E14:E16) -> 65 | F17: =SUM(F14:F16) -> 13 | G17: =SUM(G14:G16) -> 78 | H17: =SUM(H14:H16) -> 48 | I17: =SUM(I14:I16) -> 3 | ... M17: =SUM(M14:M16) -> 39 | N17: =SUM(N13:N16) -> 224 | O17: =SUM(O14:O16) -> 40 | P17: =SUM(P14:P16) -> 264
A18: Граждане иностранных государств (вкл. Украину)
A19: 49.03.01. Физическая культура | B19: 0 | C19: 0 | D19: 0 | E19: 0 | F19: ='[1]ОФО бак. МЕДИК'!F18 -> 0 | G19: 0 | H19: ='[1]ОФО бак. МЕДИК'!H18 -> 0 | I19: ='[1]ОФО бак. МЕДИК'!I18 -> 0 | J19: ='[1]ОФО бак. МЕДИК'!J18 -> 0 | K19: 0 | L19: 0 | M19: 0 | N19: =B19+E19+H19+K19 -> 0 | O19: =C19+F19+I19+L19 -> 0 | P19: =N19+O19 -> 0
A20: 49.03.02. Физическая культура для лиц с отклонениями в состоянии здоровья (адаптивная физическая культура) | B20: 0 | C20: 0 | D20: 0 | E20: 0 | F20: ='[1]ОФО бак. МЕДИК'!F19 -> 0 | G20: 0 | H20: ='[1]ОФО бак. МЕДИК'!H19 -> 0 | I20: ='[1]ОФО бак. МЕДИК'!I19 -> 0 | J20: ='[1]ОФО бак. МЕДИК'!J19 -> 0 | K20: 0 | L20: 0 | M20: 0 | N20: =B20+E20+H20+K20 -> 0 | O20: =C20+F20+I20+L20 -> 0 | P20: =N20+O20 -> 0
A21: 49.03.03. Рекреация и спортивно-оздоровительный туризм | B21: 0 | C21: 0 | D21: =SUM(B21:C21) -> 0 | E21: 0 | F21: 0 | G21: ='[1]ОФО бак. МЕДИК'!G20 -> 0 | H21: 0 | I21: 0 | J21: ='[1]ОФО бак. МЕДИК'!J20 -> 0 | K21: 0 | L21: 0 | M21: 0 | N21: =B21+E21+H21+K21 -> 0 | O21: =C21+F21+I21+L21 -> 0 | P21: =N21+O21 -> 0
A22: Итого граждане иностранных государств | B22: =SUM(B19:B21) -> 0 | C22: =SUM(C19:C21) -> 0 | D22: =SUM(D19:D21) -> 0 | E22: =SUM(E19:E21) -> 0 | F22: =SUM(F19:F21) -> 0 | G22: =SUM(G19:G21) -> 0 | H22: =SUM(H19:H21) -> 0 | I22: =SUM(I19:I21) -> 0 | ... M22: =SUM(M19:M21) -> 0 | N22: =N19+N20+N21 -> 0 | O22: =O19+O20+O21 -> 0 | P22: =P19+P20+P21 -> 0
A23: Итого БАКАЛАВРЫ ДО | B23: =B17+B22 -> 74 | C23: =C17+C22 -> 22 | D23: =D17+D22 -> 96 | E23: =E17+E22 -> 65 | F23: =F17+F22 -> 13 | G23: =G17+G22 -> 78 | H23: =H17+H22 -> 48 | I23: =I17+I22 -> 3 | ... P23: =P17+P22 -> 264

Sheet Бак ЗФО МА
A1: Медицинская академия имени С.И.Георгиевского
A2: Контингент заочной формы обучения на 01.01.2026 г. (Бакалавриат)
A4: Факультет/направление подготовки | B4: 1 год обучения | E4: 2 год обучения | H4: 3 год обучения | K4: 4 год обучения | N4: 5 год обучения | Q4: Всего бакалавриата
B6: За счет бюджетных ассигнований | C6: На основе догов. о платных образов. услугах | D6: ВСЕГО | E6: За счет бюджетных ассигнований | F6: На основе догов. о платных образов. услугах | G6: ВСЕГО | H6: За счет бюджетных ассигнований | I6: На основе догов. о платных образов. услугах | J6: ВСЕГО | K6: За счет бюджетных ассигнований | L6: На основе догов. о платных образов. услугах | M6: ВСЕГО | N6: За счет бюджетных ассигнований | O6: На основе догов. о платных образов. услугах | P6: ВСЕГО | Q6: За счет бюджетных ассигнований | R6: На основе догов. о платных образов. услугах | S6: ВСЕГО
A7: Свод по направлениям подготовки
A8: 49.03.01. Физическая культура | B8: 9 | C8: 6 | D8: 15 | E8: 12 | F8: 4 | G8: 16 | H8: 20 | I8: 2 | J8: 22 | K8: 14 | L8: 5 | M8: 19 | N8: 2 | O8: 9 | P8: 11 | Q8: =B8+E8+H8+K8+N8 -> 57 | R8: =C8+F8+I8+L8+O8 -> 26 | S8: =D8+G8+J8+M8+P8 -> 83
A9: 49.03.01.Физическая культура для лиц с отклонениями в состоянии здоровья (адаптивная физическая культура) | B9: 9 | C9: 8 | D9: 17 | E9: 11 | F9: 13 | G9: 24 | H9: 0 | I9: 0 | J9: 0 | K9: 0 | L9: 0 | M9: 0 | N9: 0 | O9: 0 | P9: 0 | Q9: =B9+E9+H9+K9+N9 -> 20 | R9: =C9+F9+I9+L9+O9 -> 21 | S9: =D9+G9+J9+M9+P9 -> 41
A10: 49.03.03. Рекреация и спортивно-оздоровительный туризм | B10: 0 | C10: 0 | D10: 0 | E10: 0 | F10: 0 | G10: 0 | H10: 0 | I10: 0 | J10: 0 | K10: 0 | L10: 0 | M10: 0 | N10: 0 | O10: 0 | P10: 0 | Q10: =B10+E10+H10+K10+N10 -> 0 | R10: =C10+F10+I10+L10+O10 -> 0 | S10: =D10+G10+J10+M10+P10 -> 0
A11: Итого по направлениям подготовки | B11: =SUM(B8:B10) -> 18 | C11: =SUM(C8:C10) -> 14 | D11: =SUM(D8:D10) -> 32 | E11: =SUM(E8:E10) -> 23 | F11: =SUM(F8:F10) -> 17 | G11: =SUM(G8:G10) -> 40 | H11: =SUM(H8:H10) -> 20 | I11: =SUM(I8:I10) -> 2 | ... S11: =SUM(S8:S10) -> 124
A12: В том числе:
A13: Граждане России
A14: 49.03.01. Физическая культура | B14: 9 | C14: 6 | D14: 15 | E14: 12 | F14: 4 | G14: 16 | H14: 20 | I14: 2 | J14: 22 | K14: 13 | L14: 5 | M14: 18 | N14: 2 | O14: 9 | P14: 11 | Q14: =B14+E14+H14+K14+N14 -> 56 | R14: =C14+F14+I14+L14+O14 -> 26 | S14: =D14+G14+J14+M14+P14 -> 82
A15: 49.03.01.Физическая культура для лиц с отклонениями в состоянии здоровья (адаптивная физическая культура) | B15: 9 | C15: 8 | D15: 17 | E15: 11 | F15: 13 | G15: 24 | H15: 0 | I15: 0 | J15: 0 | K15: 0 | L15: 0 | M15: 0 | N15: 0 | O15: 0 | P15: 0 | Q15: =B15+E15+H15+K15+N15 -> 20 | R15: =C15+F15+I15+L15+O15 -> 21 | S15: =D15+G15+J15+M15+P15 -> 41
A16: 49.03.03. Рекреация и спортивно-оздоровительный туризм | B16: 0 | C16: 0 | D16: 0 | E16: 0 | F16: 0 | G16: ='[1]ЗФО бак. МЕДИК'!G15 -> 0 | H16: 0 | I16: 0 | J16: 0 | K16: 0 | L16: 0 | M16: 0 | N16: 0 | O16: 0 | P16: 0 | Q16: =B16+E16+H16+K16+N16 -> 0 | R16: =C16+F16+I16+L16+O16 -> 0 | S16: =D16+G16+J16+M16+P16 -> 0
A17: Итого граждане России | B17: =SUM(B14:B16) -> 18 | C17: =SUM(C14:C16) -> 14 | D17: =SUM(D14:D16) -> 32 | E17: =SUM(E14:E16) -> 23 | F17: =SUM(F14:F16) -> 17 | G17: =SUM(G14:G16) -> 40 | H17: =SUM(H14:H16) -> 20 | I17: =SUM(I14:I16) -> 2 | ... S17: =SUM(S14:S16) -> 123
A18: Граждане иностранных государств (вкл. Украину)
A19: 49.03.01. Физическая культура | B19: 0 | C19: 0 | D19: =SUM(B19:C19) -> 0 | E19: 0 | F19: ='[1]ЗФО бак. МЕДИК'!F18 -> 0 | G19: 0 | H19: 0 | I19: 0 | J19: 0 | K19: 1 | L19: 0 | M19: 1 | N19: 0 | O19: 0 | P19: 0 | Q19: =B19+E19+H19+K19+N19 -> 1 | R19: =C19+F19+I19+L19+O19 -> 0 | S19: =Q19+R19 -> 1
A20: 49.03.01.Физическая культура для лиц с отклонениями в состоянии здоровья (адаптивная физическая культура) | B20: 0 | C20: 0 | D20: 0 | E20: ='[1]ЗФО бак. МЕДИК'!E19 -> 0 | F20: ='[1]ЗФО бак. МЕДИК'!F19 -> 0 | G20: ='[1]ЗФО бак. МЕДИК'!G19 -> 0 | H20: 0 | I20: 0 | J20: 0 | K20: 0 | L20: 0 | M20: 0 | N20: 0 | O20: 0 | P20: 0 | Q20: =B20+E20+H20+K20+N20 -> 0 | R20: =C20+F20+I20+L20+O20 -> 0 | S20: =Q20+R20 -> 0
A21: 49.03.03. Рекреация и спортивно-оздоровительный туризм | B21: 0 | C21: 0 | D21: 0 | E21: 0 | F21: 0 | G21: 0 | H21: 0 | I21: 0 | J21: 0 | K21: 0 | L21: 0 | M21: 0 | N21: 0 | O21: 0 | P21: 0 | Q21: =B21+E21+H21+K21+N21 -> 0 | R21: =C21+F21+I21+L21+O21 -> 0 | S21: =Q21+R21 -> 0
A22: Итого граждане иностранных государств | B22: =B19+B20+B21 -> 0 | C22: =C19+C20+C21 -> 0 | D22: =D19+D20+D21 -> 0 | E22: =E19+E20+E21 -> 0 | F22: =F19+F20+F21 -> 0 | G22: =G19+G20+G21 -> 0 | H22: =SUM(H19:H21) -> 0 | I22: =SUM(I19:I21) -> 0 | J22: =SUM(J19:J21) -> 0 | K22: =SUM(K19:K21) -> 1 | L22: =SUM(L19:L21) -> 0 | M22: =SUM(M19:M21) -> 1 | N22: =SUM(N19:N21) -> 0 | O22: =SUM(O19:O21) -> 0 | ... S22: =SUM(S19:S21) -> 1
A23: Итого БАКАЛАВРЫ ЗО | B23: =B17+B22 -> 18 | C23: =C17+C22 -> 14 | D23: =D17+D22 -> 32 | E23: =E17+E22 -> 23 | F23: =F17+F22 -> 17 | G23: =G17+G22 -> 40 | H23: =H17+H22 -> 20 | I23: =I17+I22 -> 2 | ... S23: =S17+S22 -> 124

Sheet Маг ОФО МА
A1: Медицинская академия имени С.И.Георгиевского
A2: Контингент очной формы обучения на 01.01.2026 г. (Магистратура)
A4: Факультет/направление подготовки | B4: 1 год обучения | E4: 2 год обучения | H4: Всего магистратуры
B5: За счет бюджетных ассигнований | C5: На основе догов. о платных образов. услугах | D5: ВСЕГО | E5: За счет бюджетных ассигнований | F5: На основе догов. о платных образов. услугах | G5: ВСЕГО | H5: За счет бюджетных ассигнований | I5: На основе догов. о платных образов. услугах | J5: ВСЕГО
A6: Свод по направлениям подготовки
A7: 49.04.01. Физическая культура | B7: =B13+B18 -> 7 | C7: =C13+C18 -> 0 | D7: =D13+D18 -> 7 | E7: 8 | F7: =F13+F18 -> 0 | G7: 8 | H7: =H13+H18 -> 15 | I7: =I13+I18 -> 0 | J7: =J13+J18 -> 15
A8: 49.04.02. Физическая культура для лиц с отклонениями в состоянии здоровья (адаптивная физическая культура) | B8: =B14+B19 -> 0 | C8: =C14+C19 -> 0 | D8: =D14+D19 -> 0 | E8: =E14+E19 -> 0 | F8: =F14+F19 -> 0 | G8: =G14+G19 -> 0 | H8: =H14+H19 -> 0 | I8: =I14+I19 -> 0 | J8: =J14+J19 -> 0
A9: 49.04.03. Спорт | B9: =B15+B20 -> 7 | C9: =C15+C20 -> 0 | D9: =D15+D20 -> 7 | E9: 8 | F9: =F15+F20 -> 0 | G9: 8 | H9: =H15+H20 -> 15 | I9: =I15+I20 -> 0 | J9: =J15+J20 -> 15
A10: Итого по направлениям подготовки: | B10: =SUM(B7:B9) -> 14 | C10: =SUM(C7:C9) -> 0 | D10: =SUM(D7:D9) -> 14 | E10: =SUM(E7:E9) -> 16 | F10: =SUM(F7:F9) -> 0 | G10: =SUM(G7:G9) -> 16 | H10: =SUM(H7:H9) -> 30 | I10: =SUM(I7:I9) -> 0 | J10: =SUM(J7:J9) -> 30
A11: В том числе:
A12: Граждане России
A13: 49.04.01. Физическая культура | B13: 7 | C13: 0 | D13: 7 | E13: 8 | F13: 0 | G13: 8 | H13: =B13+E13 -> 15 | I13: =C13+F13 -> 0 | J13: =H13+I13 -> 15
A14: 49.04.02. Физическая культура для лиц с отклонениями в состоянии здоровья (адаптивная физическая культура) | B14: 0 | C14: 0 | D14: 0 | E14: 0 | F14: 0 | G14: 0 | H14: =B14+E14 -> 0 | I14: =C14+F14 -> 0 | J14: =H14+I14 -> 0
A15: 49.04.03. Спорт | B15: 7 | C15: 0 | D15: 7 | E15: 8 | F15: 0 | G15: 8 | H15: =B15+E15 -> 15 | I15: =C15+F15 -> 0 | J15: =H15+I15 -> 15
A16: Итого граждане России | B16: =SUM(B13:B15) -> 14 | C16: =SUM(C13:C15) -> 0 | D16: =SUM(D13:D15) -> 14 | E16: =SUM(E13:E15) -> 16 | F16: =SUM(F13:F15) -> 0 | G16: =SUM(G13:G15) -> 16 | H16: =SUM(H13:H15) -> 30 | I16: =SUM(I13:I15) -> 0 | J16: =SUM(J13:J15) -> 30
A17: Граждане иностранных государств (вкл. Украину)
A18: 49.04.01. Физическая культура | B18: 0 | C18: 0 | D18: 0 | E18: 0 | F18: 0 | G18: 0 | H18: =B18+E18 -> 0 | I18: =C18+F18 -> 0 | J18: =H18+I18 -> 0
A19: 49.04.02. Физическая культура для лиц с отклонениями в состоянии здоровья (адаптивная физическая культура) | B19: 0 | C19: 0 | D19: 0 | E19: 0 | F19: 0 | G19: 0 | H19: =B19+E19 -> 0 | I19: =C19+F19 -> 0 | J19: =H19+I19 -> 0
A20: 49.04.03. Спорт | B20: 0 | C20: 0 | D20: 0 | E20: 0 | F20: 0 | G20: 0 | H20: =B20+E20 -> 0 | I20: =C20+F20 -> 0 | J20: =H20+I20 -> 0
A21: Итого граждане иностранных государств | B21: =SUM(B18:B20) -> 0 | C21: =SUM(C18:C20) -> 0 | D21: =SUM(D18:D20) -> 0 | E21: =SUM(E18:E20) -> 0 | F21: =SUM(F18:F20) -> 0 | G21: =SUM(G18:G20) -> 0 | H21: =SUM(H18:H20) -> 0 | I21: =SUM(I18:I20) -> 0 | J21: =SUM(J18:J20) -> 0
A22: Итого МАГИСТРЫ ДО | B22: =B16+B21 -> 14 | C22: =C16+C21 -> 0 | D22: =D16+D21 -> 14 | E22: =E16+E21 -> 16 | F22: =F16+F21 -> 0 | G22: =G16+G21 -> 16 | H22: =H16+H21 -> 30 | I22: =I16+I21 -> 0 | J22: =J16+J21 -> 30

Sheet Маг ЗФО МА
A1: Медицинская академия имени С.И.Георгиевского
A2: Контингент заочной формы обучения на 01.01.2026 г. (Магистратурв) .
A4: Факультет/направление подготовки | B4: 1 год обучения | E4: 2 год обучения | H4: 3 год обучения | K4: Всего магистратуры
B5: За счет бюджетных ассигнований | C5: На основе догов. о платных образов. услугах | D5: ВСЕГО | E5: За счет бюджетных ассигнований | F5: На основе догов. о платных образов. услугах | G5: ВСЕГО | H5: За счет бюджетных ассигнований | I5: На основе догов. о платных образов. услугах | J5: ВСЕГО | K5: За счет бюджетных ассигнований | L5: На основе догов. о платных образов. услугах | M5: ВСЕГО
A6: Свод по направлениям подготовки
A7: 49.04.01. Физическая культура | B7: 5 | C7: 2 | D7: 7 | E7: 8 | F7: 2 | G7: 10 | H7: 9 | I7: 4 | J7: 13 | K7: =K12+K16 -> 22 | L7: =L12+L16 -> 8 | M7: =M12+M16 -> 30
A8: 49.04.02. Физическая культура для лиц с отклонениями в состоянии здоровья (адаптивная физическая культура) | B8: 6 | C8: 13 | D8: 19 | E8: 7 | F8: 4 | G8: 11 | H8: 11 | I8: 2 | J8: 13 | K8: =K13+K17 -> 24 | L8: =L13+L17 -> 19 | M8: =M13+M17 -> 43
A9: Итого по направлениям подготовки: | B9: 11 | C9: 15 | D9: 26 | E9: 15 | F9: 6 | G9: 21 | H9: 20 | I9: 6 | J9: 26 | K9: =SUM(K7:K8) -> 46 | L9: =SUM(L7:L8) -> 27 | M9: =SUM(M7:M8) -> 73
A10: В том числе:
A11: Граждане России
A12: 49.04.01. Физическая культура | B12: 5 | C12: 2 | D12: 7 | E12: 8 | F12: 2 | G12: 10 | H12: 9 | I12: 4 | J12: 13 | K12: =B12+E12+H12 -> 22 | L12: =C12+F12+I12 -> 8 | M12: =K12+L12 -> 30
A13: 49.04.02. Физическая культура для лиц с отклонениями в состоянии здоровья (адаптивная физическая культура) | B13: 6 | C13: 13 | D13: 19 | E13: 7 | F13: 4 | G13: 11 | H13: 11 | I13: 2 | J13: 13 | K13: =B13+E13+H13 -> 24 | L13: =C13+F13+I13 -> 19 | M13: =K13+L13 -> 43
A14: Итого граждане России | B14: =SUM(B12:B13) -> 11 | C14: =SUM(C12:C13) -> 15 | D14: =SUM(D12:D13) -> 26 | E14: =SUM(E12:E13) -> 15 | F14: =SUM(F12:F13) -> 6 | G14: =SUM(G12:G13) -> 21 | H14: =SUM(H12:H13) -> 20 | I14: =SUM(I12:I13) -> 6 | ... M14: =SUM(M12:M13) -> 73
A15: Граждане иностранных государств (вкл. Украину)
A16: 49.04.01. Физическая культура | B16: 0 | C16: 0 | D16: 0 | E16: 0 | F16: 0 | G16: 0 | H16: 0 | I16: 0 | J16: 0 | K16: =B16+E16+H16 -> 0 | L16: =C16+F16+I16 -> 0 | M16: =K16+L16 -> 0
A17: 49.04.02. Физическая культура для лиц с отклонениями в состоянии здоровья (адаптивная физическая культура) | B17: 0 | C17: 0 | D17: 0 | E17: 0 | F17: 0 | G17: 0 | H17: 0 | I17: 0 | J17: 0 | K17: =B17+E17+H17 -> 0 | L17: =C17+F17+I17 -> 0 | M17: =K17+L17 -> 0
A18: Итого граждане иностранных государств | B18: =SUM(B16:B17) -> 0 | C18: =SUM(C16:C17) -> 0 | D18: =SUM(D16:D17) -> 0 | E18: =SUM(E16:E17) -> 0 | F18: =SUM(F16:F17) -> 0 | G18: =SUM(G16:G17) -> 0 | H18: =SUM(H16:H17) -> 0 | I18: =SUM(I16:I17) -> 0 | ... M18: =SUM(M16:M17) -> 0
A19: Итого МАГИСТРЫ ЗО | B19: =B14+B18 -> 11 | C19: =C14+C18 -> 15 | D19: =D14+D18 -> 26 | E19: =E14+E18 -> 15 | F19: =F14+F18 -> 6 | G19: =G14+G18 -> 21 | H19: =H14+H18 -> 20 | I19: =I14+I18 -> 6 | ... M19: =M14+M18 -> 73

Sheet Бакалавр ОФО АСИА
A1: ИНСТИТУТ "АКАДЕМИЯ СТРОИТЕЛЬСТВА И АРХИТЕКТУРЫ"
A2: Контингент очной формы обучения на 01.01.20265 г.(Бакалавриат)
A4: Факультет/направление подготовки | B4: 1 год обучения | E4: 2 год обучения | H4: 3 год обучения | K4: 4 год обучения | N4: 5 год обучения | Q4: Всего бакалавриата
B6: За счет бюджетных ассигнований | C6: На основе догов. о платных образов. услугах | D6: ВСЕГО | E6: За счет бюджетных ассигнований | F6: На основе догов. о платных образов. услугах | G6: ВСЕГО | H6: За счет бюджетных ассигнований | I6: На основе догов. о платных образов. услугах | J6: ВСЕГО | K6: За счет бюджетных ассигнований | L6: На основе догов. о платных образов. услугах | M6: ВСЕГО | N6: За счет бюджетных ассигнований | O6: На основе догов. о платных образов. услугах | P6: ВСЕГО | Q6: За счет бюджетных ассигнований | R6: На основе догов. о платных образов. услугах | S6: ВСЕГО
A7: Свод по направлениям подготовки
A8: 07.03.01 Архитектура | B8: =B20+B15 -> 31 | C8: =C20+C15 -> 20 | D8: =D20+D15 -> 51 | E8: =E20+E15 -> 22 | F8: =F20+F15 -> 20 | G8: =G20+G15 -> 42 | Q8: =B8+E8+H8+K8+N8 -> 53 | R8: =C8+F8+I8+L8+O8 -> 40 | S8: =SUM(Q8:R8) -> 93
A9: 07.03.04 Градостроительство | B9: =B21+B16 -> 31 | C9: =C21+C16 -> 13 | D9: =D21+D16 -> 44 | E9: =E21+E16 -> 31 | F9: =F21+F16 -> 18 | G9: =G21+G16 -> 49 | H9: =H21+H16 -> 51 | I9: =I21+I16 -> 14 | ... M9: =M21+M16 -> 62 | N9: =SUM(N16+N22) -> 49 | O9: =SUM(O16+O22) -> 2 | P9: =SUM(P16+P22) -> 51 | Q9: =B9+E9+H9+K9+N9 -> 220 | R9: =C9+F9+I9+L9+O9 -> 51 | S9: =SUM(Q9:R9) -> 271
A10: 08.03.01Строительство | B10: =B17+B22 -> 117 | C10: =C22+C17 -> 14 | D10: =D22+D17 -> 131 | E10: =E22+E17 -> 120 | F10: =F22+F17 -> 7 | G10: =G22+G17 -> 127 | H10: =H22+H17 -> 100 | I10: =I22+I17 -> 3 | J10: =J22+J17 -> 103 | ... M10: =M22+M17 -> 91 | N10: 0 | O10: 0 | P10: 0 | Q10: =B10+E10+H10+K10+N10 -> 424 | R10: =C10+F10+I10+L10+O10 -> 28 | S10: =SUM(Q10:R10) -> 452
A11: 20.03.02 Природообустройство и водопользование | B11: =B18+B23 -> 21 | C11: =C23+C18 -> 2 | D11: =D23+D18 -> 23 | E11: =E23+E18 -> 21 | F11: =F23+F18 -> 0 | G11: =G23+G18 -> 21 | H11: =H23+H18 -> 13 | I11: =I23+I18 -> 0 | J11: =J23+J18 -> 13 | ... M11: =M23+M18 -> 7 | N11: 0 | O11: 0 | P11: 0 | Q11: =B11+E11+H11+K11+N11 -> 62 | R11: =C11+F11+I11+L11+O11 -> 2 | S11: =SUM(Q11:R11) -> 64
A12: Итого по направлениям подготовки: | B12: =SUM(B8:B11) -> 200 | C12: =SUM(C8:C11) -> 49 | D12: =SUM(D8:D11) -> 249 | E12: =SUM(E8:E11) -> 194 | F12: =SUM(F8:F11) -> 45 | G12: =SUM(G8:G11) -> 239 | H12: =SUM(H8:H11) -> 164 | I12: =SUM(I8:I11) -> 17 | J12: =SUM(J8:J11) -> 181 | K12: =SUM(K9:K11) -> 152 | L12: =SUM(L9:L11) -> 8 | M12: =SUM(M9:M11) -> 160 | N12: =SUM(N9) -> 49 | O12: =SUM(O9) -> 2 | P12: =SUM(P9) -> 51 | Q12: =SUM(Q8:Q11) -> 759 | R12: =SUM(R8:R11) -> 121 | S12: =SUM(S8:S11) -> 880
A13: В том числе:
A14: Граждане России
A15: 07.03.01 Архитектура | B15: 31 | C15: 20 | D15: =SUM(B15:C15) -> 51 | E15: 22 | F15: 20 | G15: =SUM(E15:F15) -> 42 | Q15: =B15+E15+H15+K15+N15 -> 53 | R15: =C15+F15+I15+L15+O15 -> 40 | S15: =SUM(Q15:R15) -> 93
A16: 07.03.04 Градостроительство | B16: 31 | C16: 13 | D16: =SUM(B16:C16) -> 44 | E16: 31 | F16: 18 | G16: =SUM(E16:F16) -> 49 | H16: 51 | I16: 14 | J16: =SUM(H16:I16) -> 65 | K16: 58 | L16: 4 | M16: =SUM(K16:L16) -> 62 | N16: 49 | O16: 2 | P16: 51 | Q16: =B16+E16+H16+K16+N16 -> 220 | R16: =C16+F16+I16+L16+O16 -> 51 | S16: =SUM(Q16:R16) -> 271
A17: 08.03.01Строительство | B17: 117 | C17: 14 | D17: =SUM(B17:C17) -> 131 | E17: 120 | F17: 7 | G17: =SUM(E17:F17) -> 127 | H17: 99 | I17: 3 | J17: =SUM(H17:I17) -> 102 | K17: 85 | L17: 3 | M17: =SUM(K17:L17) -> 88 | N17: 0 | O17: 0 | P17: 0 | Q17: =B17+E17+H17+K17+N17 -> 421 | R17: =C17+F17+I17+L17+O17 -> 27 | S17: =SUM(Q17:R17) -> 448
A18: 20.03.02 Природообустройство и водопользование | B18: 21 | C18: 2 | D18: =SUM(B18:C18) -> 23 | E18: 21 | F18: 0 | G18: =SUM(E18:F18) -> 21 | H18: 13 | I18: 0 | J18: =SUM(H18:I18) -> 13 | K18: 7 | L18: 0 | M18: =SUM(K18:L18) -> 7 | N18: 0 | O18: 0 | P18: 0 | Q18: =B18+E18+H18+K18+N18 -> 62 | R18: =C18+F18+I18+L18+O18 -> 2 | S18: =SUM(Q18:R18) -> 64
A19: Итого граждане России | B19: =SUM(B15:B18) -> 200 | C19: =SUM(C15:C18) -> 49 | D19: =SUM(D15:D18) -> 249 | E19: =SUM(E15:E18) -> 194 | F19: =SUM(F15:F18) -> 45 | G19: =SUM(G15:G18) -> 239 | H19: =SUM(H16:H18) -> 163 | I19: =SUM(I16:I18) -> 17 | J19: =SUM(J16:J18) -> 180 | K19: =SUM(K16:K18) -> 150 | L19: =SUM(L16:L18) -> 7 | M19: =SUM(M16:M18) -> 157 | N19: =SUM(N16:N18) -> 49 | O19: =SUM(O16:O18) -> 2 | P19: =SUM(N19:O19) -> 51 | Q19: =B19+E19+H19+K19+N19 -> 756 | R19: =C19+F19+I19+L19+O19 -> 120 | S19: =SUM(Q19:R19) -> 876
A20: Граждане иностранных государств (вкл. Украину)
A21: 07.03.04 Градостроительство | B21: 0 | C21: 0 | D21: =SUM(B21:C21) -> 0 | E21: 0 | F21: 0 | G21: =SUM(E21:F21) -> 0 | H21: 0 | I21: 0 | J21: =SUM(H21:I21) -> 0 | K21: 0 | L21: 0 | M21: =SUM(K21:L21) -> 0 | N21: 0 | O21: 0 | P21: =SUM(N21:O21) -> 0 | Q21: =B21+E21+H21+K21+N21 -> 0 | R21: =C21+F21+I21+L21+O21 -> 0 | S21: =SUM(Q21:R21) -> 0
A22: 08.03.01Строительство | B22: 0 | C22: 0 | D22: =SUM(B22:C22) -> 0 | E22: 0 | F22: 0 | G22: =SUM(E22:F22) -> 0 | H22: 1 | I22: 0 | J22: =SUM(H22:I22) -> 1 | K22: 2 | L22: 1 | M22: =SUM(K22:L22) -> 3 | N22: 0 | O22: 0 | P22: =SUM(N22:O22) -> 0 | Q22: =B22+E22+H22+K22 -> 3 | R22: =C22+F22+I22+L22 -> 1 | S22: =SUM(Q22:R22) -> 4
A23: 20.03.02 Природообустройство и водопользование | D23: =SUM(B23:C23) -> 0 | G23: =SUM(E23:F23) -> 0 | I23: 0 | J23: =SUM(H23:I23) -> 0 | K23: 0 | M23: =SUM(K23:L23) -> 0 | N23: 0 | O23: 0 | P23: =SUM(N23:O23) -> 0 | Q23: =B23+E23+H23+K23+N23 -> 0 | R23: =C23+F23+I23+L23+O23 -> 0 | S23: =SUM(Q23:R23) -> 0
A24: Итого граждане иностранных государств | B24: =SUM(B21:B23) -> 0 | C24: =SUM(C21:C23) -> 0 | D24: =SUM(D21:D23) -> 0 | E24: =SUM(E21:E23) -> 0 | F24: =SUM(F21:F23) -> 0 | G24: =SUM(G21:G23) -> 0 | H24: =SUM(H21:H23) -> 1 | I24: =SUM(I21:I23) -> 0 | ... O24: =SUM(O21:O23) -> 0 | P24: =SUM(N24:O24) -> 0 | Q24: =SUM(Q20:Q23) -> 3 | R24: =SUM(R20:R23) -> 1 | S24: =SUM(S20:S23) -> 4
A25: ИТОГО по подразделению граждане России | B25: =B19 -> 200 | C25: =C19 -> 49 | D25: =D19 -> 249 | E25: =E19 -> 194 | F25: =F19 -> 45 | G25: =G19 -> 239 | H25: =H19 -> 163 | I25: =I19 -> 17 | ... M25: =M19 -> 157 | N25: =SUM(N19) -> 49 | O25: =SUM(O19) -> 2 | P25: =SUM(N25:O25) -> 51 | Q25: =Q19 -> 756 | R25: =R19 -> 120 | S25: =Q25+R25 -> 876
A26: ИТОГО по подразделению иностранные граждане | B26: =B24 -> 0 | C26: =C24 -> 0 | D26: =D24 -> 0 | E26: =E24 -> 0 | F26: =F24 -> 0 | G26: =G24 -> 0 | H26: =H24 -> 1 | I26: =I24 -> 0 | ... M26: =M24 -> 3 | N26: =SUM(N24) -> 0 | O26: =SUM(O24) -> 0 | P26: =SUM(N26:O26) -> 0 | Q26: =Q24 -> 3 | R26: =R24 -> 1 | S26: =S24 -> 4
B27: =B25+B26 -> 200 | C27: =C25+C26 -> 49 | D27: =D25+D26 -> 249 | E27: =E25+E26 -> 194 | F27: =F25+F26 -> 45 | G27: =G25+G26 -> 239 | H27: =H25+H26 -> 164 | I27: =I25+I26 -> 17 | ... S27: =S25+S26 -> 880

Sheet Бакалавр ОЗФО АСиА
A2: ИНСТИТУТ "АКАДЕМИЯ СТРОИТЕЛЬСТВА И АРХИТЕКТУРЫ"
A3: Контингент очно-заочной формы обучения на 01.01.2026 г.(Бакалавриат)
B5: Факультет/направление подготовки | C5: 1 год обучения | F5: 2 год обучения | I5: 3 год обучения | L5: 4 год обучения | O5: 5 год обучения | R5: Всего бакалавриата
C7: За счет бюджетных ассигнований | D7: На основе догов. о платных образов. услугах | E7: ВСЕГО | F7: За счет бюджетных ассигнований | G7: На основе догов. о платных образов. услугах | H7: ВСЕГО | I7: За счет бюджетных ассигнований | J7: На основе догов. о платных образов. услугах | K7: ВСЕГО | L7: За счет бюджетных ассигнований | M7: На основе догов. о платных образов. услугах | N7: ВСЕГО | O7: За счет бюджетных ассигнований | P7: На основе догов. о платных образов. услугах | Q7: ВСЕГО | R7: За счет бюджетных ассигнований | S7: На основе догов. о платных образов. услугах | T7: ВСЕГО
B8: Свод по направлениям подготовки
B9: 08.03.01 Строительство | C9: =C23+C16 -> 0 | D9: =D23+D16 -> 22 | E9: =E23+E16 -> 22 | F9: =F23+F16 -> 0 | G9: =G23+G16 -> 35 | H9: =H23+H16 -> 35 | I9: =I23+I16 -> 0 | J9: =J23+J16 -> 24 | ... T9: =T23+T16 -> 93
B10: 13.03.02 Электроэнергетика и электротехника | C10: =C24+C17 -> 0 | D10: =D24+D17 -> 0 | E10: =E24+E17 -> 0 | F10: =F24+F17 -> 0 | G10: =G24+G17 -> 0 | H10: =H24+H17 -> 0 | I10: =I24+I17 -> 0 | J10: =J24+J17 -> 0 | ... T10: =T24+T17 -> 0
B11: 20.03.02 Природообустройство и водопользование | C11: =C25+C18 -> 0 | D11: =D25+D18 -> 0 | E11: =E25+E18 -> 0 | F11: =F25+F18 -> 0 | G11: =G25+G18 -> 0 | H11: =H25+H18 -> 0 | I11: =I25+I18 -> 0 | J11: =J25+J18 -> 0 | ... T11: =T25+T18 -> 0
C12: =C27+C19 -> 0 | D12: =D27+D19 -> 0 | E12: =E27+E19 -> 0 | F12: =F27+F19 -> 0 | G12: =G27+G19 -> 0 | H12: =H27+H19 -> 0 | I12: =I27+I19 -> 0 | J12: =J27+J19 -> 0 | ... Q12: =Q27+Q19 -> 0 | R12: =C12+F12+I12+L12+O12 -> 0 | S12: =D12+G12+J12+M12+P12 -> 0 | T12: =SUM(R12:S12) -> 0
B13: Итого по направлениям подготовки | C13: =SUM(C9:C12) -> 0 | D13: =SUM(D9:D12) -> 22 | E13: =SUM(E9:E12) -> 22 | F13: =SUM(F9:F12) -> 0 | G13: =SUM(G9:G12) -> 35 | H13: =SUM(H9:H12) -> 35 | I13: =SUM(I9+I11) -> 0 | J13: =SUM(J9:J12) -> 24 | K13: =SUM(K9:K12) -> 24 | L13: =SUM(L9:L12) -> 0 | M13: =SUM(M9:M12) -> 12 | N13: =SUM(N9:N12) -> 12 | O13: =SUM(O9:O12) -> 0 | P13: =SUM(P9:P12) -> 0 | Q13: =SUM(Q9:Q12) -> 0 | ... T13: =SUM(T9:T12) -> 93
B14: В том числе:
B15: Граждане России
B16: 08.03.01 Строительство | C16: 0 | D16: 22 | E16: =SUM(C16:D16) -> 22 | G16: 35 | H16: =SUM(F16:G16) -> 35 | J16: 24 | K16: =SUM(I16:J16) -> 24 | M16: 12 | N16: =SUM(L16:M16) -> 12 | P16: 0 | Q16: =SUM(O16:P16) -> 0 | R16: =C16+F16+I16+L16+O16 -> 0 | S16: =D16+G16+J16+M16+P16 -> 93 | T16: =SUM(R16:S16) -> 93
B17: 13.03.02 Электроэнергетика и электротехника | E17: =SUM(C17:D17) -> 0 | H17: =SUM(F17:G17) -> 0 | K17: =SUM(I17:J17) -> 0 | N17: =SUM(L17:M17) -> 0 | Q17: =SUM(O17:P17) -> 0 | R17: =C17+F17+I17+L17+O17 -> 0 | S17: =D17+G17+J17+M17+P17 -> 0 | T17: =SUM(R17:S17) -> 0
B18: 20.03.02 Природообустройство и водопользование | E18: =SUM(C18:D18) -> 0 | H18: =SUM(F18:G18) -> 0 | J18: 0 | K18: =SUM(I18:J18) -> 0 | M18: 0 | N18: =SUM(L18:M18) -> 0 | P18: 0 | Q18: =SUM(O18:P18) -> 0 | R18: =C18+F18+I18+L18+O18 -> 0 | S18: =D18+G18+J18+M18+P18 -> 0 | T18: =SUM(R18:S18) -> 0
C19: 0 | D19: 0 | E19: =SUM(C19:D19) -> 0 | F19: 0 | G19: 0 | H19: =SUM(F19:G19) -> 0 | I19: 0 | J19: 0 | K19: =SUM(I19:J19) -> 0 | L19: 0 | M19: 0 | N19: =SUM(L19:M19) -> 0 | O19: 0 | P19: 0 | Q19: =SUM(O19:P19) -> 0 | R19: =C19+F19+I19+L19+O19 -> 0 | S19: =D19+G19+J19+M19+P19 -> 0 | T19: =SUM(R19:S19) -> 0
C20: 0 | D20: 0 | E20: =SUM(C20:D20) -> 0 | F20: 0 | G20: 0 | H20: =SUM(F20:G20) -> 0 | I20: 0 | J20: 0 | K20: =SUM(I20:J20) -> 0 | L20: 0 | M20: 0 | N20: =SUM(L20:M20) -> 0 | O20: 0 | P20: 0 | Q20: =SUM(O20:P20) -> 0 | R20: =C20+F20+I20+L20+O20 -> 0 | S20: =D20+G20+J20+M20+P20 -> 0 | T20: =SUM(R20:S20) -> 0
B21: Итого граждане России | C21: =SUM(C16:C20) -> 0 | D21: =SUM(D16:D20) -> 22 | E21: =SUM(E16:E20) -> 22 | F21: =SUM(F16:F20) -> 0 | G21: =SUM(G16:G20) -> 35 | H21: =SUM(H16:H20) -> 35 | I21: =SUM(I16:I20) -> 0 | J21: =SUM(J16:J20) -> 24 | ... T21: =SUM(T16:T20) -> 93
B22: Граждане иностранных государств (вкл. Украину)
B23: 08.03.01 Строительство | C23: 0 | D23: 0 | E23: =SUM(C23:D23) -> 0 | F23: 0 | G23: 0 | H23: =SUM(F23:G23) -> 0 | I23: 0 | J23: 0 | K23: =SUM(I23:J23) -> 0 | L23: 0 | M23: 0 | N23: =SUM(L23:M23) -> 0 | O23: 0 | P23: 0 | Q23: =SUM(O23:P23) -> 0 | R23: =C23+F23+I23+L23+O23 -> 0 | S23: =D23+G23+J23+M23+P23 -> 0 | T23: =SUM(R23:S23) -> 0
B24: 13.03.02 Электроэнергетика и электротехника | C24: 0 | D24: 0 | E24: =SUM(C24:D24) -> 0 | F24: 0 | G24: 0 | H24: =SUM(F24:G24) -> 0 | I24: 0 | J24: 0 | K24: =SUM(I24:J24) -> 0 | L24: 0 | M24: 0 | N24: =SUM(L24:M24) -> 0 | O24: 0 | P24: 0 | Q24: =SUM(O24:P24) -> 0 | R24: =C24+F24+I24+L24+O24 -> 0 | S24: =D24+G24+J24+M24+P24 -> 0 | T24: =SUM(R24:S24) -> 0
B25: 20.03.02 Природообустройство и водопользование | C25: 0 | D25: 0 | E25: =SUM(C25:D25) -> 0 | F25: 0 | G25: 0 | H25: =SUM(F25:G25) -> 0 | I25: 0 | J25: 0 | K25: =SUM(I25:J25) -> 0 | L25: 0 | M25: 0 | N25: =SUM(L25:M25) -> 0 | O25: 0 | P25: 0 | Q25: =SUM(O25:P25) -> 0 | R25: =C25+F25+I25+L25+O25 -> 0 | S25: =D25+G25+J25+M25+P25 -> 0 | T25: =SUM(R25:S25) -> 0
C26: 0 | D26: 0 | E26: =SUM(C26:D26) -> 0 | F26: 0 | G26: 0 | H26: =SUM(F26:G26) -> 0 | I26: 0 | J26: 0 | K26: =SUM(I26:J26) -> 0 | L26: 0 | M26: 0 | N26: =SUM(L26:M26) -> 0 | O26: 0 | P26: 0 | Q26: =SUM(O26:P26) -> 0 | R26: =C26+F26+I26+L26+O26 -> 0 | S26: =D26+G26+J26+M26+P26 -> 0 | T26: =SUM(R26:S26) -> 0
C27: 0 | D27: 0 | E27: =SUM(C27:D27) -> 0 | F27: 0 | G27: 0 | H27: =SUM(F27:G27) -> 0 | I27: 0 | J27: 0 | K27: =SUM(I27:J27) -> 0 | L27: 0 | M27: 0 | N27: =SUM(L27:M27) -> 0 | O27: 0 | P27: 0 | Q27: =SUM(O27:P27) -> 0 | R27: =C27+F27+I27+L27+O27 -> 0 | S27: =D27+G27+J27+M27+P27 -> 0 | T27: =SUM(R27:S27) -> 0
B28: Итого граждане иностранных государств | C28: =SUM(C23:C27) -> 0 | D28: =SUM(D23:D27) -> 0 | E28: =SUM(E23:E27) -> 0 | F28: =SUM(F23:F27) -> 0 | G28: =SUM(G23:G27) -> 0 | H28: =SUM(H23:H27) -> 0 | I28: =SUM(I23:I27) -> 0 | J28: =SUM(J23:J27) -> 0 | ... T28: =SUM(T23:T27) -> 0
B29: ИТОГО по подразделению граждане России | C29: =C21 -> 0 | D29: =D21 -> 22 | E29: =E21 -> 22 | F29: =F21 -> 0 | G29: =G21 -> 35 | H29: =H21 -> 35 | I29: =I21 -> 0 | J29: =J21 -> 24 | ... T29: =T21 -> 93
B30: ИТОГО по подразделению граждане иностранных государств | C30: =C28 -> 0 | D30: =D28 -> 0 | E30: =E28 -> 0 | F30: =F28 -> 0 | G30: =G28 -> 0 | H30: =H28 -> 0 | I30: =I28 -> 0 | J30: =J28 -> 0 | ... T30: =T28 -> 0
B31: Свод по направлениям подготовки | C31: =SUM(C29:C30) -> 0 | D31: =SUM(D29:D30) -> 22 | E31: =SUM(E29:E30) -> 22 | F31: =SUM(F29:F30) -> 0 | G31: =SUM(G29:G30) -> 35 | H31: =SUM(H29:H30) -> 35 | I31: =SUM(I29:I30) -> 0 | J31: =SUM(J29:J30) -> 24 | ... T31: =SUM(T29:T30) -> 93

Sheet Бакалавр ЗФО АСИА
A2: ИНСТИТУТ "АКАДЕМИЯ СТРОИТЕЛЬСТВА И АРХИТЕКТУРЫ"
A3: Контингент заочной формы обучения на 01.01.2026 г.(Бакалавриат)
B5: Факультет/направление подготовки | C5: 1 год обучения | F5: 2 год обучения | I5: 3 год обучения | L5: 4 год обучения | O5: 5 год обучения | R5: Всего бакалавриата
C7: За счет бюджетных ассигнований | D7: На основе догов. о платных образов. услугах | E7: ВСЕГО | F7: За счет бюджетных ассигнований | G7: На основе догов. о платных образов. услугах | H7: ВСЕГО | I7: За счет бюджетных ассигнований | J7: На основе догов. о платных образов. услугах | K7: ВСЕГО | L7: За счет бюджетных ассигнований | M7: На основе догов. о платных образов. услугах | N7: ВСЕГО | O7: За счет бюджетных ассигнований | P7: На основе догов. о платных образов. услугах | Q7: ВСЕГО | R7: За счет бюджетных ассигнований | S7: На основе догов. о платных образов. услугах | T7: ВСЕГО
B8: Свод по направлениям подготовки
B9: 08.03.01 Строительство | C9: =C21+C15 -> 0 | D9: =D21+D15 -> 0 | E9: =E21+E15 -> 0 | F9: =F21+F15 -> 0 | G9: =G21+G15 -> 0 | H9: =H21+H15 -> 0 | I9: =I21+I15 -> 0 | J9: =J21+J15 -> 1 | ... O9: =O21+O15 -> 0 | P9: 0 | Q9: 0 | R9: =R21+R15 -> 0 | S9: =S21+S15 -> 1 | T9: =T21+T15 -> 1
B10: 13.03.02 Электроэнергетика и электротехника | C10: =C22+C16 -> 0 | D10: =D22+D16 -> 0 | E10: =E22+E16 -> 0 | F10: =F22+F16 -> 0 | G10: =G22+G16 -> 0 | H10: =H22+H16 -> 0 | I10: =I22+I16 -> 0 | J10: =J22+J16 -> 0 | ... O10: =O22+O16 -> 0 | P10: 0 | Q10: 0 | R10: =R22+R16 -> 0 | S10: =S22+S16 -> 0 | T10: =T22+T16 -> 0
B11: 15.03.04 Автоматизация технологических процессов и производств | C11: =C25+C17 -> 0 | D11: =D25+D17 -> 0 | E11: =E25+E17 -> 0 | F11: =F25+F17 -> 0 | G11: =G25+G17 -> 0 | H11: =H25+H17 -> 0 | I11: =I25+I17 -> 0 | J11: =J25+J17 -> 0 | ... L11: =L25+L17 -> 0 | M11: 0 | N11: 0 | O11: =O25+O17 -> 0 | P11: 1 | Q11: 1 | R11: =C11+F11+I11+L11+O11 -> 0 | S11: =D11+G11+J11+M11+P11 -> 1 | T11: =SUM(R11:S11) -> 1
B12: Итого по направлениям подготовки | C12: =SUM(C9:C11) -> 0 | D12: =SUM(D9:D11) -> 0 | E12: =SUM(E9:E11) -> 0 | F12: =SUM(F9:F11) -> 0 | G12: =SUM(G9:G11) -> 0 | H12: =SUM(H9:H11) -> 0 | I12: =SUM(I9:I11) -> 0 | J12: =SUM(J9:J11) -> 1 | ... O12: =SUM(O9:O11) -> 0 | P12: 1 | Q12: 1 | R12: =SUM(R9:R11) -> 0 | S12: =SUM(S9:S11) -> 2 | T12: =SUM(T9:T11) -> 2
B13: В том числе:
B14: Граждане России
B15: 08.03.01 Строительство | C15: 0 | D15: 0 | E15: =SUM(C15:D15) -> 0 | F15: 0 | G15: 0 | H15: =SUM(F15:G15) -> 0 | I15: 0 | J15: 1 | K15: 1 | L15: 0 | M15: 0 | N15: =SUM(L15:M15) -> 0 | O15: 0 | P15: 0 | Q15: 0 | R15: =C15+F15+I15+L15+O15 -> 0 | S15: =D15+G15+J15+M15+P15 -> 1 | T15: =SUM(R15:S15) -> 1
B16: 13.03.02 Электроэнергетика и электротехника | E16: =SUM(C16:D16) -> 0 | H16: =SUM(F16:G16) -> 0 | K16: =SUM(I16:J16) -> 0 | N16: =SUM(L16:M16) -> 0 | Q16: 0 | R16: =C16+F16+I16+L16+O16 -> 0 | S16: =D16+G16+J16+M16+P16 -> 0 | T16: =SUM(R16:S16) -> 0
B17: 15.03.04 Автоматизация технологических процессов и производств | C17: 0 | D17: 0 | E17: =SUM(C17:D17) -> 0 | F17: 0 | G17: 0 | H17: =SUM(F17:G17) -> 0 | I17: 0 | J17: 0 | K17: =SUM(I17:J17) -> 0 | L17: 0 | M17: 0 | N17: 0 | O17: 0 | P17: 1 | Q17: 1 | R17: =C17+F17+I17+L17+O17 -> 0 | S17: =D17+G17+J17+M17+P17 -> 1 | T17: =SUM(R17:S17) -> 1
C18: 0 | D18: 0 | E18: =SUM(C18:D18) -> 0 | F18: 0 | G18: 0 | H18: =SUM(F18:G18) -> 0 | I18: 0 | J18: 0 | K18: =SUM(I18:J18) -> 0 | L18: 0 | M18: 0 | N18: =SUM(L18:M18) -> 0 | O18: 0 | P18: 0 | Q18: 0 | R18: =C18+F18+I18+L18+O18 -> 0 | S18: =D18+G18+J18+M18+P18 -> 0 | T18: =SUM(R18:S18) -> 0
B19: Итого граждане России | C19: =SUM(C15:C18) -> 0 | D19: =SUM(D15:D18) -> 0 | E19: =SUM(E15:E18) -> 0 | F19: =SUM(F15:F18) -> 0 | G19: =SUM(G15:G18) -> 0 | H19: =SUM(H15:H18) -> 0 | I19: =SUM(I15:I18) -> 0 | J19: =SUM(J15:J18) -> 1 | ... O19: =SUM(O15:O18) -> 0 | P19: 1 | Q19: 1 | R19: =SUM(R15:R18) -> 0 | S19: =SUM(S15:S18) -> 2 | T19: =SUM(T15:T18) -> 2
B20: Граждане иностранных государств (вкл. Украину)
B21: 08.03.01 Строительство | C21: 0 | D21: 0 | E21: =SUM(C21:D21) -> 0 | F21: 0 | G21: 0 | H21: =SUM(F21:G21) -> 0 | I21: 0 | J21: 0 | K21: =SUM(I21:J21) -> 0 | L21: 0 | M21: 0 | N21: =SUM(L21:M21) -> 0 | O21: 0 | P21: 0 | Q21: 0 | R21: =C21+F21+I21+L21+O21 -> 0 | S21: =D21+G21+J21+M21+P21 -> 0 | T21: =SUM(R21:S21) -> 0
B22: 13.03.02 Электроэнергетика и электротехника | C22: 0 | D22: 0 | E22: =SUM(C22:D22) -> 0 | F22: 0 | G22: 0 | H22: =SUM(F22:G22) -> 0 | I22: 0 | J22: 0 | K22: =SUM(I22:J22) -> 0 | L22: 0 | M22: 0 | N22: =SUM(L22:M22) -> 0 | O22: 0 | P22: 0 | Q22: 0 | R22: =C22+F22+I22+L22+O22 -> 0 | S22: =D22+G22+J22+M22+P22 -> 0 | T22: =SUM(R22:S22) -> 0
B23: 20.03.02 Природообустройство и водопользование | C23: 0 | D23: 0 | E23: =SUM(C23:D23) -> 0 | F23: 0 | G23: 0 | H23: =SUM(F23:G23) -> 0 | I23: 0 | J23: 0 | K23: =SUM(I23:J23) -> 0 | L23: 0 | M23: 0 | N23: =SUM(L23:M23) -> 0 | O23: 0 | P23: 0 | Q23: 0 | R23: =C23+F23+I23+L23+O23 -> 0 | S23: =D23+G23+J23+M23+P23 -> 0 | T23: =SUM(R23:S23) -> 0
B24: 15.03.04 Автоматизация технологических процессов и производств | C24: 0 | D24: 0 | E24: =SUM(C24:D24) -> 0 | F24: 0 | G24: 0 | H24: =SUM(F24:G24) -> 0 | I24: 0 | J24: 0 | K24: =SUM(I24:J24) -> 0 | L24: 0 | M24: 0 | N24: =SUM(L24:M24) -> 0 | O24: 0 | P24: 0 | Q24: 0 | R24: =C24+F24+I24+L24+O24 -> 0 | S24: =D24+G24+J24+M24+P24 -> 0 | T24: =SUM(R24:S24) -> 0
C25: 0 | D25: 0 | E25: =SUM(C25:D25) -> 0 | F25: 0 | G25: 0 | H25: =SUM(F25:G25) -> 0 | I25: 0 | J25: 0 | K25: =SUM(I25:J25) -> 0 | L25: 0 | M25: 0 | N25: =SUM(L25:M25) -> 0 | O25: 0 | P25: 0 | Q25: 0 | R25: =C25+F25+I25+L25+O25 -> 0 | S25: =D25+G25+J25+M25+P25 -> 0 | T25: =SUM(R25:S25) -> 0
B26: Итого граждане иностранных государств | C26: =SUM(C21:C25) -> 0 | D26: =SUM(D21:D25) -> 0 | E26: =SUM(E21:E25) -> 0 | F26: =SUM(F21:F25) -> 0 | G26: =SUM(G21:G25) -> 0 | H26: =SUM(H21:H25) -> 0 | I26: =SUM(I21:I25) -> 0 | J26: =SUM(J21:J25) -> 0 | ... O26: =SUM(O21:O25) -> 0 | P26: 0 | Q26: 0 | R26: =SUM(R21:R25) -> 0 | S26: =SUM(S21:S25) -> 0 | T26: =SUM(T21:T25) -> 0
B27: ИТОГО по подразделению граждане России | C27: =C19 -> 0 | D27: =D19 -> 0 | E27: =E19 -> 0 | F27: =F19 -> 0 | G27: =G19 -> 0 | H27: =H19 -> 0 | I27: =I19 -> 0 | J27: =J19 -> 1 | ... O27: =O19 -> 0 | P27: 1 | Q27: 1 | R27: =R19 -> 0 | S27: =S19 -> 2 | T27: =T19 -> 2
B28: ИТОГО по подразделению граждане иностранных государств | C28: =C26 -> 0 | D28: =D26 -> 0 | E28: =E26 -> 0 | F28: =F26 -> 0 | G28: =G26 -> 0 | H28: =H26 -> 0 | I28: =I26 -> 0 | J28: =J26 -> 0 | ... O28: =O26 -> 0 | P28: 0 | Q28: 0 | R28: =R26 -> 0 | S28: =S26 -> 0 | T28: =T26 -> 0
B29: Свод по направлениям подготовки | C29: =SUM(C27:C28) -> 0 | D29: =SUM(D27:D28) -> 0 | E29: =SUM(E27:E28) -> 0 | F29: =SUM(F27:F28) -> 0 | G29: =SUM(G27:G28) -> 0 | H29: =SUM(H27:H28) -> 0 | I29: =SUM(I27:I28) -> 0 | J29: =SUM(J27:J28) -> 1 | ... O29: =SUM(O27:O28) -> 0 | P29: 1 | Q29: 1 | R29: =SUM(R27:R28) -> 0 | S29: =SUM(S27:S28) -> 2 | T29: =SUM(T27:T28) -> 2

Sheet МАГ ОФО АСИА
A2: ИНСТИТУТ "АКАДЕМИЯ СТРОИТЕЛЬСТВА И АРХИТЕКТУРЫ"
A3: Контингент очной формы обучения на 01.01.2026 г.(Магистратура)
A5: Факультет/направление подготовки | B5: 1 год обучения | E5: 2 год обучения | H5: Всего магистратуры
B6: МАГИСТР | E6: МАГИСТР
B7: За счет бюджетных ассигнований | C7: На основе догов. о платных образов. услугах | D7: ВСЕГО | E7: За счет бюджетных ассигнований | F7: На основе догов. о платных образов. услугах | G7: ВСЕГО | H7: За счет бюджетных ассигнований | I7: На основе догов. о платных образов. услугах | J7: ВСЕГО
A8: Свод по направлениям подготовки
A9: 07.04.04 Градостроительство | B9: =B15+B21+B27 -> 27 | C9: =C15+C21 -> 1 | D9: =D15+D21+D27 -> 28 | E9: =E15+E21+E27 -> 32 | F9: =F15+F21 -> 1 | G9: =G15+G21+G27 -> 33 | H9: =H15+H21+H27 -> 59 | I9: =I15+I21 -> 2 | J9: =J15+J21+J27 -> 61
A10: 08.04.01 Строительство | B10: =B16+B22 -> 64 | C10: =C16+C22 -> 7 | D10: =D16+D22 -> 71 | E10: =E16+E22 -> 61 | F10: =F16+F22 -> 1 | G10: =G16+G22 -> 62 | H10: =H16+H22 -> 125 | I10: =I16+I22 -> 8 | J10: =J16+J22 -> 133
A11: 20.04.02 Природообустройство и водопользование | B11: =B17+B23 -> 5 | C11: =C17+C23 -> 1 | D11: =D17+D23 -> 6 | E11: =E17+E23 -> 0 | F11: =F17+F23 -> 0 | G11: =G17+G23 -> 0 | H11: =H17+H23 -> 5 | I11: =I17+I23 -> 1 | J11: =J17+J23 -> 6
A12: Итого по направлениям подготовки: | B12: =SUM(B8:B11) -> 96 | C12: =SUM(C8:C11) -> 9 | D12: =SUM(D8:D11) -> 105 | E12: =SUM(E8:E11) -> 93 | F12: =SUM(F8:F11) -> 2 | G12: =SUM(G8:G11) -> 95 | H12: =SUM(H9:H11) -> 189 | I12: =SUM(I9:I11) -> 11 | J12: =SUM(J9:J11) -> 200
A13: В том числе:
A14: Граждане России
A15: 07.04.04 Градостроительство | B15: 27 | C15: 1 | D15: =SUM(B15:C15) -> 28 | E15: 30 | F15: 1 | G15: =SUM(E15:F15) -> 31 | H15: =B15+E15 -> 57 | I15: =C15+F15 -> 2 | J15: =D15+G15 -> 59
A16: 08.04.01 Строительство | B16: 64 | C16: 7 | D16: =SUM(B16:C16) -> 71 | E16: 61 | F16: 1 | G16: =SUM(E16:F16) -> 62 | H16: =B16+E16 -> 125 | I16: =C16+F16 -> 8 | J16: =D16+G16 -> 133
A17: 20.04.02 Природообустройство и водопользование | B17: 5 | C17: 1 | D17: =SUM(B17:C17) -> 6 | E17: 0 | F17: 0 | G17: =SUM(E17:F17) -> 0 | H17: =B17+E17 -> 5 | I17: =C17+F17 -> 1 | J17: =D17+G17 -> 6
B18: 0 | C18: 0 | D18: =SUM(B18:C18) -> 0 | E18: 0 | F18: 0 | G18: =SUM(E18:F18) -> 0 | H18: =B18+E18 -> 0 | I18: =C18+F18 -> 0 | J18: =D18+G18 -> 0
A19: Итого граждане России | B19: =SUM(B15:B18) -> 96 | C19: =SUM(C15:C18) -> 9 | D19: =SUM(D15:D18) -> 105 | E19: =SUM(E15:E18) -> 91 | F19: =SUM(F15:F18) -> 2 | G19: =SUM(G15:G18) -> 93 | H19: =SUM(H15:H18) -> 187 | I19: =SUM(I15:I18) -> 11 | J19: =SUM(J15:J18) -> 198
A20: Граждане иностранных государств (вкл. Украину)
A21: 07.04.04 Градостроительство | B21: 0 | D21: =SUM(B21:C21) -> 0 | E21: 2 | G21: =SUM(E21:F21) -> 2 | H21: =B21+E21 -> 2 | I21: =C21+F21 -> 0 | J21: 2
A22: 08.04.01 Строительство | B22: 0 | C22: 0 | D22: =SUM(B22:C22) -> 0 | E22: 0 | F22: 0 | G22: =SUM(E22:F22) -> 0 | H22: =B22+E22 -> 0 | I22: =C22+F22 -> 0 | J22: =D22+G22 -> 0
A23: 20.04.02 Природообустройство и водопользование | D23: =SUM(B23:C23) -> 0 | G23: =SUM(E23:F23) -> 0 | H23: =B23+E23 -> 0 | I23: =C23+F23 -> 0 | J23: =D23+G23 -> 0
B24: 0 | C24: 0 | D24: =SUM(B24:C24) -> 0 | E24: 0 | F24: 0 | G24: =SUM(E24:F24) -> 0 | H24: =B24+E24 -> 0 | I24: =C24+F24 -> 0 | J24: =D24+G24 -> 0
A25: Итого граждане иностранных государств | B25: =SUM(B21:B24) -> 0 | C25: =SUM(C21:C24) -> 0 | D25: =SUM(D21:D24) -> 0 | E25: =SUM(E21:E24) -> 2 | F25: =SUM(F21:F24) -> 0 | G25: =SUM(G21:G24) -> 2 | H25: =SUM(H21:H24) -> 2 | I25: =SUM(I21:I24) -> 0 | J25: =SUM(J21:J24) -> 2
A26: Граждане ЛНР и ДНР
A27: 07.04.04 Градостроительство | B27: 0 | D27: =SUM(B27:C27) -> 0 | E27: 0 | G27: =SUM(E27:F27) -> 0 | H27: =B27+E27 -> 0 | I27: =C27+F27 -> 0 | J27: =D27+G27 -> 0
A28: 08.04.01 Строительство | B28: 0 | C28: 0 | D28: =SUM(B28:C28) -> 0 | F28: 0 | G28: =SUM(E28:F28) -> 0 | H28: =B28+E28 -> 0 | I28: =C28+F28 -> 0 | J28: =D28+G28 -> 0
A29: 15.03.04 Автоматизация технологических процессов и производств | D29: =SUM(B29:C29) -> 0 | G29: =SUM(E29:F29) -> 0 | H29: =B29+E29 -> 0 | I29: =C29+F29 -> 0 | J29: =D29+G29 -> 0
A30: 20.04.02 Природообустройство и водопользование | D30: =SUM(B30:C30) -> 0 | G30: =SUM(E30:F30) -> 0 | H30: =B30+E30 -> 0 | I30: =C30+F30 -> 0 | J30: =D30+G30 -> 0
B31: 0 | C31: 0 | D31: =SUM(B31:C31) -> 0 | E31: 0 | F31: 0 | G31: =SUM(E31:F31) -> 0 | H31: =B31+E31 -> 0 | I31: =C31+F31 -> 0 | J31: =D31+G31 -> 0
A32: Итого граждане ЛНР и ДНР | B32: =SUM(B27:B31) -> 0 | C32: =SUM(C27:C31) -> 0 | D32: =SUM(D27:D31) -> 0 | E32: =SUM(E27:E31) -> 0 | F32: =SUM(F27:F31) -> 0 | G32: =SUM(G27:G31) -> 0 | H32: =SUM(H27:H31) -> 0 | I32: =SUM(I27:I31) -> 0 | J32: =SUM(J27:J31) -> 0
A33: ИТОГО по подразделению граждане России | B33: =B19 -> 96 | C33: =C19 -> 9 | D33: =D19 -> 105 | E33: =E19 -> 91 | F33: =F19 -> 2 | G33: =G19 -> 93 | H33: =H19 -> 187 | I33: =I19 -> 11 | J33: =J19 -> 198
A34: ИТОГО по подразделению иностранные граждане | B34: =B25+B32 -> 0 | C34: =C25 -> 0 | D34: =D25+D32 -> 0 | E34: =E25 -> 2 | F34: =F25 -> 0 | G34: =G25 -> 2 | H34: =H25+H32 -> 2 | I34: =I25 -> 0 | J34: =J25+J32 -> 2
A35: Итого | B35: =SUM(B33:B34) -> 96 | C35: =SUM(C33:C34) -> 9 | D35: =SUM(D33:D34) -> 105 | E35: =SUM(E33:E34) -> 93 | F35: =SUM(F33:F34) -> 2 | G35: =SUM(G33:G34) -> 95 | H35: =SUM(H33:H34) -> 189 | I35: =SUM(I33:I34) -> 11 | J35: =SUM(J33:J34) -> 200

Sheet МАГ ЗФО АСИА
A2: ИНСТИТУТ "АКАДЕМИЯ СТРОИТЕЛЬСТВА И АРХИТЕКТУРЫ"
A3: Контингент заочной формы обучения на 01.01.2026 г.(Магистратура)
A5: Факультет/направление подготовки | B5: 1 год обучения | E5: 2 год обучения | H5: 3 год обучения | K5: Всего магистратуры
B6: МАГИСТР | E6: МАГИСТР | H6: МАГИСТР
B7: За счет бюджетных ассигнований | C7: На основе догов. о платных образов. услугах | D7: ВСЕГО | E7: За счет бюджетных ассигнований | F7: На основе догов. о платных образов. услугах | G7: ВСЕГО | H7: За счет бюджетных ассигнований | I7: На основе догов. о платных образов. услугах | J7: ВСЕГО | K7: За счет бюджетных ассигнований | L7: На основе догов. о платных образов. услугах | M7: ВСЕГО
A8: Свод по направлениям подготовки
A9: 08.04.01 Строительство | B9: =B15+B15 -> 0 | C9: =C20+C15 -> 61 | D9: =D20+D15 -> 61 | E9: =E21+E15 -> 0 | F9: 66 | G9: 66 | H9: =H21+H15 -> 0 | I9: =I15+I20 -> 50 | J9: =J15+J20 -> 50 | K9: =B9+E9+H9 -> 0 | L9: =C9+F9+I9 -> 177 | M9: =D9+G9+J9 -> 177
A10: 15.03.04 Автоматизация технологических процессов и производств | B10: =B22+B16 -> 0 | C10: =C22+C16 -> 0 | D10: =D22+D16 -> 0 | E10: =E22+E16 -> 0 | F10: 0 | G10: 0 | H10: =H22+H16 -> 0 | I10: =I22+I16 -> 0 | J10: =J22+J16 -> 0 | K10: =B10+E10+H10 -> 0 | L10: =C10+F10+I10 -> 0 | M10: =D10+G10+J10 -> 0
A11: 20.04.02 Природообустройство и водопользование | B11: =B23+B17 -> 0 | C11: =C23+C17 -> 0 | D11: =D23+D17 -> 0 | E11: =E23+E17 -> 0 | F11: 0 | G11: 0 | H11: =H23+H17 -> 0 | I11: =I23+I17 -> 0 | J11: =J23+J17 -> 0 | K11: =B11+E11+H11 -> 0 | L11: =C11+F11+I11 -> 0 | M11: =D11+G11+J11 -> 0
A12: Итого по направлениям подготовки: | B12: =SUM(B8:B11) -> 0 | C12: =SUM(C8:C11) -> 61 | D12: =SUM(D8:D11) -> 61 | E12: =SUM(E8:E11) -> 0 | F12: 66 | G12: 66 | H12: =SUM(H8:H11) -> 0 | I12: =SUM(I8:I11) -> 50 | J12: =SUM(J8:J11) -> 50 | K12: =SUM(K8:K11) -> 0 | L12: =SUM(L8:L11) -> 177 | M12: =SUM(M8:M11) -> 177
A13: В том числе:
A14: Граждане России
A15: 08.04.01 Строительство | B15: 0 | C15: 61 | D15: =SUM(B15:C15) -> 61 | E15: 0 | F15: 66 | G15: 66 | H15: 0 | I15: 50 | J15: =SUM(H15:I15) -> 50 | K15: =B15+E15+H15 -> 0 | L15: =C15+F15+I15 -> 177 | M15: =D15+G15+J15 -> 177
A16: 15.03.04 Автоматизация технологических процессов и производств | D16: =SUM(B16:C16) -> 0 | G16: 0 | H16: 0 | I16: 0 | J16: =SUM(H16:I16) -> 0 | K16: =B16+E16+H16 -> 0 | L16: =C16+F16+I16 -> 0 | M16: =D16+G16+J16 -> 0
A17: 20.04.02 Природообустройство и водопользование | B17: 0 | D17: =SUM(B17:C17) -> 0 | E17: 0 | G17: 0 | H17: 0 | I17: 0 | J17: =SUM(H17:I17) -> 0 | K17: =B17+E17+H17 -> 0 | L17: =C17+F17+I17 -> 0 | M17: =D17+G17+J17 -> 0
A18: Итого граждане России | B18: =SUM(B15:B17) -> 0 | C18: =SUM(C15:C17) -> 61 | D18: =SUM(D15:D17) -> 61 | E18: =SUM(E15:E17) -> 0 | F18: 66 | G18: 66 | H18: =SUM(H15:H17) -> 0 | I18: =SUM(I15:I17) -> 50 | J18: =SUM(J15:J17) -> 50 | K18: =SUM(K15:K17) -> 0 | L18: =SUM(L15:L17) -> 177 | M18: =SUM(M15:M17) -> 177
A19: Граждане иностранных государств (вкл. Украину)
A20: 08.04.01 Строительство | B20: 0 | C20: 0 | D20: =SUM(B20:C20) -> 0 | E20: 0 | F20: 0 | G20: =SUM(E20:F20) -> 0 | H20: 0 | I20: 0 | J20: =SUM(H20:I20) -> 0 | K20: =B20+E20+H20 -> 0 | L20: =C20+F20+I20 -> 0 | M20: =D20+G20+J20 -> 0
A21: 15.03.04 Автоматизация технологических процессов и производств | B21: 0 | C21: 0 | D21: =SUM(B21:C21) -> 0 | E21: 0 | F21: 0 | G21: =SUM(E21:F21) -> 0 | H21: 0 | I21: 0 | J21: =SUM(H21:I21) -> 0 | K21: =B21+E21+H21 -> 0 | L21: =C21+F21+I21 -> 0 | M21: =D21+G21+J21 -> 0
A22: 20.04.02 Природообустройство и водопользование | B22: 0 | C22: 0 | D22: =SUM(B22:C22) -> 0 | E22: 0 | F22: 0 | G22: =SUM(E22:F22) -> 0 | H22: 0 | I22: 0 | J22: =SUM(H22:I22) -> 0 | K22: =B22+E22+H22 -> 0 | L22: =C22+F22+I22 -> 0 | M22: =D22+G22+J22 -> 0
A25: Итого граждане иностранных государств | B25: =SUM(B20:B24) -> 0 | C25: =SUM(C20:C24) -> 0 | D25: =SUM(D20:D24) -> 0 | E25: =SUM(E20:E24) -> 0 | F25: =SUM(F20:F24) -> 0 | G25: =SUM(G20:G24) -> 0 | H25: =SUM(H20:H24) -> 0 | I25: =SUM(I20:I24) -> 0 | ... M25: =SUM(M20:M24) -> 0
A26: ИТОГО по подразделению граждане России | B26: =B18 -> 0 | C26: =C18 -> 61 | D26: =D18 -> 61 | E26: =E18 -> 0 | F26: =F18 -> 66 | G26: =G18 -> 66 | H26: =H18 -> 0 | I26: =I18 -> 50 | ... M26: =M18 -> 177
A27: ИТОГО по подразделению иностранные граждане | B27: =B25 -> 0 | C27: =C25 -> 0 | D27: =D25 -> 0 | E27: =E25 -> 0 | F27: =F25 -> 0 | G27: =G25 -> 0 | H27: =H25 -> 0 | I27: =I25 -> 0 | ... M27: =M25 -> 0
A28: Итого | B28: =SUM(B26:B27) -> 0 | C28: =SUM(C26:C27) -> 61 | D28: =SUM(D26:D27) -> 61 | E28: =SUM(E26:E27) -> 0 | F28: =SUM(F26:F27) -> 66 | G28: =SUM(G26:G27) -> 66 | H28: =SUM(H26:H27) -> 0 | I28: =SUM(I26:I27) -> 50 | ... M28: =SUM(M26:M27) -> 177

Sheet Бакалавр ОФО АТА
A1: Институт "АГРОТЕХНОЛОГИЧЕСКАЯ АКАДЕМИЯ ФГАОУ ВО "КФУ им. В.И. Вернадского"
A2: Контингент Дневной формы обучения на 01.01.2026 (Бакалавриат)
A3: Факультет/направление подготовки | B3: выпуск 2029 | E3: выпуск 2028 | H3: выпуск 2027 | K3: выпуск 2026 | N3: Итого Бакалавриата
C5: 1 | E5: 2 | H5: 3 | K5: 4
B6: За счет бюджетных ассигнований | C6: На основе догов.о платных образов.услугах | D6: ВСЕГО | E6: За счет бюджетных ассигнований | F6: На основе догов.о платных образов.услугах | G6: ВСЕГО | H6: За счет бюджетных ассигнований | I6: На основе догов.о платных образов.услугах | J6: ВСЕГО | K6: За счет бюджетных ассигнований | L6: На основе догов.о платных образов.услугах | M6: ВСЕГО | N6: За счет бюджетных ассигнований | O6: На основе догов.о платных образов.услугах | P6: ВСЕГО
A7: Свод по направлениям подготовкии
A8: 35.03.04 Агрономия | B8: 23 | C8: 4 | D8: 27 | E8: 20 | F8: 4 | G8: 24 | H8: 19 | I8: 1 | J8: 20 | K8: 10 | L8: 0 | M8: 10 | N8: 72 | O8: 9 | P8: 81
A9: 35.03.07 Технология производства и переработки с.х. продукции | B9: 11 | C9: 0 | D9: 11 | E9: 17 | F9: 0 | G9: 17 | H9: 0 | I9: 0 | J9: 0 | K9: 0 | L9: 0 | M9: 0 | N9: 28 | O9: 0 | P9: 28
A10: 35.03.05 Садоводство | B10: 15 | C10: 2 | D10: 17 | E10: 23 | F10: 0 | G10: 23 | H10: 20 | I10: 0 | J10: 20 | K10: 7 | L10: 0 | M10: 7 | N10: 65 | O10: 2 | P10: 67
A11: 21.03.02 Землеустройство и кадастры | B11: 27 | C11: 7 | D11: 34 | E11: 24 | F11: 2 | G11: 26 | H11: 26 | I11: 0 | J11: 26 | K11: 22 | L11: 0 | M11: 22 | N11: 99 | O11: 9 | P11: 108
A12: 21.03.03 Геодезия и дистанцион. | B12: 25 | C12: 9 | D12: 34 | E12: 23 | F12: 2 | G12: 25 | H12: 18 | I12: 0 | J12: 18 | K12: 11 | L12: 0 | M12: 11 | N12: 77 | O12: 11 | P12: 88
A13: 35.03.01 Лесное дело | B13: 16 | C13: 0 | D13: 16 | E13: 13 | F13: 0 | G13: 13 | H13: 14 | I13: 0 | J13: 14 | K13: 6 | L13: 0 | M13: 6 | N13: 49 | O13: 0 | P13: 49
A14: 19.03.02 Продукты питания из растительного сырья | B14: 13 | C14: 0 | D14: 13 | E14: 26 | F14: 0 | G14: 26 | H14: 28 | I14: 2 | J14: 30 | K14: 12 | L14: 0 | M14: 12 | N14: 79 | O14: 2 | P14: 81
A15: 19.03.03 Продукты питания животного происхождения | B15: 16 | C15: 0 | D15: 16 | E15: 15 | F15: 0 | G15: 15 | H15: 10 | I15: 0 | J15: 10 | K15: 5 | L15: 0 | M15: 5 | N15: 46 | O15: 0 | P15: 46
A16: 35.03.06 Агроинженерия | B16: 38 | C16: 4 | D16: 42 | E16: 32 | F16: 0 | G16: 32 | H16: 33 | I16: 0 | J16: 33 | K16: 21 | L16: 1 | M16: 22 | N16: 124 | O16: 5 | P16: 129
A17: Итого по направлениям подготовки: | B17: 184 | C17: 26 | D17: 210 | E17: 193 | F17: 8 | G17: 201 | H17: 168 | I17: 3 | J17: 171 | K17: 94 | L17: 1 | M17: 95 | N17: 639 | O17: 38 | P17: 677
A18: В том числе:
A19: Граждане России
A20: 35.03.04 Агрономия | B20: 23 | C20: 4 | D20: 27 | E20: 20 | F20: 4 | G20: 24 | H20: 19 | I20: 1 | J20: 20 | K20: 10 | L20: 0 | M20: 10 | N20: 72 | O20: 9 | P20: 81
A21: 35.03.07 Технология производства и переработки с.х. продукции | B21: 11 | C21: 0 | D21: 11 | E21: 17 | F21: 0 | G21: 17 | H21: 0 | I21: 0 | J21: 0 | K21: 0 | L21: 0 | M21: 0 | N21: 28 | O21: 0 | P21: =N21+O21 -> 28
A22: 35.03.05 Садоводство | B22: 15 | C22: 2 | D22: 17 | E22: 23 | F22: 0 | G22: 23 | H22: 20 | I22: 0 | J22: 20 | K22: 7 | L22: 0 | M22: 7 | N22: 65 | O22: 2 | P22: 67
A23: 21.03.02 Землеустройство и кадастры | B23: 27 | C23: 7 | D23: 34 | E23: 24 | F23: 2 | G23: 26 | H23: 26 | I23: 0 | J23: 26 | K23: 22 | L23: 0 | M23: 22 | N23: 99 | O23: 9 | P23: 108
A24: 21.03.03 Геодезия и дистанцион. | B24: 25 | C24: 9 | D24: 34 | E24: 23 | F24: 2 | G24: 25 | H24: 18 | I24: 0 | J24: 18 | K24: 11 | L24: 0 | M24: 11 | N24: 77 | O24: 11 | P24: 88
A25: 35.03.01 Лесное дело | B25: 16 | C25: 0 | D25: 16 | E25: 13 | F25: 0 | G25: 13 | H25: 14 | I25: 0 | J25: 14 | K25: 6 | L25: 0 | M25: 6 | N25: 49 | O25: 0 | P25: 49
A26: 19.03.02 Продукты питания из растительного сырья | B26: 13 | C26: 0 | D26: 13 | E26: 26 | F26: 0 | G26: 26 | H26: 28 | I26: 2 | J26: 30 | K26: 12 | L26: 0 | M26: 12 | N26: 79 | O26: 2 | P26: 81
A27: 19.03.03 Продукты питания животного происхождения | B27: 16 | C27: 0 | D27: 16 | E27: 15 | F27: 0 | G27: 15 | H27: 10 | I27: 0 | J27: 10 | K27: 5 | L27: 0 | M27: 5 | N27: 46 | O27: 0 | P27: 46
A28: 35.03.06 Агроинженерия | B28: 38 | C28: 4 | D28: 42 | E28: 32 | F28: 0 | G28: 32 | H28: 33 | I28: 0 | J28: 33 | K28: 21 | L28: 1 | M28: 22 | N28: 124 | O28: 5 | P28: 129
A29: Итого граждане России | B29: 184 | C29: 26 | D29: 210 | E29: 193 | F29: 8 | G29: 201 | H29: 168 | I29: 3 | J29: 171 | K29: 94 | L29: 1 | M29: 95 | N29: 639 | O29: 38 | P29: 677
A30: Граждане иностранных государст(вкл.Украину)
A31: 35.03.07 Технология производства и переработки с.х. продукции | B31: 0 | C31: 0 | D31: 0 | E31: 0 | F31: 0 | G31: 0 | H31: 0 | I31: 0 | J31: 0 | K31: 0 | L31: 0 | M31: 0 | N31: 0 | O31: 0 | P31: 0
A32: 35.03.04 Агрономия | B32: 0 | C32: 0 | D32: 0 | E32: 0 | F32: 0 | G32: 0 | H32: 0 | I32: 0 | J32: 0 | K32: 0 | L32: 0 | M32: 0 | N32: 0 | O32: 0 | P32: 0
A33: 35.03.05 Садоводство | B33: 0 | C33: 0 | D33: 0 | E33: 0 | F33: 0 | G33: 0 | H33: 0 | I33: 0 | J33: 0 | K33: 0 | L33: 0 | M33: 0 | N33: 0 | O33: 0 | P33: 0
A34: 21.03.02 Землеустройство и кадастры | B34: 0 | C34: 0 | D34: 0 | E34: 0 | F34: 0 | G34: 0 | H34: 0 | I34: 0 | J34: 0 | K34: 0 | L34: 0 | M34: 0 | N34: 0 | O34: 0 | P34: 0
A35: 21.03.03 Геодезия и дистанцион. | B35: 0 | C35: 0 | D35: 0 | E35: 0 | F35: 0 | G35: 0 | H35: 0 | I35: 0 | J35: 0 | K35: 0 | L35: 0 | M35: 0 | N35: 0 | O35: 0 | P35: 0
A36: 35.03.01 Лесное дело | B36: 0 | C36: 0 | D36: 0 | E36: 0 | F36: 0 | G36: 0 | H36: 0 | I36: 0 | J36: 0 | K36: 0 | L36: 0 | M36: 0 | N36: 0 | O36: 0 | P36: 0
A37: 19.03.02 Продукты питания из растительного сырья | B37: 0 | C37: 0 | D37: 0 | E37: 0 | F37: 0 | G37: 0 | H37: 0 | I37: 0 | J37: 0 | K37: 0 | L37: 0 | M37: 0 | N37: 0 | O37: 0 | P37: 0
A38: 19.03.03 Продукты питания животного происхождения | B38: 0 | C38: 0 | D38: 0 | E38: 0 | F38: 0 | G38: 0 | H38: 0 | I38: 0 | J38: 0 | K38: 0 | L38: 0 | M38: 0 | N38: 0 | O38: 0 | P38: 0
A39: 35.03.06 Агроинженерия | B39: 0 | C39: 0 | D39: 0 | E39: 0 | F39: 0 | G39: 0 | H39: 0 | I39: 0 | J39: 0 | K39: 0 | L39: 0 | M39: 0 | N39: 0 | O39: 0 | P39: 0
A40: Итого граждане иностранных государст(вкл.Украину) | B40: 0 | C40: 0 | D40: 0 | E40: 0 | F40: 0 | G40: 0 | H40: 0 | I40: 0 | J40: 0 | K40: 0 | L40: 0 | M40: 0 | N40: 0 | O40: 0 | P40: 0
A41: Итого граждане России | B41: 184 | C41: 26 | D41: 210 | E41: 193 | F41: 8 | G41: 201 | H41: 168 | I41: 3 | J41: 171 | K41: 94 | L41: 1 | M41: 95 | N41: 639 | O41: 38 | P41: 677
A42: Итого граждане иностранных государст(вкл.Украину) | B42: 0 | C42: 0 | D42: 0 | E42: 0 | F42: 0 | G42: 0 | H42: 0 | I42: 0 | J42: 0 | K42: 0 | L42: 0 | M42: 0 | N42: 0 | O42: 0 | P42: 0
A43: Всего по АТА | B43: =B41+B42 -> 184 | C43: =C41+C42 -> 26 | D43: =D41+D42 -> 210 | E43: =E41+E42 -> 193 | F43: =F41+F42 -> 8 | G43: =G41+G42 -> 201 | H43: =H41+H42 -> 168 | I43: =I41+I42 -> 3 | ... P43: =P41+P42 -> 677

Sheet Бакалавр ЗФО АTA
A1: Институт "АГРОТЕХНОЛОГИЧЕСКАЯ АКАДЕМИЯ ФГАОУ ВО "КФУ им. В.И. Вернадского"
A2: Факультет/направление подготовки | E2: Контингент Заочной формы обучения на 01.01.2026 (Бакалавриат)
B3: 1 | E3: 2 | H3: 3 | K3: 4 | N3: 5 | Q3: Итого Бакалавриата
B5: За счет бюджетных ассигнований | C5: На основе догов.о платных образов.услугах | D5: ВСЕГО | E5: За счет бюджетных ассигнований | F5: На основе догов.о платных образов.услугах | G5: ВСЕГО | H5: За счет бюджетных ассигнований | I5: На основе догов.о платных образов.услугах | J5: ВСЕГО | K5: За счет бюджетных ассигнований | L5: На основе догов.о платных образов.услугах | M5: ВСЕГО | N5: За счет бюджетных ассигнований | O5: На основе догов.о платных образов.услугах | P5: ВСЕГО | Q5: За счет бюджетных ассигнований | R5: На основе догов.о платных образов.услугах | S5: ВСЕГО
A6: Свод по направлениям подготовкии
A7: 35.03.04 Агрономия | B7: 4 | C7: 6 | D7: 10 | E7: 8 | F7: 11 | G7: 19 | H7: 19 | I7: 6 | J7: 25 | K7: 9 | L7: 2 | M7: 11 | N7: 14 | O7: 0 | P7: 14 | Q7: 54 | R7: 25 | S7: 79
A8: 35.03.05 Садоводство | B8: 4 | C8: 1 | D8: 5 | E8: 11 | F8: 5 | G8: 16 | H8: 9 | I8: 2 | J8: 11 | K8: 19 | L8: 0 | M8: 19 | N8: 13 | O8: 0 | P8: 13 | Q8: 56 | R8: 8 | S8: 64
A9: 21.03.02 Землеустройство и кадастры | B9: 14 | C9: 11 | D9: 25 | E9: 14 | F9: 6 | G9: 20 | H9: 17 | I9: 5 | J9: 22 | K9: 22 | L9: 5 | M9: 27 | N9: 23 | O9: 9 | P9: 32 | Q9: 90 | R9: 36 | S9: 126
A10: 21.03.03 Геодезия и дистанцион. | B10: 14 | C10: 12 | D10: 26 | E10: 8 | F10: 6 | G10: 14 | H10: 0 | I10: 0 | J10: 0 | K10: 8 | L10: 3 | M10: 11 | N10: 14 | O10: 0 | P10: 14 | Q10: 44 | R10: 21 | S10: 65
A11: 35.03.01 Лесное дело | B11: 7 | C11: 2 | D11: 9 | E11: 0 | F11: 0 | G11: 0 | H11: 0 | I11: 0 | J11: 0 | K11: 0 | L11: 0 | M11: 0 | N11: 0 | O11: 0 | P11: 0 | Q11: 7 | R11: 2 | S11: 9
A12: 19.03.02 Продукты питания из растительного сырья | B12: 14 | C12: 2 | D12: 16 | E12: 10 | F12: 4 | G12: 14 | H12: 13 | I12: 5 | J12: 18 | K12: 13 | L12: 1 | M12: 14 | N12: 16 | O12: 3 | P12: 19 | Q12: 66 | R12: 15 | S12: 81
A13: 19.03.03 Продукты питания животного происхождения | B13: 13 | C13: 1 | D13: 14 | E13: 6 | F13: 1 | G13: 7 | H13: 9 | I13: 0 | J13: 9 | K13: 9 | L13: 0 | M13: 9 | N13: 6 | O13: 0 | P13: 6 | Q13: 43 | R13: 2 | S13: 45
A14: 35.03.06 Агроинженерия | B14: 9 | C14: 1 | D14: 10 | E14: 8 | F14: 3 | G14: 11 | H14: 17 | I14: 2 | J14: 19 | K14: 15 | L14: 1 | M14: 16 | N14: 18 | O14: 1 | P14: 19 | Q14: 67 | R14: 8 | S14: 75
A15: Итого по направлениям подготовки: | B15: 79 | C15: 36 | D15: 115 | E15: 65 | F15: 36 | G15: 101 | H15: 84 | I15: 20 | J15: 104 | K15: 95 | L15: 12 | M15: 107 | N15: 104 | O15: 13 | P15: 117 | Q15: 427 | R15: 117 | S15: 544
A16: В том числе:
A17: Граждане России
A18: 35.03.04 Агрономия | B18: 4 | C18: 6 | D18: 10 | E18: 8 | F18: 11 | G18: 19 | H18: 19 | I18: 6 | J18: 25 | K18: 9 | L18: 2 | M18: 11 | N18: 14 | O18: 0 | P18: 14 | Q18: 54 | R18: 25 | S18: 79
A19: 35.03.05 Садоводство | B19: 4 | C19: 1 | D19: 5 | E19: 11 | F19: 5 | G19: 16 | H19: 9 | I19: 2 | J19: 11 | K19: 19 | L19: 0 | M19: 19 | N19: 13 | O19: 0 | P19: 13 | Q19: 56 | R19: 8 | S19: 64
A20: 21.03.02 Землеустройство и кадастры | B20: 14 | C20: 11 | D20: 25 | E20: 14 | F20: 6 | G20: 20 | H20: 17 | I20: 5 | J20: 22 | K20: 22 | L20: 5 | M20: 27 | N20: 23 | O20: 9 | P20: 32 | Q20: 90 | R20: 36 | S20: 126
A21: 21.03.03 Геодезия и дистанцион. | B21: 14 | C21: 12 | D21: 26 | E21: 8 | F21: 6 | G21: 14 | H21: 0 | I21: 0 | J21: 0 | K21: 8 | L21: 3 | M21: 11 | N21: 14 | O21: 0 | P21: 14 | Q21: 44 | R21: 21 | S21: 65
A22: 35.03.01 Лесное дело | B22: 7 | C22: 2 | D22: 9 | E22: 0 | F22: 0 | G22: 0 | H22: 0 | I22: 0 | J22: 0 | K22: 0 | L22: 0 | M22: 0 | N22: 0 | O22: 0 | P22: 0 | Q22: 7 | R22: 2 | S22: 9
A23: 19.03.02 Продукты питания из растительного сырья | B23: 14 | C23: 2 | D23: 16 | E23: 10 | F23: 4 | G23: 14 | H23: 13 | I23: 5 | J23: 18 | K23: 13 | L23: 1 | M23: 14 | N23: 16 | O23: 3 | P23: 19 | Q23: 66 | R23: 15 | S23: 81
A24: 19.03.03 Продукты питания животного происхождения | B24: 13 | C24: 1 | D24: 14 | E24: 6 | F24: 1 | G24: 7 | H24: 9 | I24: 0 | J24: 9 | K24: 9 | L24: 0 | M24: 9 | N24: 6 | O24: 0 | P24: 6 | Q24: 43 | R24: 2 | S24: 45
A25: 35.03.06 Агроинженерия | B25: 9 | C25: 1 | D25: 10 | E25: 8 | F25: 3 | G25: =E25+F25 -> 11 | H25: 17 | I25: 2 | J25: 19 | K25: 15 | L25: 1 | M25: =K25+L25 -> 16 | N25: 18 | O25: 1 | P25: =N25+O25 -> 19 | Q25: 67 | R25: 8 | S25: 75
A26: Итого граждане России | B26: 79 | C26: 36 | D26: 115 | E26: 65 | F26: 36 | G26: 101 | H26: 84 | I26: 20 | J26: 104 | K26: 95 | L26: 12 | M26: 107 | N26: 104 | O26: 13 | P26: 117 | Q26: 427 | R26: 117 | S26: 544
A27: Граждане иностранных государст(вкл.Украину)
A28: 35.03.04 Агрономия | B28: 0 | C28: 0 | D28: 0 | E28: 0 | F28: 0 | G28: 0 | H28: 0 | I28: 0 | J28: 0 | K28: 0 | L28: 0 | M28: 0 | N28: 0 | O28: 0 | P28: 0 | Q28: 0 | R28: 0 | S28: 0
A29: 35.03.05 Садоводство | B29: 0 | C29: 0 | D29: 0 | E29: 0 | F29: 0 | G29: 0 | H29: 0 | I29: 0 | J29: 0 | K29: 0 | L29: 0 | M29: 0 | N29: 0 | O29: 0 | P29: 0 | Q29: 0 | R29: 0 | S29: 0
A30: 21.03.02 Землеустройство и кадастры | B30: 0 | C30: 0 | D30: 0 | E30: 0 | F30: 0 | G30: 0 | H30: 0 | I30: 0 | J30: 0 | K30: 0 | L30: 0 | M30: 0 | N30: 0 | O30: 0 | P30: 0 | Q30: 0 | R30: 0 | S30: 0
A31: 21.03.03 Геодезия и дистанционное зондирование | B31: 0 | C31: 0 | D31: 0 | E31: 0 | F31: 0 | G31: 0 | H31: 0 | I31: 0 | J31: 0 | K31: 0 | L31: 0 | M31: 0 | N31: 0 | O31: 0 | P31: 0 | Q31: 0 | R31: 0 | S31: 0
A32: 35.03.01 Лесное дело | B32: 0 | C32: 0 | D32: 0 | E32: 0 | F32: 0 | G32: 0 | H32: 0 | I32: 0 | J32: 0 | K32: 0 | L32: 0 | M32: 0 | N32: 0 | O32: 0 | P32: 0 | Q32: 0 | R32: 0 | S32: 0
A33: 19.03.02 Продукты питания из растительного сырья | B33: 0 | C33: 0 | D33: 0 | E33: 0 | F33: 0 | G33: 0 | H33: 0 | I33: 0 | J33: 0 | K33: 0 | L33: 0 | M33: 0 | N33: 0 | O33: 0 | P33: 0 | Q33: 0 | R33: 0 | S33: 0
A34: 21.03.02 Продукты питания животного происхождения | B34: 0 | C34: 0 | D34: 0 | E34: 0 | F34: 0 | G34: 0 | H34: 0 | I34: 0 | J34: 0 | K34: 0 | L34: 0 | M34: 0 | N34: 0 | O34: 0 | P34: 0 | Q34: 0 | R34: 0 | S34: 0
A35: 35.03.06 Агроинженерия | B35: 0 | C35: 0 | D35: 0 | E35: 0 | F35: 0 | G35: 0 | H35: 0 | I35: 0 | J35: 0 | K35: 0 | L35: 0 | M35: 0 | N35: 0 | O35: 0 | P35: 0 | Q35: 0 | R35: 0 | S35: 0
A36: Итого граждане иностранных государст(вкл.Украину) | B36: 0 | C36: 0 | D36: 0 | E36: 0 | F36: 0 | G36: 0 | H36: 0 | I36: 0 | J36: 0 | K36: 0 | L36: 0 | M36: 0 | N36: 0 | O36: 0 | P36: 0 | Q36: 0 | R36: 0 | S36: 0
A37: Всего по АТА | B37: =B26+B36 -> 79 | C37: =C26+C36 -> 36 | D37: =D26+D36 -> 115 | E37: 65 | F37: 37 | G37: 102 | H37: 84 | I37: 19 | J37: 103 | K37: 95 | L37: 12 | M37: 107 | N37: 104 | O37: 13 | P37: 117 | Q37: =Q26+Q36 -> 427 | R37: =R26+R36 -> 117 | S37: =S26+S36 -> 544

Sheet Специалитет ОФО АTA
A1: Институт "АГРОТЕХНОЛОГИЧЕСКАЯ АКАДЕМИЯ ФГАОУ ВО "КФУ им. В.И. Вернадского"
A2: Контингент Дневной формы обучения на 01.01.2026 г.(специалитет)
B3: выпуск 2029 | E3: выпуск 2028 | H3: выпуск 2027 | K3: выпуск 2026 | N3: выпуск 2025 | Q3: ВСЕГО специалитета
A4: Факультет/направление подготовки | B4: 1 | E4: 2 | H4: 3 | K4: 4 | N4: 5
B5: За счет бюджетных ассигнований | C5: На основе догов.о платных образов.услугах | D5: ВСЕГО | E5: За счет бюджетных ассигнований | F5: На основе догов.о платных образов.услугах | G5: ВСЕГО | H5: За счет бюджетных ассигнований | I5: На основе догов.о платных образов.услугах | J5: ВСЕГО | K5: За счет бюджетных ассигнований | L5: На основе догов.о платных образов.услугах | M5: ВСЕГО | N5: За счет бюджетных ассигнований | O5: На основе догов.о платных образов.услугах | P5: ВСЕГО | Q5: За счет бюджетных ассигнований | R5: На основе догов.о платных образов.услугах | S5: ВСЕГО
A6: Факультет ветеринарной медицины
A7: 36.05.01 Ветеринария | B7: 51 | C7: 13 | D7: 64 | E7: 49 | F7: 4 | G7: 53 | H7: 48 | I7: 1 | J7: 49 | K7: 38 | L7: 0 | M7: 38 | N7: 44 | O7: 1 | P7: 45 | Q7: 230 | R7: 19 | S7: 249
A8: Итого граждане России | B8: 51 | C8: 13 | D8: 64 | E8: 49 | F8: 4 | G8: 53 | H8: 48 | I8: 1 | J8: 49 | K8: 38 | L8: 0 | M8: 38 | N8: 44 | O8: 1 | P8: 45 | Q8: 230 | R8: 19 | S8: 249
A9: 36.05.01 Ветеринария | B9: 0 | C9: 0 | D9: 0 | E9: 0 | F9: 0 | G9: 0 | H9: 0 | I9: 0 | J9: 0 | K9: 0 | L9: 0 | M9: 0 | N9: 0 | O9: 0 | P9: 0 | Q9: 0 | R9: 0 | S9: 0
A10: Итого граждане иностранных государст(вкл.Украину) | B10: 0 | C10: 0 | D10: 0 | E10: 0 | F10: 0 | G10: 0 | H10: 0 | I10: 0 | J10: 0 | K10: 0 | L10: 0 | M10: 0 | N10: 0 | O10: 0 | P10: 0 | Q10: 0 | R10: 0 | S10: 0
A11: Итого по факультету | B11: 51 | C11: 13 | D11: 64 | E11: 49 | F11: 4 | G11: 53 | H11: 48 | I11: 1 | J11: 49 | K11: 38 | L11: 0 | M11: 38 | N11: 44 | O11: 1 | P11: 45 | Q11: =B11+E11+H11+K11+N11 -> 230 | R11: =R10+R8 -> 19 | S11: =D11+G11+J11+M11+P11 -> 249

Sheet Специал. ЗФО АТА
A1: институт "АГРОТЕХНОЛОГИЧЕСКАЯ АКАДЕМИЯ ФГАОУ ВО "КФУ им. В.И. Вернадского"
A2: Контингент Заочной формы обучения на 01.01.2026 (специалитет)
A3: Факультет/направление подготовки | B3: 1 | E3: 2 | H3: 3 | K3: 4 | N3: 5 | Q3: 6
B4: За счет бюджетных ассигнований | C4: На основе догов.о платных образов.услугах | D4: ВСЕГО | E4: За счет бюджетных ассигнований | F4: На основе догов.о платных образов.услугах | G4: ВСЕГО | H4: За счет бюджетных ассигнований | I4: На основе догов.о платных образов.услугах | J4: ВСЕГО | K4: За счет бюджетных ассигнований | L4: На основе догов.о платных образов.услугах | M4: ВСЕГО | N4: За счет бюджетных ассигнований | O4: На основе догов.о платных образов.услугах | P4: ВСЕГО | Q4: За счет бюджетных ассигнований | R4: На основе догов.о платных образов.услугах | S4: На основе догов.о платных образов.услугах | T4: ВСЕГО | U4: За счет бюджетных ассигнований | V4: На основе догов.о платных образов.услугах | W4: ВСЕГО
A5: 36.05.01 Ветеринария | B5: 0 | C5: 18 | D5: 18 | E5: 0 | F5: 31 | G5: 31 | H5: 0 | I5: 0 | J5: 0 | K5: 0 | L5: 0 | M5: 0 | N5: 0 | O5: 0 | P5: 0 | Q5: 0 | R5: 0 | S5: 0 | T5: 0 | U5: 0 | V5: =C5+F5 -> 49 | W5: =D5+G5 -> 49
A6: Итого граждане России | B6: 0 | C6: 18 | D6: 18 | E6: 0 | F6: 31 | G6: 31 | H6: 0 | I6: 0 | J6: 0 | K6: 0 | L6: 0 | M6: 0 | N6: 0 | O6: 0 | P6: 0 | Q6: 0 | R6: 0 | S6: 0 | T6: 0 | U6: 0 | V6: =C6+F6 -> 49 | W6: =D6+G6 -> 49
A7: 36.05.01 Ветеринария | B7: 0 | C7: 18 | D7: 18 | E7: 0 | F7: 0 | G7: 0 | H7: 0 | I7: 0 | J7: 0 | K7: 0 | L7: 0 | M7: 0 | N7: 0 | O7: 0 | P7: 0 | Q7: 0 | R7: 0 | S7: 0 | T7: 0 | U7: 0 | V7: =C7+F7 -> 18 | W7: =D7+G7 -> 18
A8: Итого граждане иностранных государст(вкл.Украину) | B8: 0 | C8: 0 | D8: 0 | E8: 0 | F8: 0 | G8: 0 | H8: 0 | I8: 0 | J8: 0 | K8: 0 | L8: 0 | M8: 0 | N8: 0 | O8: 0 | P8: 0 | Q8: 0 | R8: 0 | S8: 0 | T8: 0 | U8: 0 | V8: =C8+F8 -> 0 | W8: =D8+G8 -> 0
A9: Итого по факультету | B9: 0 | C9: 18 | D9: 18 | E9: 0 | F9: 31 | G9: 31 | H9: 0 | I9: 0 | J9: 0 | K9: 0 | L9: 0 | M9: 0 | N9: 0 | O9: 0 | P9: 0 | Q9: 0 | R9: 0 | S9: 0 | T9: 0 | U9: 0 | V9: =C9+F9 -> 49 | W9: =D9+G9 -> 49

Sheet МАГ ОФО АTA
A1: институт "АГРОТЕХНОЛОГИЧЕСКАЯ АКАДЕМИЯ ФГАОУ ВО "КФУ им. В.И. Вернадского"
A2: Контингент Дневной формы обучения на 01.01.2026
A3: Факультет/направление подготовки | B3: выпуск 2027 | E3: выпуск 2026
B4: 1 | E4: 2 | H4: Итого магистратуры
B6: магистр | E6: магистр
B7: За счет бюджетных ассигнований | C7: На основе догов.о платных образов.услугах | D7: ВСЕГО | E7: За счет бюджетных ассигнований | F7: На основе догов.о платных образов.услугах | G7: ВСЕГО | H7: За счет бюджетных ассигнований | I7: На основе догов.о платных образов.услугах | J7: ВСЕГО
A8: Свод по направлениям подготовкии
A9: 35.04.04 Агрономия | B9: 10 | C9: 0 | D9: 10 | E9: 10 | F9: 0 | G9: 10 | H9: 20 | I9: 0 | J9: 20
A10: 35.04.05 Садоводство | B10: 10 | C10: 0 | D10: 10 | E10: 10 | F10: 1 | G10: 11 | H10: 20 | I10: 1 | J10: 21
A11: 21.04.02 Землеустройство и кадастры | B11: 12 | C11: 2 | D11: 14 | E11: 14 | F11: 0 | G11: 14 | H11: 26 | I11: 2 | J11: 28
A12: 35.04.01 Лесное дело | B12: 7 | C12: 2 | D12: 9 | E12: 10 | F12: 0 | G12: 10 | H12: 17 | I12: 2 | J12: 19
A13: 19.04.02 Продукты питания из растительного сырья | B13: 8 | C13: 0 | D13: 8 | E13: 10 | F13: 0 | G13: 10 | H13: 18 | I13: 0 | J13: 18
A14: 19.04.03 Продукты питания животного происхождения | B14: 6 | C14: 0 | D14: 6 | E14: 7 | F14: 0 | G14: 7 | H14: 13 | I14: 0 | J14: 13
A15: 19.04.04 Технология продукции и организации общественного питания | B15: 8 | C15: 0 | D15: 8 | E15: 9 | F15: 0 | G15: 9 | H15: 17 | I15: 0 | J15: 17
A16: 35.04.06 Агроинженерия | B16: 15 | C16: 0 | D16: 15 | E16: 22 | F16: 0 | G16: 22 | H16: 37 | I16: 0 | J16: 37
A17: Итого по направлениям подготовки: | B17: =SUM(B9:B16) -> 76 | C17: =SUM(C9:C16) -> 4 | D17: =SUM(D9:D16) -> 80 | E17: =SUM(E9:E16) -> 92 | F17: =SUM(F9:F16) -> 1 | G17: =SUM(G9:G16) -> 93 | H17: =SUM(H9:H16) -> 168 | I17: =SUM(I9:I16) -> 5 | J17: =SUM(J9:J16) -> 173
A18: В том числе:
A19: Граждане России
A20: 35.04.04 Агрономия | B20: 10 | C20: 0 | D20: 10 | E20: 10 | F20: 0 | G20: 10 | H20: 20 | I20: 0 | J20: 20
A21: 35.04.05 Садоводство | B21: 10 | C21: 0 | D21: 10 | E21: 10 | F21: 1 | G21: 11 | H21: 20 | I21: 1 | J21: 21
A22: 21.04.02 Землеустройство и кадастры | B22: 12 | C22: 2 | D22: 14 | E22: 14 | F22: 0 | G22: 14 | H22: 26 | I22: 2 | J22: 28
A23: 35.04.01 Лесное дело | B23: 7 | C23: 2 | D23: 9 | E23: 10 | F23: 0 | G23: 10 | H23: 17 | I23: 2 | J23: 19
A24: 19.04.02 Продукты питания из растительного сырья | B24: 8 | C24: 0 | D24: 8 | E24: 10 | F24: 0 | G24: 10 | H24: 18 | I24: 0 | J24: 18
A25: 19.04.04 Технология продукции и организации общественного питания | B25: 6 | C25: 0 | D25: 6 | E25: 7 | F25: 0 | G25: 7 | H25: 13 | I25: 0 | J25: 13
A26: 19.04.03 Продукты питания животного происхождения | B26: 8 | C26: 0 | D26: 8 | E26: 9 | F26: 0 | G26: 9 | H26: 17 | I26: 0 | J26: 17
A27: 35.04.06 Агроинженерия | B27: 15 | C27: 0 | D27: 15 | E27: 22 | F27: 0 | G27: 22 | H27: 37 | I27: 0 | J27: 37
A28: Итого граждане России | B28: =SUM(B20:B27) -> 76 | C28: =SUM(C20:C27) -> 4 | D28: =SUM(D20:D27) -> 80 | E28: =SUM(E20:E27) -> 92 | F28: =SUM(F20:F27) -> 1 | G28: =SUM(G20:G27) -> 93 | H28: =SUM(H20:H27) -> 168 | I28: =SUM(I20:I27) -> 5 | J28: =SUM(J20:J27) -> 173
A29: Граждане иностранных государст(вкл.Украину)
A30: 35.04.04 Агрономия | B30: 0 | C30: 0 | D30: 0 | E30: 0 | F30: 0 | G30: 0 | H30: 0 | I30: 0 | J30: 0
A31: 35.04.05 Садоводство | B31: 0 | C31: 0 | D31: 0 | E31: 0 | F31: 1 | G31: 1 | H31: 0 | I31: 1 | J31: 1
A32: 21.04.02 Землеустройство и кадастры | B32: 0 | C32: 0 | D32: 0 | E32: 0 | F32: 0 | G32: 0 | H32: 0 | I32: 0 | J32: 0
A33: 35.04.01 Лесное дело | B33: 0 | C33: 0 | D33: 0 | E33: 0 | F33: 0 | G33: 0 | H33: 0 | I33: 0 | J33: 0
A34: 19.04.02 Продукты питания из растительного сырья | B34: 0 | C34: 0 | D34: 0 | E34: 0 | F34: 0 | G34: 0 | H34: 0 | I34: 0 | J34: 0
A35: 19.04.03 Продукты питания животного происхождения | B35: 0 | C35: 0 | D35: 0 | E35: 0 | F35: 0 | G35: 0 | H35: 0 | I35: 0 | J35: 0
A36: 19.04.04 Технология продукции и организации общественного питания | B36: 0 | C36: 0 | D36: 0 | E36: 0 | F36: 0 | G36: 0 | H36: 0 | I36: 0 | J36: 0
A37: 35.04.06 Агроинженерия | B37: 0 | C37: 0 | D37: 0 | E37: 0 | F37: 0 | G37: 0 | H37: 0 | I37: 0 | J37: 0
A38: Итого граждане иностранных государст(вкл.Украину) | B38: 0 | C38: 0 | D38: 0 | E38: 0 | F38: 0 | G38: 0 | H38: 0 | I38: 0 | J38: 0
A39: Всего по АТА | B39: =B28+B38 -> 76 | C39: =C28+C38 -> 4 | D39: =D28+D38 -> 80 | E39: =E28+E38 -> 92 | F39: =F28+F38 -> 1 | G39: =G28+G38 -> 93 | H39: =H28+H38 -> 168 | I39: =I28+I38 -> 5 | J39: =J28+J38 -> 173

Sheet МАГ ЗФО АTA
A1: институт "АГРОТЕХНОЛОГИЧЕСКАЯ АКАДЕМИЯ"ФГАОУ ВО "КФУ им. В.И. Вернадского"
A2: Контингент Заочной формы обучения на 01.01.2026 (МАГИСТРАТУРА)
B3: 1 | E3: 2 | H3: 3 | K3: Итого магистратуры
B4: магистр | E4: магистр | H4: магистр
B5: За счет бюджетных ассигнований | C5: На основе догов.о платных образов.услугах | D5: ВСЕГО | E5: За счет бюджетных ассигнований | F5: На основе догов.о платных образов.услугах | G5: ВСЕГО | H5: За счет бюджетных ассигнований | I5: На основе догов.о платных образов.услугах | J5: ВСЕГО | K5: За счет бюджетных ассигнований | L5: На основе догов.о платных образов.услугах | M5: ВСЕГО
A6: Свод по направлениям подготовкии
A7: 35.04.04 Агрономия | B7: =B17+B26 -> 10 | C7: =C17+C26 -> 4 | D7: =D17+D26 -> 14 | E7: 10 | F7: 3 | G7: 13 | H7: 7 | I7: 2 | J7: 9 | K7: 27 | L7: 9 | M7: 36
A8: 35.04.05 Садоводство | B8: =B18+B27 -> 10 | C8: =C18+C27 -> 4 | D8: =D18+D27 -> 14 | E8: 10 | F8: 2 | G8: 12 | H8: 7 | I8: 5 | J8: 12 | K8: 27 | L8: 11 | M8: 38
A9: 21.04.02 Землеустройство и кадастры | B9: =B19+B28 -> 0 | C9: =C19+C28 -> 14 | D9: =D19+D28 -> 14 | E9: 0 | F9: 7 | G9: 7 | H9: 0 | I9: 0 | J9: 0 | K9: 0 | L9: 21 | M9: 21
A10: 35.04.01 Лесное дело | B10: =B20+B29 -> 0 | C10: =C20+C29 -> 0 | D10: =D20+D29 -> 0 | E10: 0 | F10: 0 | G10: 0 | H10: 8 | I10: 3 | J10: 11 | K10: 8 | L10: 3 | M10: 11
A11: 19.04.02 Продукты питания из растительного сырья | B11: =B21+B30 -> 0 | C11: =C21+C30 -> 6 | D11: =D21+D30 -> 6 | E11: 0 | F11: 5 | G11: 5 | H11: 0 | I11: 0 | J11: 0 | K11: 0 | L11: 11 | M11: 11
A12: 19.04.03 Продукты питания животного происхождения | B12: =B22+B31 -> 0 | C12: =C22+C31 -> 0 | D12: =D22+D31 -> 0 | E12: 0 | F12: 0 | G12: 0 | H12: 0 | I12: 0 | J12: 0 | K12: 0 | L12: 0 | M12: 0
A13: 35.04.06 Агроинженерия | B13: =B23+B32 -> 14 | C13: =C23+C32 -> 0 | D13: =D23+D32 -> 14 | E13: 14 | F13: 1 | G13: 16 | H13: 20 | I13: 1 | J13: 21 | K13: 48 | L13: 2 | M13: 50
A14: Итого по направлениям подготовки: | B14: =SUM(B7:B13) -> 34 | C14: =SUM(C7:C13) -> 28 | D14: =SUM(D7:D13) -> 62 | E14: 34 | F14: =SUM(F7:F13) -> 18 | G14: =SUM(G7:G13) -> 53 | H14: =SUM(H7:H13) -> 42 | I14: =SUM(I7:I13) -> 11 | J14: 53 | K14: 110 | L14: 57 | M14: 167
A15: В том числе:
A16: Граждане России
A17: 35.04.04 Агрономия | B17: 10 | C17: 4 | D17: =C17+B17 -> 14 | E17: 10 | F17: 3 | G17: 13 | H17: 7 | I17: 2 | J17: 9 | K17: 27 | L17: 9 | M17: 36
A18: 35.04.05 Садоводство | B18: 10 | C18: 4 | D18: =C18+B18 -> 14 | E18: 10 | F18: 2 | G18: 12 | H18: 7 | I18: 5 | J18: 12 | K18: 27 | L18: 11 | M18: 38
A19: 21.04.02 Землеустройство и кадастры | B19: 0 | C19: 14 | D19: 14 | E19: 0 | F19: 7 | G19: 7 | H19: 0 | I19: 0 | J19: 0 | K19: 0 | L19: 21 | M19: 21
A20: 35.04.01 Лесное дело | B20: 0 | C20: 0 | D20: =C20+B20 -> 0 | E20: 0 | F20: 0 | G20: 0 | H20: 8 | I20: 3 | J20: 11 | K20: 8 | L20: 3 | M20: 11
A21: 19.04.02 Продукты питания из растительного сырья | B21: 0 | C21: 6 | D21: 6 | E21: 0 | F21: 5 | G21: 5 | H21: 0 | I21: 0 | J21: 0 | K21: 0 | L21: 11 | M21: 11
A22: 19.04.03 Продукты питания животного происхождения | B22: 0 | C22: 0 | D22: =C22+B22 -> 0 | E22: 0 | F22: 0 | G22: 0 | H22: 0 | I22: 0 | J22: 0 | K22: 0 | L22: 0 | M22: 0
A23: 35.04.06 Агроинженерия | B23: 14 | C23: 0 | D23: =C23+B23 -> 14 | E23: 14 | F23: 1 | G23: 16 | H23: 20 | I23: 1 | J23: 21 | K23: 48 | L23: 2 | M23: 50
A24: Итого граждане России | B24: =SUM(B17:B23) -> 34 | C24: =SUM(C17:C23) -> 28 | D24: =SUM(D17:D23) -> 62 | E24: 34 | F24: 18 | G24: 53 | H24: 42 | I24: 11 | J24: 53 | K24: 110 | L24: 57 | M24: 167
A25: Граждане иностранных государст(вкл.Украину)
A26: 35.04.04 Агрономия | B26: 0 | C26: 0 | D26: =C26+B26 -> 0 | E26: 0 | F26: 0 | G26: 0 | H26: 0 | I26: 0 | J26: 0 | K26: 0 | L26: 0 | M26: 0
A27: 35.04.05 Садоводство | B27: 0 | C27: 0 | D27: =C27+B27 -> 0 | E27: 0 | F27: 0 | G27: 0 | H27: 0 | I27: 0 | J27: 0 | K27: 0 | L27: 0 | M27: 0
A28: 21.04.02 Землеустройство и кадастры | B28: 0 | C28: 0 | D28: =C28+B28 -> 0 | E28: 0 | F28: 0 | G28: 0 | H28: 0 | I28: 0 | J28: 0 | K28: 0 | L28: 0 | M28: 0
A29: 35.04.01 Лесное дело | B29: 0 | C29: 0 | D29: =C29+B29 -> 0 | E29: 0 | F29: 0 | G29: 0 | H29: 0 | I29: 0 | J29: 0 | K29: 0 | L29: 0 | M29: 0
A30: 19.04.02 Продукты питания из растительного сырья | B30: 0 | C30: 0 | D30: =C30+B30 -> 0 | E30: 0 | F30: 0 | G30: 0 | H30: 0 | I30: 0 | J30: 0 | K30: 0 | L30: 0 | M30: 0
A31: 19.04.03 Продукты питания животного происхождения | B31: 0 | C31: 0 | D31: 0 | E31: 0 | F31: 0 | G31: 0 | H31: 0 | I31: 0 | J31: 0 | K31: 0 | L31: 0 | M31: 0
A32: 35.04.06 Агроинженерия | B32: 0 | C32: 0 | D32: =C32+B32 -> 0 | E32: 0 | F32: 0 | G32: 0 | H32: 0 | I32: 0 | J32: 0 | K32: 0 | L32: 0 | M32: 0
A33: Итого граждане иностранных государст(вкл.Украину) | B33: =SUM(B26:B32) -> 0 | C33: =SUM(C26:C32) -> 0 | D33: =SUM(D26:D32) -> 0 | E33: 0 | F33: 0 | G33: 0 | H33: 0 | I33: 0 | J33: 0 | K33: 0 | L33: 0 | M33: 0
A34: Всего по АТА | B34: =B24+B33 -> 34 | C34: =C24+C33 -> 28 | D34: =D24+D33 -> 62 | E34: =E24+E33 -> 34 | F34: =F24+F33 -> 18 | G34: =G24+G33 -> 53 | H34: =H24+H33 -> 42 | I34: =I24+I33 -> 11 | ... M34: =M24+M33 -> 167

Sheet Бакалавр ОФО ИЭиУ
A1: ФГАОУ ВО "КФУ им. В.И. Вернадского"
A2: ИНСТИТУТ ЭКОНОМИКИ И УПРАВЛЕНИЯ
A3: Контингент очной формы обучения на 01.01.2026 г. (Бакалавриат)
A5: Факультет/направление подготовки | B5: 1 год обучения | E5: 2 год обучения | H5: 3 год обучения | K5: 4 год обучения | N5: Всего бакалавриата
B7: За счет бюджетных ассигнований | C7: На основе догов. о платных образов. услугах | D7: ВСЕГО | E7: За счет бюджетных ассигнований | F7: На основе догов. о платных образов. услугах | G7: ВСЕГО | H7: За счет бюджетных ассигнований | I7: На основе догов. о платных образов. услугах | J7: ВСЕГО | K7: За счет бюджетных ассигнований | L7: На основе догов. о платных образов. услугах | M7: ВСЕГО | N7: За счет бюджетных ассигнований | O7: На основе догов. о платных образов. услугах | P7: ВСЕГО
A8: Свод по направлениям подготовки
A9: 38.03.01 Экономика | B9: =B22+B34 -> 89 | C9: =C22+C34 -> 12 | D9: =B9+C9 -> 101 | E9: =E22+E34 -> 90 | F9: =F22+F34 -> 11 | G9: =E9+F9 -> 101 | H9: =H22+H34 -> 123 | I9: =I22+I34 -> 4 | J9: =H9+I9 -> 127 | K9: =K22+K34 -> 106 | L9: =L22+L34 -> 2 | M9: =K9+L9 -> 108 | N9: =SUM(B9+E9+H9+K9) -> 408 | O9: =SUM(C9+F9+I9+L9) -> 29 | P9: =SUM(N9:O9) -> 437
A10: Банковское дело и финансовые услуги | B10: =B23+B35 -> 20 | C10: =C23+C35 -> 4 | D10: =B10+C10 -> 24 | E10: =E23+E35 -> 27 | F10: =F23+F35 -> 1 | G10: =E10+F10 -> 28 | H10: =H23+H35 -> 23 | I10: =I23+I35 -> 1 | J10: =J23+J35 -> 24 | K10: =K23+K35 -> 21 | L10: =L23+L35 -> 1 | M10: =K10+L10 -> 22 | N10: =SUM(B10+E10+H10+K10) -> 91 | O10: =SUM(C10+F10+I10+L10) -> 7 | P10: =SUM(N10:O10) -> 98
A11: Бухгалтерский учет, анализ и аудит | B11: =B24+B36 -> 17 | C11: =C24+C36 -> 4 | D11: =B11+C11 -> 21 | E11: =E24+E36 -> 17 | F11: =F24+F36 -> 1 | G11: =E11+F11 -> 18 | H11: =H24+H36 -> 23 | I11: =I24+I36 -> 0 | J11: =J24+J36 -> 23 | K11: =K24+K36 -> 21 | L11: =L24+L36 -> 1 | M11: =K11+L11 -> 22 | N11: =SUM(B11+E11+H11+K11) -> 78 | O11: =SUM(C11+F11+I11+L11) -> 6 | P11: =SUM(N11:O11) -> 84
A12: Внешнеэкономическая деятельность | B12: =B25+B37 -> 19 | C12: =C25+C37 -> 2 | D12: =B12+C12 -> 21 | E12: =E25+E37 -> 19 | F12: =F25+F37 -> 3 | G12: =E12+F12 -> 22 | H12: =H25+H37 -> 30 | I12: =I25+I37 -> 1 | J12: =J25+J37 -> 31 | K12: =K25+K37 -> 21 | L12: =L25+L37 -> 0 | M12: =K12+L12 -> 21 | N12: =SUM(B12+E12+H12+K12) -> 89 | O12: =SUM(C12+F12+I12+L12) -> 6 | P12: =SUM(N12:O12) -> 95
A13: Государственные и муниципальные финансы | B13: =B26+B38 -> 0 | C13: =C26+C38 -> 0 | D13: =B13+C13 -> 0 | E13: =E26+E38 -> 0 | F13: =F26+F38 -> 0 | G13: =E13+F13 -> 0 | H13: =H26+H38 -> 11 | I13: =I26+I38 -> 1 | J13: =J26+J38 -> 12 | K13: =K26+K38 -> 19 | L13: =L26+L38 -> 0 | M13: =K13+L13 -> 19 | N13: =SUM(B13+E13+H13+K13) -> 30 | O13: =SUM(C13+F13+I13+L13) -> 1 | P13: =SUM(N13:O13) -> 31
A14: Экономика предприятий и организаций | B14: =B27+B39 -> 33 | C14: =C27+C39 -> 2 | D14: =B14+C14 -> 35 | E14: =E27+E39 -> 27 | F14: =F27+F39 -> 6 | G14: =E14+F14 -> 33 | H14: =H27+H39 -> 36 | I14: =I27+I39 -> 1 | J14: =J27+J39 -> 37 | K14: =K27+K39 -> 24 | L14: =L27+L39 -> 0 | M14: =K14+L14 -> 24 | N14: =SUM(B14+E14+H14+K14) -> 120 | O14: =SUM(C14+F14+I14+L14) -> 9 | P14: =SUM(N14:O14) -> 129
A15: 38.03.02 Менеджмент | B15: =B28+B40 -> 29 | C15: =C28+C40 -> 11 | D15: =B15+C15 -> 40 | E15: =E28+E40 -> 40 | F15: =F28+F40 -> 7 | G15: =E15+F15 -> 47 | H15: =H28+H40 -> 43 | I15: =I28+I40 -> 5 | J15: =H15+I15 -> 48 | K15: =K28+K40 -> 45 | L15: =L28+L40 -> 2 | M15: =K15+L15 -> 47 | N15: =SUM(B15+E15+H15+K15) -> 157 | O15: =SUM(C15+F15+I15+L15) -> 25 | P15: =SUM(N15:O15) -> 182
A16: 38.03.03 Управление персоналом | B16: =B29+B41 -> 26 | C16: =C29+C41 -> 4 | D16: =B16+C16 -> 30 | E16: =E29+E41 -> 21 | F16: =F29+F41 -> 0 | G16: =E16+F16 -> 21 | H16: =H29+H41 -> 23 | I16: =I29+I41 -> 1 | J16: =H16+I16 -> 24 | K16: =K29+K41 -> 18 | L16: =L29+L41 -> 0 | M16: =K16+L16 -> 18 | N16: =SUM(B16+E16+H16+K16) -> 88 | O16: =SUM(C16+F16+I16+L16) -> 5 | P16: =SUM(N16:O16) -> 93
A17: 38.03.04 Государственное и муниципальное управление | B17: =B30+B42 -> 27 | C17: =C30+C42 -> 16 | D17: =B17+C17 -> 43 | E17: =E30+E42 -> 44 | F17: =F30+F42 -> 1 | G17: =E17+F17 -> 45 | H17: =H30+H42 -> 46 | I17: =I30+I42 -> 3 | J17: =H17+I17 -> 49 | K17: =K30+K42 -> 43 | L17: =L30+L42 -> 1 | M17: =K17+L17 -> 44 | N17: =SUM(B17+E17+H17+K17) -> 160 | O17: =SUM(C17+F17+I17+L17) -> 21 | P17: =SUM(N17:O17) -> 181
A18: 38.03.06 Торговое дело | B18: =B31+B43 -> 24 | C18: =C31+C43 -> 14 | D18: =B18+C18 -> 38 | E18: =E31+E43 -> 27 | F18: =F31+F43 -> 2 | G18: =E18+F18 -> 29 | H18: =H31+H43 -> 21 | I18: =I31+I43 -> 0 | J18: =H18+I18 -> 21 | K18: =K31+K43 -> 25 | L18: =L31+L43 -> 3 | M18: =K18+L18 -> 28 | N18: =SUM(B18+E18+H18+K18) -> 97 | O18: =SUM(C18+F18+I18+L18) -> 19 | P18: =SUM(N18:O18) -> 116
A19: Итого по направлениям подготовки: | B19: =SUM(B9+B15+B16+B17+B18) -> 195 | C19: =SUM(C9+C15+C16+C17+C18) -> 57 | D19: =SUM(D9+D15+D16+D17+D18) -> 252 | E19: =SUM(E9+E15+E16+E17+E18) -> 222 | F19: =SUM(F9+F15+F16+F17+F18) -> 21 | G19: =SUM(G9+G15+G16+G17+G18) -> 243 | H19: =SUM(H9+H15+H16+H17+H18) -> 256 | I19: =SUM(I9+I15+I16+I17+I18) -> 13 | ... P19: =SUM(P9+P15+P16+P17+P18) -> 1009
A20: В том числе:
A21: Граждане России
A22: 38.03.01 Экономика | B22: =SUM(B23:B27) -> 89 | C22: =SUM(C23:C27) -> 12 | D22: =SUM(B22:C22) -> 101 | E22: =SUM(E23:E27) -> 90 | F22: =SUM(F23:F27) -> 11 | G22: =SUM(E22:F22) -> 101 | H22: =SUM(H23:H27) -> 123 | I22: =SUM(I23:I27) -> 4 | J22: =SUM(H22:I22) -> 127 | K22: =SUM(K23:K27) -> 106 | L22: =SUM(L23:L27) -> 2 | M22: =SUM(K22:L22) -> 108 | N22: =SUM(B22+E22+H22+K22) -> 408 | O22: =SUM(C22+F22+I22+L22) -> 29 | P22: =SUM(N22:O22) -> 437
A23: Банковское дело и финансовые услуги | B23: 20 | C23: 4 | D23: =SUM(B23:C23) -> 24 | E23: 27 | F23: 1 | G23: =SUM(E23:F23) -> 28 | H23: 23 | I23: 1 | J23: =SUM(H23:I23) -> 24 | K23: 21 | L23: 1 | M23: =SUM(K23:L23) -> 22 | N23: =SUM(B23+E23+H23+K23) -> 91 | O23: =SUM(C23+F23+I23+L23) -> 7 | P23: =SUM(N23:O23) -> 98
A24: Бухгалтерский учет, анализ и аудит | B24: 17 | C24: 4 | D24: =SUM(B24:C24) -> 21 | E24: 17 | F24: 1 | G24: =SUM(E24:F24) -> 18 | H24: 23 | I24: 0 | J24: =SUM(H24:I24) -> 23 | K24: 21 | L24: 1 | M24: =SUM(K24:L24) -> 22 | N24: =SUM(B24+E24+H24+K24) -> 78 | O24: =SUM(C24+F24+I24+L24) -> 6 | P24: =SUM(N24:O24) -> 84
A25: Внешнеэкономическая деятельность | B25: 19 | C25: 2 | D25: =SUM(B25:C25) -> 21 | E25: 19 | F25: 3 | G25: =SUM(E25:F25) -> 22 | H25: 30 | I25: 1 | J25: =SUM(H25:I25) -> 31 | K25: 21 | L25: 0 | M25: =SUM(K25:L25) -> 21 | N25: =SUM(B25+E25+H25+K25) -> 89 | O25: =SUM(C25+F25+I25+L25) -> 6 | P25: =SUM(N25:O25) -> 95
A26: Государственные и муниципальные финансы | B26: 0 | C26: 0 | D26: =SUM(B26:C26) -> 0 | E26: 0 | F26: 0 | G26: =SUM(E26:F26) -> 0 | H26: 11 | I26: 1 | J26: =SUM(H26:I26) -> 12 | K26: 19 | L26: 0 | M26: =SUM(K26:L26) -> 19 | N26: =SUM(B26+E26+H26+K26) -> 30 | O26: =SUM(C26+F26+I26+L26) -> 1 | P26: =SUM(N26:O26) -> 31
A27: Экономика предприятий и организаций | B27: 33 | C27: 2 | D27: =SUM(B27:C27) -> 35 | E27: 27 | F27: 6 | G27: =SUM(E27:F27) -> 33 | H27: 36 | I27: 1 | J27: =SUM(H27:I27) -> 37 | K27: 24 | L27: 0 | M27: =SUM(K27:L27) -> 24 | N27: =SUM(B27+E27+H27+K27) -> 120 | O27: =SUM(C27+F27+I27+L27) -> 9 | P27: =SUM(N27:O27) -> 129
A28: 38.03.02 Менеджмент | B28: 29 | C28: 11 | D28: =SUM(B28:C28) -> 40 | E28: 40 | F28: 5 | G28: =SUM(E28:F28) -> 45 | H28: 43 | I28: 5 | J28: =SUM(H28:I28) -> 48 | K28: 44 | L28: 2 | M28: =SUM(K28:L28) -> 46 | N28: =SUM(B28+E28+H28+K28) -> 156 | O28: =SUM(C28+F28+I28+L28) -> 23 | P28: =SUM(N28:O28) -> 179
A29: 38.03.03 Управление персоналом | B29: 26 | C29: 4 | D29: =SUM(B29:C29) -> 30 | E29: 21 | F29: 0 | G29: =SUM(E29:F29) -> 21 | H29: 23 | I29: 1 | J29: =SUM(H29:I29) -> 24 | K29: 18 | L29: 0 | M29: =SUM(K29:L29) -> 18 | N29: =SUM(B29+E29+H29+K29) -> 88 | O29: =SUM(C29+F29+I29+L29) -> 5 | P29: =SUM(N29:O29) -> 93
A30: 38.03.04 Государственное и муниципальное управление | B30: 27 | C30: 16 | D30: =SUM(B30:C30) -> 43 | E30: 44 | F30: 1 | G30: =SUM(E30:F30) -> 45 | H30: 46 | I30: 3 | J30: =SUM(H30:I30) -> 49 | K30: 43 | L30: 1 | M30: =SUM(K30:L30) -> 44 | N30: =SUM(B30+E30+H30+K30) -> 160 | O30: =SUM(C30+F30+I30+L30) -> 21 | P30: =SUM(N30:O30) -> 181
A31: 38.03.06 Торговое дело | B31: 23 | C31: 14 | D31: =SUM(B31:C31) -> 37 | E31: 27 | F31: 2 | G31: =SUM(E31:F31) -> 29 | H31: 21 | I31: 0 | J31: =SUM(H31:I31) -> 21 | K31: 24 | L31: 3 | M31: =SUM(K31:L31) -> 27 | N31: =SUM(B31+E31+H31+K31) -> 95 | O31: =SUM(C31+F31+I31+L31) -> 19 | P31: =SUM(N31:O31) -> 114
A32: Итого граждан России | B32: =SUM(B22+B28+B29+B30+B31) -> 194 | C32: =SUM(C22+C28+C29+C30+C31) -> 57 | D32: =SUM(D22+D28+D29+D30+D31) -> 251 | E32: =SUM(E22+E28+E29+E30+E31) -> 222 | F32: =SUM(F22+F28+F29+F30+F31) -> 19 | G32: =SUM(G22+G28+G29+G30+G31) -> 241 | H32: =SUM(H22+H28+H29+H30+H31) -> 256 | I32: =SUM(I22+I28+I29+I30+I31) -> 13 | ... P32: =SUM(P22+P28+P29+P30+P31) -> 1004
A33: Граждане иностранных государств (вкл. Украину) | N33: =SUM(B33+E33+H33+K33) -> 0 | O33: =SUM(C33+F33+I33+L33) -> 0 | P33: =SUM(N33:O33) -> 0
A34: 38.03.01 Экономика | B34: =SUM(B35:B39) -> 0 | C34: =SUM(C35:C39) -> 0 | D34: =SUM(B34:C34) -> 0 | E34: =SUM(E35:E39) -> 0 | F34: =SUM(F35:F39) -> 0 | G34: =SUM(E34:F34) -> 0 | H34: =SUM(H35:H39) -> 0 | I34: =SUM(I35:I39) -> 0 | J34: =SUM(H34:I34) -> 0 | K34: =SUM(K35:K39) -> 0 | L34: =SUM(L35:L39) -> 0 | M34: =SUM(K34:L34) -> 0 | N34: =SUM(B34+E34+H34+K34) -> 0 | O34: =SUM(C34+F34+I34+L34) -> 0 | P34: =SUM(N34:O34) -> 0
A35: Банковское дело и финансовые услуги | B35: 0 | C35: 0 | D35: =SUM(B35:C35) -> 0 | E35: 0 | F35: 0 | G35: =SUM(E35:F35) -> 0 | H35: 0 | I35: 0 | J35: =SUM(H35:I35) -> 0 | K35: 0 | L35: 0 | M35: =SUM(K35:L35) -> 0 | N35: =SUM(B35+E35+H35+K35) -> 0 | O35: =SUM(C35+F35+I35+L35) -> 0 | P35: =SUM(N35:O35) -> 0
A36: Бухгалтерский учет, анализ и аудит | B36: 0 | C36: 0 | D36: =SUM(B36:C36) -> 0 | E36: 0 | F36: 0 | G36: =SUM(E36:F36) -> 0 | H36: 0 | I36: 0 | J36: =SUM(H36:I36) -> 0 | K36: 0 | L36: 0 | M36: =SUM(K36:L36) -> 0 | N36: =SUM(B36+E36+H36+K36) -> 0 | O36: =SUM(C36+F36+I36+L36) -> 0 | P36: =SUM(N36:O36) -> 0
A37: Внешнеэкономическая деятельность | B37: 0 | C37: 0 | D37: =SUM(B37:C37) -> 0 | E37: 0 | F37: 0 | G37: =SUM(E37:F37) -> 0 | H37: 0 | I37: 0 | J37: =SUM(H37:I37) -> 0 | K37: 0 | L37: 0 | M37: =SUM(K37:L37) -> 0 | N37: =SUM(B37+E37+H37+K37) -> 0 | O37: =SUM(C37+F37+I37+L37) -> 0 | P37: =SUM(N37:O37) -> 0
A38: Государственные и муниципальные финансы | B38: 0 | C38: 0 | D38: =SUM(B38:C38) -> 0 | E38: 0 | F38: 0 | G38: =SUM(E38:F38) -> 0 | H38: 0 | I38: 0 | J38: =SUM(H38:I38) -> 0 | K38: 0 | L38: 0 | M38: =SUM(K38:L38) -> 0 | N38: =SUM(B38+E38+H38+K38) -> 0 | O38: =SUM(C38+F38+I38+L38) -> 0 | P38: =SUM(N38:O38) -> 0
A39: Экономика предприятий и организаций | B39: 0 | C39: 0 | D39: =SUM(B39:C39) -> 0 | E39: 0 | F39: 0 | G39: =SUM(E39:F39) -> 0 | H39: 0 | I39: 0 | J39: =SUM(H39:I39) -> 0 | K39: 0 | L39: 0 | M39: =SUM(K39:L39) -> 0 | N39: =SUM(B39+E39+H39+K39) -> 0 | O39: =SUM(C39+F39+I39+L39) -> 0 | P39: =SUM(N39:O39) -> 0
A40: 38.03.02 Менеджмент | B40: 0 | C40: 0 | D40: =SUM(B40:C40) -> 0 | E40: 0 | F40: 2 | G40: =SUM(E40:F40) -> 2 | H40: 0 | I40: 0 | J40: =SUM(H40:I40) -> 0 | K40: 1 | L40: 0 | M40: =SUM(K40:L40) -> 1 | N40: =SUM(B40+E40+H40+K40) -> 1 | O40: =SUM(C40+F40+I40+L40) -> 2 | P40: =SUM(N40:O40) -> 3
A41: 38.03.03 Управление персоналом | B41: 0 | C41: 0 | D41: =SUM(B41:C41) -> 0 | E41: 0 | F41: 0 | G41: =SUM(E41:F41) -> 0 | H41: 0 | I41: 0 | J41: =SUM(H41:I41) -> 0 | K41: 0 | L41: 0 | M41: =SUM(K41:L41) -> 0 | N41: =SUM(B41+E41+H41+K41) -> 0 | O41: =SUM(C41+F41+I41+L41) -> 0 | P41: =SUM(N41:O41) -> 0
A42: 38.03.04 Государственное и муниципальное управление | B42: 0 | C42: 0 | D42: =SUM(B42:C42) -> 0 | E42: 0 | F42: 0 | G42: =SUM(E42:F42) -> 0 | H42: 0 | I42: 0 | J42: =SUM(H42:I42) -> 0 | K42: 0 | L42: 0 | M42: =SUM(K42:L42) -> 0 | N42: =SUM(B42+E42+H42+K42) -> 0 | O42: =SUM(C42+F42+I42+L42) -> 0 | P42: =SUM(N42:O42) -> 0
A43: 38.03.06 Торговое дело | B43: 1 | C43: 0 | D43: =SUM(B43:C43) -> 1 | E43: 0 | F43: 0 | G43: =SUM(E43:F43) -> 0 | H43: 0 | I43: 0 | J43: =SUM(H43:I43) -> 0 | K43: 1 | L43: 0 | M43: =SUM(K43:L43) -> 1 | N43: =SUM(B43+E43+H43+K43) -> 2 | O43: =SUM(C43+F43+I43+L43) -> 0 | P43: =SUM(N43:O43) -> 2
A44: Итого граждане иностранных государств | B44: =SUM(B34+B40+B41+B42+B43) -> 1 | C44: =SUM(C34+C40+C41+C42+C43) -> 0 | D44: =SUM(D34+D40+D41+D42+D43) -> 1 | E44: =SUM(E34+E40+E41+E42+E43) -> 0 | F44: =SUM(F34+F40+F41+F42+F43) -> 2 | G44: =SUM(G34+G40+G41+G42+G43) -> 2 | H44: =SUM(H34+H40+H41+H42+H43) -> 0 | I44: =SUM(I34+I40+I41+I42+I43) -> 0 | ... P44: =SUM(P34+P40+P41+P42+P43) -> 5
A45: ИТОГО по подразделению граждане России | B45: =B32 -> 194 | C45: =C32 -> 57 | D45: =D32 -> 251 | E45: =E32 -> 222 | F45: =F32 -> 19 | G45: =G32 -> 241 | H45: =H32 -> 256 | I45: =I32 -> 13 | ... P45: =P32 -> 1004
A46: ИТОГО по подразделению иностранные граждане | B46: =B44 -> 1 | C46: =C44 -> 0 | D46: =D44 -> 1 | E46: =E44 -> 0 | F46: =F44 -> 2 | G46: =G44 -> 2 | H46: =H44 -> 0 | I46: =I44 -> 0 | ... P46: =P44 -> 5
A47: Итого | B47: =SUM(B45:B46) -> 195 | C47: =SUM(C45:C46) -> 57 | D47: =SUM(D45:D46) -> 252 | E47: =SUM(E45:E46) -> 222 | F47: =SUM(F45:F46) -> 21 | G47: =SUM(G45:G46) -> 243 | H47: =SUM(H45:H46) -> 256 | I47: =SUM(I45:I46) -> 13 | ... P47: =SUM(P45:P46) -> 1009

Sheet Бакалавр ЗФО ИЭиУ
A2: ФГАОУ ВО "КФУ им. Вернадского"
A3: ИНСТИТУТ ЭКОНОМИКИ И УПРАВЛЕНИЯ
A4: (структурное подразделение)
A5: Контингент заочная форма обучения на 01.01.2026 г. (Бакалавриат)
A7: Факультет/направление подготовки | B7: 1 год обучения | E7: 2 год обучения | H7: 3 год обучения | K7: 4 год обучения | N7: 5 год обучения | Q7: Всего бакалавриата
B9: За счет бюджетных ассигнований | C9: На основе догов. о платных образов. услугах | D9: ВСЕГО | E9: За счет бюджетных ассигнований | F9: На основе догов. о платных образов. услугах | G9: ВСЕГО | H9: За счет бюджетных ассигнований | I9: На основе догов. о платных образов. услугах | J9: ВСЕГО | K9: За счет бюджетных ассигнований | L9: На основе догов. о платных образов. услугах | M9: ВСЕГО | N9: За счет бюджетных ассигнований | O9: На основе догов. о платных образов. услугах | P9: ВСЕГО | Q9: За счет бюджетных ассигнований | R9: На основе догов. о платных образов. услугах | S9: ВСЕГО
A10: Свод по направлениям подготовки
A11: 38.03.01 Экономика | B11: =B19+B26 -> 0 | C11: =C19+C26 -> 0 | D11: =B11+C11 -> 0 | E11: =E19+E26 -> 0 | F11: =F19+F26 -> 0 | G11: =E11+F11 -> 0 | H11: =H19+H26 -> 0 | I11: =I19+I26 -> 0 | J11: =H11+I11 -> 0 | K11: =K19+K26 -> 0 | L11: =L19+L26 -> 0 | M11: =K11+L11 -> 0 | N11: =N19+N26 -> 0 | O11: =O19+O26 -> 0 | P11: =N11+O11 -> 0 | Q11: =SUM(B11+E11+H11+K11+N11) -> 0 | R11: =SUM(C11+F11+I11+L11+O11) -> 0 | S11: =SUM(Q11:R11) -> 0
A12: 38.03.02 Менеджмент | B12: =B20+B27 -> 0 | C12: =C20+C27 -> 0 | D12: =B12+C12 -> 0 | E12: =E20+E27 -> 0 | F12: =F20+F27 -> 0 | G12: =E12+F12 -> 0 | H12: =H20+H27 -> 0 | I12: =I20+I27 -> 0 | J12: =H12+I12 -> 0 | K12: =K20+K27 -> 0 | L12: =L20+L27 -> 0 | M12: =K12+L12 -> 0 | N12: =N20+N27 -> 0 | O12: =O20+O27 -> 0 | P12: =N12+O12 -> 0 | Q12: =SUM(B12+E12+H12+K12+N12) -> 0 | R12: =SUM(C12+F12+I12+L12+O12) -> 0 | S12: =SUM(Q12:R12) -> 0
A13: 38.03.03 Управление персоналом | B13: =B21+B28 -> 0 | C13: =C21+C28 -> 0 | D13: =B13+C13 -> 0 | E13: =E21+E28 -> 0 | F13: =F21+F28 -> 0 | G13: =E13+F13 -> 0 | H13: =H21+H28 -> 0 | I13: =I21+I28 -> 0 | J13: =H13+I13 -> 0 | K13: =K21+K28 -> 0 | L13: =L21+L28 -> 0 | M13: =K13+L13 -> 0 | N13: =N21+N28 -> 0 | O13: =O21+O28 -> 0 | P13: =N13+O13 -> 0 | Q13: =SUM(B13+E13+H13+K13+N13) -> 0 | R13: =SUM(C13+F13+I13+L13+O13) -> 0 | S13: =SUM(Q13:R13) -> 0
A14: 38.03.04 Государственное и муниципальное управление | B14: =B22+B29 -> 0 | C14: =C22+C29 -> 0 | D14: =B14+C14 -> 0 | E14: =E22+E29 -> 0 | F14: =F22+F29 -> 0 | G14: =E14+F14 -> 0 | H14: =H22+H29 -> 0 | I14: =I22+I29 -> 0 | J14: =H14+I14 -> 0 | K14: =K22+K29 -> 0 | L14: =L22+L29 -> 1 | M14: =K14+L14 -> 1 | N14: =N22+N29 -> 0 | O14: =O22+O29 -> 0 | P14: =N14+O14 -> 0 | Q14: =SUM(B14+E14+H14+K14+N14) -> 0 | R14: =SUM(C14+F14+I14+L14+O14) -> 1 | S14: =SUM(Q14:R14) -> 1
A15: 38.03.06 Торговое дело | B15: =B23+B30 -> 0 | C15: =C23+C30 -> 0 | D15: =B15+C15 -> 0 | E15: =E23+E30 -> 0 | F15: =F23+F30 -> 0 | G15: =E15+F15 -> 0 | H15: =H23+H30 -> 0 | I15: =I23+I30 -> 0 | J15: =H15+I15 -> 0 | K15: =K23+K30 -> 0 | L15: =L23+L30 -> 0 | M15: =K15+L15 -> 0 | N15: =N23+N30 -> 0 | O15: =O23+O30 -> 0 | P15: =N15+O15 -> 0 | Q15: =SUM(B15+E15+H15+K15+N15) -> 0 | R15: =SUM(C15+F15+I15+L15+O15) -> 0 | S15: =SUM(Q15:R15) -> 0
A16: Итого по направлениям подготовки | B16: =SUM(B11:B15) -> 0 | C16: =SUM(C11:C15) -> 0 | D16: =SUM(D11:D15) -> 0 | E16: =SUM(E11:E15) -> 0 | F16: =SUM(F11:F15) -> 0 | G16: =SUM(G11:G15) -> 0 | H16: =SUM(H11:H15) -> 0 | I16: =SUM(I11:I15) -> 0 | ... S16: =SUM(S11:S15) -> 1
A17: В том числе:
A18: Граждане России
A19: 38.03.01; 02;03;04;06 Экономика | B19: 0 | C19: 0 | D19: =SUM(B19:C19) -> 0 | E19: 0 | F19: 0 | G19: =SUM(E19:F19) -> 0 | H19: 0 | I19: 0 | J19: =SUM(H19:I19) -> 0 | K19: 0 | L19: 0 | M19: =SUM(K19:L19) -> 0 | N19: 0 | O19: 0 | P19: =N19+O19 -> 0 | Q19: =SUM(B19+E19+H19+K19+N19) -> 0 | R19: =SUM(C19+F19+I19+L19+O19) -> 0 | S19: =SUM(Q19:R19) -> 0
A20: 38.03.02 Менеджмент | B20: 0 | C20: 0 | D20: =SUM(B20:C20) -> 0 | E20: 0 | F20: 0 | G20: 0 | H20: 0 | I20: 0 | J20: =SUM(H20:I20) -> 0 | K20: 0 | L20: 0 | M20: =SUM(K20:L20) -> 0 | N20: 0 | O20: 0 | P20: =N20+O20 -> 0 | Q20: =SUM(B20+E20+H20+K20+N20) -> 0 | R20: =SUM(C20+F20+I20+L20+O20) -> 0 | S20: =SUM(Q20:R20) -> 0
A21: 38.03.03 Управление персоналом | B21: 0 | C21: 0 | D21: =SUM(B21:C21) -> 0 | E21: 0 | F21: 0 | G21: =SUM(E21:F21) -> 0 | H21: 0 | I21: 0 | J21: =SUM(H21:I21) -> 0 | K21: 0 | L21: 0 | M21: =SUM(K21:L21) -> 0 | N21: 0 | O21: 0 | P21: =N21+O21 -> 0 | Q21: =SUM(B21+E21+H21+K21+N21) -> 0 | R21: =SUM(C21+F21+I21+L21+O21) -> 0 | S21: =SUM(Q21:R21) -> 0
A22: 38.03.04 Государственное и муниципальное управление | B22: 0 | C22: 0 | D22: =SUM(B22:C22) -> 0 | E22: 0 | F22: 0 | G22: =SUM(E22:F22) -> 0 | H22: 0 | I22: 0 | J22: =SUM(H22:I22) -> 0 | K22: 0 | L22: 1 | M22: =SUM(K22:L22) -> 1 | N22: 0 | O22: 0 | P22: =N22+O22 -> 0 | Q22: =SUM(B22+E22+H22+K22+N22) -> 0 | R22: =SUM(C22+F22+I22+L22+O22) -> 1 | S22: =SUM(Q22:R22) -> 1
A23: 38.03.06 Торговое дело | B23: 0 | C23: 0 | D23: =SUM(B23:C23) -> 0 | E23: 0 | F23: 0 | G23: =SUM(E23:F23) -> 0 | H23: 0 | I23: 0 | J23: =SUM(H23:I23) -> 0 | K23: 0 | L23: 0 | M23: =SUM(K23:L23) -> 0 | N23: 0 | O23: 0 | P23: =N23+O23 -> 0 | Q23: =SUM(B23+E23+H23+K23+N23) -> 0 | R23: =SUM(C23+F23+I23+L23+O23) -> 0 | S23: =SUM(Q23:R23) -> 0
A24: Итого граждане России | B24: =SUM(B19:B23) -> 0 | C24: =SUM(C19:C23) -> 0 | D24: =SUM(D19:D23) -> 0 | E24: =SUM(E19:E23) -> 0 | F24: =SUM(F19:F23) -> 0 | G24: =SUM(G19:G23) -> 0 | H24: =SUM(H19:H23) -> 0 | I24: =SUM(I19:I23) -> 0 | ... R24: =SUM(R19:R23) -> 1 | S24: =Q24+R24 -> 1
A25: Граждане иностранных государств (вкл. Украину)
A26: 38.03.01; 02;03;04;06 Экономика | B26: 0 | C26: 0 | D26: =SUM(B26:C26) -> 0 | E26: 0 | F26: 0 | G26: =SUM(E26:F26) -> 0 | H26: 0 | I26: 0 | J26: =SUM(H26:I26) -> 0 | K26: 0 | L26: 0 | M26: =SUM(K26:L26) -> 0 | N26: 0 | O26: 0 | P26: =N26+O26 -> 0 | Q26: =B26+E26+H26+K26+N26 -> 0 | R26: =C26+F26+I26+L26+O26 -> 0 | S26: =SUM(Q26:R26) -> 0
A27: 38.03.02 Менеджмент | B27: 0 | C27: 0 | D27: =SUM(B27:C27) -> 0 | E27: 0 | F27: 0 | G27: =SUM(E27:F27) -> 0 | H27: 0 | I27: 0 | J27: =SUM(H27:I27) -> 0 | K27: 0 | L27: 0 | M27: =SUM(K27:L27) -> 0 | N27: 0 | O27: 0 | P27: =N27+O27 -> 0 | Q27: =B27+E27+H27+K27+N27 -> 0 | R27: =C27+F27+I27+L27+O27 -> 0 | S27: =SUM(Q27:R27) -> 0
A28: 38.03.03 Управление персоналом | B28: 0 | C28: 0 | D28: =SUM(B28:C28) -> 0 | E28: 0 | F28: 0 | G28: =SUM(E28:F28) -> 0 | H28: 0 | I28: 0 | J28: =SUM(H28:I28) -> 0 | K28: 0 | L28: 0 | M28: =SUM(K28:L28) -> 0 | N28: 0 | O28: 0 | P28: =N28+O28 -> 0 | Q28: =B28+E28+H28+K28+N28 -> 0 | R28: =C28+F28+I28+L28+O28 -> 0 | S28: =SUM(Q28:R28) -> 0
A29: 38.03.04 Государственное и муниципальное управление | B29: 0 | C29: 0 | D29: =SUM(B29:C29) -> 0 | E29: 0 | F29: 0 | G29: =SUM(E29:F29) -> 0 | H29: 0 | I29: 0 | J29: =SUM(H29:I29) -> 0 | K29: 0 | L29: 0 | M29: =SUM(K29:L29) -> 0 | N29: 0 | O29: 0 | P29: =N29+O29 -> 0 | Q29: =B29+E29+H29+K29+N29 -> 0 | R29: =C29+F29+I29+L29+O29 -> 0 | S29: =SUM(Q29:R29) -> 0
A30: 38.03.06 Торговое дело | B30: 0 | C30: 0 | D30: =SUM(B30:C30) -> 0 | E30: 0 | F30: 0 | G30: =SUM(E30:F30) -> 0 | H30: 0 | I30: 0 | J30: =SUM(H30:I30) -> 0 | K30: 0 | L30: 0 | M30: =SUM(K30:L30) -> 0 | N30: 0 | O30: 0 | P30: =N30+O30 -> 0 | Q30: =B30+E30+H30+K30+N30 -> 0 | R30: =C30+F30+I30+L30+O30 -> 0 | S30: =SUM(Q30:R30) -> 0
A31: Итого граждане иностранных государств | B31: =SUM(B26:B30) -> 0 | C31: =SUM(C26:C30) -> 0 | D31: =SUM(D26:D30) -> 0 | E31: =SUM(E26:E30) -> 0 | F31: =SUM(F26:F30) -> 0 | G31: =SUM(G26:G30) -> 0 | H31: =SUM(H26:H30) -> 0 | I31: =SUM(I26:I30) -> 0 | ... S31: =SUM(S26:S30) -> 0
A32: ИТОГО по подразделению граждане России | B32: =B24 -> 0 | C32: =C24 -> 0 | D32: =D24 -> 0 | E32: =E24 -> 0 | F32: =F24 -> 0 | G32: =G24 -> 0 | H32: =H24 -> 0 | I32: =I24 -> 0 | ... S32: =S24 -> 1
A33: ИТОГО по подразделению граждане иностранных государств | B33: =B31 -> 0 | C33: =C31 -> 0 | D33: =D31 -> 0 | E33: =E31 -> 0 | F33: =F31 -> 0 | G33: =G31 -> 0 | H33: =H31 -> 0 | I33: =I31 -> 0 | ... S33: =S31 -> 0
A34: Свод по направлениям подготовки | B34: =SUM(B32:B33) -> 0 | C34: =SUM(C32:C33) -> 0 | D34: =SUM(D32:D33) -> 0 | E34: =SUM(E32:E33) -> 0 | F34: =SUM(F32:F33) -> 0 | G34: =SUM(G32:G33) -> 0 | H34: =SUM(H32:H33) -> 0 | I34: =SUM(I32:I33) -> 0 | ... S34: =SUM(S32:S33) -> 1

Sheet Бакалав ОЗФО ИЭиУ
A2: ФГАОУ ВО "КФУ им. Вернадского"
A3: ИНСТИТУТ ЭКОНОМИКИ И УПРАВЛЕНИЯ
A4: Контингент очно-заочная форма обучения на 01.01.2026 г. (Бакалавриат)
A6: Факультет/направление подготовки | B6: 1 год обучения | E6: 2 год обучения | H6: 3 год обучения | K6: 4 год обучения | N6: 5 год обучения | Q6: Всего бакалавриата
B8: За счет бюджетных ассигнований | C8: На основе догов. о платных образов. услугах | D8: ВСЕГО | E8: За счет бюджетных ассигнований | F8: На основе догов. о платных образов. услугах | G8: ВСЕГО | H8: За счет бюджетных ассигнований | I8: На основе догов. о платных образов. услугах | J8: ВСЕГО | K8: За счет бюджетных ассигнований | L8: На основе догов. о платных образов. услугах | M8: ВСЕГО | N8: За счет бюджетных ассигнований | O8: На основе догов. о платных образов. услугах | P8: ВСЕГО | Q8: За счет бюджетных ассигнований | R8: На основе догов. о платных образов. услугах | S8: ВСЕГО
A9: Свод по направлениям подготовки
A10: 38.03.01; 02;03;04;06 Экономика | B10: =B18+B25 -> 0 | C10: 0 | D10: =B10+C10 -> 0 | E10: =E18+E25 -> 0 | F10: =F18+F25 -> 0 | G10: =E10+F10 -> 0 | H10: =H18+H25 -> 0 | I10: =I18+I25 -> 5 | J10: =H10+I10 -> 5 | K10: =K18+K25 -> 0 | L10: =L18+L25 -> 9 | M10: =K10+L10 -> 9 | N10: =N18+N25 -> 0 | O10: =O18+O25 -> 0 | P10: =N10+O10 -> 0 | Q10: =SUM(B10+E10+H10+K10+N10) -> 0 | R10: =SUM(C10+F10+I10+L10+O10) -> 14 | S10: =SUM(Q10:R10) -> 14
A11: 38.03.02 Менеджмент | B11: =B19+B26 -> 0 | C11: =C19+C26 -> 0 | D11: =B11+C11 -> 0 | E11: =E19+E26 -> 0 | F11: =F19+F26 -> 0 | G11: =E11+F11 -> 0 | H11: =H19+H26 -> 0 | I11: =I19+I26 -> 0 | J11: =H11+I11 -> 0 | K11: =K19+K26 -> 0 | L11: =L19+L26 -> 0 | M11: =K11+L11 -> 0 | N11: =N19+N26 -> 0 | O11: =O19+O26 -> 0 | P11: =N11+O11 -> 0 | Q11: =SUM(B11+E11+H11+K11+N11) -> 0 | R11: =SUM(C11+F11+I11+L11+O11) -> 0 | S11: =SUM(Q11:R11) -> 0
A12: 38.03.03 Управление персоналом | B12: =B20+B27 -> 0 | C12: =C20+C27 -> 0 | D12: =B12+C12 -> 0 | E12: =E20+E27 -> 0 | F12: =F20+F27 -> 0 | G12: =E12+F12 -> 0 | H12: =H20+H27 -> 0 | I12: =I20+I27 -> 0 | J12: =H12+I12 -> 0 | K12: =K20+K27 -> 0 | L12: =L20+L27 -> 0 | M12: =K12+L12 -> 0 | N12: =N20+N27 -> 0 | O12: =O20+O27 -> 0 | P12: =N12+O12 -> 0 | Q12: =SUM(B12+E12+H12+K12+N12) -> 0 | R12: =SUM(C12+F12+I12+L12+O12) -> 0 | S12: =SUM(Q12:R12) -> 0
A13: 38.03.04 Государственное и муниципальное управление | B13: =B21+B28 -> 0 | C13: =C21+C28 -> 0 | D13: =B13+C13 -> 0 | E13: =E21+E28 -> 0 | F13: =F21+F28 -> 0 | G13: =E13+F13 -> 0 | H13: =H21+H28 -> 0 | I13: =I21+I28 -> 0 | J13: =H13+I13 -> 0 | K13: =K21+K28 -> 0 | L13: =L21+L28 -> 0 | M13: =K13+L13 -> 0 | N13: =N21+N28 -> 0 | O13: =O21+O28 -> 0 | P13: =N13+O13 -> 0 | Q13: =SUM(B13+E13+H13+K13+N13) -> 0 | R13: =SUM(C13+F13+I13+L13+O13) -> 0 | S13: =SUM(Q13:R13) -> 0
A14: 38.03.06 Торговое дело | B14: =B22+B29 -> 0 | C14: =C22+C29 -> 0 | D14: =B14+C14 -> 0 | E14: =E22+E29 -> 0 | F14: =F22+F29 -> 0 | G14: =E14+F14 -> 0 | H14: =H22+H29 -> 0 | I14: =I22+I29 -> 0 | J14: =H14+I14 -> 0 | K14: =K22+K29 -> 0 | L14: =L22+L29 -> 0 | M14: =K14+L14 -> 0 | N14: =N22+N29 -> 0 | O14: =O22+O29 -> 0 | P14: =N14+O14 -> 0 | Q14: =SUM(B14+E14+H14+K14+N14) -> 0 | R14: =SUM(C14+F14+I14+L14+O14) -> 0 | S14: =SUM(Q14:R14) -> 0
A15: Итого по направлениям подготовки | B15: =SUM(B10:B14) -> 0 | C15: =SUM(C10:C14) -> 0 | D15: =SUM(D10:D14) -> 0 | E15: =SUM(E10:E14) -> 0 | F15: =SUM(F10:F14) -> 0 | G15: =SUM(G10:G14) -> 0 | H15: =SUM(H10:H14) -> 0 | I15: =SUM(I10:I14) -> 5 | ... T15: =SUM(T10:T14) -> 0
A16: В том числе:
A17: Граждане России
A18: 38.03.01; 02;03;04;06 Экономика | B18: 0 | C18: 0 | D18: =SUM(B18:C18) -> 0 | E18: 0 | F18: 0 | G18: =SUM(E18:F18) -> 0 | H18: 0 | I18: 5 | J18: =SUM(H18:I18) -> 5 | K18: 0 | L18: 9 | M18: =SUM(K18:L18) -> 9 | N18: 0 | O18: 0 | P18: =N18+O18 -> 0 | Q18: =SUM(B18+E18+H18+K18+N18) -> 0 | R18: =SUM(C18+F18+I18+L18+O18) -> 14 | S18: =SUM(Q18:R18) -> 14
A19: 38.03.02 Менеджмент | B19: 0 | C19: 0 | D19: =SUM(B19:C19) -> 0 | E19: 0 | F19: 0 | G19: 0 | H19: 0 | I19: 0 | J19: =SUM(H19:I19) -> 0 | K19: 0 | L19: 0 | M19: =SUM(K19:L19) -> 0 | N19: 0 | O19: 0 | P19: =N19+O19 -> 0 | Q19: =SUM(B19+E19+H19+K19+N19) -> 0 | R19: =SUM(C19+F19+I19+L19+O19) -> 0 | S19: =SUM(Q19:R19) -> 0
A20: 38.03.03 Управление персоналом | B20: 0 | C20: 0 | D20: =SUM(B20:C20) -> 0 | E20: 0 | F20: 0 | G20: =SUM(E20:F20) -> 0 | H20: 0 | I20: 0 | J20: =SUM(H20:I20) -> 0 | K20: 0 | L20: 0 | M20: =SUM(K20:L20) -> 0 | N20: 0 | O20: 0 | P20: =N20+O20 -> 0 | Q20: =SUM(B20+E20+H20+K20+N20) -> 0 | R20: =SUM(C20+F20+I20+L20+O20) -> 0 | S20: =SUM(Q20:R20) -> 0
A21: 38.03.04 Государственное и муниципальное управление | B21: 0 | C21: 0 | D21: =SUM(B21:C21) -> 0 | E21: 0 | F21: 0 | G21: =SUM(E21:F21) -> 0 | H21: 0 | I21: 0 | J21: =SUM(H21:I21) -> 0 | K21: 0 | L21: 0 | M21: =SUM(K21:L21) -> 0 | N21: 0 | O21: 0 | P21: =N21+O21 -> 0 | Q21: =SUM(B21+E21+H21+K21+N21) -> 0 | R21: =SUM(C21+F21+I21+L21+O21) -> 0 | S21: =SUM(Q21:R21) -> 0
A22: 38.03.06 Торговое дело | B22: 0 | C22: 0 | D22: =SUM(B22:C22) -> 0 | E22: 0 | F22: 0 | G22: =SUM(E22:F22) -> 0 | H22: 0 | I22: 0 | J22: =SUM(H22:I22) -> 0 | K22: 0 | L22: 0 | M22: =SUM(K22:L22) -> 0 | N22: 0 | O22: 0 | P22: =N22+O22 -> 0 | Q22: =SUM(B22+E22+H22+K22+N22) -> 0 | R22: =SUM(C22+F22+I22+L22+O22) -> 0 | S22: =SUM(Q22:R22) -> 0
A23: Итого граждане России | B23: =SUM(B18:B22) -> 0 | C23: =SUM(C18:C22) -> 0 | D23: =SUM(D18:D22) -> 0 | E23: =SUM(E18:E22) -> 0 | F23: =SUM(F18:F22) -> 0 | G23: =SUM(G18:G22) -> 0 | H23: =SUM(H18:H22) -> 0 | I23: =SUM(I18:I22) -> 5 | ... R23: =SUM(R18:R22) -> 14 | S23: =Q23+R23 -> 14 | T23: =SUM(T18:T22) -> 0
A24: Граждане иностранных государств (вкл. Украину)
A25: 38.03.01; 02;03;04;06 Экономика | B25: 0 | C25: 0 | D25: =SUM(B25:C25) -> 0 | E25: 0 | F25: 0 | G25: =SUM(E25:F25) -> 0 | H25: 0 | I25: 0 | J25: =SUM(H25:I25) -> 0 | K25: 0 | L25: 0 | M25: =SUM(K25:L25) -> 0 | N25: 0 | O25: 0 | P25: =N25+O25 -> 0 | Q25: =B25+E25+H25+K25+N25 -> 0 | R25: =C25+F25+I25+L25+O25 -> 0 | S25: =SUM(Q25:R25) -> 0
A26: 38.03.02 Менеджмент | B26: 0 | C26: 0 | D26: =SUM(B26:C26) -> 0 | E26: 0 | F26: 0 | G26: =SUM(E26:F26) -> 0 | H26: 0 | I26: 0 | J26: =SUM(H26:I26) -> 0 | K26: 0 | L26: 0 | M26: =SUM(K26:L26) -> 0 | N26: 0 | O26: 0 | P26: =N26+O26 -> 0 | Q26: =B26+E26+H26+K26+N26 -> 0 | R26: =C26+F26+I26+L26+O26 -> 0 | S26: =SUM(Q26:R26) -> 0
A27: 38.03.03 Управление персоналом | B27: 0 | C27: 0 | D27: =SUM(B27:C27) -> 0 | E27: 0 | F27: 0 | G27: =SUM(E27:F27) -> 0 | H27: 0 | I27: 0 | J27: =SUM(H27:I27) -> 0 | K27: 0 | L27: 0 | M27: =SUM(K27:L27) -> 0 | N27: 0 | O27: 0 | P27: =N27+O27 -> 0 | Q27: =B27+E27+H27+K27+N27 -> 0 | R27: =C27+F27+I27+L27+O27 -> 0 | S27: =SUM(Q27:R27) -> 0
A28: 38.03.04 Государственное и муниципальное управление | B28: 0 | C28: 0 | D28: =SUM(B28:C28) -> 0 | E28: 0 | F28: 0 | G28: =SUM(E28:F28) -> 0 | H28: 0 | I28: 0 | J28: =SUM(H28:I28) -> 0 | K28: 0 | L28: 0 | M28: =SUM(K28:L28) -> 0 | N28: 0 | O28: 0 | P28: =N28+O28 -> 0 | Q28: =B28+E28+H28+K28+N28 -> 0 | R28: =C28+F28+I28+L28+O28 -> 0 | S28: =SUM(Q28:R28) -> 0
A29: 38.03.06 Торговое дело | B29: 0 | C29: 0 | D29: =SUM(B29:C29) -> 0 | E29: 0 | F29: 0 | G29: =SUM(E29:F29) -> 0 | H29: 0 | I29: 0 | J29: =SUM(H29:I29) -> 0 | K29: 0 | L29: 0 | M29: =SUM(K29:L29) -> 0 | N29: 0 | O29: 0 | P29: =N29+O29 -> 0 | Q29: =B29+E29+H29+K29+N29 -> 0 | R29: =C29+F29+I29+L29+O29 -> 0 | S29: =SUM(Q29:R29) -> 0
A30: Итого граждане иностранных государств | B30: =SUM(B25:B29) -> 0 | C30: =SUM(C25:C29) -> 0 | D30: =SUM(D25:D29) -> 0 | E30: =SUM(E25:E29) -> 0 | F30: =SUM(F25:F29) -> 0 | G30: =SUM(G25:G29) -> 0 | H30: =SUM(H25:H29) -> 0 | I30: =SUM(I25:I29) -> 0 | ... S30: =SUM(S25:S29) -> 0
A31: ИТОГО по подразделению граждане России | B31: =B23 -> 0 | C31: =C23 -> 0 | D31: =D23 -> 0 | E31: =E23 -> 0 | F31: =F23 -> 0 | G31: =G23 -> 0 | H31: =H23 -> 0 | I31: =I23 -> 5 | ... S31: =S23 -> 14
A32: ИТОГО по подразделению граждане иностранных государств | B32: =B30 -> 0 | C32: =C30 -> 0 | D32: =D30 -> 0 | E32: =E30 -> 0 | F32: =F30 -> 0 | G32: =G30 -> 0 | H32: =H30 -> 0 | I32: =I30 -> 0 | ... S32: =S30 -> 0
A33: Свод по направлениям подготовки | B33: =SUM(B31:B32) -> 0 | C33: =SUM(C31:C32) -> 0 | D33: =SUM(D31:D32) -> 0 | E33: =SUM(E31:E32) -> 0 | F33: =SUM(F31:F32) -> 0 | G33: =SUM(G31:G32) -> 0 | H33: =SUM(H31:H32) -> 0 | I33: =SUM(I31:I32) -> 5 | ... S33: =SUM(S31:S32) -> 14

Sheet МАГ ОФО ИЭиУ
A1: ФГАОУ ВО "КФУ им. В.И. Вернадского"
A2: ИНСТИТУТ ЭКОНОМИКИ И УПРАВЛЕНИЯ
A3: Контингент очной формы обучения на 01.01.2026 г. (Магистратура)
A5: Факультет/направление подготовки | B5: 1 год обучения | E5: 2 год обучения | H5: Всего магистратуры
B6: МАГИСТР | E6: МАГИСТР
B7: За счет бюджетных ассигнований | C7: На основе догов. о платных образов. услугах | D7: ВСЕГО | E7: За счет бюджетных ассигнований | F7: На основе догов. о платных образов. услугах | G7: ВСЕГО | H7: За счет бюджетных ассигнований | I7: На основе догов. о платных образов. услугах | J7: ВСЕГО
A8: Свод по направлениям подготовки
A9: 38.04.01 Экономика | B9: =B23+B36 -> 44 | C9: =C23+C36 -> 4 | D9: =D23+D36 -> 48 | E9: =E23+E36 -> 39 | F9: =F23+F36 -> 6 | G9: =G23+G36 -> 45 | H9: =SUM(B9+E9) -> 83 | I9: =SUM(C9+F9) -> 10 | J9: =SUM(H9:I9) -> 93
A10: Бизнес-процессы в мировой экономике | B10: =B24+B37 -> 16 | C10: =C24+C37 -> 2 | D10: =D24+D37 -> 18 | E10: =E24+E37 -> 11 | F10: =F24+F37 -> 2 | G10: =G24+G37 -> 13 | H10: =SUM(B10+E10) -> 27 | I10: =SUM(C10+F10) -> 4 | J10: =SUM(H10:I10) -> 31
A11: Учет, аудит и налогообложение предпринимательской деятельности | B11: =B25+B38 -> 13 | C11: =C25+C38 -> 0 | D11: =D25+D38 -> 13 | E11: =E25+E38 -> 11 | F11: =F25+F38 -> 2 | G11: =G25+G38 -> 13 | H11: =SUM(B11+E11) -> 24 | I11: =SUM(C11+F11) -> 2 | J11: =SUM(H11:I11) -> 26
A12: Экономика предприятий и организаций | B12: =B26+B39 -> 15 | C12: =C26+C39 -> 2 | D12: =D26+D39 -> 17 | E12: =E26+E39 -> 17 | F12: =F26+F39 -> 2 | G12: =G26+G39 -> 19 | H12: =SUM(B12+E12) -> 32 | I12: =SUM(C12+F12) -> 4 | J12: =SUM(H12:I12) -> 36
A13: 38.04.02 Менеджмент | B13: =B27+B40 -> 19 | C13: =C27+C40 -> 0 | D13: =D27+D40 -> 19 | E13: =E27+E40 -> 25 | F13: =F27+F40 -> 1 | G13: =G27+G40 -> 26 | H13: =SUM(B13+E13) -> 44 | I13: =SUM(C13+F13) -> 1 | J13: =SUM(H13:I13) -> 45
A14: 38.04.03 Управление персоналом | B14: =B28+B41 -> 14 | C14: =C28+C41 -> 1 | D14: =D28+D41 -> 15 | E14: =E28+E41 -> 24 | F14: =F28+F41 -> 1 | G14: =G28+G41 -> 25 | H14: =SUM(B14+E14) -> 38 | I14: =SUM(C14+F14) -> 2 | J14: =SUM(H14:I14) -> 40
A15: 38.04.04 Государственное и муниципальное управление | B15: =B29+B42 -> 14 | C15: =C29+C42 -> 1 | D15: =D29+D42 -> 15 | E15: =E29+E42 -> 22 | F15: =F29+F42 -> 3 | G15: =G29+G42 -> 25 | H15: =SUM(B15+E15) -> 36 | I15: =SUM(C15+F15) -> 4 | J15: =SUM(H15:I15) -> 40
A16: 38.04.06 Торговое дело | B16: =B30+B43 -> 14 | C16: =C30+C43 -> 3 | D16: =D30+D43 -> 17 | E16: =E30+E43 -> 21 | F16: =F30+F43 -> 1 | G16: =G30+G43 -> 22 | H16: =SUM(B16+E16) -> 35 | I16: =SUM(C16+F16) -> 4 | J16: =SUM(H16:I16) -> 39
A17: Трейд маркетинг и рыночная аналитика | B17: =B31+B44 -> 0 | C17: =C31+C44 -> 0 | D17: =D31+D44 -> 0 | E17: =E31+E44 -> 11 | F17: =F31+F44 -> 1 | G17: =G31+G44 -> 12 | H17: =SUM(B17+E17) -> 11 | I17: =SUM(C17+F17) -> 1 | J17: =SUM(H17:I17) -> 12
A18: Нейромаркетинг | B18: =B32+B45 -> 14 | C18: =C32+C45 -> 3 | D18: =D32+D45 -> 17 | E18: =E32+E45 -> 10 | F18: =F32+F45 -> 0 | G18: =G32+G45 -> 10 | H18: =SUM(B18+E18) -> 24 | I18: =SUM(C18+F18) -> 3 | J18: =SUM(H18:I18) -> 27
A19: 38.04.08 Финансы и кредит | B19: =B33+B46 -> 12 | C19: =C33+C46 -> 0 | D19: =D33+D46 -> 12 | E19: =E33+E46 -> 18 | F19: =F33+F46 -> 1 | G19: =G33+G46 -> 19 | H19: =SUM(B19+E19) -> 30 | I19: =SUM(C19+F19) -> 1 | J19: =SUM(H19:I19) -> 31
A20: Итого по направлениям подготовки: | B20: =SUM(B9+B13+B14+B15+B16+B19) -> 117 | C20: =SUM(C9+C13+C14+C15+C16+C19) -> 9 | D20: =SUM(D9+D13+D14+D15+D16+D19) -> 126 | E20: =SUM(E9+E13+E14+E15+E16+E19) -> 149 | F20: =SUM(F9+F13+F14+F15+F16+F19) -> 13 | G20: =SUM(G9+G13+G14+G15+G16+G19) -> 162 | H20: =SUM(H9+H13+H14+H15+H16+H19) -> 266 | I20: =SUM(I9+I13+I14+I15+I16+I19) -> 22 | J20: =SUM(J9+J13+J14+J15+J16+J19) -> 288
A21: В том числе:
A22: Граждане России
A23: 38.04.01 Экономика | B23: =B24+B25+B26 -> 44 | C23: =C24+C25+C26 -> 4 | D23: =SUM(B23:C23) -> 48 | E23: =E24+E25+E26 -> 39 | F23: =F24+F25+F26 -> 6 | G23: =SUM(E23:F23) -> 45 | H23: =SUM(B23+E23) -> 83 | I23: =SUM(C23+F23) -> 10 | J23: =SUM(H23:I23) -> 93
A24: Бизнес-процессы в мировой экономике | B24: 16 | C24: 2 | D24: =SUM(B24:C24) -> 18 | E24: 11 | F24: 2 | G24: =SUM(E24:F24) -> 13 | H24: =SUM(B24+E24) -> 27 | I24: =SUM(C24+F24) -> 4 | J24: =SUM(H24:I24) -> 31
A25: Учет, аудит и налогообложение предпринимательской деятельности | B25: 13 | C25: 0 | D25: =SUM(B25:C25) -> 13 | E25: 11 | F25: 2 | G25: =SUM(E25:F25) -> 13 | H25: =SUM(B25+E25) -> 24 | I25: =SUM(C25+F25) -> 2 | J25: =SUM(H25:I25) -> 26
A26: Экономика предприятий и организаций | B26: 15 | C26: 2 | D26: =SUM(B26:C26) -> 17 | E26: 17 | F26: 2 | G26: =SUM(E26:F26) -> 19 | H26: =SUM(B26+E26) -> 32 | I26: =SUM(C26+F26) -> 4 | J26: =SUM(H26:I26) -> 36
A27: 38.04.02 Менеджмент | B27: 19 | C27: 0 | D27: =SUM(B27:C27) -> 19 | E27: 24 | F27: 1 | G27: =SUM(E27:F27) -> 25 | H27: =SUM(B27+E27) -> 43 | I27: =SUM(C27+F27) -> 1 | J27: =SUM(H27:I27) -> 44
A28: 38.04.03 Управление персоналом | B28: 14 | C28: 1 | D28: =SUM(B28:C28) -> 15 | E28: 24 | F28: 1 | G28: =SUM(E28:F28) -> 25 | H28: =SUM(B28+E28) -> 38 | I28: =SUM(C28+F28) -> 2 | J28: =SUM(H28:I28) -> 40
A29: 38.04.04 Государственное и муниципальное управление | B29: 14 | C29: 1 | D29: =SUM(B29:C29) -> 15 | E29: 22 | F29: 3 | G29: =SUM(E29:F29) -> 25 | H29: =SUM(B29+E29) -> 36 | I29: =SUM(C29+F29) -> 4 | J29: =SUM(H29:I29) -> 40
A30: 38.04.06 Торговое дело | B30: =B31+B32 -> 14 | C30: =C31+C32 -> 2 | D30: =D31+D32 -> 16 | E30: =E31+E32 -> 21 | F30: =F31+F32 -> 1 | G30: =G31+G32 -> 22 | H30: =SUM(B30+E30) -> 35 | I30: =SUM(C30+F30) -> 3 | J30: =SUM(H30:I30) -> 38
A31: Трейд маркетинг и рыночная аналитика | B31: 0 | C31: 0 | D31: =SUM(B31:C31) -> 0 | E31: 11 | F31: 1 | G31: =SUM(E31:F31) -> 12 | H31: =SUM(B31+E31) -> 11 | I31: =SUM(C31+F31) -> 1 | J31: =SUM(H31:I31) -> 12
A32: Нейромаркетинг | B32: 14 | C32: 2 | D32: =SUM(B32:C32) -> 16 | E32: 10 | F32: 0 | G32: =SUM(E32:F32) -> 10 | H32: =SUM(B32+E32) -> 24 | I32: =SUM(C32+F32) -> 2 | J32: =SUM(H32:I32) -> 26
A33: 38.04.08 Финансы и кредит | B33: 12 | C33: 0 | D33: =SUM(B33:C33) -> 12 | E33: 18 | F33: 1 | G33: =SUM(E33:F33) -> 19 | H33: =SUM(B33+E33) -> 30 | I33: =SUM(C33+F33) -> 1 | J33: =SUM(H33:I33) -> 31
A34: Итого граждане России | B34: =SUM(B23+B27+B28+B29+B30+B33) -> 117 | C34: =SUM(C23+C27+C28+C29+C30+C33) -> 8 | D34: =SUM(D23+D27+D28+D29+D30+D33) -> 125 | E34: =SUM(E23+E27+E28+E29+E30+E33) -> 148 | F34: =SUM(F23+F27+F28+F29+F30+F33) -> 13 | G34: =SUM(G23+G27+G28+G29+G30+G33) -> 161 | H34: =SUM(H23+H27+H28+H29+H30+H33) -> 265 | I34: =SUM(I23+I27+I28+I29+I30+I33) -> 21 | J34: =SUM(J23+J27+J28+J29+J30+J33) -> 286
A35: Граждане иностранных государств (вкл. Украину)
A36: 38.04.01 Экономика | B36: 0 | C36: 0 | D36: =SUM(B36:C36) -> 0 | E36: 0 | F36: 0 | G36: =SUM(E36:F36) -> 0 | H36: =SUM(B36+E36) -> 0 | I36: =SUM(C36+F36) -> 0 | J36: =D36+G36 -> 0
A37: Бизнес-процессы в мировой экономике | B37: 0 | C37: 0 | D37: =SUM(B37:C37) -> 0 | E37: 0 | F37: 0 | G37: =SUM(E37:F37) -> 0 | H37: =SUM(B37+E37) -> 0 | I37: =SUM(C37+F37) -> 0 | J37: =D37+G37 -> 0
A38: Учет, аудит и налогообложение предпринимательской деятельности | B38: 0 | C38: 0 | D38: =SUM(B38:C38) -> 0 | E38: 0 | F38: 0 | G38: =SUM(E38:F38) -> 0 | H38: =SUM(B38+E38) -> 0 | I38: =SUM(C38+F38) -> 0 | J38: =D38+G38 -> 0
A39: Экономика предприятий и организаций | B39: 0 | C39: 0 | D39: =SUM(B39:C39) -> 0 | E39: 0 | F39: 0 | G39: =SUM(E39:F39) -> 0 | H39: =SUM(B39+E39) -> 0 | I39: =SUM(C39+F39) -> 0 | J39: =D39+G39 -> 0
A40: 38.04.02 Менеджмент | B40: 0 | C40: 0 | D40: =SUM(B40:C40) -> 0 | E40: 1 | F40: 0 | G40: =SUM(E40:F40) -> 1 | H40: =B40+E40 -> 1 | I40: =C40+F40 -> 0 | J40: =D40+G40 -> 1
A41: 38.04.03 Управление персоналом | B41: 0 | C41: 0 | D41: =SUM(B41:C41) -> 0 | E41: 0 | F41: 0 | G41: =SUM(E41:F41) -> 0 | H41: =B41+E41 -> 0 | I41: =C41+F41 -> 0 | J41: =D41+G41 -> 0
A42: 38.04.04 Государственное и муниципальное управление | B42: 0 | C42: 0 | D42: =SUM(B42:C42) -> 0 | E42: 0 | F42: 0 | G42: =SUM(E42:F42) -> 0 | H42: =B42+E42 -> 0 | I42: =C42+F42 -> 0 | J42: =D42+G42 -> 0
A43: 38.04.06 Торговое дело | B43: =B44+B45 -> 0 | C43: =C44+C45 -> 1 | D43: =D44+D45 -> 1 | E43: =E57+E70 -> 0 | F43: =F57+F70 -> 0 | G43: =G57+G70 -> 0 | H43: =SUM(B43+E43) -> 0 | I43: =SUM(C43+F43) -> 1 | J43: =SUM(H43:I43) -> 1
A44: Трейд маркетинг и рыночная аналитика | B44: 0 | C44: 0 | D44: =SUM(B44:C44) -> 0 | E44: 0 | F44: 0 | G44: =SUM(E44:F44) -> 0 | H44: =SUM(B44+E44) -> 0 | I44: =SUM(C44+F44) -> 0 | J44: =D44+G44 -> 0
A45: Нейромаркетинг | B45: 0 | C45: 1 | D45: =SUM(B45:C45) -> 1 | E45: 0 | F45: 0 | G45: =SUM(E45:F45) -> 0 | H45: =SUM(B45+E45) -> 0 | I45: =SUM(C45+F45) -> 1 | J45: =D45+G45 -> 1
A46: 38.04.08 Финансы и кредит | B46: 0 | C46: 0 | D46: =SUM(B46:C46) -> 0 | E46: 0 | F46: 0 | G46: =SUM(E46:F46) -> 0 | H46: =B46+E46 -> 0 | I46: =C46+F46 -> 0 | J46: =D46+G46 -> 0
A47: Итого граждане иностранных государств | B47: =SUM(B36+B40+B41+B42+B43+B46) -> 0 | C47: =SUM(C36+C40+C41+C42+C43+C46) -> 1 | D47: =SUM(D36+D40+D41+D42+D43+D46) -> 1 | E47: =SUM(E36+E40+E41+E42+E43+E46) -> 1 | F47: =SUM(F36+F40+F41+F42+F43+F46) -> 0 | G47: =SUM(G36+G40+G41+G42+G43+G46) -> 1 | H47: =SUM(H36+H40+H41+H42+H43+H46) -> 1 | I47: =SUM(I36+I40+I41+I42+I43+I46) -> 1 | J47: =SUM(J36+J40+J41+J42+J43+J46) -> 2
A48: ИТОГО по подразделению граждане России | B48: =B34 -> 117 | C48: =C34 -> 8 | D48: =D34 -> 125 | E48: =E34 -> 148 | F48: =F34 -> 13 | G48: =G34 -> 161 | H48: =H34 -> 265 | I48: =I34 -> 21 | J48: =J34 -> 286
A49: ИТОГО по подразделению иностранные граждане | B49: =B47 -> 0 | C49: =C47 -> 1 | D49: =D47 -> 1 | E49: =E47 -> 1 | F49: =F47 -> 0 | G49: =G47 -> 1 | H49: =H47 -> 1 | I49: =I47 -> 1 | J49: =J47 -> 2
A50: Итого | B50: =SUM(B48:B49) -> 117 | C50: =SUM(C48:C49) -> 9 | D50: =SUM(D48:D49) -> 126 | E50: =SUM(E48:E49) -> 149 | F50: =SUM(F48:F49) -> 13 | G50: =SUM(G48:G49) -> 162 | H50: =SUM(H48:H49) -> 266 | I50: =SUM(I48:I49) -> 22 | J50: =SUM(J48:J49) -> 288

Sheet МАГ ЗФО ИЭиУ
A1: ФГАОУ ВО "КФУ им. В.И. Вернадского"
A2: ИНСТИТУТ ЭКОНОМИКИ И УПРАВЛЕНИЯ
A3: Контингент заочной формы обучения на 01.01.2026 г. (Магистратура)
A5: Факультет/направление подготовки | B5: 1 год обучения | E5: 2 год обучения | H5: 3 год обучения | K5: Всего магистратуры
B6: МАГИСТР | E6: МАГИСТР | H6: МАГИСТР
B7: За счет бюджетных ассигнований | C7: На основе догов. о платных образов. услугах | D7: ВСЕГО | E7: За счет бюджетных ассигнований | F7: На основе догов. о платных образов. услугах | G7: ВСЕГО | H7: За счет бюджетных ассигнований | I7: На основе догов. о платных образов. услугах | J7: ВСЕГО | K7: За счет бюджетных ассигнований | L7: На основе догов. о платных образов. услугах | M7: ВСЕГО
A8: Свод по направлениям подготовки
A9: 38.04.01 Экономика | B9: =B18+B26 -> 10 | C9: =C18+C26 -> 8 | D9: =B9+C9 -> 18 | E9: =E18+E26 -> 10 | F9: 1 | G9: =E9+F9 -> 11 | H9: =H18+H26 -> 12 | I9: =I18+I26 -> 8 | J9: =H9+I9 -> 20 | K9: =SUM(B9+E9+H9) -> 32 | L9: =SUM(C9+F9+I9) -> 17 | M9: =SUM(K9:L9) -> 49
A10: 38.04.02 Менеджмент | B10: =B19+B27 -> 0 | C10: =C19+C27 -> 0 | D10: =B10+C10 -> 0 | E10: =E19+E27 -> 0 | F10: 0 | G10: =E10+F10 -> 0 | H10: =H19+H27 -> 0 | I10: =I19+I27 -> 0 | J10: =H10+I10 -> 0 | K10: =SUM(B10+E10+H10) -> 0 | L10: =SUM(C10+F10+I10) -> 0 | M10: =SUM(K10:L10) -> 0
A11: 38.04.03 Управление персоналом | B11: =B20+B28 -> 0 | C11: =C20+C28 -> 0 | D11: =B11+C11 -> 0 | E11: =E20+E28 -> 0 | F11: 0 | G11: =E11+F11 -> 0 | H11: =H20+H28 -> 9 | I11: =I20+I28 -> 4 | J11: =H11+I11 -> 13 | K11: =SUM(B11+E11+H11) -> 9 | L11: =SUM(C11+F11+I11) -> 4 | M11: =SUM(K11:L11) -> 13
A12: 38.04.04 Государственное и муниципальное управление | B12: =B21+B29 -> 0 | C12: =C21+C29 -> 29 | D12: =B12+C12 -> 29 | E12: =E21+E29 -> 10 | F12: 22 | G12: =E12+F12 -> 32 | H12: =H21+H29 -> 0 | I12: =I21+I29 -> 13 | J12: =H12+I12 -> 13 | K12: =SUM(B12+E12+H12) -> 10 | L12: =SUM(C12+F12+I12) -> 64 | M12: =SUM(K12:L12) -> 74
A13: 38.04.06 Торговое дело | B13: =B22+B30 -> 0 | C13: =C22+C30 -> 0 | D13: =B13+C13 -> 0 | E13: =E22+E30 -> 0 | F13: 0 | G13: =G22+G30 -> 0 | H13: =H22+H30 -> 5 | I13: =I22+I30 -> 0 | J13: =J22+J30 -> 5 | K13: =SUM(B13+E13+H13) -> 5 | L13: =SUM(C13+F13+I13) -> 0 | M13: =SUM(D13+G13+J13) -> 5
A14: 38.04.08 Финансы и кредит | B14: =B23+B31 -> 0 | C14: =C23+C31 -> 0 | D14: =B14+C14 -> 0 | E14: =E23+E31 -> 11 | F14: 1 | G14: =E14+F14 -> 12 | H14: =H23+H31 -> 2 | I14: =I23+I31 -> 0 | J14: =H14+I14 -> 2 | K14: =SUM(B14+E14+H14) -> 13 | L14: =SUM(C14+F14+I14) -> 1 | M14: =SUM(K14:L14) -> 14
A15: Итого по направлениям подготовки: | B15: =SUM(B9:B14) -> 10 | C15: =SUM(C9:C14) -> 37 | D15: =SUM(D9:D14) -> 47 | E15: =SUM(E9:E14) -> 31 | F15: 24 | G15: =SUM(G9:G14) -> 55 | H15: =SUM(H9:H14) -> 28 | I15: =SUM(I9:I14) -> 25 | J15: =SUM(J9:J14) -> 53 | K15: =SUM(K9:K14) -> 69 | L15: =SUM(L9:L14) -> 86 | M15: =SUM(M9:M14) -> 155
A16: В том числе:
A17: Граждане России
A18: 38.04.01 Экономика | B18: 10 | C18: 8 | D18: =SUM(B18:C18) -> 18 | E18: 10 | F18: 1 | G18: =SUM(E18:F18) -> 11 | H18: 12 | I18: 8 | J18: =SUM(H18:I18) -> 20 | K18: =B18+E18+H18 -> 32 | L18: =C18+F18+I18 -> 17 | M18: =D18+G18+J18 -> 49
A19: 38.04.02 Менеджмент | B19: 0 | C19: 0 | D19: =SUM(B19:C19) -> 0 | E19: 0 | F19: 0 | G19: =SUM(E19:F19) -> 0 | H19: 0 | I19: 0 | J19: =SUM(H19:I19) -> 0 | K19: =B19+E19+H19 -> 0 | L19: =C19+F19+I19 -> 0 | M19: =D19+G19+J19 -> 0
A20: 38.04.03 Управление персоналом | B20: 0 | C20: 0 | D20: =SUM(B20:C20) -> 0 | E20: 0 | F20: 0 | G20: =SUM(E20:F20) -> 0 | H20: 9 | I20: 4 | J20: =SUM(H20:I20) -> 13 | K20: =B20+E20+H20 -> 9 | L20: =C20+F20+I20 -> 4 | M20: =D20+G20+J20 -> 13
A21: 38.04.04 Государственное и муниципальное управление | B21: 0 | C21: 29 | D21: =SUM(B21:C21) -> 29 | E21: 10 | F21: 22 | G21: =SUM(E21:F21) -> 32 | H21: 0 | I21: 13 | J21: =SUM(H21:I21) -> 13 | K21: =B21+E21+H21 -> 10 | L21: =C21+F21+I21 -> 64 | M21: =D21+G21+J21 -> 74
A22: 38.04.06 Торговое дело | B22: 0 | C22: 0 | D22: =SUM(B22:C22) -> 0 | E22: 0 | F22: 0 | G22: =SUM(E22:F22) -> 0 | H22: 5 | I22: 0 | J22: =SUM(H22:I22) -> 5 | K22: =B22+E22+H22 -> 5 | L22: =C22+F22+I22 -> 0 | M22: =D22+G22+J22 -> 5
A23: 38.04.08 Финансы и кредит | B23: 0 | C23: 0 | D23: =SUM(B23:C23) -> 0 | E23: 11 | F23: 1 | G23: =SUM(E23:F23) -> 12 | H23: 2 | I23: 0 | J23: =SUM(H23:I23) -> 2 | K23: =B23+E23+H23 -> 13 | L23: =C23+F23+I23 -> 1 | M23: =D23+G23+J23 -> 14
A24: Итого граждане России | B24: =SUM(B18:B23) -> 10 | C24: =SUM(C18:C23) -> 37 | D24: =SUM(D18:D23) -> 47 | E24: =SUM(E18:E23) -> 31 | F24: =SUM(F18:F23) -> 24 | G24: =SUM(G18:G23) -> 55 | H24: =SUM(H18:H23) -> 28 | I24: =SUM(I18:I23) -> 25 | ... M24: =SUM(M18:M23) -> 155
A25: Граждане иностранных государств (вкл. Украину)
A26: 38.04.01 Экономика | B26: 0 | C26: 0 | D26: =SUM(B26:C26) -> 0 | E26: 0 | F26: 0 | G26: =SUM(E26:F26) -> 0 | H26: 0 | I26: 0 | J26: =SUM(H26:I26) -> 0 | K26: =B26+E26+H26 -> 0 | L26: =C26+F26+I26 -> 0 | M26: =D26+G26+J26 -> 0
A27: 38.04.02 Менеджмент | B27: 0 | C27: 0 | D27: =SUM(B27:C27) -> 0 | E27: 0 | F27: 0 | G27: =SUM(E27:F27) -> 0 | H27: 0 | I27: 0 | J27: =SUM(H27:I27) -> 0 | K27: =B27+E27+H27 -> 0 | L27: =C27+F27+I27 -> 0 | M27: =D27+G27+J27 -> 0
A28: 38.04.03 Управление персоналом | B28: 0 | C28: 0 | D28: =SUM(B28:C28) -> 0 | E28: 0 | F28: 0 | G28: =SUM(E28:F28) -> 0 | H28: 0 | I28: 0 | J28: =SUM(H28:I28) -> 0 | K28: =B28+E28+H28 -> 0 | L28: =C28+F28+I28 -> 0 | M28: =D28+G28+J28 -> 0
A29: 38.04.04 Государственное и муниципальное управление | B29: 0 | C29: 0 | D29: =SUM(B29:C29) -> 0 | E29: 0 | F29: 0 | G29: =SUM(E29:F29) -> 0 | H29: 0 | I29: 0 | J29: =SUM(H29:I29) -> 0 | K29: =B29+E29+H29 -> 0 | L29: =C29+F29+I29 -> 0 | M29: =D29+G29+J29 -> 0
A30: 38.04.06 Торговое дело | B30: 0 | C30: 0 | D30: =SUM(B30:C30) -> 0 | E30: 0 | F30: 0 | G30: =SUM(E30:F30) -> 0 | H30: 0 | I30: 0 | J30: 0 | K30: =B30+E30+H30 -> 0 | L30: =C30+F30+I30 -> 0 | M30: =D30+G30+J30 -> 0
A31: 38.04.08 Финансы и кредит | B31: 0 | C31: 0 | D31: =SUM(B31:C31) -> 0 | E31: 0 | F31: 0 | G31: =SUM(E31:F31) -> 0 | H31: 0 | I31: 0 | J31: =SUM(H31:I31) -> 0 | K31: =B31+E31+H31 -> 0 | L31: =C31+F31+I31 -> 0 | M31: =D31+G31+J31 -> 0
A32: Итого граждане иностранных государств | B32: =SUM(B26:B31) -> 0 | C32: =SUM(C26:C31) -> 0 | D32: =SUM(D26:D31) -> 0 | E32: =SUM(E26:E31) -> 0 | F32: =SUM(F26:F31) -> 0 | G32: =SUM(G26:G31) -> 0 | H32: =SUM(H26:H31) -> 0 | I32: =SUM(I26:I31) -> 0 | ... M32: =SUM(M26:M31) -> 0
A33: ИТОГО по подразделению граждане России | B33: =B24 -> 10 | C33: =C24 -> 37 | D33: =D24 -> 47 | E33: =E24 -> 31 | F33: =F24 -> 24 | G33: =G24 -> 55 | H33: =H24 -> 28 | I33: =I24 -> 25 | ... M33: =M24 -> 155
A34: ИТОГО по подразделению иностранные граждане | B34: =B32 -> 0 | C34: =C32 -> 0 | D34: =D32 -> 0 | E34: =E32 -> 0 | F34: =F32 -> 0 | G34: =G32 -> 0 | H34: =H32 -> 0 | I34: =I32 -> 0 | ... M34: =M32 -> 0
A35: Итого | B35: =SUM(B33:B34) -> 10 | C35: =SUM(C33:C34) -> 37 | D35: =SUM(D33:D34) -> 47 | E35: =SUM(E33:E34) -> 31 | F35: =SUM(F33:F34) -> 24 | G35: =SUM(G33:G34) -> 55 | H35: =SUM(H33:H34) -> 28 | I35: =SUM(I33:I34) -> 25 | ... M35: =SUM(M33:M34) -> 155

Sheet Бак ОФО ГПА
B1: =[2]СПО!B1 -> Гуманитарно-педагогическая академия (филиал) ФГАОУ ВО «КФУ им. В. И. Вернадского» в г. Ялте
B3: Контингент очной формы обучения на | G3: =[2]СПО!F3 -> 01.06.2017 г. | I3: (Бакалавры)
B5: Факультет/направление подготовки | D5: 1 | G5: 2 | J5: 3 | M5: 4 | P5: 5 | S5: Всего бакалавры
D7: За счет бюджетных ассигнований | E7: На основе догов. о платных образов. услугах | F7: ВСЕГО | G7: За счет бюджетных ассигнований | H7: На основе догов. о платных образов. услугах | I7: ВСЕГО | J7: За счет бюджетных ассигнований | K7: На основе догов. о платных образов. услугах | L7: ВСЕГО | M7: За счет бюджетных ассигнований | N7: На основе догов. о платных образов. услугах | O7: ВСЕГО | P7: За счет бюджетных ассигнований | Q7: На основе догов. о платных образов. услугах | R7: ВСЕГО | S7: За счет бюджетных ассигнований | T7: На основе догов. о платных образов. услугах | U7: ВСЕГО
B8: Свод по направлениям подготовки | D8: =SUM(D9:D30) -> 320 | E8: =SUM(E9:E30) -> 14 | F8: =SUM(F9:F30) -> 334 | G8: =SUM(G9:G30) -> 278 | H8: =SUM(H9:H30) -> 13 | I8: =SUM(I9:I30) -> 291 | J8: =SUM(J9:J30) -> 285 | K8: =SUM(K9:K30) -> 56 | ... U8: =SUM(U9:U30) -> 1209
A9: 1 | B9: 01.03.01 | C9: Математика | D9: 0 | E9: 0 | F9: 0 | G9: 0 | H9: 0 | I9: 0 | J9: 0 | K9: 0 | L9: 0 | M9: 0 | N9: 0 | O9: 0 | P9: 0 | Q9: 0 | R9: 0 | S9: 0 | T9: 0 | U9: 0
B10: 09.03.03 | C10: Прикладная информатика | D10: 19 | E10: 0 | F10: 19 | G10: 20 | H10: 0 | I10: 20 | J10: 17 | K10: 3 | L10: 20 | M10: 13 | N10: 0 | O10: 13 | P10: 0 | Q10: 0 | R10: 0 | S10: 69 | T10: 3 | U10: 72
B11: 37.03.01 | C11: Психология | D11: 13 | E11: 0 | F11: 13 | G11: 13 | H11: 1 | I11: 14 | J11: 17 | K11: 2 | L11: 19 | M11: 22 | N11: 2 | O11: 24 | P11: 0 | Q11: 0 | R11: 0 | S11: 65 | T11: 5 | U11: 70
B12: 38.03.01 | C12: Экономика | D12: 17 | E12: 4 | F12: 21 | G12: 35 | H12: 0 | I12: 35 | J12: 14 | K12: 3 | L12: 17 | M12: 23 | N12: 3 | O12: 26 | P12: 0 | Q12: 0 | R12: 0 | S12: 89 | T12: 10 | U12: 99
B13: 38.03.02 | C13: Менеджмент | D13: 18 | E13: 0 | F13: 18 | G13: 23 | H13: 1 | I13: 24 | J13: 20 | K13: 16 | L13: 36 | M13: 13 | N13: 2 | O13: 15 | P13: 0 | Q13: 0 | R13: 0 | S13: 74 | T13: 19 | U13: 93
B14: 43.03.02 | C14: Туризм | D14: 19 | E14: 1 | F14: 20 | G14: 8 | H14: 3 | I14: 11 | J14: 17 | K14: 2 | L14: 19 | M14: 11 | N14: 0 | O14: 11 | P14: 0 | Q14: 0 | R14: 0 | S14: 55 | T14: 6 | U14: 61
B15: 44.03.01 | C15: Педагогическое образование | D15: 52 | E15: 0 | F15: 52 | G15: 41 | H15: 0 | I15: 41 | J15: 45 | K15: 0 | L15: 45 | M15: 5 | N15: 0 | O15: 5 | P15: 0 | Q15: 0 | R15: 0 | S15: 143 | T15: 0 | U15: 143
B16: 44.03.02 | C16: Психолого-педагогическое образование | D16: 15 | E16: 0 | F16: 15 | G16: 12 | H16: 0 | I16: 12 | J16: 15 | K16: 1 | L16: 16 | M16: 7 | N16: 0 | O16: 7 | P16: 0 | Q16: 0 | R16: 0 | S16: 49 | T16: 1 | U16: 50
B17: 44.03.05 | C17: Педагогическое образование (с двумя профилями подготовки) | D17: 16 | E17: 0 | F17: 16 | G17: 12 | H17: 0 | I17: 12 | J17: 15 | K17: 2 | L17: 17 | M17: 25 | N17: 2 | O17: 27 | P17: 14 | Q17: 0 | R17: 14 | S17: 82 | T17: 4 | U17: 86
B18: 45.03.01 | C18: Филология | D18: 50 | E18: 5 | F18: 55 | G18: 36 | H18: 4 | I18: 40 | J18: 40 | K18: 9 | L18: 49 | M18: 30 | N18: 4 | O18: 34 | P18: 0 | Q18: 0 | R18: 0 | S18: 156 | T18: 22 | U18: 178
B19: 46.03.01 | C19: История | D19: 14 | E19: 0 | F19: 14 | G19: 9 | H19: 0 | I19: 9 | J19: 8 | K19: 1 | L19: 9 | M19: 9 | N19: 0 | O19: 9 | P19: 0 | Q19: 0 | R19: 0 | S19: 40 | T19: 1 | U19: 41
B20: 47.03.01 | C20: Философия | D20: 10 | E20: 0 | F20: 10 | G20: 0 | H20: 0 | I20: 0 | J20: 6 | K20: 0 | L20: 6 | M20: 0 | N20: 0 | O20: 0 | P20: 0 | Q20: 0 | R20: 0 | S20: 16 | T20: 0 | U20: 16
B21: 49.03.02 | C21: Физическая культура для лиц с отклонениями в состоянии здоровья (адаптивная физическая культура) | D21: 15 | E21: 1 | F21: 16 | G21: 16 | H21: 1 | I21: 17 | J21: 7 | K21: 0 | L21: 7 | M21: 11 | N21: 4 | O21: 15 | P21: 0 | Q21: 0 | R21: 0 | S21: 49 | T21: 6 | U21: 55
... B30: 54.03.02 | C30: Декоративно-прикладное искусство и народные промыслы | D30: 11 | E30: 0 | F30: 11 | G30: 4 | H30: 0 | I30: 4 | J30: 15 | K30: 0 | L30: 15 | M30: 5 | N30: 0 | O30: 5 | P30: 0 | Q30: 0 | R30: 0 | S30: 35 | T30: 0 | U30: 35
B31: Итого по направлениям подготовки | D31: =SUM(D9:D30) -> 320 | E31: =SUM(E9:E30) -> 14 | F31: =SUM(F9:F30) -> 334 | G31: =SUM(G9:G30) -> 278 | H31: =SUM(H9:H30) -> 13 | I31: =SUM(I9:I30) -> 291 | J31: =SUM(J9:J30) -> 285 | K31: =SUM(K9:K30) -> 56 | ... U31: =SUM(U9:U30) -> 1209
B32: В том числе:
B33: Граждане России
B34: 01.03.01 | C34: Математика | D34: 0 | E34: 0 | F34: 0 | G34: 0 | H34: 0 | I34: 0 | J34: 0 | K34: 0 | L34: 0 | M34: 0 | N34: 0 | O34: 0 | P34: 0 | Q34: 0 | R34: 0 | S34: 0 | T34: 0 | U34: 0
B35: 09.03.03 | C35: Прикладная информатика | D35: 17 | E35: 0 | F35: 17 | G35: 19 | H35: 0 | I35: 19 | J35: 17 | K35: 2 | L35: 19 | M35: 12 | N35: 0 | O35: 12 | P35: 0 | Q35: 0 | R35: 0 | S35: 65 | T35: 2 | U35: 67
B36: 37.03.01 | C36: Психология | D36: 13 | E36: 0 | F36: 13 | G36: 13 | H36: 1 | I36: 14 | J36: 17 | K36: 2 | L36: 19 | M36: 21 | N36: 2 | O36: 23 | P36: 0 | Q36: 0 | R36: 0 | S36: 64 | T36: 5 | U36: 69
B37: 38.03.01 | C37: Экономика | D37: 17 | E37: 4 | F37: 21 | G37: 33 | H37: 0 | I37: 33 | J37: 12 | K37: 1 | L37: 13 | M37: 21 | N37: 3 | O37: 24 | P37: 0 | Q37: 0 | R37: 0 | S37: 83 | T37: 8 | U37: 91
B38: 38.03.02 | C38: Менеджмент | D38: 17 | E38: 0 | F38: 17 | G38: 23 | H38: 1 | I38: 24 | J38: 18 | K38: 12 | L38: 30 | M38: 13 | N38: 2 | O38: 15 | P38: 0 | Q38: 0 | R38: 0 | S38: 71 | T38: 15 | U38: 86
B39: 43.03.02 | C39: Туризм | D39: 19 | E39: 0 | F39: 19 | G39: 8 | H39: 3 | I39: 11 | J39: 17 | K39: 2 | L39: 19 | M39: 10 | N39: 0 | O39: 10 | P39: 0 | Q39: 0 | R39: 0 | S39: 54 | T39: 5 | U39: 59
B40: 44.03.01 | C40: Педагогическое образование | D40: 51 | E40: 0 | F40: 51 | G40: 41 | H40: 0 | I40: 41 | J40: 43 | K40: 0 | L40: 43 | M40: 5 | N40: 0 | O40: 5 | P40: 0 | Q40: 0 | R40: 0 | S40: 140 | T40: 0 | U40: 140
B41: 44.03.02 | C41: Психолого-педагогическое образование | D41: 15 | E41: 0 | F41: 15 | G41: 12 | H41: 0 | I41: 12 | J41: 15 | K41: 1 | L41: 16 | M41: 7 | N41: 0 | O41: 7 | P41: 0 | Q41: 0 | R41: 0 | S41: 49 | T41: 1 | U41: 50
B42: 44.03.05 | C42: Педагогическое образование (с двумя профилями подготовки) | D42: 16 | E42: 0 | F42: 16 | G42: 12 | H42: 0 | I42: 12 | J42: 15 | K42: 0 | L42: 15 | M42: 25 | N42: 2 | O42: 27 | P42: 14 | Q42: 0 | R42: 14 | S42: 82 | T42: 2 | U42: 84
B43: 45.03.01 | C43: Филология | D43: 49 | E43: 4 | F43: 53 | G43: 34 | H43: 3 | I43: 37 | J43: 37 | K43: 9 | L43: 46 | M43: 24 | N43: 4 | O43: 28 | P43: 0 | Q43: 0 | R43: 0 | S43: 144 | T43: 20 | U43: 164
B44: 46.03.01 | C44: История | D44: 14 | E44: 0 | F44: 14 | G44: 9 | H44: 0 | I44: 9 | J44: 7 | K44: 1 | L44: 8 | M44: 9 | N44: 0 | O44: 9 | P44: 0 | Q44: 0 | R44: 0 | S44: 39 | T44: 1 | U44: 40
B45: 47.03.01 | C45: Философия | D45: 10 | E45: 0 | F45: 10 | G45: 0 | H45: 0 | I45: 0 | J45: 6 | K45: 0 | L45: 6 | M45: 0 | N45: 0 | O45: 0 | P45: 0 | Q45: 0 | R45: 0 | S45: 16 | T45: 0 | U45: 16
... B55: 54.03.02 | C55: Декоративно-прикладное искусство и народные промыслы | D55: 11 | E55: 0 | F55: 11 | G55: 4 | H55: 0 | I55: 4 | J55: 15 | K55: 0 | L55: 15 | M55: 5 | N55: 0 | O55: 5 | P55: 0 | Q55: 0 | R55: 0 | S55: 35 | T55: 0 | U55: 35
B56: Итого граждане России | D56: =SUM(D34:D55) -> 314 | E56: =SUM(E34:E55) -> 10 | F56: =SUM(F34:F55) -> 324 | G56: =SUM(G34:G55) -> 272 | H56: =SUM(H34:H55) -> 12 | I56: =SUM(I34:I55) -> 284 | J56: =SUM(J34:J55) -> 273 | K56: =SUM(K34:K55) -> 47 | ... U56: =SUM(U34:U55) -> 1147
B57: Граждане иностранных государств (вкл. Украину)
B58: 09.03.03 | C58: Прикладная информатика | D58: 2 | E58: 0 | F58: 2 | G58: 1 | H58: 0 | I58: 1 | J58: 0 | K58: 1 | L58: 1 | M58: 1 | N58: 0 | O58: 1 | P58: 0 | Q58: 0 | R58: 0 | S58: 4 | T58: 1 | U58: 5
B59: 37.03.01 | C59: Психология | D59: 0 | E59: 0 | F59: 0 | G59: 0 | H59: 0 | I59: 0 | J59: 0 | K59: 0 | L59: 0 | M59: 1 | N59: 0 | O59: 1 | P59: 0 | Q59: 0 | R59: 0 | S59: 1 | T59: 0 | U59: 1
B60: 38.03.01 | C60: Экономика | D60: 0 | E60: 0 | F60: 0 | G60: 2 | H60: 0 | I60: 2 | J60: 2 | K60: 2 | L60: 4 | M60: 2 | N60: 0 | O60: 2 | P60: 0 | Q60: 0 | R60: 0 | S60: 6 | T60: 2 | U60: 8
B61: 38.03.02 | C61: Менеджмент | D61: 1 | E61: 0 | F61: 1 | G61: 0 | H61: 0 | I61: 0 | J61: 2 | K61: 4 | L61: 6 | M61: 0 | N61: 0 | O61: 0 | P61: 0 | Q61: 0 | R61: 0 | S61: 3 | T61: 4 | U61: 7
B62: 43.03.02 | C62: Туризм | D62: 0 | E62: 1 | F62: 1 | G62: 0 | H62: 0 | I62: 0 | J62: 0 | K62: 0 | L62: 0 | M62: 1 | N62: 0 | O62: 1 | P62: 0 | Q62: 0 | R62: 0 | S62: 1 | T62: 1 | U62: 2
B63: 44.03.01 | C63: Педагогическое образование | D63: 1 | E63: 0 | F63: 1 | G63: 0 | H63: 0 | I63: 0 | J63: 2 | K63: 0 | L63: 2 | M63: 0 | N63: 0 | O63: 0 | P63: 0 | Q63: 0 | R63: 0 | S63: 3 | T63: 0 | U63: 3
B64: 44.03.05 | C64: Педагогическое образование (с двумя профилями подготовки) | D64: 0 | E64: 0 | F64: 0 | G64: 0 | H64: 0 | I64: 0 | J64: 0 | K64: 2 | L64: 2 | M64: 0 | N64: 0 | O64: 0 | P64: 0 | Q64: 0 | R64: 0 | S64: 0 | T64: 2 | U64: 2
B65: 45.03.01 | C65: Филология | D65: 1 | E65: 1 | F65: 2 | G65: 2 | H65: 1 | I65: 3 | J65: 3 | K65: 0 | L65: 3 | M65: 6 | N65: 0 | O65: 6 | P65: 0 | Q65: 0 | R65: 0 | S65: 12 | T65: 2 | U65: 14
B66: 46.03.01 | C66: История | D66: 0 | E66: 0 | F66: 0 | G66: 0 | H66: 0 | I66: 0 | J66: 1 | K66: 0 | L66: 1 | M66: 0 | N66: 0 | O66: 0 | P66: 0 | Q66: 0 | R66: 0 | S66: 1 | T66: 0 | U66: 1
B67: 49.03.02 | C67: Физическая культура для лиц с отклонениями в состоянии здоровья (адаптивная физическая культура) | D67: 0 | E67: 0 | F67: 0 | G67: 0 | H67: 0 | I67: 0 | J67: 0 | K67: 0 | L67: 0 | M67: 0 | N67: 2 | O67: 2 | P67: 0 | Q67: 0 | R67: 0 | S67: 0 | T67: 2 | U67: 2
B68: 52.03.01 | C68: Хореография | D68: 0 | E68: 0 | F68: 0 | G68: 0 | H68: 0 | I68: 0 | J68: 2 | K68: 0 | L68: 2 | M68: 1 | N68: 0 | O68: 1 | P68: 0 | Q68: 0 | R68: 0 | S68: 3 | T68: 0 | U68: 3
B69: 53.03.01 | C69: Музыкальное искусство эстрады | D69: 0 | E69: 2 | F69: 2 | G69: 0 | H69: 0 | I69: 0 | J69: 0 | K69: 0 | L69: 0 | M69: 1 | N69: 0 | O69: 1 | P69: 0 | Q69: 0 | R69: 0 | S69: 1 | T69: 2 | U69: 3
... B73: 54.03.01 | C73: Дизайн | D73: 1 | E73: 0 | F73: 1 | G73: 1 | H73: 0 | I73: 1 | J73: 0 | K73: 0 | L73: 0 | M73: 1 | N73: 0 | O73: 1 | P73: 0 | Q73: 0 | R73: 0 | S73: 3 | T73: 0 | U73: 3
B74: Итого граждане иностранных государств | D74: =SUM(D58:D73) -> 6 | E74: =SUM(E58:E73) -> 4 | F74: =SUM(F58:F73) -> 10 | G74: =SUM(G58:G73) -> 6 | H74: =SUM(H58:H73) -> 1 | I74: =SUM(I58:I73) -> 7 | J74: =SUM(J58:J73) -> 12 | K74: =SUM(K58:K73) -> 9 | ... O74: =SUM(O58:O73) -> 24 | P74: 0 | Q74: =SUM(Q34:Q55) -> 0 | R74: 0 | S74: =SUM(S58:S73) -> 41 | T74: =SUM(T58:T73) -> 21 | U74: =SUM(S74:T74) -> 62
B75: ИТОГО по подразделению граждане России | D75: =SUM(D34:D55) -> 314 | E75: =SUM(E34:E55) -> 10 | F75: =SUM(F34:F55) -> 324 | G75: =SUM(G34:G55) -> 272 | H75: =SUM(H34:H55) -> 12 | I75: =SUM(I34:I55) -> 284 | J75: =SUM(J34:J55) -> 273 | K75: =SUM(K34:K55) -> 47 | ... U75: =SUM(U34:U55) -> 1147
B76: ИТОГО по подразделению граждане иностранных государств | D76: =D74 -> 6 | E76: =E74 -> 4 | F76: =F74 -> 10 | G76: =G74 -> 6 | H76: =H74 -> 1 | I76: =I74 -> 7 | J76: =J74 -> 12 | K76: =K74 -> 9 | ... O76: =O74 -> 24 | P76: 0 | Q76: =Q74+Q75 -> 0 | R76: 0 | S76: =S74 -> 41 | T76: =T74 -> 21 | U76: =U74 -> 62
B77: Свод по направлениям подготовки | D77: =D75+D76 -> 320 | E77: =E75+E76 -> 14 | F77: =F75+F76 -> 334 | G77: =G75+G76 -> 278 | H77: =H75+H76 -> 13 | I77: =I75+I76 -> 291 | J77: =J75+J76 -> 285 | K77: =K75+K76 -> 56 | ... S77: =S75+S76 -> 1103 | T77: =SUM(T75:T76) -> 106 | U77: =SUM(S77:T77) -> 1209
B79: =[2]СПО!B42 -> Начальник УМО___________________И.И. Линник

Sheet БАК ОФО   ГПА
B1: Гуманитарно-педагогическая академия (филиал) ФГАОУ ВО «КФУ им. В. И. Вернадского» в г. Ялте
B3: Контингент очной формы обучения на | G3: 46023 | I3: (Бакалавриат)
B5: Факультет/направление подготовки | D5: 1 год обучения | G5: 2 год обучения | J5: 3 год обучения | M5: 4 год обучения | P5: 5 год обучения | S5: Всего бакалавриата
D7: За счет бюджетных ассигнований | E7: На основе догов. о платных образов. услугах | F7: ВСЕГО | G7: За счет бюджетных ассигнований | H7: На основе догов. о платных образов. услугах | I7: ВСЕГО | J7: За счет бюджетных ассигнований | K7: На основе догов. о платных образов. услугах | L7: ВСЕГО | M7: За счет бюджетных ассигнований | N7: На основе догов. о платных образов. услугах | O7: ВСЕГО | P7: За счет бюджетных ассигнований | Q7: На основе догов. о платных образов. услугах | R7: ВСЕГО | S7: За счет бюджетных ассигнований | T7: На основе догов. о платных образов. услугах | U7: ВСЕГО
B8: Свод по направлениям подготовки | D8: =SUM(D9:D15) -> 99 | E8: =SUM(E9:E15) -> 2 | F8: =SUM(F9:F15) -> 101 | G8: =SUM(G9:G15) -> 100 | H8: =SUM(H9:H15) -> 1 | I8: =SUM(I9:I15) -> 101 | J8: =SUM(J9:J15) -> 114 | K8: =SUM(K9:K15) -> 1 | ... U8: =SUM(U9:U15) -> 465
B9: 09.03.03 | C9: Прикладная информатика | D9: 0 | E9: 0 | F9: 0 | G9: 10 | H9: 0 | I9: 10 | J9: 0 | K9: 0 | L9: 0 | M9: 28 | N9: 0 | O9: 28 | P9: 0 | Q9: 0 | R9: 0 | S9: 38 | T9: 0 | U9: 38
B10: 38.03.01 | C10: Экономика | D10: 0 | E10: 0 | F10: 0 | G10: 0 | H10: 0 | I10: 0 | J10: 0 | K10: 0 | L10: 0 | M10: 14 | N10: 0 | O10: 14 | P10: 0 | Q10: 0 | R10: 0 | S10: 14 | T10: 0 | U10: 14
B11: 38.03.02 | C11: Менеджмент | D11: 0 | E11: 0 | F11: 0 | G11: 0 | H11: 0 | I11: 0 | J11: 20 | K11: 0 | L11: 20 | M11: 0 | N11: 0 | O11: 0 | P11: 0 | Q11: 0 | R11: 0 | S11: 20 | T11: 0 | U11: 20
B12: 44.03.01 | C12: Педагогическое образование | D12: 30 | E12: 0 | F12: 30 | G12: 33 | H12: 1 | I12: 34 | J12: 14 | K12: 0 | L12: 14 | M12: 30 | N12: 0 | O12: 30 | P12: 0 | Q12: 0 | R12: 0 | S12: 107 | T12: 1 | U12: 108
B13: 44.03.02 | C13: Психолого-педагогическое образование | D13: 16 | E13: 1 | F13: 17 | G13: 20 | H13: 0 | I13: 20 | J13: 18 | K13: 0 | L13: 18 | M13: 16 | N13: 0 | O13: 16 | P13: 0 | Q13: 0 | R13: 0 | S13: 70 | T13: 1 | U13: 71
B14: 44.03.05 | C14: Педагогическое образование (с двумя профилями подготовки) | D14: 30 | E14: 0 | F14: 30 | G14: 19 | H14: 0 | I14: 19 | J14: 40 | K14: 1 | L14: 41 | M14: 19 | N14: 0 | O14: 19 | P14: 19 | Q14: 0 | R14: 19 | S14: 127 | T14: 1 | U14: 128
B15: 45.03.01 | C15: Филология | D15: 23 | E15: 1 | F15: 24 | G15: 18 | H15: 0 | I15: 18 | J15: 22 | K15: 0 | L15: 22 | M15: 22 | N15: 0 | O15: 22 | P15: 0 | Q15: 0 | R15: 0 | S15: 85 | T15: 1 | U15: 86
B16: Итого по направлениям подготовки | D16: =SUM(D9:D15) -> 99 | E16: =SUM(E9:E15) -> 2 | F16: =SUM(F9:F15) -> 101 | G16: =SUM(G9:G15) -> 100 | H16: =SUM(H9:H15) -> 1 | I16: =SUM(I9:I15) -> 101 | J16: =SUM(J9:J15) -> 114 | K16: =SUM(K9:K15) -> 1 | ... U16: =SUM(U9:U15) -> 465
B17: В том числе:
B18: Граждане России
B19: 09.03.03 | C19: Прикладная информатика | D19: 0 | E19: 0 | F19: 0 | G19: 10 | H19: 0 | I19: 10 | J19: 0 | K19: 0 | L19: 0 | M19: 28 | N19: 0 | O19: 28 | P19: 0 | Q19: 0 | R19: 0 | S19: 38 | T19: 0 | U19: 38
B20: 38.03.01 | C20: Экономика | D20: 0 | E20: 0 | F20: 0 | G20: 0 | H20: 0 | I20: 0 | J20: 0 | K20: 0 | L20: 0 | M20: 13 | N20: 0 | O20: 13 | P20: 0 | Q20: 0 | R20: 0 | S20: 13 | T20: 0 | U20: 13
B21: 38.03.02 | C21: Менеджмент | D21: 0 | E21: 0 | F21: 0 | G21: 0 | H21: 0 | I21: 0 | J21: 20 | K21: 0 | L21: 20 | M21: 0 | N21: 0 | O21: 0 | P21: 0 | Q21: 0 | R21: 0 | S21: 20 | T21: 0 | U21: 20
B22: 44.03.01 | C22: Педагогическое образование | D22: 30 | E22: 0 | F22: 30 | G22: 33 | H22: 1 | I22: 34 | J22: 14 | K22: 0 | L22: 14 | M22: 29 | N22: 0 | O22: 29 | P22: 0 | Q22: 0 | R22: 0 | S22: 106 | T22: 1 | U22: 107
B23: 44.03.02 | C23: Психолого-педагогическое образование | D23: 16 | E23: 1 | F23: 17 | G23: 20 | H23: 0 | I23: 20 | J23: 18 | K23: 0 | L23: 18 | M23: 16 | N23: 0 | O23: 16 | P23: 0 | Q23: 0 | R23: 0 | S23: 70 | T23: 1 | U23: 71
B24: 44.03.05 | C24: Педагогическое образование (с двумя профилями подготовки) | D24: 29 | E24: 0 | F24: 29 | G24: 19 | H24: 0 | I24: 19 | J24: 40 | K24: 1 | L24: 41 | M24: 19 | N24: 0 | O24: 19 | P24: 19 | Q24: 0 | R24: 19 | S24: 126 | T24: 1 | U24: 127
B25: 45.03.01 | C25: Филология | D25: 23 | E25: 1 | F25: 24 | G25: 18 | H25: 0 | I25: 18 | J25: 22 | K25: 0 | L25: 22 | M25: 22 | N25: 0 | O25: 22 | P25: 0 | Q25: 0 | R25: 0 | S25: 85 | T25: 1 | U25: 86
B26: Итого граждане России | D26: =SUM(D19:D25) -> 98 | E26: =SUM(E19:E25) -> 2 | F26: =SUM(F19:F25) -> 100 | G26: =SUM(G19:G25) -> 100 | H26: =SUM(H19:H25) -> 1 | I26: =SUM(I19:I25) -> 101 | J26: =SUM(J19:J25) -> 114 | K26: =SUM(K19:K25) -> 1 | ... U26: =SUM(U19:U25) -> 462
B27: Граждане иностранных государств (вкл. Украину)
B28: 09.03.03 | C28: Прикладная информатика | D28: 0 | E28: 0 | F28: 0 | G28: 0 | H28: 0 | I28: 0 | J28: 0 | K28: 0 | L28: 0 | M28: 0 | N28: 0 | O28: 0 | P28: 0 | Q28: 0 | R28: 0 | S28: 0 | T28: 0 | U28: 0
B29: 38.03.01 | C29: Экономика | D29: 0 | E29: 0 | F29: 0 | G29: 0 | H29: 0 | I29: 0 | J29: 0 | K29: 0 | L29: 0 | M29: 1 | N29: 0 | O29: 1 | P29: 0 | Q29: 0 | R29: 0 | S29: 1 | T29: 0 | U29: 1
B30: 44.03.01 | C30: Педагогическое образование | D30: 0 | E30: 0 | F30: 0 | G30: 0 | H30: 0 | I30: 0 | J30: 0 | K30: 0 | L30: 0 | M30: 1 | N30: 0 | O30: 1 | P30: 0 | Q30: 0 | R30: 0 | S30: 1 | T30: 0 | U30: 1
B31: 44.03.05 | C31: Педагогическое образование (с двумя профилями подготовки) | D31: 1 | E31: 0 | F31: 1 | G31: 0 | H31: 0 | I31: 0 | J31: 0 | K31: 0 | L31: 0 | M31: 0 | N31: 0 | O31: 0 | P31: 0 | Q31: 0 | R31: 0 | S31: 1 | T31: 0 | U31: 1
B32: Итого по направлениям подготовки | D32: 1 | E32: =SUM(E28:E30) -> 0 | F32: 1 | G32: =SUM(G28:G30) -> 0 | H32: =SUM(H28:H30) -> 0 | I32: =SUM(I28:I30) -> 0 | J32: =SUM(J28:J30) -> 0 | K32: =SUM(K28:K30) -> 0 | L32: =SUM(L28:L30) -> 0 | M32: =SUM(M28:M30) -> 2 | N32: =SUM(N28:N30) -> 0 | ... R32: =SUM(R28:R30) -> 0 | S32: 3 | T32: =SUM(T28:T30) -> 0 | U32: 3
B33: ИТОГО по подразделению граждане России | D33: =SUM(D19:D25) -> 98 | E33: =SUM(E19:E25) -> 2 | F33: =SUM(F19:F25) -> 100 | G33: =SUM(G19:G25) -> 100 | H33: =SUM(H19:H25) -> 1 | I33: =SUM(I19:I25) -> 101 | J33: =SUM(J19:J25) -> 114 | K33: =SUM(K19:K25) -> 1 | ... U33: =SUM(U19:U25) -> 462
B34: ИТОГО по подразделению граждане иностранных государств | D34: =D32 -> 1 | E34: =E32 -> 0 | F34: =F32 -> 1 | G34: =G32 -> 0 | H34: =H32 -> 0 | I34: =I32 -> 0 | J34: =J32 -> 0 | K34: =K32 -> 0 | ... R34: =R32 -> 0 | S34: 3 | T34: =T32 -> 0 | U34: 3
B35: Свод по направлениям подготовки | D35: =D33+D34 -> 99 | E35: =E33+E34 -> 2 | F35: =F33+F34 -> 101 | G35: =G33+G34 -> 100 | H35: =H33+H34 -> 1 | I35: =I33+I34 -> 101 | J35: =J33+J34 -> 114 | K35: =K33+K34 -> 1 | ... U35: =U33+U34 -> 465

Sheet БАК ОЗО ГПА
B1: =[3]БакалавриатДО!B1 -> Гуманитарно-педагогическая академия (филиал) ФГАОУ ВО «КФУ им. В. И. Вернадского» в г. Ялте
B3: Контингент очно-заочной формы обучения на | I3: 46023 | K3: (Бакалавриат)
B5: Факультет/направление подготовки | D5: 1 год обучения | G5: 2 год обучения | J5: 3 год обучения | M5: 4 год обучения | P5: 5 год обучения | S5: Всего бакалавриата
D7: За счет бюджетных ассигнований | E7: На основе догов. о платных образов. услугах | F7: ВСЕГО | G7: За счет бюджетных ассигнований | H7: На основе догов. о платных образов. услугах | I7: ВСЕГО | J7: За счет бюджетных ассигнований | K7: На основе догов. о платных образов. услугах | L7: ВСЕГО | M7: За счет бюджетных ассигнований | N7: На основе догов. о платных образов. услугах | O7: ВСЕГО | P7: За счет бюджетных ассигнований | Q7: На основе догов. о платных образов. услугах | R7: ВСЕГО | S7: За счет бюджетных ассигнований | T7: На основе догов. о платных образов. услугах | U7: ВСЕГО
B8: Свод по направлениям подготовки | D8: =SUM(D9:D11) -> 0 | E8: =SUM(E9:E11) -> 14 | F8: =SUM(F9:F11) -> 14 | G8: =SUM(G9:G11) -> 0 | H8: =SUM(H9:H11) -> 82 | I8: =SUM(I9:I11) -> 82 | J8: =SUM(J9:J11) -> 0 | K8: =SUM(K9:K11) -> 31 | ... U8: =SUM(U9:U11) -> 148
B9: 38.03.01 | C9: Экономика | D9: 0 | E9: 13 | F9: 13 | G9: 0 | H9: 35 | I9: 35 | J9: 0 | K9: 18 | L9: 18 | M9: 0 | N9: 0 | O9: 0 | P9: 0 | Q9: 0 | R9: 0 | S9: 0 | T9: 66 | U9: 66
B10: 43.03.02 | C10: Туризм | D10: 0 | E10: 0 | F10: 0 | G10: 0 | H10: 26 | I10: 26 | J10: 0 | K10: 0 | L10: 0 | M10: 0 | N10: 13 | O10: 13 | P10: 0 | Q10: 0 | R10: 0 | S10: 0 | T10: 39 | U10: 39
B11: 54.03.01 | C11: Дизайн | D11: 0 | E11: 1 | F11: 1 | G11: 0 | H11: 21 | I11: 21 | J11: 0 | K11: 13 | L11: 13 | M11: 0 | N11: 8 | O11: 8 | P11: 0 | Q11: 0 | R11: 0 | S11: 0 | T11: 43 | U11: 43
B12: Итого по направлениям подготовки | D12: =SUM(D9:D11) -> 0 | E12: =SUM(E9:E11) -> 14 | F12: =SUM(F9:F11) -> 14 | G12: =SUM(G9:G11) -> 0 | H12: =SUM(H9:H11) -> 82 | I12: =SUM(I9:I11) -> 82 | J12: =SUM(J9:J11) -> 0 | K12: =SUM(K9:K11) -> 31 | ... U12: =SUM(U9:U11) -> 148
B13: В том числе:
B14: Граждане России | D14: 0 | E14: 0 | F14: 0 | J14: 0 | K14: 0 | L14: 0
B15: 38.03.01 | C15: Экономика | D15: 0 | E15: 13 | F15: 13 | G15: 0 | H15: 34 | I15: 34 | J15: 0 | K15: 18 | L15: 0 | M15: 0 | N15: 0 | O15: 0 | P15: 0 | Q15: 0 | R15: 0 | S15: 0 | T15: 65 | U15: 65
B16: 43.03.02 | C16: Туризм | D16: 0 | E16: 0 | F16: 0 | G16: 0 | H16: 26 | I16: 26 | J16: 0 | K16: 0 | L16: =L12 -> 31 | M16: 0 | N16: 13 | O16: 13 | P16: 0 | Q16: 0 | R16: 0 | S16: 0 | T16: 39 | U16: 39
B17: 54.03.01 | C17: Дизайн | D17: 0 | E17: 1 | F17: 1 | G17: 0 | H17: 21 | I17: 21 | J17: 0 | K17: 13 | L17: =L15 -> 0 | M17: 0 | N17: 8 | O17: 8 | P17: 0 | Q17: 0 | R17: 0 | S17: 0 | T17: 43 | U17: 43
B18: Итого граждане России | D18: =D16+D17+D15 -> 0 | E18: =E16+E17+E15 -> 14 | F18: =F16+F17+F15 -> 14 | G18: =SUM(G15:G17) -> 0 | H18: =SUM(H15:H17) -> 81 | I18: =SUM(I15:I17) -> 81 | J18: =J16+J17+J15 -> 0 | K18: =K16+K17+K15 -> 31 | L18: =L16+L17+L15 -> 31 | M18: =M16+M17+M15 -> 0 | N18: =N16+N17+N15 -> 21 | O18: =O16+O17+O15 -> 21 | P18: =P16+P17+P15 -> 0 | Q18: =Q16+Q17+Q15 -> 0 | R18: =R16+R17+R15 -> 0 | S18: =SUM(S15:S17) -> 0 | T18: =SUM(T15:T17) -> 147 | U18: =SUM(U15:U17) -> 147
B19: Граждане иностранных государств (вкл. Украину)
B20: 38.03.01 | C20: Экономика | D20: 0 | E20: 0 | F20: 0 | G20: 0 | H20: 1 | I20: 2 | J20: 0 | K20: 0 | L20: 0 | M20: 0 | N20: 0 | O20: 0 | P20: 0 | Q20: 0 | R20: 0 | S20: 0 | T20: 1 | U20: 1
B21: Итого граждане иностранных государств | D21: =SUM(D20:D20) -> 0 | E21: =SUM(E20:E20) -> 0 | F21: =SUM(F20:F20) -> 0 | G21: =SUM(G20:G20) -> 0 | H21: =SUM(H20:H20) -> 1 | I21: =SUM(I20:I20) -> 2 | J21: 0 | K21: =SUM(K20:K20) -> 0 | L21: 0 | M21: =SUM(M20:M20) -> 0 | N21: =SUM(N20:N20) -> 0 | O21: =SUM(O20:O20) -> 0 | P21: =SUM(P20:P20) -> 0 | Q21: =SUM(Q20:Q20) -> 0 | R21: =SUM(R20:R20) -> 0 | S21: =SUM(S20:S20) -> 0 | T21: =SUM(T20:T20) -> 1 | U21: =SUM(U20:U20) -> 1
B22: ИТОГО по подразделению граждане России | D22: =D18 -> 0 | E22: =E18 -> 14 | F22: =F18 -> 14 | G22: =G18 -> 0 | H22: =H18 -> 81 | I22: =I18 -> 81 | J22: =J18 -> 0 | K22: =K18 -> 31 | ... U22: =U18 -> 147
B23: ИТОГО по подразделению граждане иностранных государств | D23: =D21 -> 0 | E23: 0 | F23: 0 | G23: =G21 -> 0 | H23: =H21 -> 1 | I23: 1 | J23: =J21 -> 0 | K23: =K21 -> 0 | L23: =L21 -> 0 | M23: =M21 -> 0 | N23: =N21 -> 0 | O23: =O21 -> 0 | P23: =P21 -> 0 | Q23: =Q21 -> 0 | ... U23: =U21 -> 1
B24: Свод по направлениям подготовки | D24: =D22+D23 -> 0 | E24: =E22+E23 -> 14 | F24: =F22+F23 -> 14 | G24: =G22+G23 -> 0 | H24: =H22+H23 -> 82 | I24: =I22+I23 -> 82 | J24: =J22+J23 -> 0 | K24: =K22+K23 -> 31 | ... U24: =U22+U23 -> 148

Sheet Бак ЗФО ГПА
B1: =[3]БакалавриатДО!B1 -> Гуманитарно-педагогическая академия (филиал) ФГАОУ ВО «КФУ им. В. И. Вернадского» в г. Ялте
B3: Контингент заочной формы обучения на | I3: 46023 | K3: (Бакалавриат)
B5: Факультет/направление подготовки | D5: 1 год обучения | G5: 2 год обучения | J5: 3 год обучения | M5: 4 год обучения | P5: 5 год обучения | S5: 6 год обучения | V5: Всего бакалавриата
D7: За счет бюджетных ассигнований | E7: На основе догов. о платных образов. услугах | F7: ВСЕГО | G7: За счет бюджетных ассигнований | H7: На основе догов. о платных образов. услугах | I7: ВСЕГО | J7: За счет бюджетных ассигнований | K7: На основе догов. о платных образов. услугах | L7: ВСЕГО | M7: За счет бюджетных ассигнований | N7: На основе догов. о платных образов. услугах | O7: ВСЕГО | P7: За счет бюджетных ассигнований | Q7: На основе догов. о платных образов. услугах | R7: ВСЕГО | S7: За счет бюджетных ассигнований | T7: На основе догов. о платных образов. услугах | U7: ВСЕГО | V7: За счет бюджетных ассигнований | W7: На основе догов. о платных образов. услугах | X7: ВСЕГО
B8: Свод по направлениям подготовки
B9: 44.03.01 | C9: Педагогическое образование | D9: 20 | E9: 0 | F9: 20 | G9: 20 | H9: 1 | I9: 21 | J9: 24 | K9: 1 | L9: 25 | M9: 17 | N9: 0 | O9: 17 | P9: 19 | Q9: 0 | R9: 19 | S9: 0 | T9: 0 | U9: 0 | V9: 100 | W9: 2 | X9: 102
B10: 49.03.02 | C10: Физическая культура для лиц с отклонениями в состоянии здоровья (адаптивная физическая культура) | D10: 0 | E10: 0 | F10: 0 | G10: 0 | H10: 0 | I10: 0 | J10: 0 | K10: 0 | L10: 0 | M10: 0 | N10: 0 | O10: 0 | P10: 0 | Q10: 1 | R10: 1 | S10: 0 | T10: 0 | U10: 0 | V10: 0 | W10: 1 | X10: 1
B11: 53.03.06 | C11: Музыкознание и музыкально-прикладное искусство | D11: 0 | E11: 0 | F11: 0 | G11: 0 | H11: 0 | I11: 0 | J11: 0 | K11: 0 | L11: 0 | M11: 0 | N11: 1 | O11: 1 | P11: 0 | Q11: 0 | R11: 0 | S11: 0 | T11: 0 | U11: 0 | V11: 0 | W11: 1 | X11: 1
B12: Итого по направлениям подготовки | D12: =SUM(D9:D11) -> 20 | E12: =SUM(E9:E11) -> 0 | F12: =SUM(F9:F11) -> 20 | G12: =SUM(G9:G11) -> 20 | H12: =SUM(H9:H11) -> 1 | I12: =SUM(I9:I11) -> 21 | J12: =SUM(J9:J11) -> 24 | K12: =SUM(K9:K11) -> 1 | ... R12: =SUM(R9:R11) -> 20 | S12: 0 | T12: 0 | U12: 0 | V12: =SUM(V9:V11) -> 100 | W12: =SUM(W9:W11) -> 4 | X12: =SUM(X9:X11) -> 104
B13: В том числе:
B14: Граждане России
B15: 44.03.01 | C15: Педагогическое образование | D15: 20 | E15: 0 | F15: 20 | G15: 20 | H15: 1 | I15: 21 | J15: 24 | K15: 1 | L15: 25 | M15: 17 | N15: 0 | O15: 17 | P15: 19 | Q15: 0 | R15: 19 | S15: 0 | T15: 0 | U15: 0 | V15: 100 | W15: 2 | X15: 102
B16: 49.03.02 | C16: Физическая культура для лиц с отклонениями в состоянии здоровья (адаптивная физическая культура) | D16: 0 | E16: 0 | F16: 0 | G16: 0 | H16: 0 | I16: 0 | J16: 0 | K16: 0 | L16: 0 | M16: 0 | N16: 0 | O16: 0 | P16: 0 | Q16: 1 | R16: 1 | S16: 0 | T16: 0 | U16: 0 | V16: 0 | W16: 1 | X16: 1
B17: 53.03.06 | C17: Музыкознание и музыкально-прикладное искусство | D17: 0 | E17: 0 | F17: 0 | G17: 0 | H17: 0 | I17: 0 | J17: 0 | K17: 0 | L17: 0 | M17: 0 | N17: 1 | O17: 1 | P17: 0 | Q17: 0 | R17: 0 | S17: 0 | T17: 0 | U17: 0 | V17: 0 | W17: 1 | X17: 1
B18: Итого по направлениям подготовки | D18: =SUM(D15:D17) -> 20 | E18: =SUM(E15:E17) -> 0 | F18: =SUM(F15:F17) -> 20 | G18: =SUM(G15:G17) -> 20 | H18: =SUM(H15:H17) -> 1 | I18: =SUM(I15:I17) -> 21 | J18: =SUM(J15:J17) -> 24 | K18: =SUM(K15:K17) -> 1 | ... R18: =SUM(R15:R17) -> 20 | S18: 0 | T18: 0 | U18: 0 | V18: =SUM(V15:V17) -> 100 | W18: =SUM(W15:W17) -> 4 | X18: =SUM(X15:X17) -> 104
B19: Граждане иностранных государств (вкл. Украину)
B20: 45.03.01 | C20: Филология | D20: 0 | E20: 0 | F20: 0 | G20: 0 | H20: 0 | I20: 0 | J20: 0 | K20: 0 | L20: 0 | M20: 0 | N20: 0 | O20: 0 | P20: 0 | Q20: 0 | R20: 0 | S20: 0 | T20: 0 | U20: 0 | V20: 0 | W20: 0 | X20: 0
B21: Итого по направлениям подготовки | D21: =SUM(D20:D20) -> 0 | E21: =SUM(E20:E20) -> 0 | F21: =SUM(F20:F20) -> 0 | G21: =SUM(G20:G20) -> 0 | H21: =SUM(H20:H20) -> 0 | I21: =SUM(I20:I20) -> 0 | J21: =SUM(J20:J20) -> 0 | K21: =SUM(K20:K20) -> 0 | ... R21: =SUM(R20:R20) -> 0 | S21: 0 | T21: 0 | U21: 0 | V21: =SUM(V20:V20) -> 0 | W21: =SUM(W20:W20) -> 0 | X21: =SUM(X20:X20) -> 0
B22: ИТОГО по подразделению граждане России | D22: =D18 -> 20 | E22: =E18 -> 0 | F22: =F18 -> 20 | G22: =G18 -> 20 | H22: =H18 -> 1 | I22: =I18 -> 21 | J22: =J18 -> 24 | K22: =K18 -> 1 | ... R22: =R18 -> 20 | S22: 0 | T22: 0 | U22: 0 | V22: =V18 -> 100 | W22: =W18 -> 4 | X22: =X18 -> 104
B23: ИТОГО по подразделению граждане иностранных государств | D23: =D21 -> 0 | E23: =E21 -> 0 | F23: =F21 -> 0 | G23: =G21 -> 0 | H23: =H21 -> 0 | I23: =I21 -> 0 | J23: =J21 -> 0 | K23: =K21 -> 0 | ... R23: =R21 -> 0 | S23: 0 | T23: 0 | U23: 0 | V23: =V21 -> 0 | W23: =W21 -> 0 | X23: =X21 -> 0
B24: Свод по направлениям подготовки | D24: =D22+D23 -> 20 | E24: =E22+E23 -> 0 | F24: =F22+F23 -> 20 | G24: =G22+G23 -> 20 | H24: =H22+H23 -> 1 | I24: =I22+I23 -> 21 | J24: =J22+J23 -> 24 | K24: =K22+K23 -> 1 | ... R24: =R22+R23 -> 20 | S24: 0 | T24: 0 | U24: 0 | V24: =V22+V23 -> 100 | W24: =W22+W23 -> 4 | X24: =X22+X23 -> 104

Sheet Спец ОФО ГПА
B1: ='[4]Бакалавриат ЗО'!B1:U1 -> Гуманитарно-педагогическая академия (филиал) ФГАОУ ВО «КФУ им. В. И. Вернадского» в г. Ялте
B3: Контингент очной формы обучения на | D3: 46023 | F3: (Специалитет)
B5: Факультет/направление подготовки | D5: 1 год обучения | G5: 2 год обучения | J5: 3 год обучения | M5: 4 год обучения | P5: 5 год обучения | S5: 6 год обучения | V5: Всего специалитета
D7: За счет бюджетных ассигнований | E7: На основе догов. о платных образов. услугах | F7: ВСЕГО | G7: За счет бюджетных ассигнований | H7: На основе догов. о платных образов. услугах | I7: ВСЕГО | J7: За счет бюджетных ассигнований | K7: На основе догов. о платных образов. услугах | L7: ВСЕГО | M7: За счет бюджетных ассигнований | N7: На основе догов. о платных образов. услугах | O7: ВСЕГО | P7: За счет бюджетных ассигнований | Q7: На основе догов. о платных образов. услугах | R7: ВСЕГО | S7: За счет бюджетных ассигнований | T7: На основе догов. о платных образов. услугах | U7: ВСЕГО | V7: За счет бюджетных ассигнований | W7: На основе догов. о платных образов. услугах | X7: ВСЕГО
B8: Свод по направлениям подготовки
B9: 44.05.01 | C9: Педагогика и психология девиантного поведения | D9: 15 | E9: 2 | F9: 17 | G9: 22 | H9: 0 | I9: 22 | J9: 18 | K9: 0 | L9: 18 | M9: 17 | N9: 0 | O9: 17 | P9: 13 | Q9: 0 | R9: 13 | S9: 0 | T9: 0 | U9: 0 | V9: 85 | W9: 2 | X9: 87
B10: 54.05.02 | C10: Живопись | D10: 7 | E10: 1 | F10: 8 | G10: 7 | H10: 0 | I10: 7 | J10: 8 | K10: 0 | L10: 8 | M10: 7 | N10: 0 | O10: 7 | P10: 9 | Q10: 0 | R10: 9 | S10: 8 | T10: 0 | U10: 8 | V10: 46 | W10: 1 | X10: 47
B11: Итого по направлениям подготовки | D11: =SUM(D9:D10) -> 22 | E11: =SUM(E9:E10) -> 3 | F11: =SUM(F9:F10) -> 25 | G11: =SUM(G9:G10) -> 29 | H11: =SUM(H9:H10) -> 0 | I11: =SUM(I9:I10) -> 29 | J11: =SUM(J9:J10) -> 26 | K11: =SUM(K9:K10) -> 0 | ... X11: =SUM(X9:X10) -> 134
B12: В том числе:
B13: Граждане России
B14: 44.05.01 | C14: Педагогика и психология девиантного поведения | D14: 15 | E14: 2 | F14: 17 | G14: 22 | H14: 0 | I14: 22 | J14: 18 | K14: 0 | L14: 18 | M14: 17 | N14: 0 | O14: 17 | P14: 13 | Q14: 0 | R14: 13 | S14: 0 | T14: 0 | U14: 0 | V14: 85 | W14: 2 | X14: 87
B15: 54.05.02 | C15: Живопись | D15: 7 | E15: 1 | F15: 8 | G15: 7 | H15: 0 | I15: 7 | J15: 8 | K15: 0 | L15: 8 | M15: 7 | N15: 0 | O15: 7 | P15: 9 | Q15: 0 | R15: 9 | S15: 8 | T15: 0 | U15: 8 | V15: 46 | W15: 1 | X15: 47
B16: Итого граждане России | D16: =SUM(D14:D15) -> 22 | E16: =SUM(E14:E15) -> 3 | F16: =SUM(F14:F15) -> 25 | G16: =SUM(G14:G15) -> 29 | H16: =SUM(H14:H15) -> 0 | I16: =SUM(I14:I15) -> 29 | J16: =SUM(J14:J15) -> 26 | K16: =SUM(K14:K15) -> 0 | ... X16: =SUM(X14:X15) -> 134
B17: Граждане иностранных государств (вкл. Украину)
B18: 44.05.01 | C18: Педагогика и психология девиантного поведения | D18: 0 | E18: 0 | F18: 0 | G18: 0 | H18: 0 | I18: 0 | J18: 0 | K18: 0 | L18: 0 | M18: 0 | N18: 0 | O18: 0 | P18: 0 | Q18: 0 | R18: 0 | S18: 0 | T18: 0 | U18: 0 | V18: 0 | W18: 0 | X18: 0
B19: Итого граждане иностранных государств | D19: =SUM(D18:D18) -> 0 | E19: =SUM(E18:E18) -> 0 | F19: =SUM(F18:F18) -> 0 | G19: =SUM(G18:G18) -> 0 | H19: =SUM(H18:H18) -> 0 | I19: =SUM(I18:I18) -> 0 | J19: =SUM(J18:J18) -> 0 | K19: =SUM(K18:K18) -> 0 | L19: =SUM(L18:L18) -> 0 | M19: 0 | N19: =SUM(N18:N18) -> 0 | O19: 0 | P19: =SUM(P18:P18) -> 0 | Q19: =SUM(Q18:Q18) -> 0 | R19: =SUM(R18:R18) -> 0 | S19: =SUM(S18:S18) -> 0 | T19: =SUM(T18:T18) -> 0 | U19: =SUM(U18:U18) -> 0 | V19: 0 | W19: =SUM(W18:W18) -> 0 | X19: =SUM(X18:X18) -> 0
B20: ИТОГО по подразделению граждане России | D20: =D16 -> 22 | E20: =E16 -> 3 | F20: =F16 -> 25 | G20: =G16 -> 29 | H20: =H16 -> 0 | I20: =I16 -> 29 | J20: =J16 -> 26 | K20: =K16 -> 0 | ... X20: =X16 -> 134
B21: ИТОГО по подразделению граждане иностранных государств | D21: =D19 -> 0 | E21: =E19 -> 0 | F21: =F19 -> 0 | G21: =G19 -> 0 | H21: =H19 -> 0 | I21: =I19 -> 0 | J21: =J19 -> 0 | K21: =K19 -> 0 | ... X21: =X19 -> 0
B22: Свод по направлениям подготовки | D22: =D20+D21 -> 22 | E22: =E20+E21 -> 3 | F22: =F20+F21 -> 25 | G22: =G20+G21 -> 29 | H22: =H20+H21 -> 0 | I22: =I20+I21 -> 29 | J22: =J20+J21 -> 26 | K22: =K20+K21 -> 0 | ... X22: =X20+X21 -> 134

Sheet МАГ ОФО ГПА
B1: =[5]БакалавриатДО!B1 -> Гуманитарно-педагогическая академия (филиал) ФГАОУ ВО «КФУ им. В. И. Вернадского» в г. Ялте
B3: Контингент очной формы обучения на | D3: 46023 | F3: (Магистратура)
B5: Факультет/направление подготовки | D5: 1 год обучения | G5: 2 год обучения | J5: Всего магистратуры
D7: За счет бюджетных ассигнований | E7: На основе догов. о платных образов. услугах | F7: ВСЕГО | G7: За счет бюджетных ассигнований | H7: На основе догов. о платных образов. услугах | I7: ВСЕГО | J7: За счет бюджетных ассигнований | K7: На основе догов. о платных образов. услугах | L7: ВСЕГО
B8: Свод по направлениям подготовки
B9: 44.04.01 | C9: Педагогическое образование | D9: 0 | E9: 0 | F9: 0 | G9: 22 | H9: 3 | I9: 25 | J9: 22 | K9: 3 | L9: 25
B10: 45.04.01 | C10: Филология | D10: 0 | E10: 0 | F10: 0 | G10: 0 | H10: 0 | I10: 0 | J10: 0 | K10: 0 | L10: 0
B11: Итого по направлениям подготовки | D11: =SUM(D9:D10) -> 0 | E11: =SUM(E9:E10) -> 0 | F11: =SUM(F9:F10) -> 0 | G11: =SUM(G9:G10) -> 22 | H11: =SUM(H9:H10) -> 3 | I11: =SUM(I9:I10) -> 25 | J11: =SUM(J9:J10) -> 22 | K11: =SUM(K9:K10) -> 3 | L11: =SUM(L9:L10) -> 25
B12: В том числе:
B13: Граждане России
B14: 44.04.01 | C14: Педагогическое образование | D14: 0 | E14: 0 | F14: 0 | G14: 22 | H14: 3 | I14: 25 | J14: 22 | K14: 3 | L14: 25
B15: 45.04.01 | C15: Филология | G15: 0 | H15: 0 | I15: 0 | J15: 0 | K15: 0 | L15: 0
B16: Итого граждане России | D16: 0 | E16: 0 | F16: 0 | G16: 0 | H16: 0 | I16: 0 | J16: 0 | K16: 0 | L16: 0
B17: Граждане иностранных государств (вкл. Украину) | D17: 0 | E17: 0 | F17: 0 | G17: 0 | H17: 0 | I17: 0 | J17: 0 | K17: 0 | L17: 0
B18: 45.04.01 | C18: Филология | D18: 0 | E18: 0 | F18: 0 | G18: 0 | H18: 0 | I18: 0 | J18: 0 | K18: 0 | L18: 0
B19: Итого граждане иностранных государств | D19: 0 | E19: 0 | F19: 0 | G19: 0 | H19: 0 | I19: 0 | J19: 0 | K19: 0 | L19: 0
B20: ИТОГО по подразделению граждане России | D20: 0 | E20: 0 | F20: 0 | G20: 22 | H20: 3 | I20: 25 | J20: 22 | K20: 3 | L20: 25
B21: ИТОГО по подразделению граждане иностранных государств | D21: =D19 -> 0 | E21: =E19 -> 0 | F21: =F19 -> 0 | G21: =G19 -> 0 | H21: =H19 -> 0 | I21: =I19 -> 0 | J21: =J19 -> 0 | K21: =K19 -> 0 | L21: =L19 -> 0
B22: Свод по направлениям подготовки | D22: =D20+D21 -> 0 | E22: =E20+E21 -> 0 | F22: =F20+F21 -> 0 | G22: =G20+G21 -> 22 | H22: =H20+H21 -> 3 | I22: =I20+I21 -> 25 | J22: =J20+J21 -> 22 | K22: =K20+K21 -> 3 | L22: =L20+L21 -> 25
B23: ИТОГО по подразделению граждане иностранных государств | D23: =D21 -> 0 | E23: =E21 -> 0 | F23: =F21 -> 0 | G23: =G21 -> 0 | H23: =H21 -> 0 | I23: =I21 -> 0 | J23: =J21 -> 0 | K23: =K21 -> 0 | L23: =L21 -> 0
B24: Свод по направлениям подготовки | D24: =D22+D23 -> 0 | E24: =E22+E23 -> 0 | F24: =F22+F23 -> 0 | G24: =G22+G23 -> 22 | H24: =H22+H23 -> 3 | I24: =I22+I23 -> 25 | J24: =J22+J23 -> 22 | K24: =K22+K23 -> 3 | L24: =L22+L23 -> 25

Sheet МАГ ЗФО ГПА
B1: =[3]БакалавриатДО!B1 -> Гуманитарно-педагогическая академия (филиал) ФГАОУ ВО «КФУ им. В. И. Вернадского» в г. Ялте
B3: Контингент заочной формы обучения на | F3: 46023 | H3: (Магистратура)
B5: Факультет/направление подготовки | D5: 1 год обучения | G5: 2 год обучения | J5: 3 год обучения | M5: Всего магистратуры
D7: За счет бюджетных ассигнований | E7: На основе догов. о платных образов. услугах | F7: ВСЕГО | G7: За счет бюджетных ассигнований | H7: На основе догов. о платных образов. услугах | I7: ВСЕГО | J7: За счет бюджетных ассигнований | K7: На основе догов. о платных образов. услугах | L7: ВСЕГО | M7: За счет бюджетных ассигнований | N7: На основе догов. о платных образов. услугах | O7: ВСЕГО
B8: Свод по направлениям подготовки
B9: 44.04.01 | C9: Педагогическое образование | D9: 5 | E9: 3 | F9: 8 | G9: 0 | H9: 0 | I9: 0 | J9: 20 | K9: 1 | L9: 21 | M9: 25 | N9: 4 | O9: 29
B10: 44.04.02 | C10: Психолого-педагогическое образование | D10: 0 | E10: 0 | F10: 0 | G10: 0 | H10: 0 | I10: 0 | J10: 0 | K10: 0 | L10: 0 | M10: 0 | N10: 0 | O10: 0
B11: 45.04.01 | C11: Филология | D11: 0 | E11: 0 | F11: 0 | G11: 0 | H11: 0 | I11: 0 | J11: 0 | K11: 0 | L11: 0 | M11: 0 | N11: 0 | O11: 0
B12: 53.04.01 | C12: Музыкально-инструментальное искусство | D12: 0 | E12: 0 | F12: 0 | G12: 0 | H12: 9 | I12: 9 | J12: 0 | K12: 0 | L12: 0 | M12: 0 | N12: 9 | O12: 9
B13: Итого по направлениям подготовки | D13: 5 | E13: 3 | F13: 8 | G13: 0 | H13: 9 | I13: 9 | J13: 20 | K13: 1 | L13: 21 | M13: 25 | N13: 13 | O13: 38
B14: В том числе:
B15: Граждане России
B16: 44.04.01 | C16: Педагогическое образование | D16: 5 | E16: 3 | F16: 8 | G16: 0 | H16: 0 | I16: 0 | J16: 20 | K16: 1 | L16: 21 | M16: 25 | N16: 4 | O16: 29
B17: 44.04.02 | C17: Психолого-педагогическое образование | D17: 0 | E17: 0 | F17: 0 | G17: 0 | H17: 0 | I17: 0 | J17: 0 | K17: 0 | L17: 0 | M17: 0 | N17: 0 | O17: 0
B18: 45.04.01 | C18: Филология | D18: 0 | E18: 0 | F18: 0 | G18: 0 | H18: 0 | I18: 0 | J18: 0 | K18: 0 | L18: 0 | M18: 0 | N18: 0 | O18: 0
B19: 53.04.01 | C19: Музыкально-инструментальное искусство | D19: 0 | E19: 0 | F19: 0 | G19: 0 | H19: 9 | I19: 9 | J19: 0 | K19: 0 | L19: 0 | M19: 0 | N19: 9 | O19: 9
B20: Итого граждан Росии | D20: 5 | E20: 3 | F20: 8 | G20: 0 | H20: 9 | I20: 9 | J20: 20 | K20: 1 | L20: 21 | M20: 25 | N20: 13 | O20: 38
B21: Граждане иностранных государств (вкл. Украину)
B22: 44.04.02 | C22: Психолого-педагогическое образование | D22: 0 | E22: 0 | F22: 0 | G22: 0 | H22: 0 | I22: 0 | J22: 0 | K22: 0 | L22: 0 | M22: 0 | N22: 0 | O22: 0
B23: Итого граждане иностранных государств | D23: =SUM(D22:D22) -> 0 | E23: =SUM(E22:E22) -> 0 | F23: =SUM(F22:F22) -> 0 | G23: =SUM(G22:G22) -> 0 | H23: =SUM(H22:H22) -> 0 | I23: =SUM(I22:I22) -> 0 | J23: =SUM(J22:J22) -> 0 | K23: =SUM(K22:K22) -> 0 | ... O23: =SUM(O22:O22) -> 0
B24: ИТОГО по подразделению граждане России | D24: =SUM(D17:D18) -> 0 | E24: =SUM(E17:E18) -> 0 | F24: =SUM(F17:F18) -> 0 | G24: =SUM(G17:G18) -> 0 | H24: =SUM(H17:H18) -> 0 | I24: =SUM(I17:I18) -> 0 | J24: =SUM(J17:J18) -> 0 | K24: =SUM(K17:K18) -> 0 | ... O24: =SUM(O17:O18) -> 0
B25: ИТОГО по подразделению граждане иностранных государств | D25: =SUM(D22:D22) -> 0 | E25: =SUM(E22:E22) -> 0 | F25: =SUM(F22:F22) -> 0 | G25: =SUM(G22:G22) -> 0 | H25: =SUM(H22:H22) -> 0 | I25: =SUM(I22:I22) -> 0 | J25: =SUM(J22:J22) -> 0 | K25: =SUM(K22:K22) -> 0 | ... O25: =SUM(O22:O22) -> 0
B26: Свод по направлениям подготовки | D26: 5 | E26: 3 | F26: 8 | G26: 0 | H26: 9 | I26: 9 | J26: 20 | K26: 1 | L26: 21 | M26: 25 | N26: 13 | O26: 38
B28: =[3]БакалавриатДО!B39 -> Начальник УМО _____________________ О.И. Игнатова
D30: =D26=D13 -> TRUE | E30: =E26=E13 -> TRUE | F30: =F26=F13 -> TRUE | G30: =G26=G13 -> TRUE | H30: =H26=H13 -> TRUE | I30: =I26=I13 -> TRUE | J30: =J26=J13 -> TRUE | K30: =K26=K13 -> TRUE | ... O30: =O26=O13 -> TRUE
D33: =D13=D26 -> TRUE | E33: =E13=E26 -> TRUE | F33: =F13=F26 -> TRUE | G33: =G13=G26 -> TRUE | H33: =H13=H26 -> TRUE | I33: =I13=I26 -> TRUE | J33: =J13=J26 -> TRUE | K33: =K13=K26 -> TRUE | ... O33: =O13=O26 -> TRUE

Sheet Маг ОЗФО ГПА
B1: 0
A2: Гуманитарно-педагогическая академия (филиал) ФГАОУ ВО «КФУ им. В. И. Вернадского» в г. Ялте
B3: Контингент очно-заочной формы обучения на | F3: 46023 | H3: (Магистратура)
B5: Факультет/направление подготовки | D5: 1 год обучения | G5: 2 год обучения | J5: 3 год обучения | M5: Всего магистратуры
D7: За счет бюджетных ассигнований | E7: На основе догов. о платных образов. услугах | F7: ВСЕГО | G7: За счет бюджетных ассигнований | H7: На основе догов. о платных образов. услугах | I7: ВСЕГО | J7: За счет бюджетных ассигнований | K7: На основе догов. о платных образов. услугах | L7: ВСЕГО | M7: За счет бюджетных ассигнований | N7: На основе догов. о платных образов. услугах | O7: ВСЕГО
B8: Свод по направлениям подготовки
B9: 37.04.01 | C9: Психология | D9: 0 | E9: 19 | F9: 19 | G9: 0 | H9: 17 | I9: 17 | J9: 0 | K9: 0 | L9: 0 | M9: 0 | N9: 36 | O9: 36
B10: 38.04.01 | C10: Экономика | D10: 0 | E10: 0 | F10: 0 | G10: 0 | H10: 13 | I10: 13 | J10: 0 | K10: 0 | L10: 0 | M10: 0 | N10: 13 | O10: 13
B11: 38.04.02 | C11: Менеджмент | D11: 0 | E11: 12 | F11: 12 | G11: 0 | H11: 9 | I11: 9 | J11: 0 | K11: 0 | L11: 0 | M11: 0 | N11: 21 | O11: 21
B12: Итого по направлениям подготовки | D12: =SUM(D11:D11) -> 0 | E12: 31 | F12: 31 | G12: =SUM(G11:G11) -> 0 | H12: 39 | I12: 39 | J12: =SUM(J11:J11) -> 0 | K12: 0 | L12: 0 | M12: =SUM(M11:M11) -> 0 | N12: 70 | O12: 70
B13: В том числе:
B14: Граждане России | N14: 0 | O14: 0
B15: 37.04.01 | C15: Психология | D15: 0 | E15: 19 | F15: 19 | G15: 0 | H15: 17 | I15: 17 | J15: 0 | K15: 0 | L15: 0 | M15: 0 | N15: =SUM(N14:N14) -> 0 | O15: =SUM(O14:O14) -> 0
B16: 38.04.01 | C16: Экономика | D16: 0 | E16: 0 | F16: 0 | G16: 0 | H16: 13 | I16: 13 | J16: 0 | K16: 0 | L16: 0 | M16: 0 | N16: =N12 -> 70 | O16: =O12 -> 70
B17: 38.04.02 | C17: Менеджмент | D17: 0 | E17: 12 | F17: 12 | G17: 0 | H17: 9 | I17: 9 | J17: 0 | K17: 0 | L17: 0 | M17: 0 | N17: =N15 -> 0 | O17: =O15 -> 0
B18: Итого граждане России | D18: =SUM(D15:D15) -> 0 | E18: 32 | F18: 32 | G18: =SUM(G15:G15) -> 0 | H18: 39 | I18: 39 | J18: =SUM(J15:J15) -> 0 | K18: 0 | L18: 0 | M18: =SUM(M17:M17) -> 0 | N18: =N16+N17 -> 70 | O18: =O16+O17 -> 70
B19: Граждане иностранных государств (вкл. Украину)
B20: 54.04.01 | C20: Дизайн | D20: 0 | E20: 0 | F20: 0 | G20: 0 | H20: 0 | I20: 0 | J20: 0 | K20: 0 | L20: 0 | M20: 0 | N20: 0 | O20: 0
B21: Итого граждане иностранных государств | D21: =SUM(D20:D20) -> 0 | E21: 0 | F21: 0 | G21: =SUM(G20:G20) -> 0 | H21: =SUM(H20:H20) -> 0 | I21: =SUM(I20:I20) -> 0 | J21: =SUM(J20:J20) -> 0 | K21: 0 | L21: 0 | M21: =SUM(M20:M20) -> 0 | N21: =SUM(N20:N20) -> 0 | O21: =SUM(O20:O20) -> 0
B22: ИТОГО по подразделению граждане России | D22: =D18 -> 0 | E22: 31 | F22: 31 | G22: =G18 -> 0 | H22: =H18 -> 39 | I22: =I18 -> 39 | J22: =J18 -> 0 | K22: 0 | L22: 0 | M22: =M18 -> 0 | N22: =N18 -> 70 | O22: =O18 -> 70
B23: ИТОГО по подразделению граждане иностранных государств | D23: =D21 -> 0 | E23: 0 | F23: 0 | G23: =G21 -> 0 | H23: =H21 -> 0 | I23: =I21 -> 0 | J23: =J21 -> 0 | K23: 0 | L23: 0 | M23: =M21 -> 0 | N23: =N21 -> 0 | O23: =O21 -> 0
B24: Свод по направлениям подготовки | D24: =D22+D23 -> 0 | E24: 31 | F24: 31 | G24: =G22+G23 -> 0 | H24: =H22+H23 -> 39 | I24: =I22+I23 -> 39 | J24: =J22+J23 -> 0 | K24: 0 | L24: 0 | M24: =M22+M23 -> 0 | N24: =N22+N23 -> 70 | O24: =O22+O23 -> 70

Sheet Бак ОФО ЕИСН
A2: Евпаторийский институт социальных наук (филиал)
A3: Контингент очной формы обучения на 01.01.2026 г. (Бакалавриат)
A5: Направление подготовки | B5: 1 год обучения | E5: 2 год обучения | H5: 3 год обучения | K5: 4 год обучения | N5: Всего бакалавры
B6: За счет бюджетных ассигнований | C6: На основе догов. о платных образов. услугах | D6: ВСЕГО | E6: За счет бюджетных ассигнований | F6: На основе догов. о платных образов. услугах | G6: ВСЕГО | H6: За счет бюджетных ассигнований | I6: На основе догов. о платных образов. услугах | J6: ВСЕГО | K6: За счет бюджетных ассигнований | L6: На основе догов. о платных образов. услугах | M6: ВСЕГО | N6: За счет бюджетных ассигнований | O6: На основе догов. о платных образов. услугах | P6: ВСЕГО
A7: Свод по направлениям подготовки
A8: 44.03.01 Педагогическое образование | B8: 11 | C8: 0 | D8: =SUM(B8:C8) -> 11 | E8: 10 | F8: 1 | G8: =SUM(E8:F8) -> 11 | H8: 9 | I8: 0 | J8: =SUM(H8:I8) -> 9 | K8: 28 | L8: 0 | M8: =SUM(K8:L8) -> 28 | N8: =B8+E8+H8+K8 -> 58 | O8: =C8+F8+I8+L8 -> 1 | P8: =N8+O8 -> 59
A9: 44.03.02 Психолого-педагогическое образование | B9: 15 | C9: 1 | D9: =SUM(B9:C9) -> 16 | E9: 12 | F9: 2 | G9: =SUM(E9:F9) -> 14 | H9: 10 | I9: 2 | J9: =SUM(H9:I9) -> 12 | K9: 12 | L9: 0 | M9: =SUM(K9:L9) -> 12 | N9: =B9+E9+H9+K9 -> 49 | O9: =C9+F9+I9+L9 -> 5 | P9: =N9+O9 -> 54
A10: 45.03.01 Филология | B10: 10 | C10: 1 | D10: =SUM(B10:C10) -> 11 | E10: 0 | F10: 0 | G10: =SUM(E10:F10) -> 0 | H10: 0 | I10: 0 | J10: =SUM(H10:I10) -> 0 | K10: 0 | L10: 0 | M10: =SUM(K10:L10) -> 0 | N10: =B10+E10+H10+K10 -> 10 | O10: =C10+F10+I10+L10 -> 1 | P10: =N10+O10 -> 11
A11: Итого по направлениям подготовки: | B11: =SUM(B8:B10) -> 36 | C11: =SUM(C8:C10) -> 2 | D11: =SUM(D8:D10) -> 38 | E11: =SUM(E8:E10) -> 22 | F11: =SUM(F8:F10) -> 3 | G11: =SUM(G8:G10) -> 25 | H11: =SUM(H8:H10) -> 19 | I11: =SUM(I8:I10) -> 2 | ... O11: =SUM(O8:O10) -> 7 | P11: =SUM(N11:O11) -> 124
A12: В том числе:
A13: Граждане России
A14: 44.03.01 Педагогическое образование | B14: 11 | C14: 0 | D14: =SUM(B14:C14) -> 11 | E14: 10 | F14: 1 | G14: =SUM(E14:F14) -> 11 | H14: 9 | I14: 0 | J14: =SUM(H14:I14) -> 9 | K14: 28 | L14: 0 | M14: =SUM(K14:L14) -> 28 | N14: =B14+E14+H14+K14 -> 58 | O14: =C14+F14+I14+L14 -> 1 | P14: =SUM(N14:O14) -> 59
A15: 44.03.02 Психолого-педагогическое образование | B15: 15 | C15: 1 | D15: =SUM(B15:C15) -> 16 | E15: 12 | F15: 2 | G15: =SUM(E15:F15) -> 14 | H15: 10 | I15: 2 | J15: =SUM(H15:I15) -> 12 | K15: 12 | L15: 0 | M15: =SUM(K15:L15) -> 12 | N15: =B15+E15+H15+K15 -> 49 | O15: =C15+F15+I15+L15 -> 5 | P15: =SUM(N15:O15) -> 54
A16: 45.03.01 Филология | B16: 10 | C16: 1 | D16: =SUM(B16:C16) -> 11 | E16: 0 | F16: 0 | G16: =SUM(E16:F16) -> 0 | H16: 0 | I16: 0 | J16: =SUM(H16:I16) -> 0 | K16: 0 | L16: 0 | M16: =SUM(K16:L16) -> 0 | N16: =B16+E16+H16+K16 -> 10 | O16: =C16+F16+I16+L16 -> 1 | P16: =SUM(N16:O16) -> 11
A17: Итого граждане России | B17: =SUM(B14:B16) -> 36 | C17: =SUM(C14:C16) -> 2 | D17: =SUM(D14:D16) -> 38 | E17: =SUM(E14:E16) -> 22 | F17: =SUM(F14:F16) -> 3 | G17: =SUM(G14:G16) -> 25 | H17: =SUM(H14:H16) -> 19 | I17: =SUM(I14:I16) -> 2 | ... P17: =SUM(P14:P16) -> 124
A18: Граждане иностранных государств (вкл. Украину)
A19: 44.03.01 Педагогическое образование | B19: 0 | C19: 0 | D19: =SUM(B19:C19) -> 0 | E19: 0 | F19: 0 | G19: =SUM(E19:F19) -> 0 | H19: 0 | I19: 0 | J19: 0 | K19: 0 | L19: 0 | M19: =SUM(K19:L19) -> 0 | N19: =B19+E19+H19+K19 -> 0 | O19: =C19+F19+I19+L19 -> 0 | P19: =SUM(N19:O19) -> 0
A20: 44.03.02 Психолого-педагогическое образование | B20: 0 | C20: 0 | D20: 0 | E20: 0 | F20: 0 | G20: 0 | H20: 0 | I20: 0 | J20: =SUM(H20,I20) -> 0 | K20: 0 | L20: 0 | M20: =SUM(K20:L20) -> 0 | N20: =B20+E20+H20+K20 -> 0 | O20: =C20+F20+I20+L20 -> 0 | P20: =SUM(N20:O20) -> 0
A21: 45.03.01 Филология | B21: 0 | C21: 0 | D21: 0 | E21: 0 | F21: 0 | G21: 0 | H21: 0 | I21: 0 | J21: 0 | K21: 0 | L21: 0 | M21: =SUM(K21:L21) -> 0 | N21: =B21+E21+H21+K21 -> 0 | O21: =C21+F21+I21+L21 -> 0 | P21: =SUM(N21:O21) -> 0
A22: Итого граждане иностранных государств | B22: =SUM(B19:B21) -> 0 | C22: 0 | D22: =SUM(D19:D21) -> 0 | E22: =SUM(E19:E21) -> 0 | F22: 0 | G22: =SUM(G19:G21) -> 0 | H22: =SUM(H19:H21) -> 0 | I22: =SUM(I19:I21) -> 0 | J22: =SUM(J19:J21) -> 0 | K22: =SUM(K19:K21) -> 0 | L22: =SUM(L19:L21) -> 0 | M22: =SUM(M19:M21) -> 0 | N22: =SUM(N19:N21) -> 0 | O22: =SUM(O19:O21) -> 0 | P22: =SUM(N22:O22) -> 0
A23: ИТОГО по подразделению граждане России | B23: =B17 -> 36 | C23: =C17 -> 2 | D23: =D17 -> 38 | E23: =E17 -> 22 | F23: =F17 -> 3 | G23: =G17 -> 25 | H23: =H17 -> 19 | I23: =I17 -> 2 | J23: =J17 -> 21 | K23: =SUM(K17) -> 40 | L23: =SUM(L17) -> 0 | M23: =SUM(M17) -> 40 | N23: =B23+E23+H23+K23 -> 117 | O23: =C23+F23+I23+L23 -> 7 | P23: =SUM(N23:O23) -> 124
A24: ИТОГО по подразделению иностранные граждане | B24: =SUM(B22) -> 0 | C24: =C22 -> 0 | D24: =SUM(D22) -> 0 | E24: =E22 -> 0 | F24: =F22 -> 0 | G24: =G22 -> 0 | H24: =H22 -> 0 | I24: =I22 -> 0 | J24: =J22 -> 0 | K24: 0 | L24: 0 | M24: 0 | N24: =B24+E24+H24+K24 -> 0 | O24: =C24+F24+I24+L24 -> 0 | P24: =SUM(N24:O24) -> 0
A25: Итого | B25: =SUM(B23:B24) -> 36 | C25: =SUM(C23:C24) -> 2 | D25: =SUM(D23:D24) -> 38 | E25: =SUM(E23:E24) -> 22 | F25: =SUM(F23:F24) -> 3 | G25: =SUM(G23:G24) -> 25 | H25: =SUM(H23:H24) -> 19 | I25: =SUM(I23:I24) -> 2 | ... M25: =SUM(M23:M24) -> 40 | N25: =SUM(B25+E25+H25+K25) -> 117 | O25: =SUM(C25+F25+I25+L25) -> 7 | P25: =SUM(N25:O25) -> 124

Sheet Бак ЗФО ЕИСН
A1: Евпаторийский институт социальных наук (филиал) Контингент заочной формы обучения на 01.01.2026 г. (Бакалавриат)
A6: Направление подготовки | B6: 1 год обучения | E6: 2 год обучения | H6: 3 год обучения | K6: 4 год обучения | N6: 5 год обучения | Q6: Всего бакалавров
B7: За счет бюджетных ассигнований | C7: На основе догов. о платных образов. услугах | D7: ВСЕГО | E7: За счет бюджетных ассигнований | F7: На основе догов. о платных образов. услугах | G7: ВСЕГО | H7: За счет бюджетных ассигнований | I7: На основе догов. о платных образов. услугах | J7: ВСЕГО | K7: За счет бюджетных ассигнований | L7: На основе догов. о платных образов. услугах | M7: ВСЕГО | N7: За счет бюджетных ассигнований | O7: На основе догов. о платных образов. услугах | P7: ВСЕГО | Q7: За счет бюджетных ассигнований | R7: На основе догов. о платных образов. услугах | S7: ВСЕГО
A8: Свод по направлениям подготовки
A9: 44.03.01 Педагогическое образование | B9: 20 | C9: 4 | D9: 24 | E9: 20 | F9: 1 | G9: 21 | H9: 24 | I9: 2 | J9: 26 | K9: 21 | L9: 5 | M9: 26 | N9: 13 | O9: 0 | P9: 13 | Q9: 99 | R9: 12 | S9: 111
A10: 44.03.02 Психолого-педагогическое образование | B10: 0 | C10: 0 | D10: 0 | E10: 0 | F10: 0 | G10: 0 | H10: 0 | I10: 0 | J10: =SUM(H10:I10) -> 0 | K10: 0 | L10: 0 | M10: 0 | N10: 0 | O10: 0 | P10: 0 | Q10: =SUM(B10+E10+H10+K10+N10) -> 0 | R10: =SUM(C10+F10+I10+L10+O10) -> 0 | S10: =SUM(Q10:R10) -> 0
A11: 45.03.01 Филология | B11: 0 | C11: 0 | D11: 0 | E11: 0 | F11: 0 | G11: 0 | H11: 0 | I11: 0 | J11: =SUM(H11:I11) -> 0 | K11: 0 | L11: 0 | M11: 0 | N11: 0 | O11: 0 | P11: =SUM(N11:O11) -> 0 | Q11: =SUM(B11+E11+H11+K11+N11) -> 0 | R11: =SUM(C11+F11+I11+L11+O11) -> 0 | S11: =SUM(Q11:R11) -> 0
A12: Итого по направлениям подготовки: | B12: =SUM(B9:B11) -> 20 | C12: =SUM(C9:C11) -> 4 | D12: =SUM(D9:D11) -> 24 | E12: =SUM(E9:E11) -> 20 | F12: =SUM(F9:F11) -> 1 | G12: =SUM(G9:G11) -> 21 | H12: =SUM(H9:H11) -> 24 | I12: =SUM(I9:I11) -> 2 | ... P12: =SUM(P9:P11) -> 13 | Q12: =SUM(B12+E12+H12+K12+N12) -> 98 | R12: =SUM(C12+F12+I12+L12+O12) -> 12 | S12: =SUM(Q12:R12) -> 110
A13: В том числе:
A14: Граждане России
A15: 44.03.01 Педагогическое образование | B15: 20 | C15: 4 | D15: 24 | E15: 20 | F15: 1 | G15: 21 | H15: 24 | I15: 2 | J15: 26 | K15: 21 | L15: 5 | M15: 26 | N15: 13 | O15: 0 | P15: 13 | Q15: 99 | R15: 12 | S15: 111
A16: 44.03.02 Психолого-педагогическое образование | B16: 0 | C16: 0 | D16: 0 | E16: 0 | F16: 0 | G16: 0 | H16: 0 | I16: 0 | J16: 0 | K16: 0 | L16: 0 | M16: 0 | N16: 0 | O16: 0 | P16: 0 | Q16: =SUM(B16+E16+H16+K16+N16) -> 0 | R16: =SUM(C16+F16+I16+L16+O16) -> 0 | S16: =SUM(Q16:R16) -> 0
A17: 45.03.01 Филология | B17: 0 | C17: 0 | D17: 0 | E17: 0 | F17: 0 | G17: 0 | H17: 0 | I17: 0 | J17: 0 | K17: 0 | L17: 0 | M17: 0 | N17: 0 | O17: 0 | P17: =SUM(N17:O17) -> 0 | Q17: =SUM(B17+E17+H17+K17+N17) -> 0 | R17: =SUM(C17+F17+I17+L17+O17) -> 0 | S17: =SUM(Q17:R17) -> 0
A18: Итого граждане России | B18: =SUM(B15:B17) -> 20 | C18: =SUM(C15:C17) -> 4 | D18: =SUM(D15:D17) -> 24 | E18: =SUM(E15:E17) -> 20 | F18: =SUM(F15:F17) -> 1 | G18: =SUM(G15:G17) -> 21 | H18: =SUM(H15:H17) -> 24 | I18: =SUM(I15:I17) -> 2 | ... N18: =SUM(N15:N17) -> 13 | O18: 0 | P18: =SUM(P15:P17) -> 13 | Q18: =SUM(B18+E18+H18+K18+N18) -> 98 | R18: =SUM(C18+F18+I18+L18+O18) -> 12 | S18: =SUM(Q18:R18) -> 110
A19: Граждане иностранных государств (вкл. Украину)
A20: 44.03.01 Педагогическое образование | B20: 0 | C20: 0 | D20: =SUM(B20:C20) -> 0 | E20: 0 | F20: 0 | G20: =SUM(E20:F20) -> 0 | H20: 0 | I20: 0 | J20: 0 | K20: 0 | L20: 0 | M20: 0 | N20: 0 | O20: 0 | P20: 0 | Q20: =SUM(B20+E20+H20+K20+N20) -> 0 | R20: =SUM(C20+F20+I20+L20+O20) -> 0 | S20: =SUM(Q20:R20) -> 0
A21: 44.03.02 Психолого-педагогическое образование | B21: 0 | C21: 0 | D21: 0 | E21: 0 | F21: 0 | G21: 0 | H21: 0 | I21: 0 | J21: 0 | K21: 0 | L21: 0 | M21: 0 | N21: 0 | O21: 0 | P21: 0 | Q21: =SUM(B21+E21+H21+K21+N21) -> 0 | R21: =SUM(C21+F21+I21+L21+O21) -> 0 | S21: =SUM(Q21:R21) -> 0
A22: 45.03.01 Филология | B22: 0 | C22: 0 | D22: 0 | E22: 0 | F22: 0 | G22: 0 | H22: 0 | I22: 0 | J22: 0 | K22: 0 | L22: 0 | M22: 0 | N22: 0 | O22: 0 | P22: 0 | Q22: =SUM(B22+E22+H22+K22+N22) -> 0 | R22: =SUM(C22+F22+I22+L22+O22) -> 0 | S22: =SUM(Q22:R22) -> 0
A23: Итого граждане иностранных государств | B23: =SUM(B20:B22) -> 0 | C23: =SUM(C20:C22) -> 0 | D23: =SUM(D20:D22) -> 0 | E23: =SUM(E20:E22) -> 0 | F23: =SUM(F20:F22) -> 0 | G23: =SUM(G20:G22) -> 0 | H23: =SUM(H20:H22) -> 0 | I23: =SUM(I20:I22) -> 0 | ... P23: =SUM(P20:P22) -> 0 | Q23: =SUM(B23+E23+H23+K23+N23) -> 0 | R23: =SUM(C23+F23+I23+L23+O23) -> 0 | S23: =SUM(Q23:R23) -> 0
A24: ИТОГО по подразделению граждане России | B24: =SUM(B18) -> 20 | C24: =SUM(C18) -> 4 | D24: =SUM(D18) -> 24 | E24: =SUM(E18) -> 20 | F24: =SUM(F18) -> 1 | G24: =SUM(G18) -> 21 | H24: =SUM(H18) -> 24 | I24: =SUM(I18) -> 2 | ... S24: =SUM(S18) -> 110
A25: ИТОГО по подразделению иностранные граждане | B25: =SUM(B23) -> 0 | C25: =SUM(C23) -> 0 | D25: =SUM(D23) -> 0 | E25: =SUM(E23) -> 0 | F25: =SUM(F23) -> 0 | G25: =SUM(G23) -> 0 | H25: =SUM(H23) -> 0 | I25: =SUM(I23) -> 0 | ... S25: =SUM(S23) -> 0
A26: Итого | B26: =SUM(B24:B25) -> 20 | C26: =SUM(C24:C25) -> 4 | D26: =SUM(D24:D25) -> 24 | E26: =SUM(E24:E25) -> 20 | F26: =SUM(F24:F25) -> 1 | G26: =SUM(G24:G25) -> 21 | H26: =SUM(H24:H25) -> 24 | I26: =SUM(I24:I25) -> 2 | ... S26: =SUM(S24:S25) -> 110

Sheet Маг ОФО ЕИСН
A2: Евпаторийский институт социальных наук (филиал)
A3: Контингент очной формы обучения на 01.01.2026 г. (Магистратура)
A5: Направление подготовки | B5: 1 год обучения | E5: 2 год обучения | H5: Всего магистратуры
B6: За счет бюджетных ассигнований | C6: На основе догов. о платных образов. услугах | D6: ВСЕГО | E6: За счет бюджетных ассигнований | F6: На основе догов. о платных образов. услугах | G6: ВСЕГО | H6: За счет бюджетных ассигнований | I6: На основе догов. о платных образов. услугах | J6: ВСЕГО
A7: Свод по направлениям подготовки
A8: 44.04.02 Психолого-педагогическое образование | B8: 10 | C8: 3 | D8: 13 | E8: 12 | F8: 1 | G8: 13 | H8: 22 | I8: 4 | J8: 26
A9: 45.04.01 Филология | B9: 17 | C9: 0 | D9: 17 | E9: 20 | F9: 1 | G9: 21 | H9: 37 | I9: 1 | J9: 38
A10: Итого по направлениям подготовки: | B10: 27 | C10: 3 | D10: 30 | E10: 32 | F10: 2 | G10: 34 | H10: 59 | I10: 5 | J10: 64
A11: В том числе:
A12: Граждане России
A13: 44.04.02 Психолого-педагогическое образование | B13: 10 | C13: 3 | D13: 13 | E13: 12 | F13: 1 | G13: 13 | H13: 22 | I13: 4 | J13: 26
A14: 45.04.01 Филология | B14: 17 | C14: 0 | D14: 17 | E14: 20 | F14: 1 | G14: 21 | H14: 37 | I14: 1 | J14: 38
A15: Итого граждане России | B15: 27 | C15: 3 | D15: 30 | E15: 32 | F15: 2 | G15: 34 | H15: 59 | I15: 5 | J15: 64
A16: Граждане иностранных государств (вкл. Украину)
A17: 44.04.02 Психолого-педагогическое образование | B17: 0 | C17: 0 | D17: 0 | E17: 0 | F17: 0 | G17: 0 | H17: 0 | I17: 0 | J17: 0
A18: 45.04.01 Филология | B18: 0 | C18: 0 | D18: 0 | E18: 0 | F18: 0 | G18: 0 | H18: 0 | I18: 0 | J18: 0
A19: Итого граждане иностранных государств | B19: 0 | C19: 0 | D19: 0 | E19: 0 | F19: 0 | G19: 0 | H19: 0 | I19: 0 | J19: 0
A20: ИТОГО по подразделению граждане России | B20: 27 | C20: 3 | D20: 30 | E20: 32 | F20: 2 | G20: 34 | H20: 59 | I20: 5 | J20: 64
A21: ИТОГО по подразделению иностранные граждане | B21: 0 | C21: 0 | D21: 0 | E21: 0 | F21: 0 | G21: 0 | H21: 0 | I21: 0 | J21: 0
A22: Итого | B22: =SUM(B20:B21) -> 27 | C22: =SUM(C20:C21) -> 3 | D22: =SUM(D20:D21) -> 30 | E22: =SUM(E20) -> 32 | F22: =SUM(F20) -> 2 | G22: =SUM(G20) -> 34 | H22: =SUM(B22+E22) -> 59 | I22: =SUM(I20+I21) -> 5 | J22: =SUM(H22:I22) -> 64

Sheet МАГ ЗФО ЕИСН
A2: Евпаторийский институт социальных наук (филиал)
A3: Контингент заочной формы обучения на 01.01.2026 г. (Магистратура)
A5: Направление подготовки | B5: 1 год обучения | E5: 2 год обучения | H5: 3 год обучения | K5: Всего магистратуры
B6: За счет бюджетных ассигнований | C6: На основе догов. о платных образов. услугах | D6: ВСЕГО | E6: За счет бюджетных ассигнований | F6: На основе догов. о платных образов. услугах | G6: ВСЕГО | H6: За счет бюджетных ассигнований | I6: На основе догов. о платных образов. услугах | J6: ВСЕГО | K6: За счет бюджетных ассигнований | L6: На основе догов. о платных образов. услугах | M6: ВСЕГО
A7: Свод по направлениям подготовки
A8: 44.04.01 Педагогическое образование | B8: 9 | C8: 4 | D8: =SUM(B8:C8) -> 13 | E8: 9 | F8: 1 | G8: 10 | H8: 14 | I8: 0 | J8: 14 | K8: =SUM(B8+E8+H8) -> 32 | L8: =SUM(C8+F8+I8) -> 5 | M8: =SUM(K8+L8) -> 37
A9: 45.04.01 Филология | B9: 0 | C9: 0 | D9: =SUM(B9:C9) -> 0 | E9: 0 | F9: 0 | G9: =SUM(E9:F9) -> 0 | H9: 1 | I9: 0 | J9: =SUM(H9:I9) -> 1 | K9: =SUM(B9+E9+H9) -> 1 | L9: =SUM(C9+F9+I9) -> 0 | M9: =SUM(K9+L9) -> 1
A10: Итого по направлениям подготовки: | B10: =SUM(B8:B9) -> 9 | C10: =SUM(C8:C9) -> 4 | D10: =SUM(D8:D9) -> 13 | E10: =SUM(E8:E9) -> 9 | F10: =SUM(F8:F9) -> 1 | G10: =SUM(G8:G9) -> 10 | H10: =SUM(H8:H9) -> 15 | I10: =SUM(I8:I9) -> 0 | ... M10: =SUM(M8:M9) -> 38
A11: В том числе:
A12: Граждане России
A13: 44.04.01 Педагогическое образование | B13: 9 | C13: 4 | D13: =SUM(B13:C13) -> 13 | E13: 9 | F13: 1 | G13: 10 | H13: 14 | I13: 0 | J13: 14 | K13: =SUM(B13+E13+H13) -> 32 | L13: =SUM(C13+F13+I13) -> 5 | M13: =SUM(K13+L13) -> 37
A14: 45.04.01 Филология | B14: 0 | C14: 0 | D14: =SUM(B14:C14) -> 0 | E14: 0 | F14: 0 | G14: =SUM(E14:F14) -> 0 | H14: 1 | I14: 0 | J14: =SUM(H14:I14) -> 1 | K14: =SUM(B14+E14+H14) -> 1 | L14: =SUM(C14+F14+I14) -> 0 | M14: =SUM(K14+L14) -> 1
A15: Итого граждане России | B15: =SUM(B13:B14) -> 9 | C15: =SUM(C13:C14) -> 4 | D15: =SUM(D13:D14) -> 13 | E15: =SUM(E13:E14) -> 9 | F15: =SUM(F13:F14) -> 1 | G15: =SUM(G13:G14) -> 10 | H15: =SUM(H13:H14) -> 15 | I15: =SUM(I13:I14) -> 0 | ... M15: =SUM(M13:M14) -> 38
A16: Граждане иностранных государств (вкл. Украину)
A17: 44.04.01 Педагогическое образование | B17: 0 | C17: 0 | D17: 0 | E17: 0 | F17: 0 | G17: 0 | H17: 0 | I17: 0 | J17: 0 | K17: 0 | L17: 0 | M17: 0
A18: 45.04.01 Филология | B18: 0 | C18: 0 | D18: 0 | E18: 0 | F18: 0 | G18: 0 | H18: 13 | I18: 1 | J18: =SUM(H18:I18) -> 14 | K18: 0 | L18: 0 | M18: 0
A19: Итого граждане иностранных государств | B19: 0 | C19: 0 | D19: 0 | E19: 0 | F19: 0 | G19: 0 | H19: 8 | I19: 0 | J19: =SUM(H19:I19) -> 8 | K19: 0 | L19: 0 | M19: 0
A20: ИТОГО по подразделению граждане России | B20: =SUM(B15) -> 9 | C20: =SUM(C15) -> 4 | D20: =SUM(D15) -> 13 | E20: =SUM(E15) -> 9 | F20: =SUM(F15) -> 1 | G20: =SUM(G15) -> 10 | H20: =SUM(H13:H14) -> 15 | I20: =SUM(I13:I14) -> 0 | J20: =SUM(J13:J14) -> 15 | K20: =SUM(K13:K14) -> 33 | L20: =SUM(L13:L14) -> 5 | M20: =SUM(M13:M14) -> 38
A21: ИТОГО по подразделению иностранные граждане | B21: =SUM(B19) -> 0 | C21: =SUM(C19) -> 0 | D21: =SUM(D19) -> 0 | E21: =SUM(E19) -> 0 | F21: =SUM(F19) -> 0 | G21: =SUM(G19) -> 0 | H21: 0 | I21: 0 | J21: 0 | K21: =SUM(B21+E21+H21) -> 0 | L21: =SUM(C21+F21+I21) -> 0 | M21: =SUM(K21+L21) -> 0
A22: Итого | B22: =SUM(B20,B21) -> 9 | C22: =SUM(C20,C21) -> 4 | D22: =SUM(D20,D21) -> 13 | E22: =SUM(E20:E21) -> 9 | F22: =SUM(F20:F21) -> 1 | G22: =SUM(G20:G21) -> 10 | H22: =SUM(H20:H21) -> 15 | I22: =SUM(I20:I21) -> 0 | J22: =SUM(J20:J21) -> 15 | K22: =SUM(K20:K21) -> 33 | L22: =SUM(L20:L21) -> 5 | M22: =SUM(M20:M21) -> 38

Sheet Бак ОФО СЕГИ
A1: Севастопольский экономико-гуманитарный институт (филиал)
A2: ФГАОУ ВО "Крымский федеральный университет имени В. И. Вернадского"
A3: Контингент очной формы обучения на 01.01.2026 г. (Бакалавры)
A5: Факультет/направление подготовки | B5: 1 год обучения | E5: 2 год обучения | H5: 3 год обучения | K5: 4 год обучения | N5: Всего бакалавры
B7: За счет бюджетных ассигнований | C7: На основе догов. о платных образов. услугах | D7: ВСЕГО | E7: За счет бюджетных ассигнований | F7: На основе догов. о платных образов. услугах | G7: ВСЕГО | H7: За счет бюджетных ассигнова ний | I7: На основе догов. о платных образов. услугах | J7: ВСЕГО | K7: За счет бюджетных ассигнова ний | L7: На основе догов. о платных образов. услугах | M7: ВСЕГО | N7: За счет бюджетных ассигнований | O7: На основе догов. о платных образов. услугах | P7: ВСЕГО
A8: Свод по направлениям подготовки
A9: 37.03.01 Психология | B9: 0 | C9: 0 | D9: 0 | E9: 15 | F9: 0 | G9: =E9+F9 -> 15 | H9: 12 | I9: 0 | J9: =SUM(H9:I9) -> 12 | K9: 15 | L9: 0 | M9: =SUM(K9:L9) -> 15 | N9: =B9+E9+H9+K9 -> 42 | O9: =C9+F9+I9+L9 -> 0 | P9: =SUM(N9:O9) -> 42
A10: 38.03.02 Менеджмент | B10: 0 | C10: 0 | D10: 0 | E10: 10 | F10: 1 | G10: =SUM(E10:F10) -> 11 | H10: 0 | I10: 0 | J10: =SUM(H10:I10) -> 0 | K10: 10 | L10: 0 | M10: =SUM(K10:L10) -> 10 | N10: =B10+E297+H10+K10+E10 -> 20 | O10: =C10+F298+I10+L10+F10 -> 1 | P10: =SUM(N10:O10) -> 21
A11: 38.03.04 Государственное и муниципальное управление | B11: 0 | C11: 0 | D11: =B11+C11 -> 0 | E11: 0 | F11: 0 | G11: =SUM(E11:F11) -> 0 | H11: 0 | I11: 0 | J11: 0 | K11: 9 | L11: 0 | M11: =SUM(K11:L11) -> 9 | N11: =B11+E11+H11+K11 -> 9 | O11: =C11+I11+L11+F11 -> 0 | P11: =SUM(N11:O11) -> 9
A12: 40.03.01 Юриспруденция | B12: 0 | C12: 0 | D12: 0 | E12: 0 | F12: 9 | G12: =SUM(E12:F12) -> 9 | H12: 3 | I12: 1 | J12: =SUM(H12:I12) -> 4 | K12: 0 | L12: 0 | M12: 0 | N12: =B12+E12+H12+K12 -> 3 | O12: =C12+F12+I12+L12 -> 10 | P12: =SUM(N12:O12) -> 13
A13: 43.03.02 Туризм | B13: 0 | C13: 0 | D13: =B13+C13 -> 0 | E13: 0 | F13: 0 | G13: =SUM(E13:F13) -> 0 | H13: 0 | I13: 0 | J13: 0 | K13: 8 | L13: 0 | M13: =SUM(K13:L13) -> 8 | N13: =B13+E13+H13+K13 -> 8 | O13: =C13+F13+I13+L13 -> 0 | P13: =SUM(N13:O13) -> 8
A14: 49.03.01 Физическая культура | B14: 0 | C14: 0 | D14: =B14+C14 -> 0 | E14: 0 | F14: 0 | G14: =SUM(E14:F14) -> 0 | H14: 0 | I14: 0 | J14: =SUM(H14:I14) -> 0 | K14: 0 | L14: 0 | M14: 0 | N14: =B14+E14+H14+K14 -> 0 | O14: =C14+F14+I14+L14 -> 0 | P14: =SUM(N14:O14) -> 0
A15: 49.03.02 Физическая культура для лиц с отклонениями в состоянии здоровья (адаптивная физическая культура) | B15: 0 | C15: 0 | D15: =B15+C15 -> 0 | E15: 0 | F15: 0 | G15: =SUM(E15:F15) -> 0 | H15: 0 | I15: 0 | J15: =SUM(H15:I15) -> 0 | K15: 0 | L15: 0 | M15: 0 | N15: =B15+E15+H15+K15 -> 0 | O15: =C15+F15+I15+L15 -> 0 | P15: =SUM(N15:O15) -> 0
A16: Итого по направлениям подготовки: | B16: =SUM(B9:B15) -> 0 | C16: =SUM(C9:C15) -> 0 | D16: =SUM(D9:D15) -> 0 | E16: =SUM(E9:E15) -> 25 | F16: =SUM(F9:F15) -> 10 | G16: =SUM(G9:G15) -> 35 | H16: =SUM(H9:H15) -> 15 | I16: =SUM(I9:I15) -> 1 | ... P16: =SUM(P9:P15) -> 93
A17: В том числе:
A18: Граждане России
A19: 37.03.01 Психология | B19: 0 | C19: 0 | D19: =SUM(B19:C19) -> 0 | E19: 15 | F19: 0 | G19: =SUM(E19:F19) -> 15 | H19: 12 | I19: 0 | J19: =SUM(H19:I19) -> 12 | K19: 15 | L19: 0 | M19: =SUM(K19:L19) -> 15 | N19: =K19+H19+E19+B19 -> 42 | O19: =C19+F19+I19+L19 -> 0 | P19: =SUM(N19:O19) -> 42
A20: 38.03.02 Менеджмент | B20: 0 | C20: 0 | D20: 0 | E20: 10 | F20: 1 | G20: =SUM(E20:F20) -> 11 | H20: 0 | I20: 0 | J20: =SUM(H20:I20) -> 0 | K20: 10 | L20: 0 | M20: =SUM(K20:L20) -> 10 | N20: =B20+E20+H20+K20 -> 20 | O20: =C20+F20+I20+L20 -> 1 | P20: =SUM(N20:O20) -> 21
A21: 38.03.04 Государственное и муниципальное управление | B21: 0 | C21: 0 | D21: =SUM(B21:C21) -> 0 | E21: 0 | F21: 0 | G21: =SUM(E21:F21) -> 0 | H21: 0 | I21: 0 | J21: =SUM(H21:I21) -> 0 | K21: 9 | L21: 0 | M21: =SUM(K21:L21) -> 9 | N21: =B21+E21+H21+K21 -> 9 | O21: =C21+F21+I21+L21 -> 0 | P21: =SUM(N21:O21) -> 9
A22: 40.03.01 Юриспруденция | B22: 0 | C22: 0 | D22: 0 | E22: 0 | F22: 9 | G22: 9 | H22: 3 | I22: 1 | J22: =SUM(H22:I22) -> 4 | K22: 0 | L22: 0 | M22: =SUM(K22:L22) -> 0 | N22: =B22+E22+H22+K22 -> 3 | O22: =C22+F22+I22+L22 -> 10 | P22: =SUM(N22:O22) -> 13
A23: 43.03.02 Туризм | B23: 0 | C23: 0 | D23: =SUM(B23:C23) -> 0 | E23: 0 | F23: 0 | G23: =SUM(E23:F23) -> 0 | H23: 0 | I23: 0 | J23: 0 | K23: 8 | L23: 0 | M23: =SUM(K23:L23) -> 8 | N23: =B23+E23+H23+K23 -> 8 | O23: =C23+F23+I23+L23 -> 0 | P23: =SUM(N23:O23) -> 8
A24: 49.03.01 Физическая культура | B24: 0 | C24: 0 | D24: =SUM(B24:C24) -> 0 | E24: 0 | F24: 0 | G24: =SUM(E24:F24) -> 0 | H24: 0 | I24: 0 | J24: =SUM(H24:I24) -> 0 | K24: 0 | L24: 0 | M24: =SUM(K24:L24) -> 0 | N24: =B24+E24+H24+K24 -> 0 | O24: =C24+F24+I24+L24 -> 0 | P24: =SUM(N24:O24) -> 0
A25: 49.03.02 Физическая культура для лиц с отклонениями в состоянии здоровья (адаптивная физическая культура) | B25: 0 | C25: 0 | D25: =SUM(B25:C25) -> 0 | E25: 0 | F25: 0 | G25: =SUM(E25:F25) -> 0 | H25: 0 | I25: 0 | J25: =SUM(H25:I25) -> 0 | K25: 0 | L25: 0 | M25: 0 | N25: =B25+E25+H25+K25 -> 0 | O25: =C25+F25+I25+L25 -> 0 | P25: =SUM(N25:O25) -> 0
A26: Итого граждане России | B26: =SUM(B19:B25) -> 0 | C26: =SUM(C19:C25) -> 0 | D26: =SUM(D19:D25) -> 0 | E26: =SUM(E19:E25) -> 25 | F26: =SUM(F19:F25) -> 10 | G26: =SUM(G19:G25) -> 35 | H26: =SUM(H19:H25) -> 15 | I26: =SUM(I19:I25) -> 1 | ... M26: =SUM(M19:M25) -> 42 | N26: =B26+E26+H26+K26 -> 82 | O26: =C26+F26+I26+L26 -> 11 | P26: =SUM(N26:O26) -> 93
A27: Граждане иностранных государств (вкл. Украину) | N27: =B27+E27+H27+K27 -> 0 | O27: =C27+F27+I27+L27 -> 0 | P27: =SUM(N27:O27) -> 0
A28: 37.03.01 Психология | B28: 0 | C28: 0 | D28: =SUM(B28:C28) -> 0 | E28: 0 | F28: 0 | G28: 0 | H28: 0 | I28: 0 | J28: =SUM(H28:I28) -> 0 | K28: 0 | L28: 0 | M28: 0 | N28: =B28+E28+H28+K28 -> 0 | O28: =C28+F28+I28+L28 -> 0 | P28: =SUM(N28:O28) -> 0
A29: 38.03.02 Менеджмент | B29: 0 | C29: 0 | D29: =SUM(B29:C29) -> 0 | E29: 0 | F29: 0 | G29: =SUM(E29:F29) -> 0 | H29: 0 | I29: 0 | J29: =SUM(H29:I29) -> 0 | K29: 0 | L29: 0 | M29: =SUM(K29:L29) -> 0 | N29: =B29+E29+H29+K29 -> 0 | O29: =C29+F29+I29+L29 -> 0 | P29: =SUM(N29:O29) -> 0
A30: 38.03.04 Государственное и муниципальное управление | B30: 0 | C30: 0 | D30: =SUM(B30:C30) -> 0 | E30: 0 | F30: 0 | G30: =SUM(E30:F30) -> 0 | H30: 0 | I30: 0 | J30: =SUM(H30:I30) -> 0 | K30: 0 | L30: 0 | M30: =SUM(K30:L30) -> 0 | N30: =B30+E30+H30+K30 -> 0 | O30: =C30+F30+I30+L30 -> 0 | P30: =SUM(N30:O30) -> 0
A31: 40.03.01 Юриспруденция | B31: 0 | C31: 0 | D31: 0 | E31: 0 | F31: 0 | G31: =SUM(E31:F31) -> 0 | H31: 0 | I31: 0 | J31: =SUM(H31:I31) -> 0 | K31: 0 | L31: 0 | M31: 0 | N31: =B31+E31+H31+K31 -> 0 | O31: =C31+F31+I31+L31 -> 0 | P31: =SUM(N31:O31) -> 0
A32: 43.03.02 Туризм | B32: 0 | C32: 0 | D32: 0 | E32: 0 | F32: 0 | G32: 0 | H32: 0 | I32: 0 | J32: 0 | K32: 0 | L32: 0 | M32: 0 | N32: =B32+E32+H32+K32 -> 0 | O32: =C32+F32+I32+L32 -> 0 | P32: =SUM(N32:O32) -> 0
A33: 49.03.01 Физическая культура | B33: 0 | C33: 0 | D33: =SUM(B33:C33) -> 0 | E33: 0 | F33: 0 | G33: =SUM(E33:F33) -> 0 | H33: 0 | I33: 0 | J33: =SUM(H33:I33) -> 0 | K33: 0 | L33: 0 | M33: =SUM(K33:L33) -> 0 | N33: =B33+E33+H33+K33 -> 0 | O33: =C33+F33+I33+L33 -> 0 | P33: =SUM(N33:O33) -> 0
A34: 49.03.02 Физическая культура для лиц с отклонениями в состоянии здоровья (адаптивная физическая культура) | B34: 0 | C34: 0 | D34: =SUM(B34:C34) -> 0 | E34: 0 | F34: 0 | G34: =SUM(E34:F34) -> 0 | H34: 0 | I34: 0 | J34: =SUM(H34:I34) -> 0 | K34: 0 | L34: 0 | M34: 0 | N34: =B34+E34+H34+K34 -> 0 | O34: =C34+F34+I34+L34 -> 0 | P34: =SUM(N34:O34) -> 0
A35: Итого граждане иностранных государств | B35: =SUM(B28:B34) -> 0 | C35: =SUM(C28:C34) -> 0 | D35: =SUM(D28:D34) -> 0 | E35: =SUM(E28:E34) -> 0 | F35: =SUM(F28:F34) -> 0 | G35: =SUM(G28:G34) -> 0 | H35: =SUM(H28:H34) -> 0 | I35: =SUM(I28:I34) -> 0 | ... M35: =SUM(M28:M34) -> 0 | N35: =SUM(N27:N34) -> 0 | O35: =SUM(O28:O34) -> 0 | P35: =SUM(P28:P34) -> 0
A36: ИТОГО по подразделению граждане России | B36: =B26 -> 0 | C36: =C26 -> 0 | D36: =D26 -> 0 | E36: =E26 -> 25 | F36: =F26 -> 10 | G36: =G26 -> 35 | H36: =H26 -> 15 | I36: =I26 -> 1 | ... P36: =P26 -> 93
A37: ИТОГО по подразделению иностранные граждане | B37: =B35 -> 0 | C37: =C35 -> 0 | D37: =D35 -> 0 | E37: =E35 -> 0 | F37: =F35 -> 0 | G37: =G35 -> 0 | H37: =H35 -> 0 | I37: =I35 -> 0 | ... M37: =M35 -> 0 | N37: 0 | O37: =O35 -> 0 | P37: =P35 -> 0
A38: Итого | B38: =SUM(B36:B37) -> 0 | C38: =SUM(C36:C37) -> 0 | D38: =SUM(D36:D37) -> 0 | E38: =SUM(E36:E37) -> 25 | F38: =SUM(F36:F37) -> 10 | G38: =SUM(G36:G37) -> 35 | H38: =SUM(H36:H37) -> 15 | I38: =SUM(I36:I37) -> 1 | ... P38: =SUM(P36:P37) -> 93

Sheet Бак ОЗФО СЕГИ
A1: Севастопольский экономико-гуманитарный институт (филиал)
A2: ФГАОУ ВО "Крымский федеральный университет имени В. И. Вернадского"
A3: Контингент очно-заочная форма обучения 01.01.2026 г. (Бакалавриат)
B5: Факультет/направление подготовки | C5: 1 год обучения | F5: 2 год обучения | I5: 3 год обучения | L5: 4 год обучения | O5: 5 год обучения | R5: Всего бакалавриата
C7: За счет бюджетных ассигнований | D7: На основе догов. о платных образов. услугах | E7: ВСЕГО | F7: За счет бюджетных ассигнова ний | G7: На основе догов. о платных образов. услугах | H7: ВСЕГО | I7: За счет бюджетных ассигнова ний | J7: На основе догов. о платных образов. услугах | K7: ВСЕГО | L7: За счет бюджетных ассигнова ний | M7: На основе догов. о платных образов. услугах | N7: ВСЕГО | O7: За счет бюджетных ассигнова ний | P7: На основе догов. о платных образов. услугах | Q7: ВСЕГО | R7: За счет бюджетных ассигнований | S7: На основе догов. о платных образов. услугах | T7: ВСЕГО
B8: Свод по направлениям подготовки
B9: 37.03.01 Психология | C9: 0 | D9: 23 | E9: 23 | F9: 0 | G9: 15 | H9: 15 | I9: 0 | J9: 14 | K9: 14 | L9: 0 | M9: 10 | N9: 10 | O9: 0 | P9: 18 | Q9: 18 | R9: =SUM(C9+F9+I9+L9) -> 0 | S9: =SUM(D9+G9+J9+M9+P9) -> 80 | T9: =SUM(R9+S9) -> 80
B10: 38.03.02 Менеджмент | C10: 0 | D10: 19 | E10: 19 | F10: 0 | G10: 15 | H10: 15 | I10: 0 | J10: 15 | K10: 15 | L10: 0 | M10: 24 | N10: 24 | O10: 0 | P10: 9 | Q10: 9 | R10: =SUM(C10+F10+I10+L10) -> 0 | S10: =SUM(D10+G10+J10+M10+P10) -> 82 | T10: =SUM(R10+S10) -> 82
B11: 38.03.04 Государственное и муниципальное управление | C11: 0 | D11: 20 | E11: 20 | F11: 0 | G11: 15 | H11: 15 | I11: 0 | J11: 9 | K11: 9 | L11: 0 | M11: 13 | N11: 13 | O11: 0 | P11: 10 | Q11: 10 | R11: =SUM(C11+F11+I11+L11) -> 0 | S11: =SUM(D11+G11+J11+M11+P11) -> 67 | T11: =SUM(R11+S11) -> 67
B12: 40.03.01 Юриспруденция | C12: 0 | D12: 17 | E12: 17 | F12: 0 | G12: 17 | H12: 17 | I12: 0 | J12: 12 | K12: 12 | L12: 0 | M12: 11 | N12: 11 | O12: 0 | P12: 0 | Q12: 0 | R12: =SUM(C12+F12+I12+L12) -> 0 | S12: =SUM(D12+G12+J12+M12+P12) -> 57 | T12: =SUM(R12+S12) -> 57
B13: Итого по направлениям подготовки | C13: =SUM(C12:C12) -> 0 | D13: =SUM(D9:D12) -> 79 | E13: =SUM(E9:E12) -> 79 | F13: 0 | G13: =SUM(G9:G12) -> 62 | H13: =SUM(H9:H12) -> 62 | I13: 0 | J13: =SUM(J9:J12) -> 50 | K13: =SUM(K9:K12) -> 50 | L13: 0 | M13: =SUM(M9:M12) -> 58 | N13: =SUM(N9:N12) -> 58 | O13: 0 | P13: =SUM(P9:P12) -> 37 | Q13: =SUM(Q9:Q12) -> 37 | R13: =SUM(R9:R12) -> 0 | S13: =SUM(S9:S12) -> 286 | T13: =SUM(T9:T12) -> 286
B14: В том числе:
B15: Граждане России
B16: 37.03.01 Психология | C16: 0 | D16: 23 | E16: 23 | F16: 0 | G16: 15 | H16: 15 | I16: 0 | J16: 14 | K16: 14 | L16: 0 | M16: 10 | N16: 10 | O16: 0 | P16: 18 | Q16: 18 | R16: =SUM(C16+F16+I16+L16) -> 0 | S16: =SUM(D16+G16+J16+M16+P16) -> 80 | T16: =SUM(R16+S16) -> 80
B17: 38.03.02 Менеджмент | C17: 0 | D17: 19 | E17: 19 | F17: 0 | G17: 15 | H17: 15 | I17: 0 | J17: 15 | K17: 15 | L17: 0 | M17: 24 | N17: 24 | O17: 0 | P17: 9 | Q17: 9 | R17: 0 | S17: =SUM(D17+G17+J17+M17+P17) -> 82 | T17: =SUM(R17+S17) -> 82
B18: 38.03.04 Государственное и муниципальное управление | C18: 0 | D18: 20 | E18: 20 | F18: 0 | G18: 15 | H18: 15 | I18: 0 | J18: 9 | K18: 9 | L18: 0 | M18: 13 | N18: 13 | O18: 0 | P18: 10 | Q18: 10 | R18: =SUM(C18+F18+I18+L18) -> 0 | S18: =SUM(D18+G18+J18+M18+P18) -> 67 | T18: =SUM(R18+S18) -> 67
B19: 40.03.01 Юриспруденция | C19: 0 | D19: 17 | E19: 17 | F19: 0 | G19: 17 | H19: 17 | I19: 0 | J19: 12 | K19: 12 | L19: 0 | M19: 11 | N19: 11 | O19: 0 | P19: 0 | Q19: 0 | R19: =SUM(C19+F19+I19+L19) -> 0 | S19: =SUM(D19+G19+J19+M19+P19) -> 57 | T19: =SUM(R19+S19) -> 57
